{"text_format":"1","workbook":"xlsx","n_sheets":65,"sheets":["INDEX","INDEX (Corrected trim 4)","INDEX (Corrected trim 3)","INDEX (Corrected trim 2)","INDEX (Corrected trim 1)","INDEX (Uncorrected trim )","Hydrostatics","1","2","3","4","5","6","7","8","9","10","11","12","13","14","15","16","17","18","19","20","21","22","23","24","25","26","27","28","29","30","31","32","33","34","35","36","37","38","40","39","41","42","43","44","45","46","47","48","49","50","51","52","53","54","55","56","57","58"],"not_rendered":{"charts":0,"images":3,"macros":1,"external_links":0,"defined_names":18,"comments":6,"pivot_tables":0},"unopened":[],"bounds":{"document_bytes":16777216,"sheet_cells":100000,"rows_first":2000,"rows_last":500,"rows_between":2000,"halvings":0,"cell_chars":16384,"cell_head_chars":4096},"cells_cut":0,"cells_raw":0,"read":"whole","date_system":"1900"}

{"sheet":"INDEX","index":0,"n_rows":182,"n_cols":27,"rows_kept":182,"cut":false,"hidden":false,"merged":[[1,1,6,2],[3,5,3,12],[4,5,4,12],[5,5,5,12],[8,8,8,15],[15,8,15,11],[10,10,10,11],[11,10,11,11],[12,10,12,11],[13,10,13,11],[14,10,14,11],[9,10,9,11],[6,14,6,15],[115,2,115,6],[88,1,90,1],[104,1,106,1],[104,2,106,6],[8,1,8,7],[17,1,19,1],[47,1,49,1],[114,2,114,6],[1,3,2,15],[119,2,119,6],[126,11,126,12],[109,2,111,6],[178,3,178,5],[127,11,127,12],[128,11,128,12],[129,11,129,12],[172,3,172,4],[173,3,173,4],[174,3,174,4],[113,2,113,6],[112,2,112,6],[118,2,118,6],[117,2,117,6],[116,2,116,6]]}
[]
[null,{"$error":"#VALUE!"},null,"Stability Calculation\nBased on hydrostatic and tank tables - 60m supply vessel"]
[null,null,null,null,null,null,null,null,null,null,null,null,null,null,null,null,null,null,"Explanation of worksheet:"]
[null,null,null,"Project :",null,"Test project",null,null,null,null,null,null,null,"Originator :",null,"SE",null,null,"Changing tank filling"]
[null,null,null,"Doc. No :",null,"000-000",null,null,null,null,null,null,null,"Checked :",null,"SE",null,null,"Fill in all sounding heights of tanks in following cells:"]
[null,null,null,"Subject/Remarks :",null,"Just fill in your ship",null,null,null,null,null,null,null,"Revision :",null,"O1",null,null,"The following data will be calculated automatically, with help of tank tables:",null,null,null,null,null,null,"Volume","m³"]
[null,null,null,null,null,null,null,null,null,null,null,null,null,"Date :","2019-06-24",null,null,null,null,null,null,null,null,null,null,"Weight","t"]
[null,null,null,null,null,null,null,null,null,null,null,null,null,null,null,null,null,null,null,null,null,null,null,null,null,"LCG","m"]
[null,"Summary Stability Results",null,null,null,null,null,null,"Summary Loading condition",null,null,null,null,null,null,null,null,null,null,null,null,null,null,null,null,"TCG ","m"]
[null,null,null,null,"CHECK",null,null,null,"Item","% Full","Volume",null,"Weight","LCG","TCG","VCG",null,null,null,null,null,null,null,null,null,"VCG","m"]
[null,"Displ.",{"$f":"H129","v":4733.647617373892},"t",{"$f":"IF(C11>1650,IF(C14<4800,\"VALID\",\"INVALID\"),\"INVALID\")","v":"VALID"},"Draft mark mid.",{"$f":"G175","v":6.6771571594216841},"m","F.O. ",{"$f":"F33","v":99.991091261948412},{"$f":"G33","v":343.66938066731666},null,{"$f":"H33","v":295.55566737389228},{"$f":"I33","v":29.877028190497114},{"$f":"J33","v":9.9776127664960246E-2},{"$f":"K33","v":3.7666983080726206},null,null,null,null,null,null,null,null,null,"FSM","m"]
[null,"DW",{"$f":"H130","v":3033.6476173738924},"t",null,"Draft mark aft",{"$f":"M173","v":6.2578415069605748},"m","HFO ",{"$f":"F46","v":99.995983129142402},{"$f":"G46","v":995.76},null,{"$f":"H46","v":975.84479999999996},{"$f":"I46","v":18.417754579416727},{"$f":"J46","v":0},{"$f":"K46","v":4.0886282839238373},null,null,"Add or remove deckloads"]
[null,"LCG",{"$f":"I129","v":24.829371426087601},"m",null,"Draft mark fw",{"$f":"M174","v":7.0964728118827933},"m","WB",{"$f":"F79","v":100.00329457364339},{"$f":"G79","v":1032.0339999999997},null,{"$f":"H79","v":1057.8143499999999},{"$f":"I79","v":22.744108122564228},{"$f":"J79","v":-7.3606753396756736E-3},{"$f":"K79","v":3.0813733728418415},null,null,"Add or remove deckloads and fill the required data in the following cells:"]
[null,"TCG",{"$f":"J129","v":-7.7844129894152868E-3},"m",{"$f":"IF(C14>-0.05,IF(C14<0.05,\"VALID\",\"INVALID\"),\"INVALID\")","v":"VALID"},"KMt",{"$f":"G178","v":7.6134486255215714},"m","FW",{"$f":"F87","v":100.00413650465356},{"$f":"G87","v":483.52},null,{"$f":"H87","v":483.52},{"$f":"I87","v":20.141572840833884},{"$f":"J87","v":0},{"$f":"K87","v":4.7113682991396422},null,null,"The following input data is required to calculated the stability results:",null,null,null,null,null,null,"Weight","t"]
[null,"VCG",{"$f":"K129","v":4.9150206196898729},"m",null,"KGfluid",{"$f":"G180","v":4.9179748757946093},"m","MISC",{"$f":"F101","v":100.01284521515738},{"$f":"G101","v":155.72000000000003},null,{"$f":"H101","v":150.9128},{"$f":"I101","v":36.262017549207222},{"$f":"J101","v":-0.38798458447527312},{"$f":"K101","v":1.5590340381995429},null,null,"Attention! ",null,null,null,null,null,null,"LCG","m"]
[null,"Trim tot.",{"$f":"G170","v":0.88056287016833001},"m",{"$f":"IF(C16>-1.5,IF(C16<1.5,\"VALID\",\"INVALID\"),\"INVALID\")","v":"VALID"},"GMtfluid",{"$f":"G182","v":2.6954737497269621},"m","(DECK) LOADS",null,null,null,{"$f":"H122","v":70},{"$f":"I122","v":6.5714285714285712},{"$f":"J122","v":0},{"$f":"K122","v":7},null,null,"This worksheet is only valid when the heel of the vessel is equal to 0°",null,null,null,null,null,null,"TCG ","m"]
[null,null,null,null,null,null,null,null,null,null,null,null,null,null,null,null,null,null,"The results of this worksheet are not checked to any stability criteria!",null,null,null,null,null,null,"VCG","m"]
[null,"Sheet No.","Name","Type of Fluid","Sounding Height","% Full","Volume","Weight","LCG","TCG","VCG",null,"Longitudinal","Transverse","Vertical","FSMt"]
[null,null,null,null,null," "," "," ","Fwd of AP","PS:+","Above BL",null,"Moment","Moment","Moment"," "]
[null,null,null,null,null,"%","m³","t","m","m","m",null,"t·m","t·m","t·m","t·m"]
[null,null,"SHIP DATA"]
[null,null,"Lightship",null,null,null,null,1700,30,0,7,null,{"$f":"$H22*I22","v":51000},{"$f":"$H22*J22","v":0},{"$f":"$H22*K22","v":11900}]
[]
[null,null,{"$f":"'INDEX (Corrected trim 4)'!C23","v":"F.O. (SG 0.860)"}]
[null,{"$f":"'INDEX (Corrected trim 4)'!B24","v":1},"F.O. 1 PS",{"$f":"IF('1'!H2=0.86,\"MGO\",\"CHANGED\")","v":"MGO"},3.8,{"$f":"IF(G25<'1'!M83,LinInterpolate(G25,'1'!M7:M83,'1'!I7:I83,TRUE),100)","v":100},{"$f":"'INDEX (Corrected trim 4)'!AA24","v":31.019690333658328},{"$f":"LinInterpolate(F25,'1'!I7:I83,'1'!H7:H83,TRUE)","v":26.67693368694616},{"$f":"LinInterpolate(F25,'1'!I7:I83,'1'!C7:C83,TRUE)","v":32.979999999999997},{"$f":"LinInterpolate(F25,'1'!I7:I82,'1'!D7:D83,TRUE)","v":5.38},{"$f":"LinInterpolate(F25,'1'!I7:I83,'1'!E7:E83,TRUE)","v":2.9999827963143515},null,{"$f":"$H25*I25","v":879.8052729954843},143.52190323577034,80.03034211925727,{"$f":"IF(LinInterpolate(F25,'1'!I7:I83,'1'!F7:F83,TRUE)>0,LinInterpolate(F25,'1'!I7:I83,'1'!F7:F83,TRUE),0)","v":1.720368564848139E-2}]
[null,{"$f":"'INDEX (Corrected trim 4)'!B25","v":2},"F.O. 1 SB",{"$f":"IF('2'!I2=0.86,\"MGO\",\"CHANGED\")","v":"MGO"},3.8,{"$f":"IF(G26<'2'!M83,LinInterpolate(G26,'2'!M7:M83,'2'!I7:I83,TRUE),100)","v":100},{"$f":"'INDEX (Corrected trim 4)'!AA25","v":31.019690333658328},{"$f":"LinInterpolate(F26,'2'!I7:I83,'2'!H7:H83,TRUE)","v":26.67693368694616},{"$f":"LinInterpolate(F26,'2'!I7:I83,'2'!C7:C83,TRUE)","v":32.979999999999997},{"$f":"LinInterpolate(F26,'2'!I7:I83,'2'!D7:D83,TRUE)","v":-5.38},{"$f":"LinInterpolate(F26,'2'!I7:I83,'2'!E7:E83,TRUE)","v":2.9999827963143515},null,879.8052729954843,-143.52190323577034,80.03034211925727,{"$f":"IF(LinInterpolate(F26,'2'!I7:I83,'2'!F7:F83,TRUE)>0,LinInterpolate(F26,'2'!I7:I83,'2'!F7:F83,TRUE),0)","v":1.720368564848139E-2}]
[null,{"$f":"'INDEX (Corrected trim 4)'!B26","v":3},"F.O.1 C",{"$f":"IF('3'!I2=0.86,\"MGO\",\"CHANGED\")","v":"MGO"},5.77,{"$f":"IF(G27<'3'!M123,LinInterpolate(G27,'3'!M7:M123,'3'!I7:I123,TRUE),100)","v":100},{"$f":"'INDEX (Corrected trim 4)'!AA26","v":102.32},{"$f":"LinInterpolate(F27,'3'!I7:I123,'3'!H7:H123,TRUE)","v":87.995199999999997},{"$f":"LinInterpolate(F27,'3'!I7:I123,'3'!C7:C123,TRUE)","v":26.1},{"$f":"LinInterpolate(F27,'3'!I7:I123,'3'!D7:D123,TRUE)","v":0},{"$f":"LinInterpolate(F27,'3'!I7:I123,'3'!E7:E123,TRUE)","v":3.9},null,2296.67472,0,343.18127999999996,{"$f":"IF(LinInterpolate(F27,'3'!I7:I123,'3'!F7:F123,TRUE)>0,LinInterpolate(F27,'3'!I7:I123,'3'!F7:F123,TRUE),0)","v":0}]
[null,{"$f":"'INDEX (Corrected trim 4)'!B27","v":4},"F.O. 2 PS",{"$f":"IF('4'!I2=0.86,\"MGO\",\"CHANGED\")","v":"MGO"},2,{"$f":"IF(G28<'4'!M47,LinInterpolate(G28,'4'!M7:M47,'4'!I7:I47,TRUE),100)","v":100},{"$f":"'INDEX (Corrected trim 4)'!AA27","v":39.69},{"$f":"LinInterpolate(F28,'4'!I7:I47,'4'!H7:H47,TRUE)","v":34.133399999999995},{"$f":"LinInterpolate(F28,'4'!I7:I47,'4'!C7:C47,TRUE)","v":31.5},{"$f":"LinInterpolate(F28,'4'!I7:I47,'4'!D7:D47,TRUE)","v":5.47},{"$f":"LinInterpolate(F28,'4'!I7:I47,'4'!E7:E47,TRUE)","v":5.8},null,1075.2020999999997,186.70969799999997,197.97371999999996,{"$f":"IF(LinInterpolate(F28,'4'!I7:I47,'4'!F7:F47,TRUE)>0,LinInterpolate(F28,'4'!I7:I47,'4'!F7:F47,TRUE),0)","v":0}]
[null,{"$f":"'INDEX (Corrected trim 4)'!B28","v":5},"F.O. 2 SB",{"$f":"IF('5'!I2=0.86,\"MGO\",\"CHANGED\")","v":"MGO"},2,{"$f":"IF(G29<'5'!M47,LinInterpolate(G29,'5'!M7:M47,'5'!I7:I47,TRUE),100)","v":100},{"$f":"'INDEX (Corrected trim 4)'!AA28","v":39.69},{"$f":"LinInterpolate(F29,'5'!I7:I47,'5'!H7:H47,TRUE)","v":34.133399999999995},{"$f":"LinInterpolate(F29,'5'!I7:I47,'5'!C7:C47,TRUE)","v":31.5},{"$f":"LinInterpolate(F29,'5'!I7:I47,'5'!D7:D47,TRUE)","v":-5.47},{"$f":"LinInterpolate(F29,'5'!I7:I47,'5'!E7:E47,TRUE)","v":5.8},null,1075.2020999999997,-186.70969799999997,197.97371999999996,{"$f":"IF(LinInterpolate(F29,'5'!I7:I47,'5'!F7:F47,TRUE)>0,LinInterpolate(F29,'5'!I7:I47,'5'!F7:F47,TRUE),0)","v":0}]
[null,{"$f":"'INDEX (Corrected trim 4)'!B29","v":6},"F.O. 3 PS",{"$f":"IF('6'!I2=0.86,\"MGO\",\"CHANGED\")","v":"MGO"},3.8,{"$f":"IF(G30<'6'!M83,LinInterpolate(G30,'6'!M7:M83,'6'!I7:I83,TRUE),100)","v":100},{"$f":"'INDEX (Corrected trim 4)'!AA29","v":40.44},{"$f":"LinInterpolate(F30,'6'!I7:I83,'6'!H7:H83,TRUE)","v":34.778399999999998},{"$f":"LinInterpolate(F30,'6'!I7:I83,'6'!C7:C83,TRUE)","v":30.3},{"$f":"LinInterpolate(F30,'6'!I7:I83,'6'!D7:D83,TRUE)","v":5.45},{"$f":"LinInterpolate(F30,'6'!I7:I83,'6'!E7:E83,TRUE)","v":2.96},null,1053.7855199999999,189.54228000000001,102.944064,{"$f":"IF(LinInterpolate(F30,'6'!I7:I83,'6'!F7:F83,TRUE)>0,LinInterpolate(F30,'6'!I7:I83,'6'!F7:F83,TRUE),0)","v":0.85}]
[null,{"$f":"'INDEX (Corrected trim 4)'!B30","v":7},"F.O. 3 SB",{"$f":"IF('7'!I2=0.86,\"MGO\",\"CHANGED\")","v":"MGO"},3.8,{"$f":"IF(G31<'7'!M83,LinInterpolate(G31,'7'!M7:M83,'7'!I7:I83,TRUE),100)","v":100},{"$f":"'INDEX (Corrected trim 4)'!AA30","v":40.44},{"$f":"LinInterpolate(F31,'7'!I7:I83,'7'!H7:H83,TRUE)","v":34.778399999999998},{"$f":"LinInterpolate(F31,'7'!I7:I83,'7'!C7:C83,TRUE)","v":30.3},{"$f":"LinInterpolate(F31,'7'!I7:I83,'7'!D7:D83,TRUE)","v":-5.45},{"$f":"LinInterpolate(F31,'7'!I7:I83,'7'!E7:E83,TRUE)","v":2.96},null,1053.7855199999999,-189.54228000000001,102.944064,{"$f":"IF(LinInterpolate(F31,'7'!I7:I83,'7'!F7:F83,TRUE)>0,LinInterpolate(F31,'7'!I7:I83,'7'!F7:F83,TRUE),0)","v":11.1}]
[null,{"$f":"'INDEX (Corrected trim 4)'!B31","v":8},"F.O. 4 PS",{"$f":"IF('8'!I2=0.86,\"MGO\",\"CHANGED\")","v":"MGO"},1,{"$f":"IF(G32<'8'!M28,LinInterpolate(G32,'8'!M10:M28,'8'!I10:I28,TRUE),100)","v":100},{"$f":"'INDEX (Corrected trim 4)'!AA31","v":19.05},{"$f":"LinInterpolate(F32,'8'!I7:I28,'8'!H7:H28,TRUE)","v":16.382999999999999},{"$f":"LinInterpolate(F32,'8'!I7:I28,'8'!C7:C28,TRUE)","v":31.5},{"$f":"LinInterpolate(F32,'8'!I7:I28,'8'!D7:D28,TRUE)","v":1.8},{"$f":"LinInterpolate(F32,'8'!I7:I28,'8'!E7:E28,TRUE)","v":0.5},null,516.06449999999995,29.4894,8.1914999999999996,{"$f":"IF(LinInterpolate(F32,'8'!I7:I28,'8'!F7:F28,TRUE)>0,LinInterpolate(F32,'8'!I7:I28,'8'!F7:F28,TRUE),0)","v":2}]
[null,null,{"$f":"'INDEX (Corrected trim 4)'!C32","v":"Total F.O."},null,null,{"$f":"(G33/343.7)*100","v":99.991091261948412},{"$f":"SUM((G25:G32))","v":343.66938066731666},{"$f":"SUM((H25:H32))","v":295.55566737389228},{"$f":"M33/H33","v":29.877028190497114},{"$f":"N33/H33","v":9.9776127664960246E-2},{"$f":"O33/H33","v":3.7666983080726206},null,{"$f":"SUM((M25:M32))","v":8830.3250059909678},{"$f":"SUM((N25:N32))","v":29.4894},{"$f":"SUM((O25:O32))","v":1113.2690322385142},{"$f":"SUM((P25:P32))","v":13.984407371296962}]
[]
[null,null,{"$f":"'INDEX (Corrected trim 4)'!C34","v":"HFO (SG 0.980)"}]
[null,{"$f":"'INDEX (Corrected trim 4)'!B35","v":9},"H.F.O 1 PS",{"$f":"IF('9'!I2=0.98,\"HFO\",\"CHANGED\")","v":"HFO"},5.75,{"$f":"IF(G36<'9'!M122,LinInterpolate(G36,'9'!M7:M122,'9'!I7:I122,TRUE),100)","v":100},{"$f":"'INDEX (Corrected trim 4)'!AA35","v":112.74},{"$f":"LinInterpolate(F36,'9'!I7:I122,'9'!H7:H122,TRUE)","v":110.48519999999999},{"$f":"LinInterpolate(F36,'9'!I7:I122,'9'!C7:C122,TRUE)","v":26.02},{"$f":"LinInterpolate(F36,'9'!I7:I122,'9'!D7:D122,TRUE)","v":5.46},{"$f":"LinInterpolate(F36,'9'!I7:I122,'9'!E7:E122,TRUE)","v":3.96},null,{"$f":"$H36*I36","v":2874.8249039999996},603.24919199999999,437.52139199999999,{"$f":"IF(LinInterpolate(F36,'9'!I7:I122,'9'!F7:F122,TRUE)>0,LinInterpolate(F36,'9'!I7:I122,'9'!F7:F122,TRUE),0)","v":0}]
[null,{"$f":"'INDEX (Corrected trim 4)'!B36","v":10},"H.F.O 1 SB",{"$f":"IF('10'!I2=0.98,\"HFO\",\"CHANGED\")","v":"HFO"},5.75,{"$f":"IF(G37<'10'!M122,LinInterpolate(G37,'10'!M7:M122,'10'!I7:I122,TRUE),100)","v":100},{"$f":"'INDEX (Corrected trim 4)'!AA36","v":112.74},{"$f":"LinInterpolate(F37,'10'!I7:I122,'10'!H7:H122,TRUE)","v":110.48519999999999},{"$f":"LinInterpolate(F37,'10'!I7:I122,'10'!C7:C122,TRUE)","v":26.02},{"$f":"LinInterpolate(F37,'10'!I7:I122,'10'!D7:D122,TRUE)","v":-5.46},{"$f":"LinInterpolate(F37,'10'!I7:I122,'10'!E7:E122,TRUE)","v":3.96},null,2874.8249039999996,-603.24919199999999,437.52139199999999,{"$f":"LinInterpolate(F37,'10'!I7:I122,'10'!F7:F122,TRUE)","v":0}]
[null,{"$f":"'INDEX (Corrected trim 4)'!B37","v":11},"H.F.O 2 PS",{"$f":"IF('11'!I2=0.98,\"HFO\",\"CHANGED\")","v":"HFO"},5.75,{"$f":"IF(G38<'11'!M122,LinInterpolate(G38,'11'!M7:M122,'11'!I7:I122,TRUE),100)","v":100},{"$f":"'INDEX (Corrected trim 4)'!AA37","v":100.05},{"$f":"LinInterpolate(F38,'11'!I7:I122,'11'!H7:H122,TRUE)","v":98.048999999999992},{"$f":"LinInterpolate(F38,'11'!I7:I122,'11'!C7:C122,TRUE)","v":20.85},{"$f":"LinInterpolate(F38,'11'!I7:I122,'11'!D7:D122,TRUE)","v":5.46},{"$f":"LinInterpolate(F38,'11'!I7:I122,'11'!E7:E122,TRUE)","v":3.96},null,2044.3216500000001,535.34753999999998,388.27403999999996,{"$f":"IF(LinInterpolate(F38,'11'!I7:I122,'11'!F7:F122,TRUE)>0,LinInterpolate(F38,'11'!I7:I122,'11'!F7:F122,TRUE),0)","v":0}]
[null,{"$f":"'INDEX (Corrected trim 4)'!B38","v":12},"H.F.O 2 SB",{"$f":"IF('12'!I2=0.98,\"HFO\",\"CHANGED\")","v":"HFO"},5.75,{"$f":"IF(G39<'12'!M122,LinInterpolate(G39,'12'!M7:M122,'12'!I7:I122,TRUE),100)","v":100},{"$f":"'INDEX (Corrected trim 4)'!AA38","v":100.05},{"$f":"LinInterpolate(F39,'12'!I7:I122,'12'!H7:H122,TRUE)","v":98.048999999999992},{"$f":"LinInterpolate(F39,'12'!I7:I122,'12'!C7:C122,TRUE)","v":20.85},{"$f":"LinInterpolate(F39,'12'!I7:I122,'12'!D7:D122,TRUE)","v":-5.46},{"$f":"LinInterpolate(F39,'12'!I7:I122,'12'!E7:E122,TRUE)","v":3.96},null,2044.3216500000001,-535.34753999999998,388.27403999999996,{"$f":"IF(LinInterpolate(F39,'12'!I7:I122,'12'!F7:F122,TRUE)>0,LinInterpolate(F39,'12'!I7:I122,'12'!F7:F122,TRUE),0)","v":0}]
[null,{"$f":"'INDEX (Corrected trim 4)'!B39","v":13},"H.F.O 2 C",{"$f":"IF('13'!I2=0.98,\"HFO\",\"CHANGED\")","v":"HFO"},5.77,{"$f":"IF(G40<'13'!M123,LinInterpolate(G40,'13'!M7:M123,'13'!I7:I123,TRUE),100)","v":100},{"$f":"'INDEX (Corrected trim 4)'!AA39","v":102.33},{"$f":"LinInterpolate(F40,'13'!I7:I123,'13'!H7:H123,TRUE)","v":100.2834},{"$f":"LinInterpolate(F40,'13'!I7:I123,'13'!C7:C123,TRUE)","v":21},{"$f":"LinInterpolate(F40,'13'!I7:I123,'13'!D7:D123,TRUE)","v":0},{"$f":"LinInterpolate(F40,'13'!I7:I123,'13'!E7:E123,TRUE)","v":3.9},null,2105.9513999999999,0,391.10525999999999,{"$f":"IF(LinInterpolate(F40,'13'!I7:I123,'13'!F7:F123,TRUE)>0,LinInterpolate(F40,'13'!I7:I123,'13'!F7:F123,TRUE),0)","v":0}]
[null,{"$f":"'INDEX (Corrected trim 4)'!B40","v":14},"H.F.O 3 PS",{"$f":"IF('14'!I2=0.98,\"HFO\",\"CHANGED\")","v":"HFO"},5.76,{"$f":"IF(G41<'14'!M123,LinInterpolate(G41,'14'!M7:M123,'14'!I7:I123,TRUE),100)","v":100},{"$f":"'INDEX (Corrected trim 4)'!AA40","v":99.48},{"$f":"LinInterpolate(F41,'14'!I7:I123,'14'!H7:H123,TRUE)","v":97.490400000000008},{"$f":"LinInterpolate(F41,'14'!I7:I123,'14'!C7:C123,TRUE)","v":16.059999999999999},{"$f":"LinInterpolate(F41,'14'!I7:I123,'14'!D7:D123,TRUE)","v":5.45},{"$f":"LinInterpolate(F41,'14'!I7:I123,'14'!E7:E123,TRUE)","v":3.98},null,1565.6958239999999,531.3226800000001,388.01179200000001,{"$f":"IF(LinInterpolate(F41,'14'!I7:I123,'14'!F7:F123,TRUE)>0,LinInterpolate(F41,'14'!I7:I123,'14'!F7:F123,TRUE),0)","v":0}]
[null,{"$f":"'INDEX (Corrected trim 4)'!B41","v":15},"H.F.O 3 SB",{"$f":"IF('15'!I2=0.98,\"HFO\",\"CHANGED\")","v":"HFO"},5.76,{"$f":"IF(G42<'15'!M123,LinInterpolate(G42,'15'!M7:M123,'15'!I7:I123,TRUE),100)","v":100},{"$f":"'INDEX (Corrected trim 4)'!AA41","v":99.48},{"$f":"LinInterpolate(F42,'15'!I7:I123,'15'!H7:H123,TRUE)","v":97.490400000000008},{"$f":"LinInterpolate(F42,'15'!I7:I123,'15'!C7:C123,TRUE)","v":16.059999999999999},{"$f":"LinInterpolate(F42,'15'!I7:I123,'15'!D7:D123,TRUE)","v":-5.45},{"$f":"LinInterpolate(F42,'15'!I7:I123,'15'!E7:E123,TRUE)","v":3.98},null,1565.6958239999999,-531.3226800000001,388.01179200000001,{"$f":"IF(LinInterpolate(F42,'15'!I7:I123,'15'!F7:F123,TRUE)>0,LinInterpolate(F42,'15'!I7:I123,'15'!F7:F123,TRUE),0)","v":0}]
[null,{"$f":"'INDEX (Corrected trim 4)'!B42","v":16},"H.F.O 4 PS",{"$f":"IF('16'!I2=0.98,\"HFO\",\"CHANGED\")","v":"HFO"},5.46,{"$f":"IF(G43<'16'!M117,LinInterpolate(G43,'16'!M7:M117,'16'!I7:I117,TRUE),100)","v":100},{"$f":"'INDEX (Corrected trim 4)'!AA42","v":90.63},{"$f":"LinInterpolate(F43,'16'!I7:I117,'16'!H7:H117,TRUE)","v":88.817399999999992},{"$f":"LinInterpolate(F43,'16'!I7:I117,'16'!C7:C117,TRUE)","v":11.2},{"$f":"LinInterpolate(F43,'16'!I7:I117,'16'!D7:D117,TRUE)","v":5.39},{"$f":"LinInterpolate(F43,'16'!I7:I117,'16'!E7:E117,TRUE)","v":4.49},null,994.75487999999984,478.72578599999991,398.79012599999999,{"$f":"IF(LinInterpolate(F43,'16'!I7:I117,'16'!F7:F117,TRUE)>0,LinInterpolate(F43,'16'!I7:I117,'16'!F7:F117,TRUE),0)","v":0}]
[null,{"$f":"'INDEX (Corrected trim 4)'!B43","v":17},"H.F.O 4 SB",{"$f":"IF('17'!I2=0.98,\"HFO\",\"CHANGED\")","v":"HFO"},5.46,{"$f":"IF(G44<'17'!M115,LinInterpolate(G44,'17'!M7:M115,'17'!I7:I115,TRUE),100)","v":100},{"$f":"'INDEX (Corrected trim 4)'!AA43","v":90.63},{"$f":"LinInterpolate(F44,'17'!I7:I115,'17'!H7:H115,TRUE)","v":88.817399999999992},{"$f":"LinInterpolate(F44,'17'!I7:I115,'17'!C7:C115,TRUE)","v":11.2},{"$f":"LinInterpolate(F44,'17'!I7:I115,'17'!D7:D115,TRUE)","v":-5.39},{"$f":"LinInterpolate(F44,'17'!I7:I115,'17'!E7:E115,TRUE)","v":4.49},null,994.75487999999984,-478.72578599999991,398.79012599999999,{"$f":"IF(LinInterpolate(F44,'17'!I7:I115,'17'!F7:F115,TRUE)>0,LinInterpolate(F44,'17'!I7:I115,'17'!F7:F115,TRUE),0)","v":0}]
[null,{"$f":"'INDEX (Corrected trim 4)'!B44","v":18},"H.F.O 4 C",{"$f":"IF('18'!I2=0.98,\"HFO\",\"CHANGED\")","v":"HFO"},5.38,{"$f":"IF(G45<'18'!M115,LinInterpolate(G45,'18'!M7:M115,'18'!I7:I115,TRUE),100)","v":100},{"$f":"'INDEX (Corrected trim 4)'!AA44","v":87.63},{"$f":"LinInterpolate(F45,'18'!I7:I115,'18'!H7:H115,TRUE)","v":85.877399999999994},{"$f":"LinInterpolate(F45,'18'!I7:I115,'18'!C7:C115,TRUE)","v":10.57},{"$f":"LinInterpolate(F45,'18'!I7:I115,'18'!D7:D115,TRUE)","v":0},{"$f":"LinInterpolate(F45,'18'!I7:I115,'18'!E7:E115,TRUE)","v":4.3499999999999996},null,907.72411799999998,0,373.56668999999994,{"$f":"IF(LinInterpolate(F45,'18'!I7:I115,'18'!F7:F115,TRUE)>0,LinInterpolate(F45,'18'!I7:I115,'18'!F7:F115,TRUE),0)","v":0}]
[null,null,{"$f":"'INDEX (Corrected trim 4)'!C45","v":"Total H.F.O"},null,null,{"$f":"G46/995.8*100","v":99.995983129142402},{"$f":"SUM((G36:G45))","v":995.76},{"$f":"SUM((H36:H45))","v":975.84479999999996},{"$f":"M46/H46","v":18.417754579416727},{"$f":"N46/H46","v":0},{"$f":"O46/H46","v":4.0886282839238373},null,{"$f":"SUM((M36:M45))","v":17972.870034},{"$f":"SUM((N36:N45))","v":0},{"$f":"SUM((O36:O45))","v":3989.8666500000004},{"$f":"SUM((P36:P45))","v":0}]
[]
[null,null,{"$f":"'INDEX (Corrected trim 4)'!C47","v":"Name"},{"$f":"'INDEX (Corrected trim 4)'!D47","v":"Sort of Fluid"},"Sounding Height",{"$f":"'INDEX (Corrected trim 4)'!F47","v":"% Full"},{"$f":"'INDEX (Corrected trim 4)'!G47","v":"Volume"},{"$f":"'INDEX (Corrected trim 4)'!H47","v":"Weight"},{"$f":"'INDEX (Corrected trim 4)'!I47","v":"LCG"},{"$f":"'INDEX (Corrected trim 4)'!J47","v":"TCG"},{"$f":"'INDEX (Corrected trim 4)'!K47","v":"VCG"},{"$f":"'INDEX (Corrected trim 4)'!L47","v":0},{"$f":"'INDEX (Corrected trim 4)'!M47","v":"Longitudinal"},{"$f":"'INDEX (Corrected trim 4)'!N47","v":"Transverse"},{"$f":"'INDEX (Corrected trim 4)'!O47","v":"Vertical"},{"$f":"'INDEX (Corrected trim 4)'!P47","v":"FSMt"}]
[null,null,{"$f":"'INDEX (Corrected trim 4)'!C48","v":0},{"$f":"'INDEX (Corrected trim 4)'!D48","v":0},null,{"$f":"'INDEX (Corrected trim 4)'!F48","v":" "},{"$f":"'INDEX (Corrected trim 4)'!G48","v":" "},{"$f":"'INDEX (Corrected trim 4)'!H48","v":" "},{"$f":"'INDEX (Corrected trim 4)'!I48","v":"Fwd of AP"},{"$f":"'INDEX (Corrected trim 4)'!J48","v":"PS:+"},{"$f":"'INDEX (Corrected trim 4)'!K48","v":"Above BL"},{"$f":"'INDEX (Corrected trim 4)'!L48","v":0},{"$f":"'INDEX (Corrected trim 4)'!M48","v":"Moment"},{"$f":"'INDEX (Corrected trim 4)'!N48","v":"Moment"},{"$f":"'INDEX (Corrected trim 4)'!O48","v":"Moment"},{"$f":"'INDEX (Corrected trim 4)'!P48","v":" "}]
[null,null,{"$f":"'INDEX (Corrected trim 4)'!C49","v":0},{"$f":"'INDEX (Corrected trim 4)'!D49","v":0},null,{"$f":"'INDEX (Corrected trim 4)'!F49","v":"%"},{"$f":"'INDEX (Corrected trim 4)'!G49","v":"m³"},{"$f":"'INDEX (Corrected trim 4)'!H49","v":"t"},{"$f":"'INDEX (Corrected trim 4)'!I49","v":"m"},{"$f":"'INDEX (Corrected trim 4)'!J49","v":"m"},{"$f":"'INDEX (Corrected trim 4)'!K49","v":"m"},{"$f":"'INDEX (Corrected trim 4)'!L49","v":0},{"$f":"'INDEX (Corrected trim 4)'!M49","v":"t·m"},{"$f":"'INDEX (Corrected trim 4)'!N49","v":"t·m"},{"$f":"'INDEX (Corrected trim 4)'!O49","v":"t·m"},{"$f":"'INDEX (Corrected trim 4)'!P49","v":"t·m"}]
[null,null,{"$f":"'INDEX (Corrected trim 4)'!C50","v":"WB (S.G. 1.025)"}]
[null,{"$f":"'INDEX (Corrected trim 4)'!B51","v":19},"W.B 1 PS ","SW",3.25,{"$f":"IF(G52<'19'!M72,LinInterpolate(G52,'19'!M7:M72,'19'!I7:I72,TRUE),100)","v":100},{"$f":"'INDEX (Corrected trim 4)'!AA51","v":63.76},{"$f":"LinInterpolate(F52,'19'!I7:I72,'19'!H7:H72,TRUE)","v":65.353999999999999},{"$f":"LinInterpolate(F52,'19'!I7:I72,'19'!C7:C72,TRUE)","v":-2.2400000000000002},{"$f":"LinInterpolate(F52,'19'!I7:I72,'19'!D7:D72,TRUE)","v":4.49},{"$f":"LinInterpolate(F52,'19'!I7:I72,'19'!E7:E72,TRUE)","v":5.71},null,{"$f":"$H52*I52","v":-146.39296000000002},293.43946,373.17133999999999,{"$f":"IF(LinInterpolate(F52,'19'!I7:I72,'19'!F7:F72,TRUE)>0,LinInterpolate(F52,'19'!I7:I72,'19'!F7:F72,TRUE),0)","v":0}]
[null,{"$f":"'INDEX (Corrected trim 4)'!B52","v":20},"W.B 1 SB ","SW",3.25,{"$f":"IF(G53<'20'!M72,LinInterpolate(G53,'20'!M7:M72,'20'!I7:I72,TRUE),100)","v":100},{"$f":"'INDEX (Corrected trim 4)'!AA52","v":63.76},{"$f":"LinInterpolate(F53,'20'!I7:I72,'20'!H7:H72,TRUE)","v":65.353999999999999},{"$f":"LinInterpolate(F53,'20'!I7:I72,'20'!C7:C72,TRUE)","v":-2.2400000000000002},{"$f":"LinInterpolate(F53,'20'!I7:I72,'20'!D7:D72,TRUE)","v":-4.49},{"$f":"LinInterpolate(F53,'20'!I7:I72,'20'!E7:E72,TRUE)","v":5.71},null,-146.39296000000002,-293.43946,373.17133999999999,{"$f":"IF(LinInterpolate(F53,'20'!I7:I72,'20'!F7:F72,TRUE)>0,LinInterpolate(F53,'20'!I7:I72,'20'!F7:F72,TRUE),0)","v":0}]
[null,{"$f":"'INDEX (Corrected trim 4)'!B53","v":21},{"$f":"'INDEX (Corrected trim 4)'!C53","v":"W.B 1 SB "},{"$f":"IF('21'!I2=1.025,\"SW\",\"CHANGED\")","v":"SW"},7.8,{"$f":"IF(G54<'21'!M163,LinInterpolate(G54,'21'!M7:M163,'21'!I7:I163,TRUE),100)","v":100},{"$f":"'INDEX (Corrected trim 4)'!AA53","v":64.81},{"$f":"LinInterpolate(F54,'21'!I7:I163,'21'!H7:H163,TRUE)","v":66.430250000000001},{"$f":"LinInterpolate(F54,'21'!I7:I163,'21'!C7:C163,TRUE)","v":51.05},{"$f":"LinInterpolate(F54,'21'!I7:I163,'21'!D7:D163,TRUE)","v":0},{"$f":"LinInterpolate(F54,'21'!I7:I163,'21'!E7:E163,TRUE)","v":4.75},null,3391.2642624999999,0,315.54368750000003,{"$f":"IF(LinInterpolate(F54,'21'!I7:I163,'21'!F7:F163,TRUE)>0,LinInterpolate(F54,'21'!I7:I163,'21'!F7:F163,TRUE),0)","v":0}]
[null,{"$f":"'INDEX (Corrected trim 4)'!B54","v":22},"W.B. 2 PS",{"$f":"IF('22'!I2=1.025,\"SW\",\"CHANGED\")","v":"SW"},7.8,{"$f":"IF(G55<'22'!M163,LinInterpolate(G55,'22'!M7:M163,'22'!I7:I163,TRUE),100)","v":100},{"$f":"'INDEX (Corrected trim 4)'!AA54","v":86.037999999999997},{"$f":"LinInterpolate(F55,'22'!I7:I163,'22'!H7:H163,TRUE)","v":88.188949999999991},{"$f":"LinInterpolate(F55,'22'!I7:I163,'22'!C7:C163,TRUE)","v":39.74},{"$f":"LinInterpolate(F55,'22'!I7:I163,'22'!D7:D163,TRUE)","v":6.82},{"$f":"LinInterpolate(F55,'22'!I7:I163,'22'!E7:E163,TRUE)","v":4.4800000000000004},null,3504.6288729999997,601.44863899999996,395.08649600000001,{"$f":"IF(LinInterpolate(F55,'22'!I7:I163,'22'!F7:F163,TRUE)>0,LinInterpolate(F55,'22'!I7:I163,'22'!F7:F163,TRUE),0)","v":0}]
[null,{"$f":"'INDEX (Corrected trim 4)'!B55","v":23},"W.B. 2 SB",{"$f":"IF('23'!I2=1.025,\"SW\",\"CHANGED\")","v":"SW"},7.8,{"$f":"IF(G56<'23'!M163,LinInterpolate(G56,'23'!M7:M163,'23'!I7:I163,TRUE),100)","v":100},{"$f":"'INDEX (Corrected trim 4)'!AA55","v":87.665999999999997},{"$f":"LinInterpolate(F56,'23'!I7:I163,'23'!H7:H163,TRUE)","v":89.857649999999992},{"$f":"LinInterpolate(F56,'23'!I7:I163,'23'!C7:C163,TRUE)","v":39.83},{"$f":"LinInterpolate(F56,'23'!I7:I163,'23'!D7:D163,TRUE)","v":-6.78},{"$f":"LinInterpolate(F56,'23'!I7:I163,'23'!E7:E163,TRUE)","v":4.42},null,3579.0301994999995,-609.23486700000001,397.17081299999995,{"$f":"IF(LinInterpolate(F56,'23'!I7:I163,'23'!F7:F163,TRUE)>0,LinInterpolate(F56,'23'!I7:I163,'23'!F7:F163,TRUE),0)","v":0}]
[null,{"$f":"'INDEX (Corrected trim 4)'!B56","v":24},"W.B. 3 PS",{"$f":"IF('24'!I2=1.025,\"SW\",\"CHANGED\")","v":"SW"},5.48,{"$f":"IF(G57<'24'!M117,LinInterpolate(G57,'24'!M7:M117,'24'!I7:I117,TRUE),100)","v":100},{"$f":"'INDEX (Corrected trim 4)'!AA56","v":28.05},{"$f":"LinInterpolate(F57,'24'!I7:I117,'24'!H7:H117,TRUE)","v":28.751249999999999},{"$f":"LinInterpolate(F57,'24'!I7:I117,'24'!C7:C117,TRUE)","v":31.59},{"$f":"LinInterpolate(F57,'24'!I7:I117,'24'!D7:D117,TRUE)","v":7.77},{"$f":"LinInterpolate(F57,'24'!I7:I117,'24'!E7:E117,TRUE)","v":3.95},null,908.25198749999993,223.39721249999997,113.5674375,{"$f":"IF(LinInterpolate(F57,'24'!I7:I117,'24'!F7:F117,TRUE)>0,LinInterpolate(F57,'24'!I7:I117,'24'!F7:F117,TRUE),0)","v":0}]
[null,{"$f":"'INDEX (Corrected trim 4)'!B57","v":25},"W.B. 3 SB",{"$f":"IF('25'!I2=1.025,\"SW\",\"CHANGED\")","v":"SW"},5.48,{"$f":"IF(G58<'25'!M117,LinInterpolate(G58,'25'!M7:M117,'25'!I7:I117,TRUE),100)","v":100},{"$f":"'INDEX (Corrected trim 4)'!AA57","v":28.05},{"$f":"LinInterpolate(F58,'25'!I7:I117,'25'!H7:H117,TRUE)","v":28.751249999999999},{"$f":"LinInterpolate(F58,'25'!I7:I117,'25'!C7:C117,TRUE)","v":31.59},{"$f":"LinInterpolate(F58,'25'!I7:I117,'25'!D7:D117,TRUE)","v":-7.77},{"$f":"LinInterpolate(F58,'25'!I7:I117,'25'!E7:E117,TRUE)","v":3.95},null,908.25198749999993,-223.39721249999997,113.5674375,{"$f":"IF(LinInterpolate(F58,'25'!I7:I117,'25'!F7:F117,TRUE)>0,LinInterpolate(F58,'25'!I7:I117,'25'!F7:F117,TRUE),0)","v":0}]
[null,{"$f":"'INDEX (Corrected trim 4)'!B58","v":26},"W.B. 3 PS DB",{"$f":"IF('26'!I2=1.025,\"SW\",\"CHANGED\")","v":"SW"},1.35,{"$f":"IF(G59<'26'!M34,LinInterpolate(G59,'26'!M7:M34,'26'!I7:I34,TRUE),100)","v":100},{"$f":"'INDEX (Corrected trim 4)'!AA58","v":24.36},{"$f":"LinInterpolate(F59,'26'!I7:I34,'26'!H7:H34,TRUE)","v":24.968999999999998},{"$f":"LinInterpolate(F59,'26'!I7:I34,'26'!C7:C34,TRUE)","v":31.46},{"$f":"LinInterpolate(F59,'26'!I7:I34,'26'!D7:D34,TRUE)","v":5.71},{"$f":"LinInterpolate(F59,'26'!I7:I34,'26'!E7:E34,TRUE)","v":0.63},null,785.52473999999995,142.57298999999998,15.730469999999999,{"$f":"IF(LinInterpolate(F59,'26'!I7:I34,'26'!F7:F34,TRUE)>0,LinInterpolate(F59,'26'!I7:I34,'26'!F7:F34,TRUE),0)","v":0}]
[null,{"$f":"'INDEX (Corrected trim 4)'!B59","v":27},"W.B. 3 SB DB",{"$f":"IF('27'!I2=1.025,\"SW\",\"CHANGED\")","v":"SW"},1.35,{"$f":"IF(G60<'27'!M34,LinInterpolate(G60,'27'!M7:M34,'27'!I7:I34,TRUE),100)","v":100},{"$f":"'INDEX (Corrected trim 4)'!AA59","v":24.36},{"$f":"LinInterpolate(F60,'27'!I7:I34,'27'!H7:H34,TRUE)","v":24.968999999999998},{"$f":"LinInterpolate(F60,'27'!I7:I34,'27'!C7:C34,TRUE)","v":31.46},{"$f":"LinInterpolate(F60,'27'!I7:I34,'27'!D7:D34,TRUE)","v":-5.71},{"$f":"LinInterpolate(F60,'27'!I7:I34,'27'!E7:E34,TRUE)","v":0.63},null,785.52473999999995,-142.57298999999998,15.730469999999999,{"$f":"IF(LinInterpolate(F60,'27'!I7:I34,'27'!F7:F34,TRUE)>0,LinInterpolate(F60,'27'!I7:I34,'27'!F7:F34,TRUE),0)","v":0}]
[null,{"$f":"'INDEX (Corrected trim 4)'!B60","v":28},"W.B. 4 PS",{"$f":"IF('28'!I2=1.025,\"SW\",\"CHANGED\")","v":"SW"},5.52,{"$f":"IF(G61<'28'!M118,LinInterpolate(G61,'28'!M7:M118,'28'!I7:I118,TRUE),100)","v":100},{"$f":"'INDEX (Corrected trim 4)'!AA60","v":26.7},{"$f":"LinInterpolate(F61,'28'!I7:I118,'28'!H7:H118,TRUE)","v":27.367499999999996},{"$f":"LinInterpolate(F61,'28'!I7:I118,'28'!C7:C118,TRUE)","v":26.1},{"$f":"LinInterpolate(F61,'28'!I7:I118,'28'!D7:D118,TRUE)","v":7.8},{"$f":"LinInterpolate(F61,'28'!I7:I118,'28'!E7:E118,TRUE)","v":4.04},null,714.29174999999998,213.46649999999997,110.56469999999999,{"$f":"IF(LinInterpolate(F61,'28'!I7:I118,'28'!F7:F118,TRUE)>0,LinInterpolate(F61,'28'!I7:I118,'28'!F7:F118,TRUE),0)","v":0}]
[null,{"$f":"'INDEX (Corrected trim 4)'!B61","v":29},"W.B. 4 SB",{"$f":"IF('29'!I2=1.025,\"SW\",\"CHANGED\")","v":"SW"},5.52,{"$f":"IF(G62<'29'!M118,LinInterpolate(G62,'29'!M7:M118,'29'!I7:I118,TRUE),100)","v":100},{"$f":"'INDEX (Corrected trim 4)'!AA61","v":26.7},{"$f":"LinInterpolate(F62,'29'!I7:I118,'29'!H7:H118,TRUE)","v":27.367499999999996},{"$f":"LinInterpolate(F62,'29'!I7:I118,'29'!C7:C118,TRUE)","v":26.1},{"$f":"LinInterpolate(F62,'29'!I7:I118,'29'!D7:D118,TRUE)","v":-7.8},{"$f":"LinInterpolate(F62,'29'!I7:I118,'29'!E7:E118,TRUE)","v":4.04},null,714.29174999999998,-213.46649999999997,110.56469999999999,{"$f":"IF(LinInterpolate(F62,'29'!I7:I118,'29'!F7:F118,TRUE)>0,LinInterpolate(F62,'29'!I7:I118,'29'!F7:F118,TRUE),0)","v":0}]
[null,{"$f":"'INDEX (Corrected trim 4)'!B62","v":30},"W.B. 4 PS DB",{"$f":"IF('30'!I2=1.025,\"SW\",\"CHANGED\")","v":"SW"},1.3,{"$f":"IF(G63<'30'!M34,LinInterpolate(G63,'30'!M7:M34,'30'!I7:I34,TRUE),100)","v":100},{"$f":"'INDEX (Corrected trim 4)'!AA62","v":45.49},{"$f":"LinInterpolate(F63,'30'!I7:I34,'30'!H7:H34,TRUE)","v":46.627249999999997},{"$f":"LinInterpolate(F63,'30'!I7:I34,'30'!C7:C34,TRUE)","v":26.09},{"$f":"LinInterpolate(F63,'30'!I7:I34,'30'!D7:D34,TRUE)","v":4.0999999999999996},{"$f":"LinInterpolate(F63,'30'!I7:I34,'30'!E7:E34,TRUE)","v":0.56000000000000005},null,1216.5049524999999,191.17172499999998,26.111260000000001,{"$f":"IF(LinInterpolate(F63,'30'!I7:I34,'30'!F7:F34,TRUE)>0,LinInterpolate(F63,'30'!I7:I34,'30'!F7:F34,TRUE),0)","v":0}]
[null,{"$f":"'INDEX (Corrected trim 4)'!B63","v":31},"W.B. 4 SB DB",{"$f":"IF('31'!I2=1.025,\"SW\",\"CHANGED\")","v":"SW"},5.52,{"$f":"IF(G64<'31'!M34,LinInterpolate(G64,'31'!M7:M34,'31'!I7:I34,TRUE),100)","v":100},{"$f":"'INDEX (Corrected trim 4)'!AA63","v":45.49},{"$f":"LinInterpolate(F64,'31'!I7:I34,'31'!H7:H34,TRUE)","v":46.627249999999997},{"$f":"LinInterpolate(F64,'31'!I7:I34,'31'!C7:C34,TRUE)","v":26.09},{"$f":"LinInterpolate(F64,'31'!I7:I34,'31'!D7:D34,TRUE)","v":-4.0999999999999996},{"$f":"LinInterpolate(F64,'31'!I7:I34,'31'!E7:E34,TRUE)","v":0.56000000000000005},null,1216.5049524999999,-191.17172499999998,26.111260000000001,{"$f":"IF(LinInterpolate(F64,'31'!I7:I34,'31'!F7:F34,TRUE)>0,LinInterpolate(F64,'31'!I7:I34,'31'!F7:F34,TRUE),0)","v":0}]
[null,{"$f":"'INDEX (Corrected trim 4)'!B64","v":32},"W.B. 5 PS",{"$f":"IF('32'!I2=1.025,\"SW\",\"CHANGED\")","v":"SW"},5.52,{"$f":"IF(G65<'32'!M118,LinInterpolate(G65,'32'!M7:M118,'32'!I7:I118,TRUE),100)","v":100},{"$f":"'INDEX (Corrected trim 4)'!AA64","v":23.67},{"$f":"LinInterpolate(F65,'32'!I7:I118,'32'!H7:H118,TRUE)","v":24.261749999999999},{"$f":"LinInterpolate(F65,'32'!I7:I118,'32'!C7:C118,TRUE)","v":21},{"$f":"LinInterpolate(F65,'32'!I7:I118,'32'!D7:D118,TRUE)","v":7.8},{"$f":"LinInterpolate(F65,'32'!I7:I118,'32'!E7:E118,TRUE)","v":4.04},null,509.49674999999996,189.24164999999999,98.017470000000003,{"$f":"IF(LinInterpolate(F65,'32'!I7:I118,'32'!F7:F118,TRUE)>0,LinInterpolate(F65,'32'!I7:I118,'32'!F7:F118,TRUE),0)","v":0}]
[null,{"$f":"'INDEX (Corrected trim 4)'!B65","v":33},"W.B. 5 SB",{"$f":"IF('33'!I2=1.025,\"SW\",\"CHANGED\")","v":"SW"},5.52,{"$f":"IF(G66<'33'!M118,LinInterpolate(G66,'33'!M7:M118,'33'!I7:I118,TRUE),100)","v":100},{"$f":"'INDEX (Corrected trim 4)'!AA65","v":23.67},{"$f":"LinInterpolate(F66,'33'!I7:I118,'33'!H7:H118,TRUE)","v":24.261749999999999},{"$f":"LinInterpolate(F66,'33'!I7:I118,'33'!C7:C118,TRUE)","v":21},{"$f":"LinInterpolate(F66,'33'!I7:I118,'33'!D7:D118,TRUE)","v":-7.8},{"$f":"LinInterpolate(F66,'33'!I7:I118,'33'!E7:E118,TRUE)","v":4.04},null,509.49674999999996,-189.24164999999999,98.017470000000003,{"$f":"IF(LinInterpolate(F66,'33'!I7:I118,'33'!F7:F118,TRUE)>0,LinInterpolate(F66,'33'!I7:I118,'33'!F7:F118,TRUE),0)","v":0}]
[null,{"$f":"'INDEX (Corrected trim 4)'!B66","v":34},"W.B. 5 PS DB",{"$f":"IF('34'!I2=1.025,\"SW\",\"CHANGED\")","v":"SW"},1.35,{"$f":"IF(G67<'34'!M34,LinInterpolate(G67,'34'!M7:M34,'34'!I7:I34,TRUE),100)","v":100},{"$f":"'INDEX (Corrected trim 4)'!AA66","v":40.159999999999997},{"$f":"LinInterpolate(F67,'34'!I7:I34,'34'!H7:H34,TRUE)","v":41.163999999999994},{"$f":"LinInterpolate(F67,'34'!I7:I34,'34'!C7:C34,TRUE)","v":21},{"$f":"LinInterpolate(F67,'34'!I7:I34,'34'!D7:D34,TRUE)","v":4.1500000000000004},{"$f":"LinInterpolate(F67,'34'!I7:I34,'34'!E7:E34,TRUE)","v":0.56000000000000005},null,864.44399999999985,170.8306,23.051839999999999,{"$f":"IF(LinInterpolate(F67,'34'!I7:I34,'34'!F7:F34,TRUE)>0,LinInterpolate(F67,'34'!I7:I34,'34'!F7:F34,TRUE),0)","v":0}]
[null,{"$f":"'INDEX (Corrected trim 4)'!B67","v":35},"W.B. 5 SB DB",{"$f":"IF('35'!I2=1.025,\"SW\",\"CHANGED\")","v":"SW"},1.35,{"$f":"IF(G68<'35'!M34,LinInterpolate(G68,'35'!M7:M34,'35'!I7:I34,TRUE),100)","v":100},{"$f":"'INDEX (Corrected trim 4)'!AA67","v":40.159999999999997},{"$f":"LinInterpolate(F68,'35'!I7:I34,'35'!H7:H34,TRUE)","v":41.163999999999994},{"$f":"LinInterpolate(F68,'35'!I7:I34,'35'!C7:C34,TRUE)","v":21},{"$f":"LinInterpolate(F68,'35'!I7:I34,'35'!D7:D34,TRUE)","v":-4.1500000000000004},{"$f":"LinInterpolate(F68,'35'!I7:I34,'35'!E7:E34,TRUE)","v":0.56000000000000005},null,{"$f":"$H68*I68","v":864.44399999999985},-170.8306,23.051839999999999,{"$f":"IF(LinInterpolate(F68,'35'!I7:I34,'35'!F7:F34,TRUE)>0,LinInterpolate(F68,'35'!I7:I34,'35'!F7:F34,TRUE),0)","v":0}]
[null,{"$f":"'INDEX (Corrected trim 4)'!B68","v":36},"W.B. 6 PS",{"$f":"IF('36'!I2=1.025,\"SW\",\"CHANGED\")","v":"SW"},5.51,{"$f":"IF(G69<'36'!M118,LinInterpolate(G69,'36'!M7:M118,'36'!I7:I118,TRUE),100)","v":100},{"$f":"'INDEX (Corrected trim 4)'!AA68","v":22.31},{"$f":"LinInterpolate(F69,'36'!I7:I118,'36'!H7:H118,TRUE)","v":22.857499999999998},{"$f":"LinInterpolate(F69,'36'!I7:I118,'36'!C7:C118,TRUE)","v":16.260000000000002},{"$f":"LinInterpolate(F69,'36'!I7:I118,'36'!D7:D118,TRUE)","v":7.79},{"$f":"LinInterpolate(F69,'36'!I7:I118,'36'!E7:E118,TRUE)","v":4.21},null,371.66295000000002,178.05992499999999,96.230074999999985,{"$f":"IF(LinInterpolate(F69,'36'!I7:I118,'36'!F7:F118,TRUE)>0,LinInterpolate(F69,'36'!I7:I118,'36'!F7:F118,TRUE),0)","v":0}]
[null,{"$f":"'INDEX (Corrected trim 4)'!B69","v":37},"W.B. 6 SB",{"$f":"IF('37'!I2=1.025,\"SW\",\"CHANGED\")","v":"SW"},5.51,{"$f":"IF(G70<'37'!M118,LinInterpolate(G70,'37'!M7:M118,'37'!I7:I118,TRUE),100)","v":100},{"$f":"'INDEX (Corrected trim 4)'!AA69","v":22.31},{"$f":"LinInterpolate(F70,'37'!I7:I118,'37'!H7:H118,TRUE)","v":22.857499999999998},{"$f":"LinInterpolate(F70,'37'!I7:I118,'37'!C7:C118,TRUE)","v":16.260000000000002},{"$f":"LinInterpolate(F70,'37'!I7:I118,'37'!D7:D118,TRUE)","v":-7.79},{"$f":"LinInterpolate(F70,'37'!I7:I118,'37'!E7:E118,TRUE)","v":4.21},null,371.66295000000002,-178.05992499999999,96.230074999999985,{"$f":"IF(LinInterpolate(F70,'37'!I7:I118,'37'!F7:F118,TRUE)>0,LinInterpolate(F70,'37'!I7:I118,'37'!F7:F118,TRUE),0)","v":0}]
[null,{"$f":"'INDEX (Corrected trim 4)'!B70","v":38},"W.B. 6 PS DB",{"$f":"IF('38'!I2=1.025,\"SW\",\"CHANGED\")","v":"SW"},2.2000000000000002,{"$f":"IF(G71<'38'!M51,LinInterpolate(G71,'38'!M7:M51,'38'!I7:I51,TRUE),100)","v":100},{"$f":"'INDEX (Corrected trim 4)'!AA70","v":39.67},{"$f":"LinInterpolate(F71,'38'!I7:I51,'38'!H7:H51,TRUE)","v":40.661749999999998},{"$f":"LinInterpolate(F71,'38'!I7:I51,'38'!C7:C51,TRUE)","v":16.2},{"$f":"LinInterpolate(F71,'38'!I7:I51,'38'!D7:D51,TRUE)","v":4.16},{"$f":"LinInterpolate(F71,'38'!I7:I51,'38'!E7:E51,TRUE)","v":0.63},null,658.72034999999994,169.15288000000001,25.616902499999998,{"$f":"IF(LinInterpolate(F71,'38'!I7:I51,'38'!F7:F51,TRUE)>0,LinInterpolate(F71,'38'!I7:I51,'38'!F7:F51,TRUE),0)","v":0}]
[null,{"$f":"'INDEX (Corrected trim 4)'!B71","v":39},"W.B. 6 SB DB",{"$f":"IF('39'!I2=1.025,\"SW\",\"CHANGED\")","v":"SW"},2.2000000000000002,{"$f":"IF(G72<'39'!M51,LinInterpolate(G72,'39'!M7:M51,'39'!I7:I51,TRUE),100)","v":100},{"$f":"'INDEX (Corrected trim 4)'!AA71","v":39.67},{"$f":"LinInterpolate(F72,'39'!I7:I51,'39'!H7:H51,TRUE)","v":40.661749999999998},{"$f":"LinInterpolate(F72,'39'!I7:I51,'39'!C7:C51,TRUE)","v":16.2},{"$f":"LinInterpolate(F72,'39'!I7:I51,'39'!D7:D51,TRUE)","v":-4.16},{"$f":"LinInterpolate(F72,'39'!I7:I51,'39'!E7:E51,TRUE)","v":0.63},null,658.72034999999994,-169.15288000000001,25.616902499999998,{"$f":"IF(LinInterpolate(F72,'39'!I7:I51,'39'!F7:F51,TRUE)>0,LinInterpolate(F72,'39'!I7:I51,'39'!F7:F51,TRUE),0)","v":0}]
[null,{"$f":"'INDEX (Corrected trim 4)'!B72","v":40},"W.B. 7 PS",{"$f":"IF('40'!I2=1.025,\"SW\",\"CHANGED\")","v":"SW"},4.6399999999999997,{"$f":"IF(G73<'40'!M100,LinInterpolate(G73,'40'!M7:M100,'40'!I7:I100,TRUE),100)","v":100},{"$f":"'INDEX (Corrected trim 4)'!AA72","v":17.48},{"$f":"LinInterpolate(F73,'40'!I7:I100,'40'!H7:H100,TRUE)","v":17.916999999999998},{"$f":"LinInterpolate(F73,'40'!I7:I100,'40'!C7:C100,TRUE)","v":11.34},{"$f":"LinInterpolate(F73,'40'!I7:I100,'40'!D7:D100,TRUE)","v":7.79},{"$f":"LinInterpolate(F73,'40'!I7:I100,'40'!E7:E100,TRUE)","v":4.92},null,203.17877999999999,139.57342999999997,88.151639999999986,{"$f":"IF(LinInterpolate(F73,'40'!I7:I100,'40'!F7:F100,TRUE)>0,LinInterpolate(F73,'40'!I7:I100,'40'!F7:F100,TRUE),0)","v":0}]
[null,{"$f":"'INDEX (Corrected trim 4)'!B73","v":41},"W.B. 7 SB",{"$f":"IF('41'!I2=1.025,\"SW\",\"CHANGED\")","v":"SW"},4.6399999999999997,{"$f":"IF(G74<'41'!M100,LinInterpolate(G74,'41'!M7:M100,'41'!I7:I100,TRUE),100)","v":100},{"$f":"'INDEX (Corrected trim 4)'!AA73","v":17.48},{"$f":"LinInterpolate(F74,'41'!I7:I100,'41'!H7:H100,TRUE)","v":17.916999999999998},{"$f":"LinInterpolate(F74,'41'!I7:I100,'41'!C7:C100,TRUE)","v":11.34},{"$f":"LinInterpolate(F74,'41'!I7:I100,'41'!D7:D100,TRUE)","v":-7.79},{"$f":"LinInterpolate(F74,'41'!I7:I100,'41'!E7:E100,TRUE)","v":4.92},null,203.17877999999999,-139.57342999999997,88.151639999999986,{"$f":"IF(LinInterpolate(F74,'41'!I7:I100,'41'!F7:F100,TRUE)>0,LinInterpolate(F74,'41'!I7:I100,'41'!F7:F100,TRUE),0)","v":0}]
[null,{"$f":"'INDEX (Corrected trim 4)'!B74","v":42},"W.B. 7 PS DB",{"$f":"IF('42'!I2=1.025,\"SW\",\"CHANGED\")","v":"SW"},4.55,{"$f":"IF(G75<'42'!M98,LinInterpolate(G75,'42'!M7:M98,'42'!I7:I98,TRUE),100)","v":100},{"$f":"'INDEX (Corrected trim 4)'!AA74","v":35.4},{"$f":"LinInterpolate(F75,'42'!I7:I98,'42'!H7:H98,TRUE)","v":36.284999999999997},{"$f":"LinInterpolate(F75,'42'!I7:I98,'42'!C7:C98,TRUE)","v":10.63},{"$f":"LinInterpolate(F75,'42'!I7:I98,'42'!D7:D98,TRUE)","v":5.9},{"$f":"LinInterpolate(F75,'42'!I7:I98,'42'!E7:E98,TRUE)","v":1.98},null,385.70954999999998,214.08150000000001,71.84429999999999,{"$f":"IF(LinInterpolate(F75,'42'!I7:I98,'42'!F7:F98,TRUE)>0,LinInterpolate(F75,'42'!I7:I98,'42'!F7:F98,TRUE),0)","v":0}]
[null,{"$f":"'INDEX (Corrected trim 4)'!B75","v":43},"W.B. 7 SB DB",{"$f":"IF('43'!I2=1.025,\"SW\",\"CHANGED\")","v":"SW"},4.55,{"$f":"IF(G76<'43'!M98,LinInterpolate(G76,'43'!M7:M98,'43'!I7:I98,TRUE),100)","v":100},{"$f":"'INDEX (Corrected trim 4)'!AA75","v":35.4},{"$f":"LinInterpolate(F76,'43'!I7:I98,'43'!H7:H98,TRUE)","v":36.284999999999997},{"$f":"LinInterpolate(F76,'43'!I7:I98,'43'!C7:C98,TRUE)","v":10.63},{"$f":"LinInterpolate(F76,'43'!I7:I98,'43'!D7:D98,TRUE)","v":-5.9},{"$f":"LinInterpolate(F76,'43'!I7:I98,'43'!E7:E98,TRUE)","v":1.98},null,385.70954999999998,-214.08150000000001,71.84429999999999,{"$f":"IF(LinInterpolate(F76,'43'!I7:I98,'43'!F7:F98,TRUE)>0,LinInterpolate(F76,'43'!I7:I98,'43'!F7:F98,TRUE),0)","v":0}]
[null,{"$f":"'INDEX (Corrected trim 4)'!B76","v":44},"W.B. 8 PS DB",{"$f":"IF('44'!I2=1.025,\"SW\",\"CHANGED\")","v":"SW"},2.7,{"$f":"IF(G77<'44'!M61,LinInterpolate(G77,'44'!M7:M61,'44'!I7:I61,TRUE),100)","v":100},{"$f":"'INDEX (Corrected trim 4)'!AA76","v":29.71},{"$f":"LinInterpolate(F77,'44'!I7:I61,'44'!H7:H61,TRUE)","v":30.452749999999998},{"$f":"LinInterpolate(F77,'44'!I7:I61,'44'!C7:C61,TRUE)","v":10.53},{"$f":"LinInterpolate(F77,'44'!I7:I61,'44'!D7:D61,TRUE)","v":1.47},{"$f":"LinInterpolate(F77,'44'!I7:I61,'44'!E7:E61,TRUE)","v":1.1100000000000001},null,320.66745749999995,44.765542499999995,33.802552500000004,{"$f":"IF(LinInterpolate(F77,'44'!I7:I61,'44'!F7:F61,TRUE)>0,LinInterpolate(F77,'44'!I7:I61,'44'!F7:F61,TRUE),0)","v":0}]
[null,{"$f":"'INDEX (Corrected trim 4)'!B77","v":45},"W.B. 8 SB DB",{"$f":"IF('45'!I2=1.025,\"SW\",\"CHANGED\")","v":"SW"},2.7,{"$f":"IF(G78<'45'!M61,LinInterpolate(G78,'45'!M7:M61,'45'!I7:I61,TRUE),100)","v":100},{"$f":"'INDEX (Corrected trim 4)'!AA77","v":29.71},{"$f":"LinInterpolate(F78,'45'!I7:I61,'45'!H7:H61,TRUE)","v":30.452749999999998},{"$f":"LinInterpolate(F78,'45'!I7:I61,'45'!C7:C61,TRUE)","v":10.53},{"$f":"LinInterpolate(F78,'45'!I7:I61,'45'!D7:D61,TRUE)","v":-1.47},{"$f":"LinInterpolate(F78,'45'!I7:I61,'45'!E7:E61,TRUE)","v":1.1100000000000001},null,320.66745749999995,-44.765542499999995,33.802552500000004,{"$f":"IF(LinInterpolate(F78,'45'!I7:I61,'45'!F7:F61,TRUE)>0,LinInterpolate(F78,'45'!I7:I61,'45'!F7:F61,TRUE),0)","v":0}]
[null,null,{"$f":"'INDEX (Corrected trim 4)'!C78","v":"Total BW"},null,null,{"$f":"(G79/1032)*100","v":100.00329457364339},{"$f":"SUM((G52:G78))","v":1032.0339999999997},{"$f":"SUM((H52:H78))","v":1057.8143499999999},{"$f":"M79/H79","v":22.744108122564228},{"$f":"N79/H79","v":-7.3606753396756736E-3},{"$f":"O79/H79","v":3.0813733728418415},null,{"$f":"SUM((M52:M78))","v":24059.043949999996},{"$f":"SUM((N52:N78))","v":-7.786228000000051},{"$f":"SUM((O52:O78))","v":3259.5209715000001},{"$f":"SUM((P52:P78))","v":0}]
[]
[null,null,{"$f":"'INDEX (Corrected trim 4)'!C80","v":"FW (S.G. 1.000)"}]
[null,{"$f":"'INDEX (Corrected trim 4)'!B81","v":46},"F.W. 1 PS",{"$f":"IF('46'!I2=1,\"FW\",\"CHANGED\")","v":"FW"},7.77,{"$f":"IF(G82<'46'!M163,LinInterpolate(G82,'46'!M7:M163,'46'!I7:I163,TRUE),100)","v":100},{"$f":"'INDEX (Corrected trim 4)'!AA81","v":73.349999999999994},{"$f":"LinInterpolate(F82,'46'!I7:I163,'46'!H7:H163,TRUE)","v":73.349999999999994},{"$f":"LinInterpolate(F82,'46'!I7:I163,'46'!C7:C163,TRUE)","v":47.04},{"$f":"LinInterpolate(F82,'46'!I7:I163,'46'!D7:D163,TRUE)","v":2.93},{"$f":"LinInterpolate(F82,'46'!I7:I163,'46'!E7:E163,TRUE)","v":4.93},null,{"$f":"$H82*I82","v":3450.3839999999996},214.91550000000001,361.61549999999994,{"$f":"IF(LinInterpolate(F82,'46'!I7:I163,'46'!F7:F163,TRUE)>0,LinInterpolate(F82,'46'!I7:I163,'46'!F7:F163,TRUE),0)","v":0}]
[null,{"$f":"'INDEX (Corrected trim 4)'!B82","v":47},"F.W. 1 SB",{"$f":"IF('47'!I2=1,\"FW\",\"CHANGED\")","v":"FW"},7.77,{"$f":"IF(G83<'47'!M163,LinInterpolate(G83,'47'!M7:M163,'47'!I7:I163,TRUE),100)","v":100},{"$f":"'INDEX (Corrected trim 4)'!AA82","v":73.349999999999994},{"$f":"LinInterpolate(F83,'47'!I7:I163,'47'!H7:H163,TRUE)","v":73.349999999999994},{"$f":"LinInterpolate(F83,'47'!I7:I163,'47'!C7:C163,TRUE)","v":47.05},{"$f":"LinInterpolate(F83,'47'!I7:I163,'47'!D7:D163,TRUE)","v":-2.93},{"$f":"LinInterpolate(F83,'47'!I7:I163,'47'!E7:E163,TRUE)","v":4.93},null,3451.1174999999994,-214.91550000000001,361.61549999999994,{"$f":"IF(LinInterpolate(F83,'47'!I7:I163,'47'!F7:F163,TRUE)>0,LinInterpolate(F83,'47'!I7:I163,'47'!F7:F163,TRUE),0)","v":0}]
[null,{"$f":"'INDEX (Corrected trim 4)'!B83","v":48},"F.W. 1 C",{"$f":"IF('48'!I2=1,\"FW\",\"CHANGED\")","v":"FW"},5.77,{"$f":"IF(G84<'48'!M123,LinInterpolate(G84,'48'!M7:M123,'48'!I7:I123,TRUE),100)","v":100},{"$f":"'INDEX (Corrected trim 4)'!AA83","v":103.64},{"$f":"LinInterpolate(F84,'48'!I7:I123,'48'!H7:H123,TRUE)","v":103.64},{"$f":"LinInterpolate(F84,'48'!I7:I123,'48'!C7:C123,TRUE)","v":15.61},{"$f":"LinInterpolate(F84,'48'!I7:I123,'48'!D7:D123,TRUE)","v":0},{"$f":"LinInterpolate(F84,'48'!I7:I123,'48'!E7:E123,TRUE)","v":3.91},null,1617.8204000000001,0,405.23240000000004,{"$f":"IF(LinInterpolate(F84,'48'!I7:I123,'48'!F7:F123,TRUE)>0,LinInterpolate(F84,'48'!I7:I123,'48'!F7:F123,TRUE),0)","v":0}]
[null,{"$f":"'INDEX (Corrected trim 4)'!B84","v":49},"F.W. 2 PS",{"$f":"IF('49'!I2=1,\"FW\",\"CHANGED\")","v":"FW"},5.8,{"$f":"IF(G85<'49'!M123,LinInterpolate(G85,'49'!M7:M123,'49'!I7:I123,TRUE),100)","v":100},{"$f":"'INDEX (Corrected trim 4)'!AA84","v":116.59},{"$f":"LinInterpolate(F85,'49'!I7:I123,'49'!H7:H123,TRUE)","v":116.59},{"$f":"LinInterpolate(F85,'49'!I7:I123,'49'!C7:C123,TRUE)","v":5.23},{"$f":"LinInterpolate(F85,'49'!I7:I123,'49'!D7:D123,TRUE)","v":4.01},{"$f":"LinInterpolate(F85,'49'!I7:I123,'49'!E7:E123,TRUE)","v":4.93},null,609.76570000000004,467.52589999999998,574.78869999999995,{"$f":"IF(LinInterpolate(F85,'49'!I7:I123,'49'!F7:F123,TRUE)>0,LinInterpolate(F85,'49'!I7:I123,'49'!F7:F123,TRUE),0)","v":0}]
[null,{"$f":"'INDEX (Corrected trim 4)'!B85","v":50},"F.W. 2 SB",{"$f":"IF('50'!I2=1,\"FW\",\"CHANGED\")","v":"FW"},5.8,{"$f":"IF(G86<'50'!M123,LinInterpolate(G86,'50'!M7:M123,'50'!I7:I123,TRUE),100)","v":100},{"$f":"'INDEX (Corrected trim 4)'!AA85","v":116.59},{"$f":"LinInterpolate(F86,'50'!I7:I123,'50'!H7:H123,TRUE)","v":116.59},{"$f":"LinInterpolate(F86,'50'!I7:I123,'50'!C7:C123,TRUE)","v":5.23},{"$f":"LinInterpolate(F86,'50'!I7:I123,'50'!D7:D123,TRUE)","v":-4.01},{"$f":"LinInterpolate(F86,'50'!I7:I123,'50'!E7:E123,TRUE)","v":4.93},null,609.76570000000004,-467.52589999999998,574.78869999999995,{"$f":"IF(LinInterpolate(F86,'50'!I7:I123,'50'!F7:F123,TRUE)>0,LinInterpolate(F86,'50'!I7:I123,'50'!F7:F123,TRUE),0)","v":0}]
[null,null,{"$f":"'INDEX (Corrected trim 4)'!C86","v":"TOTAL FW "},null,null,{"$f":"(G87/483.5)*100","v":100.00413650465356},{"$f":"SUM((G82:G86))","v":483.52},{"$f":"SUM((H82:H86))","v":483.52},{"$f":"M87/H87","v":20.141572840833884},{"$f":"N87/H87","v":0},{"$f":"O87/H87","v":4.7113682991396422},null,{"$f":"SUM((M82:M86))","v":9738.8532999999989},{"$f":"SUM((N82:N86))","v":0},{"$f":"SUM((O82:O86))","v":2278.0407999999998},{"$f":"SUM((P82:P86))","v":0}]
[]
[null,null,{"$f":"'INDEX (Corrected trim 4)'!C88","v":"Name"},{"$f":"'INDEX (Corrected trim 4)'!D88","v":"Sort of Fluid"},"Sounding Height",{"$f":"'INDEX (Corrected trim 4)'!F88","v":"% Full"},{"$f":"'INDEX (Corrected trim 4)'!G88","v":"Volume"},{"$f":"'INDEX (Corrected trim 4)'!H88","v":"Weight"},{"$f":"'INDEX (Corrected trim 4)'!I88","v":"LCG"},{"$f":"'INDEX (Corrected trim 4)'!J88","v":"TCG"},{"$f":"'INDEX (Corrected trim 4)'!K88","v":"VCG"},{"$f":"'INDEX (Corrected trim 4)'!L88","v":0},{"$f":"'INDEX (Corrected trim 4)'!M88","v":"Longitudinal"},{"$f":"'INDEX (Corrected trim 4)'!N88","v":"Transverse"},{"$f":"'INDEX (Corrected trim 4)'!O88","v":"Vertical"},{"$f":"'INDEX (Corrected trim 4)'!P88","v":"FSMt"}]
[null,null,{"$f":"'INDEX (Corrected trim 4)'!C89","v":0},{"$f":"'INDEX (Corrected trim 4)'!D89","v":0},null,{"$f":"'INDEX (Corrected trim 4)'!F89","v":" "},{"$f":"'INDEX (Corrected trim 4)'!G89","v":" "},{"$f":"'INDEX (Corrected trim 4)'!H89","v":" "},{"$f":"'INDEX (Corrected trim 4)'!I89","v":"Fwd of AP"},{"$f":"'INDEX (Corrected trim 4)'!J89","v":"PS:+"},{"$f":"'INDEX (Corrected trim 4)'!K89","v":"Above BL"},{"$f":"'INDEX (Corrected trim 4)'!L89","v":0},{"$f":"'INDEX (Corrected trim 4)'!M89","v":"Moment"},{"$f":"'INDEX (Corrected trim 4)'!N89","v":"Moment"},{"$f":"'INDEX (Corrected trim 4)'!O89","v":"Moment"},{"$f":"'INDEX (Corrected trim 4)'!P89","v":" "}]
[null,null,{"$f":"'INDEX (Corrected trim 4)'!C90","v":0},{"$f":"'INDEX (Corrected trim 4)'!D90","v":0},null,{"$f":"'INDEX (Corrected trim 4)'!F90","v":"%"},{"$f":"'INDEX (Corrected trim 4)'!G90","v":"m³"},{"$f":"'INDEX (Corrected trim 4)'!H90","v":"t"},{"$f":"'INDEX (Corrected trim 4)'!I90","v":"m"},{"$f":"'INDEX (Corrected trim 4)'!J90","v":"m"},{"$f":"'INDEX (Corrected trim 4)'!K90","v":"m"},{"$f":"'INDEX (Corrected trim 4)'!L90","v":0},{"$f":"'INDEX (Corrected trim 4)'!M90","v":"t·m"},{"$f":"'INDEX (Corrected trim 4)'!N90","v":"t·m"},{"$f":"'INDEX (Corrected trim 4)'!O90","v":"t·m"},{"$f":"'INDEX (Corrected trim 4)'!P90","v":"t·m"}]
[null,null,{"$f":"'INDEX (Corrected trim 4)'!C91","v":"MISC (S.G. Various)"}]
[null,{"$f":"'INDEX (Corrected trim 4)'!B92","v":51},"DIRTY OIL ",{"$f":"IF('51'!I2=0.98,\"DIRTY\",\"CHANGED\")","v":"DIRTY"},2,{"$f":"IF(G93<'51'!M27,LinInterpolate(G93,'51'!M7:M27,'51'!I7:I27,TRUE),100)","v":100},{"$f":"'INDEX (Corrected trim 4)'!AA92","v":13.43},{"$f":"LinInterpolate(F93,'51'!I7:I27,'51'!H7:H27,TRUE)","v":13.161399999999999},{"$f":"LinInterpolate(F93,'51'!I7:I27,'51'!C7:C27,TRUE)","v":36.93},{"$f":"LinInterpolate(F93,'51'!I7:I27,'51'!D7:D27,TRUE)","v":0},{"$f":"LinInterpolate(F93,'51'!I7:I27,'51'!E7:E27,TRUE)","v":0.5},null,{"$f":"$H93*I93","v":486.05050199999994},0,6.5806999999999993,{"$f":"IF(LinInterpolate(F93,'51'!I7:I27,'51'!F7:F27,TRUE)>0,LinInterpolate(F93,'51'!I7:I27,'51'!F7:F27,TRUE),0)","v":0}]
[null,{"$f":"'INDEX (Corrected trim 4)'!B93","v":52},"OILY WATER ",{"$f":"IF('52'!I2=0.98,\"OILY\",\"CHANGED\")","v":"OILY"},2,{"$f":"IF(G94<'52'!M31,LinInterpolate(G94,'52'!M7:M31,'52'!I7:I31,TRUE),100)","v":100},{"$f":"'INDEX (Corrected trim 4)'!AA93","v":30.2},{"$f":"LinInterpolate(F94,'52'!I7:I31,'52'!H7:H31,TRUE)","v":29.596},{"$f":"LinInterpolate(F94,'52'!I7:I31,'52'!C7:C31,TRUE)","v":37.85},{"$f":"LinInterpolate(F94,'52'!I7:I31,'52'!D7:D31,TRUE)","v":-4.3},{"$f":"LinInterpolate(F94,'52'!I7:I31,'52'!E7:E31,TRUE)","v":0.56999999999999995},null,1120.2085999999999,-127.2628,16.869719999999997,{"$f":"IF(LinInterpolate(F94,'52'!I7:I31,'52'!F7:F31,TRUE)>0,LinInterpolate(F94,'52'!I7:I31,'52'!F7:F31,TRUE),0)","v":0}]
[null,{"$f":"'INDEX (Corrected trim 4)'!B94","v":53},"GREY WATER ",{"$f":"IF('53'!I2=0.98,\"GREY\",\"CHANGED\")","v":"GREY"},2,{"$f":"IF(G95<'53'!M27,LinInterpolate(G95,'53'!M7:M27,'53'!I7:I27,TRUE),100)","v":100},{"$f":"'INDEX (Corrected trim 4)'!AA94","v":31.1},{"$f":"LinInterpolate(F95,'53'!I7:I27,'53'!H7:H27,TRUE)","v":30.478000000000002},{"$f":"LinInterpolate(F95,'53'!I7:I27,'53'!C7:C27,TRUE)","v":41.56},{"$f":"LinInterpolate(F95,'53'!I7:I27,'53'!D7:D27,TRUE)","v":0},{"$f":"LinInterpolate(F95,'53'!I7:I27,'53'!E7:E27,TRUE)","v":0.5},null,1266.6656800000001,0,15.239000000000001,{"$f":"IF(LinInterpolate(F95,'53'!I7:I27,'53'!F7:F27,TRUE)>0,LinInterpolate(F95,'53'!I7:I27,'53'!F7:F27,TRUE),0)","v":0}]
[null,{"$f":"'INDEX (Corrected trim 4)'!B95","v":54},"SEWAGE ",{"$f":"IF('54'!I2=0.98,\"SEWAGE\",\"CHANGED\")","v":"SEWAGE"},2,{"$f":"IF(G96<'54'!M31,LinInterpolate(G96,'54'!M7:M31,'54'!I7:I31,TRUE),100)","v":100},{"$f":"'INDEX (Corrected trim 4)'!AA95","v":30.2},{"$f":"LinInterpolate(F96,'54'!I7:I31,'54'!H7:H31,TRUE)","v":29.596},{"$f":"LinInterpolate(F96,'54'!I7:I31,'54'!C7:C31,TRUE)","v":37.85},{"$f":"LinInterpolate(F96,'54'!I7:I31,'54'!D7:D31,TRUE)","v":4.3},{"$f":"LinInterpolate(F96,'54'!I7:I31,'54'!E7:E31,TRUE)","v":0.56999999999999995},null,1120.2085999999999,127.2628,16.869719999999997,{"$f":"IF(LinInterpolate(F96,'54'!I7:I31,'54'!F7:F31,TRUE)>0,LinInterpolate(F96,'54'!I7:I31,'54'!F7:F31,TRUE),0)","v":0}]
[null,{"$f":"'INDEX (Corrected trim 4)'!B96","v":55},"SLUDGE ",{"$f":"IF('55'!I2=0.98,\"SLUDGE\",\"CHANGED\")","v":"SLUDGE"},2,{"$f":"IF(G97<'55'!M27,LinInterpolate(G97,'55'!M7:M27,'55'!I7:I27,TRUE),100)","v":100},{"$f":"'INDEX (Corrected trim 4)'!AA96","v":19.05},{"$f":"LinInterpolate(F97,'55'!I7:I27,'55'!H7:H27,TRUE)","v":18.669},{"$f":"LinInterpolate(F97,'55'!I7:I27,'55'!C7:C27,TRUE)","v":31.5},{"$f":"LinInterpolate(F97,'55'!I7:I27,'55'!D7:D27,TRUE)","v":-1.8},{"$f":"LinInterpolate(F97,'55'!I7:I27,'55'!E7:E27,TRUE)","v":0.5},null,588.07349999999997,-33.604199999999999,9.3345000000000002,{"$f":"IF(LinInterpolate(F97,'55'!I7:I27,'55'!F7:F27,TRUE)>0,LinInterpolate(F97,'55'!I7:I27,'55'!F7:F27,TRUE),0)","v":0}]
[null,{"$f":"'INDEX (Corrected trim 4)'!B97","v":56},"LUBRICATION OIL PS",{"$f":"IF('56'!I2=0.9,\"OIL\",\"CHANGED\")","v":"OIL"},2,{"$f":"IF(G98<'56'!M47,LinInterpolate(G98,'56'!M7:M47,'56'!I7:I47,TRUE),100)","v":100},{"$f":"'INDEX (Corrected trim 4)'!AA97","v":10.58},{"$f":"LinInterpolate(F98,'56'!I7:I47,'56'!H7:H47,TRUE)","v":9.5220000000000002},{"$f":"LinInterpolate(F98,'56'!I7:I47,'56'!C7:C47,TRUE)","v":30.3},{"$f":"LinInterpolate(F98,'56'!I7:I47,'56'!D7:D47,TRUE)","v":-0.9},{"$f":"LinInterpolate(F98,'56'!I7:I47,'56'!E7:E47,TRUE)","v":5.8},null,288.51660000000004,-8.5698000000000008,55.227600000000002,{"$f":"IF(LinInterpolate(F98,'56'!I7:I47,'56'!F7:F47,TRUE)>0,LinInterpolate(F98,'56'!I7:I47,'56'!F7:F47,TRUE),0)","v":0}]
[null,{"$f":"'INDEX (Corrected trim 4)'!B98","v":57},"LUBRICATION OIL SB",{"$f":"IF('57'!I2=0.9,\"OIL\",\"CHANGED\")","v":"OIL"},2,{"$f":"IF(G99<'57'!M47,LinInterpolate(G99,'57'!M7:M47,'57'!I7:I47,TRUE),100)","v":100},{"$f":"'INDEX (Corrected trim 4)'!AA98","v":10.58},{"$f":"LinInterpolate(F99,'57'!I7:I47,'57'!H7:H47,TRUE)","v":9.5220000000000002},{"$f":"LinInterpolate(F99,'57'!I7:I47,'57'!C7:C47,TRUE)","v":30.3},{"$f":"LinInterpolate(F99,'57'!I7:I47,'57'!D7:D47,TRUE)","v":-2.7},{"$f":"LinInterpolate(F99,'57'!I7:I47,'57'!E7:E47,TRUE)","v":5.8},null,288.51660000000004,-25.709400000000002,55.227600000000002,{"$f":"IF(LinInterpolate(F99,'57'!I7:I47,'57'!F7:F47,TRUE)>0,LinInterpolate(F99,'57'!I7:I47,'57'!F7:F47,TRUE),0)","v":0}]
[null,{"$f":"'INDEX (Corrected trim 4)'!B99","v":58},"THERMAL OIL",{"$f":"IF('58'!I2=0.98,\"THERM. OIL\",\"CHANGED\")","v":"THERM. OIL"},2,{"$f":"IF(G100<'58'!M47,LinInterpolate(G100,'58'!M7:M47,'58'!I7:I47,TRUE),100)","v":100},{"$f":"'INDEX (Corrected trim 4)'!AA99","v":10.58},{"$f":"LinInterpolate(F100,'58'!I7:I47,'58'!H7:H47,TRUE)","v":10.368399999999999},{"$f":"LinInterpolate(F100,'58'!I7:I47,'58'!C7:C47,TRUE)","v":30.3},{"$f":"LinInterpolate(F100,'58'!I7:I47,'58'!D7:D47,TRUE)","v":0.9},{"$f":"LinInterpolate(F100,'58'!I7:I47,'58'!E7:E47,TRUE)","v":5.78},null,314.16251999999997,9.3315599999999996,59.929352000000002,{"$f":"IF(LinInterpolate(F100,'58'!I7:I47,'58'!F7:F47,TRUE)>0,LinInterpolate(F100,'58'!I7:I47,'58'!F7:F47,TRUE),0)","v":0}]
[null,null,{"$f":"'INDEX (Corrected trim 4)'!C100","v":"Total MISC"},null,null,{"$f":"(G101/155.7)*100","v":100.01284521515738},{"$f":"SUM((G93:G100))","v":155.72000000000003},{"$f":"SUM((H93:H100))","v":150.9128},{"$f":"M101/H101","v":36.262017549207222},{"$f":"N101/H101","v":-0.38798458447527312},{"$f":"O101/H101","v":1.5590340381995429},null,{"$f":"SUM((M93:M100))","v":5472.4026020000001},{"$f":"SUM((N93:N100))","v":-58.551839999999999},{"$f":"SUM((O93:O100))","v":235.27819199999999},{"$f":"SUM((P93:P100))","v":0}]
[]
[null,null,{"$f":"'INDEX (Corrected trim 4)'!C102","v":"Total in all tanks"},null,null,{"$f":"'INDEX (Corrected trim 4)'!F102","v":97.529191355799654},{"$f":"'INDEX (Corrected trim 4)'!G102","v":3010.7033806673162},{"$f":"'INDEX (Corrected trim 4)'!H102","v":2963.6476173738924},{"$f":"'INDEX (Corrected trim 4)'!I102","v":22.294652881350018},{"$f":"'INDEX (Corrected trim 4)'!J102","v":-1.2433552418304E-2},{"$f":"'INDEX (Corrected trim 4)'!K102","v":3.6697937980142825},{"$f":"'INDEX (Corrected trim 4)'!L102","v":0},{"$f":"'INDEX (Corrected trim 4)'!M102","v":66073.494891990966},{"$f":"'INDEX (Corrected trim 4)'!N102","v":-36.848668000000046},{"$f":"'INDEX (Corrected trim 4)'!O102","v":10875.975645738516},{"$f":"'INDEX (Corrected trim 4)'!P102","v":13.984407371296962}]
[]
[null,null,"Name",null,null,null,null,"Weight","LCG","TCG","VCG",null,"Longitudinal","Transverse","Vertical","FSMt"]
[null,null,null,null,null,null,null," ","Fwd of AP","PS:+","Above BL",null,"Moment","Moment","Moment"," "]
[null,null,null,null,null,null,null,"t","m","m","m",null,"t·m","t·m","t·m","t·m"]
[]
[null,null,"(DECK) LOADS"]
[null,null,"Name",null,null,null,null,"Weight","LCG","TCG","VCG",null,"Longitudinal","Transverse","Vertical","FSMt"]
[null,null,null,null,null,null,null," ","Fwd of AP","PS:+","Above BL",null,"Moment","Moment","Moment"," "]
[null,null,null,null,null,null,null,"t","m","m","m",null,"t·m","t·m","t·m","t·m"]
[null,null,"Deck load 1","Test weight 1","Test weight 1","Test weight 1","Test weight 1",5,5,1,7,null,{"$f":"$H113*I113","v":25},{"$f":"$H113*J113","v":5},{"$f":"$H113*K113","v":35}]
[null,null,"Deck load 2","Test weight 2","Test weight 2","Test weight 2","Test weight 2",5,5,-1,7,null,25,-5,35]
[null,null,"Deck load 3","Test weight 3","Test weight 3","Test weight 3","Test weight 3",10,6,1,7,null,60,10,70]
[null,null,"Deck load 4","Test weight 4","Test weight 4","Test weight 4","Test weight 4",10,6,-1,7,null,60,-10,70]
[null,null,"Deck load 5","Test weight 5","Test weight 5","Test weight 5","Test weight 5",15,7,1,7,null,105,15,105]
[null,null,"Deck load 6","Test weight 6","Test weight 6","Test weight 6","Test weight 6",15,7,-1,7,null,105,-15,105]
[null,null,"Deck load 7","Test weight 7","Test weight 7","Test weight 7","Test weight 7",5,8,1,7,null,40,5,35]
[null,null,"Deck load 8","Test weight 8","Test weight 8","Test weight 8","Test weight 8",5,8,-1,7,null,40,-5,35]
[]
[null,null,"Total Remaining",null,null,null,null,{"$f":"SUM(H113:H121)","v":70},{"$f":"M122/H122","v":6.5714285714285712},{"$f":"N122/H122","v":0},{"$f":"O122/H122","v":7},null,{"$f":"SUM(M113:M121)","v":460},{"$f":"SUM(N113:N121)","v":0},{"$f":"SUM(O113:O121)","v":490}]
[]
[]
[null,null,"Calculation Results"]
[null,null,null,null,null,null,"  "]
[null,null,"Ship weight",null,null,null,null,null,"LCG","TCG","VCG","Total Moments",null,null,null,"FSMt / ∆"]
[null,null,null,null,null,null,null,"t","m","m","m","t·m",null,"t·m","t·m","m"]
[null,null,"Displacement",null,null,null,null,{"$f":"H130+H22","v":4733.647617373892},{"$f":"L129/H129","v":24.829371426087601},{"$f":"N129/H129","v":-7.7844129894152868E-3},{"$f":"O129/H129","v":4.9150206196898729},{"$f":"L130+M22","v":117533.49489199097},null,{"$f":"N130+N22","v":-36.848668000000046},{"$f":"O130+O22","v":23265.975645738516},{"$f":"P103/H129","v":2.9542561047362368E-3}]
[null,null,"Total Deadweight",null,null,null,null,{"$f":"H122+H103","v":3033.6476173738924},{"$f":"L130/H130","v":21.931846833808059},{"$f":"N130/H130","v":-1.2146654011153236E-2},{"$f":"O130/H130","v":3.7466367486602108},{"$f":"M122+M103","v":66533.494891990966},null,{"$f":"N122+N103","v":-36.848668000000046},{"$f":"O122+O103","v":11365.975645738516}]
[]
[null,null,"Longitudinal Stability"]
[null,null,"Sheet used for calculation data:","Hydrostatics"]
[]
[null,null,"Trim","Draft","Displ.","LCB","VCB","ϕ","LCG'","LCB'","LCG'-LCB'",null,"LCF","KM"]
[null,null,null,"Moulded"," ","Fwd of AP",null,null,"LCG + tanϕ * VCB","LCB + tanϕ * VCG",null,null,"Fwd of AP"]
[null,null,"m","m","t","m","m","rad","m","m","m",null,"m","m"]
[null,null,-1.5,{"$f":"LinInterpolate(E138,Hydrostatics!D6:D86,Hydrostatics!C6:C86,TRUE)","v":6.6481864199444516},{"$f":"$H$129","v":4733.647617373892},{"$f":"LinInterpolate($E138,Hydrostatics!$D6:$D86,Hydrostatics!I6:I86,TRUE)","v":23.428186419944449},{"$f":"LinInterpolate($E138,Hydrostatics!$D6:$D86,Hydrostatics!J6:J86,TRUE)","v":3.6292745679777805},{"$f":"ATAN(C138/(#REF!))","v":{"$error":"#REF!"}},{"$f":"$I$129+((TAN(H138))*$K$129)","v":{"$error":"#REF!"}},{"$f":"F138+((TAN(H138))*G138)","v":{"$error":"#REF!"}},{"$f":"I138-J138","v":{"$error":"#REF!"}},null,{"$f":"LinInterpolate($E138,Hydrostatics!$D6:$D86,Hydrostatics!K6:K86,TRUE)","v":33.981345435122321},{"$f":"LinInterpolate($E138,Hydrostatics!$D6:$D86,Hydrostatics!E6:E86,TRUE)","v":5.5743525921333177}]
[null,null,-1.4,{"$f":"LinInterpolate(E139,Hydrostatics!D88:D168,Hydrostatics!C88:C168,TRUE)","v":6.6344092413679743},4733.647617373892,{"$f":"LinInterpolate($E139,Hydrostatics!$D88:$D168,Hydrostatics!I88:I168,TRUE)","v":23.444409241367975},{"$f":"LinInterpolate($E139,Hydrostatics!$D88:$D168,Hydrostatics!J88:J168,TRUE)","v":3.6268818482735949},{"$f":"ATAN(C139/(#REF!))","v":{"$error":"#REF!"}},{"$error":"#REF!"},{"$error":"#REF!"},{"$error":"#REF!"},null,{"$f":"LinInterpolate($E139,Hydrostatics!$D88:$D168,Hydrostatics!K88:K168,TRUE)","v":33.576784165340399},{"$f":"LinInterpolate($E139,Hydrostatics!$D88:$D168,Hydrostatics!E88:E168,TRUE)","v":5.6442996689904561}]
[null,null,-1.3,{"$f":"LinInterpolate(E140,Hydrostatics!D170:D250,Hydrostatics!C170:C250,TRUE)","v":6.6211727631691986},4733.647617373892,{"$f":"LinInterpolate($E140,Hydrostatics!$D170:$D250,Hydrostatics!I170:I250,TRUE)","v":23.461172763169198},{"$f":"LinInterpolate($E140,Hydrostatics!$D170:$D250,Hydrostatics!J170:J250,TRUE)","v":3.6284691052676794},{"$f":"ATAN(C140/(#REF!))","v":{"$error":"#REF!"}},{"$error":"#REF!"},{"$error":"#REF!"},{"$error":"#REF!"},null,{"$f":"LinInterpolate($E140,Hydrostatics!$D170:$D250,Hydrostatics!K170:K250,TRUE)","v":33.24381339494709},{"$f":"LinInterpolate($E140,Hydrostatics!$D170:$D250,Hydrostatics!E170:E250,TRUE)","v":5.7049508157600837}]
[null,null,-1.2,{"$f":"LinInterpolate(E141,Hydrostatics!D252:D332,Hydrostatics!C252:C332,TRUE)","v":6.6085984157366235},4733.647617373892,{"$f":"LinInterpolate($E141,Hydrostatics!$D252:$D332,Hydrostatics!I252:I332,TRUE)","v":23.468598415736626},{"$f":"LinInterpolate($E141,Hydrostatics!$D252:$D332,Hydrostatics!J252:J332,TRUE)","v":3.6234393662946496},{"$f":"ATAN(C141/(#REF!))","v":{"$error":"#REF!"}},{"$error":"#REF!"},{"$error":"#REF!"},{"$error":"#REF!"},null,{"$f":"LinInterpolate($E141,Hydrostatics!$D252:$D332,Hydrostatics!K252:K332,TRUE)","v":32.828210849553884},{"$f":"LinInterpolate($E141,Hydrostatics!$D252:$D332,Hydrostatics!E252:E332,TRUE)","v":5.7776441190847772}]
[null,null,-1.1000000000000001,{"$f":"LinInterpolate(E142,Hydrostatics!D334:D414,Hydrostatics!C334:C414,TRUE)","v":6.5969400321738734},4733.647617373892,{"$f":"LinInterpolate($E142,Hydrostatics!$D334:$D414,Hydrostatics!I334:I414,TRUE)","v":23.487552025739099},{"$f":"LinInterpolate($E142,Hydrostatics!$D334:$D414,Hydrostatics!J334:J414,TRUE)","v":3.6287760128695492},{"$f":"ATAN(C142/(#REF!))","v":{"$error":"#REF!"}},{"$error":"#REF!"},{"$error":"#REF!"},{"$error":"#REF!"},null,{"$f":"LinInterpolate($E142,Hydrostatics!$D334:$D414,Hydrostatics!K334:K414,TRUE)","v":32.22900874643387},{"$f":"LinInterpolate($E142,Hydrostatics!$D334:$D414,Hydrostatics!E334:E414,TRUE)","v":5.8704038906088298},null," "]
[null,null,-1,{"$f":"LinInterpolate(E143,Hydrostatics!D416:D496,Hydrostatics!C416:C496,TRUE)","v":6.5868236870499848},4733.647617373892,{"$f":"LinInterpolate($E143,Hydrostatics!$D416:$D496,Hydrostatics!I416:I496,TRUE)","v":23.509458949639988},{"$f":"LinInterpolate($E143,Hydrostatics!$D416:$D496,Hydrostatics!J416:J496,TRUE)","v":3.6247294748199939},{"$f":"ATAN(C143/(#REF!))","v":{"$error":"#REF!"}},{"$error":"#REF!"},{"$error":"#REF!"},{"$error":"#REF!"},null,{"$f":"LinInterpolate($E143,Hydrostatics!$D416:$D496,Hydrostatics!K416:K496,TRUE)","v":31.525862701429645},{"$f":"LinInterpolate($E143,Hydrostatics!$D416:$D496,Hydrostatics!E416:E496,TRUE)","v":5.9874347266200525}]
[null,null,-0.89999999999999902,{"$f":"LinInterpolate(E144,Hydrostatics!D498:D578,Hydrostatics!C498:C578,TRUE)","v":6.5780886896458624},4733.647617373892,{"$f":"LinInterpolate($E144,Hydrostatics!$D498:$D578,Hydrostatics!I498:I578,TRUE)","v":23.532470951716693},{"$f":"LinInterpolate($E144,Hydrostatics!$D498:$D578,Hydrostatics!J498:J578,TRUE)","v":3.6256177379291725},{"$f":"ATAN(C144/(#REF!))","v":{"$error":"#REF!"}},{"$error":"#REF!"},{"$error":"#REF!"},{"$error":"#REF!"},null,{"$f":"LinInterpolate($E144,Hydrostatics!$D498:$D578,Hydrostatics!K498:K578,TRUE)","v":30.668278427305054},{"$f":"LinInterpolate($E144,Hydrostatics!$D498:$D578,Hydrostatics!E498:E578,TRUE)","v":6.1307920276290311}]
[null,null,-0.79999999999999905,{"$f":"LinInterpolate(E145,Hydrostatics!D580:D660,Hydrostatics!C580:C660,TRUE)","v":6.5710616678260516},4733.647617373892,{"$f":"LinInterpolate($E145,Hydrostatics!$D580:$D660,Hydrostatics!I580:I660,TRUE)","v":23.556849334260839},{"$f":"LinInterpolate($E145,Hydrostatics!$D580:$D660,Hydrostatics!J580:J660,TRUE)","v":3.628424667130421},{"$f":"ATAN(C145/(#REF!))","v":{"$error":"#REF!"}},{"$error":"#REF!"},{"$error":"#REF!"},{"$error":"#REF!"},null,{"$f":"LinInterpolate($E145,Hydrostatics!$D580:$D660,Hydrostatics!K580:K660,TRUE)","v":29.627706376694352},{"$f":"LinInterpolate($E145,Hydrostatics!$D580:$D660,Hydrostatics!E580:E660,TRUE)","v":6.3078423266088972}]
[null,null,-0.69999999999999896,{"$f":"LinInterpolate(E146,Hydrostatics!D662:D742,Hydrostatics!C662:C742,TRUE)","v":6.5660179835509158},4733.647617373892,{"$f":"LinInterpolate($E146,Hydrostatics!$D662:$D742,Hydrostatics!I662:I742,TRUE)","v":23.58961079013055},{"$f":"LinInterpolate($E146,Hydrostatics!$D662:$D742,Hydrostatics!J662:J742,TRUE)","v":3.6264071934203663},{"$f":"ATAN(C146/(#REF!))","v":{"$error":"#REF!"}},{"$error":"#REF!"},{"$error":"#REF!"},{"$error":"#REF!"},null,{"$f":"LinInterpolate($E146,Hydrostatics!$D662:$D742,Hydrostatics!K662:K742,TRUE)","v":28.391108551906093},{"$f":"LinInterpolate($E146,Hydrostatics!$D662:$D742,Hydrostatics!E662:E742,TRUE)","v":6.5106885019843208}]
[null,null,-0.59999999999999898,{"$f":"LinInterpolate(E147,Hydrostatics!D744:D824,Hydrostatics!C744:C824,TRUE)","v":6.5637178410544417},4733.647617373892,{"$f":"LinInterpolate($E147,Hydrostatics!$D744:$D824,Hydrostatics!I744:I824,TRUE)","v":23.628230704632667},{"$f":"LinInterpolate($E147,Hydrostatics!$D744:$D824,Hydrostatics!J744:J824,TRUE)","v":3.6254871364217771},{"$f":"ATAN(C147/(#REF!))","v":{"$error":"#REF!"}},{"$error":"#REF!"},{"$error":"#REF!"},{"$error":"#REF!"},null,{"$f":"LinInterpolate($E147,Hydrostatics!$D744:$D824,Hydrostatics!K744:K824,TRUE)","v":26.754559279239015},{"$f":"LinInterpolate($E147,Hydrostatics!$D744:$D824,Hydrostatics!E744:E824,TRUE)","v":6.7839751126189043}]
[null,null,-0.5,{"$f":"LinInterpolate(E148,Hydrostatics!D826:D906,Hydrostatics!C826:C906,TRUE)","v":6.5648529023218476},4733.647617373892,{"$f":"LinInterpolate($E148,Hydrostatics!$D826:$D906,Hydrostatics!I826:I906,TRUE)","v":23.682970580464371},{"$f":"LinInterpolate($E148,Hydrostatics!$D826:$D906,Hydrostatics!J826:J906,TRUE)","v":3.6259411609287393},{"$f":"ATAN(C148/(#REF!))","v":{"$error":"#REF!"}},{"$error":"#REF!"},{"$error":"#REF!"},{"$error":"#REF!"},null,{"$f":"LinInterpolate($E148,Hydrostatics!$D826:$D906,Hydrostatics!K826:K906,TRUE)","v":24.798791949559117},{"$f":"LinInterpolate($E148,Hydrostatics!$D826:$D906,Hydrostatics!E826:E906,TRUE)","v":7.1092944595677379}]
[null,null,-0.4,{"$f":"LinInterpolate(E149,Hydrostatics!D908:D988,Hydrostatics!C908:C988,TRUE)","v":6.5704042062487114},4733.647617373892,{"$f":"LinInterpolate($E149,Hydrostatics!$D908:$D988,Hydrostatics!I908:I988,TRUE)","v":23.751838317500514},{"$f":"LinInterpolate($E149,Hydrostatics!$D908:$D988,Hydrostatics!J908:J988,TRUE)","v":3.6222425237492266},{"$f":"ATAN(C149/(#REF!))","v":{"$error":"#REF!"}},{"$error":"#REF!"},{"$error":"#REF!"},{"$error":"#REF!"},null,{"$f":"LinInterpolate($E149,Hydrostatics!$D908:$D988,Hydrostatics!K908:K988,TRUE)","v":22.672674328690459},{"$f":"LinInterpolate($E149,Hydrostatics!$D908:$D988,Hydrostatics!E908:E988,TRUE)","v":7.4530897150092796}]
[null,null,-0.3,{"$f":"LinInterpolate(E150,Hydrostatics!D990:D1070,Hydrostatics!C990:C1070,TRUE)","v":6.5785446141597879},4733.647617373892,{"$f":"LinInterpolate($E150,Hydrostatics!$D990:$D1070,Hydrostatics!I990:I1070,TRUE)","v":23.828582154336086},{"$f":"LinInterpolate($E150,Hydrostatics!$D990:$D1070,Hydrostatics!J990:J1070,TRUE)","v":3.621417845663915},{"$f":"ATAN(C150/(#REF!))","v":{"$error":"#REF!"}},{"$error":"#REF!"},{"$error":"#REF!"},{"$error":"#REF!"},null,{"$f":"LinInterpolate($E150,Hydrostatics!$D990:$D1070,Hydrostatics!K990:K1070,TRUE)","v":21.782835691327833},{"$f":"LinInterpolate($E150,Hydrostatics!$D990:$D1070,Hydrostatics!E990:E1070,TRUE)","v":7.61}]
[null,null,-0.2,{"$f":"LinInterpolate(E151,Hydrostatics!D1072:D1152,Hydrostatics!C1072:C1152,TRUE)","v":6.5872445139032489},4733.647617373892,{"$f":"LinInterpolate($E151,Hydrostatics!$D1072:$D1152,Hydrostatics!I1072:I1152,TRUE)","v":23.915102194438699},{"$f":"LinInterpolate($E151,Hydrostatics!$D1072:$D1152,Hydrostatics!J1072:J1152,TRUE)","v":3.6223467083419494},{"$f":"ATAN(C151/(#REF!))","v":{"$error":"#REF!"}},{"$error":"#REF!"},{"$error":"#REF!"},{"$error":"#REF!"},null,{"$f":"LinInterpolate($E151,Hydrostatics!$D1072:$D1152,Hydrostatics!K1072:K1152,TRUE)","v":21.819795611122597},{"$f":"LinInterpolate($E151,Hydrostatics!$D1072:$D1152,Hydrostatics!E1072:E1152,TRUE)","v":7.61}]
[null,null,-0.1,{"$f":"LinInterpolate(E152,Hydrostatics!D1154:D1234,Hydrostatics!C1154:C1234,TRUE)","v":6.5958961992965071},4733.647617373892,{"$f":"LinInterpolate($E152,Hydrostatics!$D1154:$D1234,Hydrostatics!I1154:I1234,TRUE)","v":24.001641520281396},{"$f":"LinInterpolate($E152,Hydrostatics!$D1154:$D1234,Hydrostatics!J1154:J1234,TRUE)","v":3.6183584797186032},{"$f":"ATAN(C152/(#REF!))","v":{"$error":"#REF!"}},{"$error":"#REF!"},{"$error":"#REF!"},{"$error":"#REF!"},null,{"$f":"LinInterpolate($E152,Hydrostatics!$D1154:$D1234,Hydrostatics!K1154:K1234,TRUE)","v":21.856716959437204},{"$f":"LinInterpolate($E152,Hydrostatics!$D1154:$D1234,Hydrostatics!E1154:E1234,TRUE)","v":7.62}]
[null,null,0,{"$f":"LinInterpolate(E153,Hydrostatics!D1236:D1316,Hydrostatics!C1236:C1316,TRUE)","v":6.6044255800155742},4733.647617373892,{"$f":"LinInterpolate($E153,Hydrostatics!$D1236:$D1316,Hydrostatics!I1236:I1316,TRUE)","v":24.08822976799377},{"$f":"LinInterpolate($E153,Hydrostatics!$D1236:$D1316,Hydrostatics!J1236:J1316,TRUE)","v":3.6226553480093444},{"$f":"ATAN(C153/(#REF!))","v":{"$error":"#REF!"}},{"$error":"#REF!"},{"$error":"#REF!"},{"$error":"#REF!"},null,{"$f":"LinInterpolate($E153,Hydrostatics!$D1236:$D1316,Hydrostatics!K1236:K1316,TRUE)","v":21.89354046401246},{"$f":"LinInterpolate($E153,Hydrostatics!$D1236:$D1316,Hydrostatics!E1236:E1316,TRUE)","v":7.62}]
[null,null,0.1,{"$f":"LinInterpolate(E154,Hydrostatics!D1318:D1398,Hydrostatics!C1318:C1398,TRUE)","v":6.6129167979573733},4733.647617373892,{"$f":"LinInterpolate($E154,Hydrostatics!$D1318:$D1398,Hydrostatics!I1318:I1398,TRUE)","v":24.174833280817051},{"$f":"LinInterpolate($E154,Hydrostatics!$D1318:$D1398,Hydrostatics!J1318:J1398,TRUE)","v":3.6177500787744239},{"$f":"ATAN(C154/(#REF!))","v":{"$error":"#REF!"}},{"$error":"#REF!"},{"$error":"#REF!"},{"$error":"#REF!"},null,{"$f":"LinInterpolate($E154,Hydrostatics!$D1318:$D1398,Hydrostatics!K1318:K1398,TRUE)","v":21.930333438365899},{"$f":"LinInterpolate($E154,Hydrostatics!$D1318:$D1398,Hydrostatics!E1318:E1398,TRUE)","v":7.6274166404085255}]
[null,null,0.2,{"$f":"LinInterpolate(E155,Hydrostatics!D1400:D1480,Hydrostatics!C1400:C1480,TRUE)","v":6.6213701086762189},4733.647617373892,{"$f":"LinInterpolate($E155,Hydrostatics!$D1400:$D1480,Hydrostatics!I1400:I1480,TRUE)","v":24.261451956529513},{"$f":"LinInterpolate($E155,Hydrostatics!$D1400:$D1480,Hydrostatics!J1400:J1480,TRUE)","v":3.6228220652057312},{"$f":"ATAN(C155/(#REF!))","v":{"$error":"#REF!"}},{"$error":"#REF!"},{"$error":"#REF!"},{"$error":"#REF!"},null,{"$f":"LinInterpolate($E155,Hydrostatics!$D1400:$D1480,Hydrostatics!K1400:K1480,TRUE)","v":21.967096086940973},{"$f":"LinInterpolate($E155,Hydrostatics!$D1400:$D1480,Hydrostatics!E1400:E1480,TRUE)","v":7.63}]
[null,null,0.3,{"$f":"LinInterpolate(E156,Hydrostatics!D1482:D1562,Hydrostatics!C1482:C1562,TRUE)","v":6.6297406443905045},4733.647617373892,{"$f":"LinInterpolate($E156,Hydrostatics!$D1482:$D1562,Hydrostatics!I1482:I1562,TRUE)","v":24.348103742243797},{"$f":"LinInterpolate($E156,Hydrostatics!$D1482:$D1562,Hydrostatics!J1482:J1562,TRUE)","v":3.6218962577562017},{"$f":"ATAN(C156/(#REF!))","v":{"$error":"#REF!"}},{"$error":"#REF!"},{"$error":"#REF!"},{"$error":"#REF!"},null,{"$f":"LinInterpolate($E156,Hydrostatics!$D1482:$D1562,Hydrostatics!K1482:K1562,TRUE)","v":22.0078443866343},{"$f":"LinInterpolate($E156,Hydrostatics!$D1482:$D1562,Hydrostatics!E1482:E1562,TRUE)","v":7.64}]
[null,null,0.4,{"$f":"LinInterpolate(E157,Hydrostatics!D1564:D1644,Hydrostatics!C1564:C1644,TRUE)","v":6.6379995729619337},4733.647617373892,{"$f":"LinInterpolate($E157,Hydrostatics!$D1564:$D1644,Hydrostatics!I1564:I1644,TRUE)","v":24.434800170815226},{"$f":"LinInterpolate($E157,Hydrostatics!$D1564:$D1644,Hydrostatics!J1564:J1644,TRUE)","v":3.62279974377716},{"$f":"ATAN(C157/(#REF!))","v":{"$error":"#REF!"}},{"$error":"#REF!"},{"$error":"#REF!"},{"$error":"#REF!"},null,{"$f":"LinInterpolate($E157,Hydrostatics!$D1564:$D1644,Hydrostatics!K1564:K1644,TRUE)","v":22.042799743777159},{"$f":"LinInterpolate($E157,Hydrostatics!$D1564:$D1644,Hydrostatics!E1564:E1644,TRUE)","v":7.6424000854076128}]
[null,null,0.5,{"$f":"LinInterpolate(E158,Hydrostatics!D1646:D1726,Hydrostatics!C1646:C1726,TRUE)","v":6.646266834492085},4733.647617373892,{"$f":"LinInterpolate($E158,Hydrostatics!$D1646:$D1726,Hydrostatics!I1646:I1726,TRUE)","v":24.521493266203166},{"$f":"LinInterpolate($E158,Hydrostatics!$D1646:$D1726,Hydrostatics!J1646:J1726,TRUE)","v":3.6277601006952507},{"$f":"ATAN(C158/(#REF!))","v":{"$error":"#REF!"}},{"$error":"#REF!"},{"$error":"#REF!"},{"$error":"#REF!"},null,{"$f":"LinInterpolate($E158,Hydrostatics!$D1646:$D1726,Hydrostatics!K1646:K1726,TRUE)","v":22.077760100695251},{"$f":"LinInterpolate($E158,Hydrostatics!$D1646:$D1726,Hydrostatics!E1646:E1726,TRUE)","v":7.65}]
[null,null,0.6,{"$f":"LinInterpolate(E159,Hydrostatics!D1728:D1808,Hydrostatics!C1728:C1808,TRUE)","v":6.6543862415265469},4733.647617373892,{"$f":"LinInterpolate($E159,Hydrostatics!$D1728:$D1808,Hydrostatics!I1728:I1808,TRUE)","v":24.607368255084072},{"$f":"LinInterpolate($E159,Hydrostatics!$D1728:$D1808,Hydrostatics!J1728:J1808,TRUE)","v":3.6226317449159282},{"$f":"ATAN(C159/(#REF!))","v":{"$error":"#REF!"}},{"$error":"#REF!"},{"$error":"#REF!"},{"$error":"#REF!"},null,{"$f":"LinInterpolate($E159,Hydrostatics!$D1728:$D1808,Hydrostatics!K1728:K1808,TRUE)","v":22.112631744915927},{"$f":"LinInterpolate($E159,Hydrostatics!$D1728:$D1808,Hydrostatics!E1728:E1808,TRUE)","v":7.65}]
[null,null,0.7,{"$f":"LinInterpolate(E160,Hydrostatics!D1810:D1890,Hydrostatics!C1810:C1890,TRUE)","v":6.6624973526376587},4733.647617373892,{"$f":"LinInterpolate($E160,Hydrostatics!$D1810:$D1890,Hydrostatics!I1810:I1890,TRUE)","v":24.692501588417404},{"$f":"LinInterpolate($E160,Hydrostatics!$D1810:$D1890,Hydrostatics!J1810:J1890,TRUE)","v":3.6274984115825948},{"$f":"ATAN(C160/(#REF!))","v":{"$error":"#REF!"}},{"$error":"#REF!"},{"$error":"#REF!"},{"$error":"#REF!"},null,{"$f":"LinInterpolate($E160,Hydrostatics!$D1810:$D1890,Hydrostatics!K1810:K1890,TRUE)","v":22.144998941055064},{"$f":"LinInterpolate($E160,Hydrostatics!$D1810:$D1890,Hydrostatics!E1810:E1890,TRUE)","v":7.6575005294724683}]
[null,null,0.8,{"$f":"LinInterpolate(E161,Hydrostatics!D1892:D1972,Hydrostatics!C1892:C1972,TRUE)","v":6.6705430037571185},4733.647617373892,{"$f":"LinInterpolate($E161,Hydrostatics!$D1892:$D1972,Hydrostatics!I1892:I1972,TRUE)","v":24.777674197745728},{"$f":"LinInterpolate($E161,Hydrostatics!$D1892:$D1972,Hydrostatics!J1892:J1972,TRUE)","v":3.6282172015028471},{"$f":"ATAN(C161/(#REF!))","v":{"$error":"#REF!"}},{"$error":"#REF!"},{"$error":"#REF!"},{"$error":"#REF!"},null,{"$f":"LinInterpolate($E161,Hydrostatics!$D1892:$D1972,Hydrostatics!K1892:K1972,TRUE)","v":22.096045186474374},{"$f":"LinInterpolate($E161,Hydrostatics!$D1892:$D1972,Hydrostatics!E1892:E1972,TRUE)","v":7.6412397947400343}]
[null,null,0.9,{"$f":"LinInterpolate(E162,Hydrostatics!D1974:D2054,Hydrostatics!C1974:C2054,TRUE)","v":6.6787529342756633},4733.647617373892,{"$f":"LinInterpolate($E162,Hydrostatics!$D1974:$D2054,Hydrostatics!I1974:I2054,TRUE)","v":24.868498826289734},{"$f":"LinInterpolate($E162,Hydrostatics!$D1974:$D2054,Hydrostatics!J1974:J2054,TRUE)","v":3.627251760565398},{"$f":"ATAN(C162/(#REF!))","v":{"$error":"#REF!"}},{"$error":"#REF!"},{"$error":"#REF!"},{"$error":"#REF!"},null,{"$f":"LinInterpolate($E162,Hydrostatics!$D1974:$D2054,Hydrostatics!K1974:K2054,TRUE)","v":22.004480046925487},{"$f":"LinInterpolate($E162,Hydrostatics!$D1974:$D2054,Hydrostatics!E1974:E2054,TRUE)","v":7.6067435445935399}]
[null,null,1,{"$f":"LinInterpolate(E163,Hydrostatics!D2056:D2136,Hydrostatics!C2056:C2136,TRUE)","v":6.6870740602414127},4733.647617373892,{"$f":"LinInterpolate($E163,Hydrostatics!$D2056:$D2136,Hydrostatics!I2056:I2136,TRUE)","v":24.955170375903435},{"$f":"LinInterpolate($E163,Hydrostatics!$D2056:$D2136,Hydrostatics!J2056:J2136,TRUE)","v":3.6322444361448478},{"$f":"ATAN(C163/(#REF!))","v":{"$error":"#REF!"}},{"$error":"#REF!"},{"$error":"#REF!"},{"$error":"#REF!"},null,{"$f":"LinInterpolate($E163,Hydrostatics!$D2056:$D2136,Hydrostatics!K2056:K2136,TRUE)","v":21.906333457827284},{"$f":"LinInterpolate($E163,Hydrostatics!$D2056:$D2136,Hydrostatics!E2056:E2136,TRUE)","v":7.5613630072274791}]
[null,null,1.1000000000000001,{"$f":"LinInterpolate(E164,Hydrostatics!D2138:D2218,Hydrostatics!C2138:C2218,TRUE)","v":6.6954984252550025},4733.647617373892,{"$f":"LinInterpolate($E164,Hydrostatics!$D2138:$D2218,Hydrostatics!I2138:I2218,TRUE)","v":25.042700944846999},{"$f":"LinInterpolate($E164,Hydrostatics!$D2138:$D2218,Hydrostatics!J2138:J2218,TRUE)","v":3.6281993701020006},{"$f":"ATAN(C164/(#REF!))","v":{"$error":"#REF!"}},{"$error":"#REF!"},{"$error":"#REF!"},{"$error":"#REF!"},null,{"$f":"LinInterpolate($E164,Hydrostatics!$D2138:$D2218,Hydrostatics!K2138:K2218,TRUE)","v":21.840610708265984},{"$f":"LinInterpolate($E164,Hydrostatics!$D2138:$D2218,Hydrostatics!E2138:E2218,TRUE)","v":7.5408037793879954}]
[null,null,1.2,{"$f":"LinInterpolate(E165,Hydrostatics!D2220:D2300,Hydrostatics!C2220:C2300,TRUE)","v":6.7042233540165377},4733.647617373892,{"$f":"LinInterpolate($E165,Hydrostatics!$D2220:$D2300,Hydrostatics!I2220:I2300,TRUE)","v":25.127465987590078},{"$f":"LinInterpolate($E165,Hydrostatics!$D2220:$D2300,Hydrostatics!J2220:J2300,TRUE)","v":3.6325340124099226},{"$f":"ATAN(C165/(#REF!))","v":{"$error":"#REF!"}},{"$error":"#REF!"},{"$error":"#REF!"},{"$error":"#REF!"},null,{"$f":"LinInterpolate($E165,Hydrostatics!$D2220:$D2300,Hydrostatics!K2220:K2300,TRUE)","v":21.736349217507392},{"$f":"LinInterpolate($E165,Hydrostatics!$D2220:$D2300,Hydrostatics!E2220:E2300,TRUE)","v":7.4998639503603091}]
[null,null,1.3,{"$f":"LinInterpolate(E166,Hydrostatics!D2302:D2382,Hydrostatics!C2302:C2382,TRUE)","v":6.7133026460308978},4733.647617373892,{"$f":"LinInterpolate($E166,Hydrostatics!$D2302:$D2382,Hydrostatics!I2302:I2382,TRUE)","v":25.212018412381461},{"$f":"LinInterpolate($E166,Hydrostatics!$D2302:$D2382,Hydrostatics!J2302:J2382,TRUE)","v":3.6353210584123588},{"$f":"ATAN(C166/(#REF!))","v":{"$error":"#REF!"}},{"$error":"#REF!"},{"$error":"#REF!"},{"$error":"#REF!"},null,{"$f":"LinInterpolate($E166,Hydrostatics!$D2302:$D2382,Hydrostatics!K2302:K2382,TRUE)","v":21.660826240639334},{"$f":"LinInterpolate($E166,Hydrostatics!$D2302:$D2382,Hydrostatics!E2302:E2382,TRUE)","v":7.4580736495258462}]
[null,null,1.4,{"$f":"LinInterpolate(E167,Hydrostatics!D2384:D2464,Hydrostatics!C2384:C2464,TRUE)","v":6.7223057624089613},4733.647617373892,{"$f":"LinInterpolate($E167,Hydrostatics!$D2384:$D2464,Hydrostatics!I2384:I2464,TRUE)","v":25.30215539007283},{"$f":"LinInterpolate($E167,Hydrostatics!$D2384:$D2464,Hydrostatics!J2384:J2464,TRUE)","v":3.6389223049635846},{"$f":"ATAN(C167/(#REF!))","v":{"$error":"#REF!"}},{"$error":"#REF!"},{"$error":"#REF!"},{"$error":"#REF!"},null,{"$f":"LinInterpolate($E167,Hydrostatics!$D2384:$D2464,Hydrostatics!K2384:K2464,TRUE)","v":21.638471187955194},{"$f":"LinInterpolate($E167,Hydrostatics!$D2384:$D2464,Hydrostatics!E2384:E2464,TRUE)","v":7.4464661702184918}]
[null,null,1.5,{"$f":"LinInterpolate(E168,Hydrostatics!D2466:D2546,Hydrostatics!C2466:C2546,TRUE)","v":6.7313520592013099},4733.647617373892,{"$f":"LinInterpolate($E168,Hydrostatics!$D2466:$D2546,Hydrostatics!I2466:I2546,TRUE)","v":25.391188764479214},{"$f":"LinInterpolate($E168,Hydrostatics!$D2466:$D2546,Hydrostatics!J2466:J2546,TRUE)","v":3.6388112355207856},{"$f":"ATAN(C168/(#REF!))","v":{"$error":"#REF!"}},{"$error":"#REF!"},{"$error":"#REF!"},{"$error":"#REF!"},null,{"$f":"LinInterpolate($E168,Hydrostatics!$D2466:$D2546,Hydrostatics!K2466:K2546,TRUE)","v":21.59459176319476},{"$f":"LinInterpolate($E168,Hydrostatics!$D2466:$D2546,Hydrostatics!E2466:E2546,TRUE)","v":7.4072958815973813}]
[]
[null,null,"Total trim",null,null,null,{"$f":"'INDEX (Corrected trim 4)'!G169","v":0.88056287016833001},"m"]
[null,null,"Mean Draft","From Hydro Table",null,null,{"$f":"'INDEX (Corrected trim 4)'!G170","v":6.6771571594216841},"m"]
[]
[null,null,"Draft aft (APP)",null,null,null,{"$f":"'INDEX (Corrected trim 4)'!G174","v":6.2368757243375192},"m","Draft aft (DRAFT MARK)",null,null,null,{"$f":"G173+((G170/50.4)*1.2)","v":6.2578415069605748}]
[null,null,"Draft forward (FPP)",null,null,null,{"$f":"'INDEX (Corrected trim 4)'!G175","v":7.1174385945058489},"m","Draft forward (DRAFT MARK)",null,null,null,{"$f":"G174-((G170/50.4)*1.2)","v":7.0964728118827933}]
[null,null,"Draft midships",null,null,null,{"$f":"'INDEX (Corrected trim 4)'!G176","v":6.6771571594216841},"m"]
[]
[null,null,"Transverse Stability"]
[null,null,"KMt","From Hydro Table",null,null,{"$f":"'INDEX (Corrected trim 4)'!G179","v":7.6134486255215714},"m"]
[null,null,"KGsolid",null,null,null,{"$f":"'INDEX (Corrected trim 4)'!G180","v":4.9150206196898729},"m"]
[null,null,"KGfluid","KMt-GMtfluid",null,null,{"$f":"'INDEX (Corrected trim 4)'!G181","v":4.9179748757946093},"m"]
[null,null,"GMtsolid","KMt-KGsolid",null,null,{"$f":"'INDEX (Corrected trim 4)'!G182","v":2.6984280058316985},"m"]
[null,null,"GMtfluid","GMtsolid-FSMt",null,null,{"$f":"'INDEX (Corrected trim 4)'!G183","v":2.6954737497269621},"m"]

{"sheet":"INDEX (Corrected trim 4)","index":1,"n_rows":183,"n_cols":27,"rows_kept":183,"cut":false,"hidden":false,"merged":[[20,17,20,23],[20,24,20,26],[114,2,114,6],[113,2,113,6],[112,2,112,6],[111,2,111,6],[179,3,179,5],[126,11,126,12],[127,11,127,12],[128,11,128,12],[173,3,173,4],[174,3,174,4],[175,3,175,4],[125,11,125,12],[16,1,18,1],[46,1,48,1],[87,1,89,1],[103,1,105,1],[103,2,105,6],[108,2,110,6],[14,8,14,11],[2,5,2,12],[3,5,3,12],[4,5,4,12],[7,1,8,7],[7,8,7,15],[8,10,8,11],[9,10,9,11],[10,10,10,11],[11,10,11,11],[12,10,12,11],[13,10,13,11]]}
[]
[null,null,null,"Stability Calculation ",null,null,null,null,null,null,null,null,null,null,null,null,null,"Explanation of worksheet:"]
[null,null,null,"Project :",null,null,null,null,null,null,null,null,null,"Originator :",null,null,null,"Changing tank filling"]
[null,null,null,"Doc. No :",null,null,null,null,null,null,null,null,null,"Checked :",null,null,null,"Fill in all sounding heights of tanks in following cells:"]
[null,null,null,"Subject/Remarks :",null,null,null,null,null,null,null,null,null,"Revision :",null,null,null,"The following data will be calculated automatically, with help of tank tables:",null,null,null,null,null,null,"Volume","m³"]
[null,null,null,null,null,null,null,null,null,null,null,null,null,"Date :",null,null,null,null,null,null,null,null,null,null,"Weight","t"]
[null,null,null,null,null,null,null,null,null,null,null,null,null,null,null,null,null,null,null,null,null,null,null,null,"LCG","m"]
[null,"Summary Stability Results",null,null,null,null,null,null,"Summary Loading condition",null,null,null,null,null,null,null,null,null,null,null,null,null,null,null,"TCG ","m"]
[null,null,null,null,null,null,null,null,"Item","% Full","Volume",null,"Weight","LCG","TCG","VCG",null,null,null,null,null,null,null,null,"VCG","m"]
[null,"Displ.",{"$f":"H128","v":4733.647617373892},"t","Draft mid.",null,{"$f":"G176","v":6.6771571594216841},"m","F.O. ",{"$f":"F32","v":99.991091261948412},{"$f":"G32","v":343.66938066731666},null,{"$f":"H32","v":295.55566737389228},{"$f":"I32","v":29.877028190497114},{"$f":"J32","v":9.9776127664960246E-2},{"$f":"K32","v":3.7666983080726206},null,null,null,null,null,null,null,null,"FSM","m"]
[null,"DW",{"$f":"H129","v":3033.6476173738924},"t","Draft aft",null,{"$f":"G174","v":6.2368757243375192},"m","HFO ",{"$f":"F45","v":99.995983129142402},{"$f":"G45","v":995.76},null,{"$f":"H45","v":975.84479999999996},{"$f":"I45","v":18.417754579416727},{"$f":"J45","v":0},{"$f":"K45","v":4.0886282839238373},null,"Add or remove deckloads"]
[null,"LCG",{"$f":"I128","v":24.829371426087601},"m","Draft fw",null,{"$f":"G175","v":7.1174385945058489},"m","WB",{"$f":"F78","v":100.00329457364339},{"$f":"G78","v":1032.0339999999997},null,{"$f":"H78","v":1057.8143499999999},{"$f":"I78","v":22.744108122564228},{"$f":"J78","v":-7.3606753396756736E-3},{"$f":"K78","v":3.0813733728418415},null,"Add or remove deckloads and fill the required data in the following cells:"]
[null,"TCG",{"$f":"J128","v":-7.7844129894152868E-3},"m","KMt",null,{"$f":"G179","v":7.6134486255215714},"m","FW",{"$f":"F86","v":100.00413650465356},{"$f":"G86","v":483.52},null,{"$f":"H86","v":483.52},{"$f":"I86","v":20.141572840833884},{"$f":"J86","v":0},{"$f":"K86","v":4.7113682991396422},null,"The following input data is required to calculated the stability results:",null,null,null,null,null,null,"Weight","t"]
[null,"VCG",{"$f":"K128","v":4.9150206196898729},"m","KGfluid",null,{"$f":"G181","v":4.9179748757946093},"m","MISC",{"$f":"F100","v":100.01284521515738},{"$f":"G100","v":155.72000000000003},null,{"$f":"H100","v":150.9128},{"$f":"I100","v":36.262017549207222},{"$f":"J100","v":-0.38798458447527312},{"$f":"K100","v":1.5590340381995429},null,"Attention! ",null,null,null,null,null,null,"LCG","m"]
[null,"Trim tot.",{"$f":"G169","v":0.88056287016833001},"m","GMtfluid",null,{"$f":"G183","v":2.6954737497269621},"m","(DECK) LOADS",null,null,null,{"$f":"H121","v":70},{"$f":"I121","v":6.5714285714285712},{"$f":"J121","v":0},{"$f":"K121","v":7},null,"This worksheet is only valid when the heel of the vessel is equal to 0°",null,null,null,null,null,null,"TCG ","m"]
[null,null,null,null,null,null,null,null,null,null,null,null,null,null,null,null,null,"The results of this worksheet are not checked to any stability criteria!",null,null,null,null,null,null,"VCG","m"]
[null,"Sheet No.","Name","Sort of Fluid","Sounding Height","% Full","Volume","Weight","LCG","TCG","VCG",null,"Longitudinal","Transverse","Vertical","FSMt",null,"To print the loading conditon press the button:"]
[null,null,null,null,null," "," "," ","Fwd of AP","PS:+","Above BL",null,"Moment","Moment","Moment"," "]
[null,null,null,null,null,"%","m³","t","m","m","m",null,"t·m","t·m","t·m","t·m"]
[null,null,"SHIP DATA"]
[null,null,"Lightship",null,null,null,null,{"$f":"INDEX!H22","v":1700},{"$f":"INDEX!I22","v":30},{"$f":"INDEX!J22","v":0},{"$f":"INDEX!K22","v":7},null,{"$f":"INDEX!M22","v":51000},{"$f":"INDEX!N22","v":0},{"$f":"INDEX!O22","v":11900},null,null,"Volume at each Trim",null,null,null,null,null,null,"Volume Interpolation"]
[]
[null,null,"F.O. (SG 0.860)",null,null,null,null,null,null,null,null,null,null,null,null,null,null,-1.5,-1,-0.5,0,0.5,1,1.5,"Volume","∆Volume","Volume2"]
[null,1,"F.O. 1 PS","MGO",{"$f":"INDEX!E25","v":3.8},{"$f":"IF(G24<'1'!M83,LinInterpolate(G24,'1'!M7:M83,'1'!I7:I83,TRUE),100)","v":100},{"$f":"'INDEX (Corrected trim 3)'!AA24","v":31.019690333658328},{"$f":"LinInterpolate(F24,'1'!I7:I83,'1'!H7:H83,TRUE)","v":26.67693368694616},{"$f":"LinInterpolate(F24,'1'!I7:I83,'1'!C7:C83,TRUE)","v":32.979999999999997},{"$f":"LinInterpolate(F24,'1'!I7:I82,'1'!D7:D83,TRUE)","v":5.38},{"$f":"LinInterpolate(F24,'1'!I7:I83,'1'!E7:E83,TRUE)","v":2.9999827963143515},null,{"$f":"$H24*I24","v":879.8052729954843},143.52190323577034,80.03034211925727,{"$f":"IF(LinInterpolate(F24,'1'!I7:I83,'1'!F7:F83,TRUE)>0,LinInterpolate(F24,'1'!I7:I83,'1'!F7:F83,TRUE),0)","v":1.720368564848139E-2},null,{"$f":"LinInterpolate($E$24,'1'!$B7:$B83,'1'!J7:J83,TRUE)","v":31.02},{"$f":"LinInterpolate($E$24,'1'!$B7:$B83,'1'!K7:K83,TRUE)","v":31.02},{"$f":"LinInterpolate($E$24,'1'!$B7:$B83,'1'!L7:L83,TRUE)","v":31.02},{"$f":"LinInterpolate($E$24,'1'!$B7:$B83,'1'!M7:M83,TRUE)","v":31.02},{"$f":"LinInterpolate($E$24,'1'!$B7:$B83,'1'!N7:N83,TRUE)","v":31.02},{"$f":"LinInterpolate($E$24,'1'!$B7:$B83,'1'!O7:O83,TRUE)","v":31.01},{"$f":"LinInterpolate($E$24,'1'!$B7:$B83,'1'!P7:P83,TRUE)","v":30.96},{"$f":"G24","v":31.019690333658328},{"$f":"IF(E24<'1'!B83,Y24-AA24,0)","v":0},{"$f":"IF(E24=0,0,IF(E24<'1'!B83,LinInterpolate($G$169,$R$23:$X$23,R24:X24,TRUE),Y24))","v":31.019690333658328}]
[null,2,"F.O. 1 SB","MGO",{"$f":"INDEX!E26","v":3.8},{"$f":"IF(G25<'2'!M83,LinInterpolate(G25,'2'!M7:M83,'2'!I7:I83,TRUE),100)","v":100},{"$f":"'INDEX (Corrected trim 3)'!AA25","v":31.019690333658328},{"$f":"LinInterpolate(F25,'2'!I7:I83,'2'!H7:H83,TRUE)","v":26.67693368694616},{"$f":"LinInterpolate(F25,'2'!I7:I83,'2'!C7:C83,TRUE)","v":32.979999999999997},{"$f":"LinInterpolate(F25,'2'!I7:I83,'2'!D7:D83,TRUE)","v":-5.38},{"$f":"LinInterpolate(F25,'2'!I7:I83,'2'!E7:E83,TRUE)","v":2.9999827963143515},null,879.8052729954843,-143.52190323577034,80.03034211925727,{"$f":"IF(LinInterpolate(F25,'2'!I7:I83,'2'!F7:F83,TRUE)>0,LinInterpolate(F25,'2'!I7:I83,'2'!F7:F83,TRUE),0)","v":1.720368564848139E-2},null,{"$f":"LinInterpolate($E$25,'2'!$B7:$B83,'2'!J7:J83,TRUE)","v":31.02},{"$f":"LinInterpolate($E$25,'2'!$B7:$B83,'2'!K7:K83,TRUE)","v":31.02},{"$f":"LinInterpolate($E$25,'2'!$B7:$B83,'2'!L7:L83,TRUE)","v":31.02},{"$f":"LinInterpolate($E$25,'2'!$B7:$B83,'2'!M7:M83,TRUE)","v":31.02},{"$f":"LinInterpolate($E$25,'2'!$B7:$B83,'2'!N7:N83,TRUE)","v":31.02},{"$f":"LinInterpolate($E$25,'2'!$B7:$B83,'2'!O7:O83,TRUE)","v":31.01},{"$f":"LinInterpolate($E$25,'2'!$B7:$B83,'2'!P7:P83,TRUE)","v":30.96},31.019690333658328,{"$f":"IF(E25<'2'!B83,Y25-AA25,0)","v":0},{"$f":"IF(E25=0,0,IF(E25<'2'!B83, LinInterpolate($G$169,$R$23:$X$23,R25:X25,TRUE),Y25))","v":31.019690333658328}]
[null,3,"F.O.1 C","MGO",{"$f":"INDEX!E27","v":5.77},{"$f":"IF(G26<'3'!M123,LinInterpolate(G26,'3'!M7:M123,'3'!I7:I123,TRUE),100)","v":100},{"$f":"'INDEX (Corrected trim 3)'!AA26","v":102.32},{"$f":"LinInterpolate(F26,'3'!I7:I123,'3'!H7:H123,TRUE)","v":87.995199999999997},{"$f":"LinInterpolate(F26,'3'!I7:I123,'3'!C7:C123,TRUE)","v":26.1},{"$f":"LinInterpolate(F26,'3'!I7:I123,'3'!D7:D123,TRUE)","v":0},{"$f":"LinInterpolate(F26,'3'!I7:I123,'3'!E7:E123,TRUE)","v":3.9},null,2296.67472,0,343.18127999999996,{"$f":"IF(LinInterpolate(F26,'3'!I7:I123,'3'!F7:F123,TRUE)>0,LinInterpolate(F26,'3'!I7:I123,'3'!F7:F123,TRUE),0)","v":0},null,{"$f":"LinInterpolate($E$26,'3'!$B7:$B123,'3'!J7:J123,TRUE)","v":102.32},{"$f":"LinInterpolate($E$26,'3'!$B7:$B123,'3'!K7:K123,TRUE)","v":102.32},{"$f":"LinInterpolate($E$26,'3'!$B7:$B123,'3'!L7:L123,TRUE)","v":102.32},{"$f":"LinInterpolate($E$26,'3'!$B7:$B123,'3'!M7:M123,TRUE)","v":102.32},{"$f":"LinInterpolate($E$26,'3'!$B7:$B123,'3'!N7:N123,TRUE)","v":101.93},{"$f":"LinInterpolate($E$26,'3'!$B7:$B123,'3'!O7:O123,TRUE)","v":101.55},{"$f":"LinInterpolate($E$26,'3'!$B7:$B123,'3'!P7:P123,TRUE)","v":101.17},102.32,{"$f":"IF(E26<'3'!B123,Y26-AA26,0)","v":0},{"$f":"IF(E26=0,0,IF(E26<'3'!B123, LinInterpolate($G$169,$R$23:$X$23,R26:X26,TRUE),Y26))","v":102.32}]
[null,4,"F.O. 2 PS","MGO",{"$f":"INDEX!E28","v":2},{"$f":"IF(G27<'4'!M47,LinInterpolate(G27,'4'!M7:M47,'4'!I7:I47,TRUE),100)","v":100},{"$f":"'INDEX (Corrected trim 3)'!AA27","v":39.69},{"$f":"LinInterpolate(F27,'4'!I7:I47,'4'!H7:H47,TRUE)","v":34.133399999999995},{"$f":"LinInterpolate(F27,'4'!I7:I47,'4'!C7:C47,TRUE)","v":31.5},{"$f":"LinInterpolate(F27,'4'!I7:I47,'4'!D7:D47,TRUE)","v":5.47},{"$f":"LinInterpolate(F27,'4'!I7:I47,'4'!E7:E47,TRUE)","v":5.8},null,1075.2020999999997,186.70969799999997,197.97371999999996,{"$f":"IF(LinInterpolate(F27,'4'!I7:I47,'4'!F7:F47,TRUE)>0,LinInterpolate(F27,'4'!I7:I47,'4'!F7:F47,TRUE),0)","v":0},null,{"$f":"LinInterpolate($E$27,'4'!$B7:$B47,'4'!J7:J47,TRUE)","v":39.69},{"$f":"LinInterpolate($E$27,'4'!$B7:$B47,'4'!K7:K47,TRUE)","v":39.69},{"$f":"LinInterpolate($E$27,'4'!$B7:$B47,'4'!L7:L47,TRUE)","v":39.69},{"$f":"LinInterpolate($E$27,'4'!$B7:$B47,'4'!M7:M47,TRUE)","v":39.69},{"$f":"LinInterpolate($E$27,'4'!$B7:$B47,'4'!N7:N47,TRUE)","v":39.69},{"$f":"LinInterpolate($E$27,'4'!$B7:$B47,'4'!O7:O47,TRUE)","v":39.69},{"$f":"LinInterpolate($E$27,'4'!$B7:$B47,'4'!P7:P47,TRUE)","v":39.69},39.69,{"$f":"IF(E27<'4'!B47,Y27-AA27,0)","v":0},{"$f":"IF(E27=0,0,IF(E27<'4'!B47, LinInterpolate($G$169,$R$23:$X$23,R27:X27,TRUE),Y27))","v":39.69}]
[null,5,"F.O. 2 SB","MGO",{"$f":"INDEX!E29","v":2},{"$f":"IF(G28<'5'!M47,LinInterpolate(G28,'5'!M7:M47,'5'!I7:I47,TRUE),100)","v":100},{"$f":"'INDEX (Corrected trim 3)'!AA28","v":39.69},{"$f":"LinInterpolate(F28,'5'!I7:I47,'5'!H7:H47,TRUE)","v":34.133399999999995},{"$f":"LinInterpolate(F28,'5'!I7:I47,'5'!C7:C47,TRUE)","v":31.5},{"$f":"LinInterpolate(F28,'5'!I7:I47,'5'!D7:D47,TRUE)","v":-5.47},{"$f":"LinInterpolate(F28,'5'!I7:I47,'5'!E7:E47,TRUE)","v":5.8},null,1075.2020999999997,-186.70969799999997,197.97371999999996,{"$f":"IF(LinInterpolate(F28,'5'!I7:I47,'5'!F7:F47,TRUE)>0,LinInterpolate(F28,'5'!I7:I47,'5'!F7:F47,TRUE),0)","v":0},null,{"$f":"LinInterpolate($E$28,'5'!$B7:$B47,'5'!J7:J47,TRUE)","v":39.69},{"$f":"LinInterpolate($E$28,'5'!$B7:$B47,'5'!K7:K47,TRUE)","v":39.69},{"$f":"LinInterpolate($E$28,'5'!$B7:$B47,'5'!L7:L47,TRUE)","v":39.69},{"$f":"LinInterpolate($E$28,'5'!$B7:$B47,'5'!M7:M47,TRUE)","v":39.69},{"$f":"LinInterpolate($E$28,'5'!$B7:$B47,'5'!N7:N47,TRUE)","v":39.69},{"$f":"LinInterpolate($E$28,'5'!$B7:$B47,'5'!O7:O47,TRUE)","v":39.69},{"$f":"LinInterpolate($E$28,'5'!$B7:$B47,'5'!P7:P47,TRUE)","v":39.69},39.69,{"$f":"IF(E28<'5'!B47,Y28-AA28,0)","v":0},{"$f":"IF(E28=0,0,IF(E28<'5'!B47, LinInterpolate($G$169,$R$23:$X$23,R28:X28,TRUE),Y28))","v":39.69}]
[null,6,"F.O. 3 PS","MGO",{"$f":"INDEX!E30","v":3.8},{"$f":"IF(G29<'6'!M83,LinInterpolate(G29,'6'!M7:M83,'6'!I7:I83,TRUE),100)","v":100},{"$f":"'INDEX (Corrected trim 3)'!AA29","v":40.44},{"$f":"LinInterpolate(F29,'6'!I7:I83,'6'!H7:H83,TRUE)","v":34.778399999999998},{"$f":"LinInterpolate(F29,'6'!I7:I83,'6'!C7:C83,TRUE)","v":30.3},{"$f":"LinInterpolate(F29,'6'!I7:I83,'6'!D7:D83,TRUE)","v":5.45},{"$f":"LinInterpolate(F29,'6'!I7:I83,'6'!E7:E83,TRUE)","v":2.96},null,1053.7855199999999,189.54228000000001,102.944064,{"$f":"IF(LinInterpolate(F29,'6'!I7:I83,'6'!F7:F83,TRUE)>0,LinInterpolate(F29,'6'!I7:I83,'6'!F7:F83,TRUE),0)","v":0.85},null,{"$f":"LinInterpolate($E$29,'6'!$B7:$B83,'6'!J7:J83,TRUE)","v":40.44},{"$f":"LinInterpolate($E$29,'6'!$B7:$B83,'6'!K7:K83,TRUE)","v":40.44},{"$f":"LinInterpolate($E$29,'6'!$B7:$B83,'6'!L7:L83,TRUE)","v":40.44},{"$f":"LinInterpolate($E$29,'6'!$B7:$B83,'6'!M7:M83,TRUE)","v":40.44},{"$f":"LinInterpolate($E$29,'6'!$B7:$B83,'6'!N7:N83,TRUE)","v":40.44},{"$f":"LinInterpolate($E$29,'6'!$B7:$B83,'6'!O7:O83,TRUE)","v":40.44},{"$f":"LinInterpolate($E$29,'6'!$B7:$B83,'6'!P7:P83,TRUE)","v":40.44},40.44,{"$f":"IF(E29<'6'!B83,Y29-AA29,0)","v":0},{"$f":"IF(E29=0,0,IF(E29<'6'!B83, LinInterpolate($G$169,$R$23:$X$23,R29:X29,TRUE),Y29))","v":40.44}]
[null,7,"F.O. 3 SB","MGO",{"$f":"INDEX!E31","v":3.8},{"$f":"IF(G30<'7'!M83,LinInterpolate(G30,'7'!M7:M83,'7'!I7:I83,TRUE),100)","v":100},{"$f":"'INDEX (Corrected trim 3)'!AA30","v":40.44},{"$f":"LinInterpolate(F30,'7'!I7:I83,'7'!H7:H83,TRUE)","v":34.778399999999998},{"$f":"LinInterpolate(F30,'7'!I7:I83,'7'!C7:C83,TRUE)","v":30.3},{"$f":"LinInterpolate(F30,'7'!I7:I83,'7'!D7:D83,TRUE)","v":-5.45},{"$f":"LinInterpolate(F30,'7'!I7:I83,'7'!E7:E83,TRUE)","v":2.96},null,1053.7855199999999,-189.54228000000001,102.944064,{"$f":"IF(LinInterpolate(F30,'7'!I7:I83,'7'!F7:F83,TRUE)>0,LinInterpolate(F30,'7'!I7:I83,'7'!F7:F83,TRUE),0)","v":11.1},null,{"$f":"LinInterpolate($E$30,'7'!$B7:$B83,'7'!J7:J83,TRUE)","v":40.44},{"$f":"LinInterpolate($E$30,'7'!$B7:$B83,'7'!K7:K83,TRUE)","v":40.44},{"$f":"LinInterpolate($E$30,'7'!$B7:$B83,'7'!L7:L83,TRUE)","v":40.44},{"$f":"LinInterpolate($E$30,'7'!$B7:$B83,'7'!M7:M83,TRUE)","v":40.44},{"$f":"LinInterpolate($E$30,'7'!$B7:$B83,'7'!N7:N83,TRUE)","v":40.44},{"$f":"LinInterpolate($E$30,'7'!$B7:$B83,'7'!O7:O83,TRUE)","v":40.44},{"$f":"LinInterpolate($E$30,'7'!$B7:$B83,'7'!P7:P83,TRUE)","v":40.44},40.44,{"$f":"IF(E30<'6'!B83,Y30-AA30,0)","v":0},{"$f":"IF(E30=0,0,IF(E30<'7'!B83, LinInterpolate($G$169,$R$23:$X$23,R30:X30,TRUE),Y30))","v":40.44}]
[null,8,"F.O. 4 PS","MGO",{"$f":"INDEX!E32","v":1},{"$f":"IF(G31<'8'!M28,LinInterpolate(G31,'8'!M10:M28,'8'!I10:I28,TRUE),100)","v":100},{"$f":"'INDEX (Corrected trim 3)'!AA31","v":19.05},{"$f":"LinInterpolate(F31,'8'!I7:I28,'8'!H7:H28,TRUE)","v":16.382999999999999},{"$f":"LinInterpolate(F31,'8'!I7:I28,'8'!C7:C28,TRUE)","v":31.5},{"$f":"LinInterpolate(F31,'8'!I7:I28,'8'!D7:D28,TRUE)","v":1.8},{"$f":"LinInterpolate(F31,'8'!I7:I28,'8'!E7:E28,TRUE)","v":0.5},null,516.06449999999995,29.4894,8.1914999999999996,{"$f":"IF(LinInterpolate(F31,'8'!I7:I28,'8'!F7:F28,TRUE)>0,LinInterpolate(F31,'8'!I7:I28,'8'!F7:F28,TRUE),0)","v":2},null,{"$f":"LinInterpolate($E$31,'8'!$B7:$B28,'8'!J7:J28,TRUE)","v":19.05},{"$f":"LinInterpolate($E$31,'8'!$B7:$B28,'8'!K7:K28,TRUE)","v":19.05},{"$f":"LinInterpolate($E$31,'8'!$B7:$B28,'8'!L7:L28,TRUE)","v":19.05},{"$f":"LinInterpolate($E$31,'8'!$B7:$B28,'8'!M7:M28,TRUE)","v":19.05},{"$f":"LinInterpolate($E$31,'8'!$B7:$B28,'8'!N7:N28,TRUE)","v":19.05},{"$f":"LinInterpolate($E$31,'8'!$B7:$B28,'8'!O7:O28,TRUE)","v":19.05},{"$f":"LinInterpolate($E$31,'8'!$B7:$B28,'8'!P7:P28,TRUE)","v":19.05},19.05,{"$f":"IF(E31<'8'!B28,Y31-AA31,0)","v":0},{"$f":"IF(E31=0,0,IF(E31<'8'!B28, LinInterpolate($G$169,$R$23:$X$23,R31:X31,TRUE),Y31))","v":19.05}]
[null,null,"Total F.O.",null,null,{"$f":"(G32/343.7)*100","v":99.991091261948412},{"$f":"SUM((G24:G31))","v":343.66938066731666},{"$f":"SUM((H24:H31))","v":295.55566737389228},{"$f":"M32/H32","v":29.877028190497114},{"$f":"N32/H32","v":9.9776127664960246E-2},{"$f":"O32/H32","v":3.7666983080726206},null,{"$f":"SUM((M24:M31))","v":8830.3250059909678},{"$f":"SUM((N24:N31))","v":29.4894},{"$f":"SUM((O24:O31))","v":1113.2690322385142},{"$f":"SUM((P24:P31))","v":13.984407371296962},null,null,null,null,null,null,null,null,null,{"$f":"SUM((Z24:Z31))","v":0},{"$f":"SUM((AA24:AA31))","v":343.66938066731666}]
[]
[null,null,"HFO (SG 0.980)",null,null,null,null,null,null,null,null,null,null,null,null,null,null,-1.5,-1,-0.5,0,0.5,1,1.5,"Volume","∆Volume","Volume2"]
[null,9,"H.F.O 1 PS","HFO",{"$f":"INDEX!E36","v":5.75},{"$f":"IF(G35<'9'!M122,LinInterpolate(G35,'9'!M7:M122,'9'!I7:I122,TRUE),100)","v":100},{"$f":"'INDEX (Corrected trim 3)'!AA35","v":112.74},{"$f":"LinInterpolate(F35,'9'!I7:I122,'9'!H7:H122,TRUE)","v":110.48519999999999},{"$f":"LinInterpolate(F35,'9'!I7:I122,'9'!C7:C122,TRUE)","v":26.02},{"$f":"LinInterpolate(F35,'9'!I7:I122,'9'!D7:D122,TRUE)","v":5.46},{"$f":"LinInterpolate(F35,'9'!I7:I122,'9'!E7:E122,TRUE)","v":3.96},null,{"$f":"$H35*I35","v":2874.8249039999996},603.24919199999999,437.52139199999999,{"$f":"IF(LinInterpolate(F35,'9'!I7:I122,'9'!F7:F122,TRUE)>0,LinInterpolate(F35,'9'!I7:I122,'9'!F7:F122,TRUE),0)","v":0},null,{"$f":"LinInterpolate($E$35,'9'!$B7:$B122,'9'!J7:J122,TRUE)","v":111.41},{"$f":"LinInterpolate($E$35,'9'!$B7:$B122,'9'!K7:K122,TRUE)","v":111.85},{"$f":"LinInterpolate($E$35,'9'!$B7:$B122,'9'!L7:L122,TRUE)","v":112.29},{"$f":"LinInterpolate($E$35,'9'!$B7:$B122,'9'!M7:M122,TRUE)","v":112.74},{"$f":"LinInterpolate($E$35,'9'!$B7:$B122,'9'!N7:N122,TRUE)","v":112.73},{"$f":"LinInterpolate($E$35,'9'!$B7:$B122,'9'!O7:O122,TRUE)","v":112.73},{"$f":"LinInterpolate($E$35,'9'!$B7:$B122,'9'!P7:P122,TRUE)","v":112.72},{"$f":"G35","v":112.74},{"$f":"IF(E35<'9'!AB122,Y35-AA35,0)","v":0},{"$f":"IF(E35=0,0,IF(E35<'9'!B122, LinInterpolate($G$169,$R$23:$X$23,R35:X35,TRUE),Y35))","v":112.74}]
[null,10,"H.F.O 1 SB","HFO",{"$f":"INDEX!E37","v":5.75},{"$f":"IF(G36<'10'!M122,LinInterpolate(G36,'10'!M7:M122,'10'!I7:I122,TRUE),100)","v":100},{"$f":"'INDEX (Corrected trim 3)'!AA36","v":112.74},{"$f":"LinInterpolate(F36,'10'!I7:I122,'10'!H7:H122,TRUE)","v":110.48519999999999},{"$f":"LinInterpolate(F36,'10'!I7:I122,'10'!C7:C122,TRUE)","v":26.02},{"$f":"LinInterpolate(F36,'10'!I7:I122,'10'!D7:D122,TRUE)","v":-5.46},{"$f":"LinInterpolate(F36,'10'!I7:I122,'10'!E7:E122,TRUE)","v":3.96},null,2874.8249039999996,-603.24919199999999,437.52139199999999,{"$f":"LinInterpolate(F36,'10'!I7:I122,'10'!F7:F122,TRUE)","v":0},null,{"$f":"LinInterpolate($E$36,'10'!$B7:$B122,'10'!J7:J122,TRUE)","v":111.41},{"$f":"LinInterpolate($E$36,'10'!$B7:$B122,'10'!K7:K122,TRUE)","v":111.85},{"$f":"LinInterpolate($E$36,'10'!$B7:$B122,'10'!L7:L122,TRUE)","v":112.29},{"$f":"LinInterpolate($E$36,'10'!$B7:$B122,'10'!M7:M122,TRUE)","v":112.74},{"$f":"LinInterpolate($E$36,'10'!$B7:$B122,'10'!N7:N122,TRUE)","v":112.73},{"$f":"LinInterpolate($E$36,'10'!$B7:$B122,'10'!O7:O122,TRUE)","v":112.73},{"$f":"LinInterpolate($E$36,'10'!$B7:$B122,'10'!P7:P122,TRUE)","v":112.72},112.74,{"$f":"IF(E36<'10'!AB122,AA36-Y36,0)","v":0},{"$f":"IF(E36=0,0,IF(E36<'10'!B122, LinInterpolate($G$169,$R$23:$X$23,R36:X36,TRUE),Y36))","v":112.74}]
[null,11,"H.F.O 2 PS","HFO",{"$f":"INDEX!E38","v":5.75},{"$f":"IF(G37<'11'!M122,LinInterpolate(G37,'11'!M7:M122,'11'!I7:I122,TRUE),100)","v":100},{"$f":"'INDEX (Corrected trim 3)'!AA37","v":100.05},{"$f":"LinInterpolate(F37,'11'!I7:I122,'11'!H7:H122,TRUE)","v":98.048999999999992},{"$f":"LinInterpolate(F37,'11'!I7:I122,'11'!C7:C122,TRUE)","v":20.85},{"$f":"LinInterpolate(F37,'11'!I7:I122,'11'!D7:D122,TRUE)","v":5.46},{"$f":"LinInterpolate(F37,'11'!I7:I122,'11'!E7:E122,TRUE)","v":3.96},null,2044.3216500000001,535.34753999999998,388.27403999999996,{"$f":"IF(LinInterpolate(F37,'11'!I7:I122,'11'!F7:F122,TRUE)>0,LinInterpolate(F37,'11'!I7:I122,'11'!F7:F122,TRUE),0)","v":0},null,{"$f":"LinInterpolate($E$37,'11'!$B7:$B122,'11'!J7:J122,TRUE)","v":99.06},{"$f":"LinInterpolate($E$37,'11'!$B7:$B122,'11'!K7:K122,TRUE)","v":99.39},{"$f":"LinInterpolate($E$37,'11'!$B7:$B122,'11'!L7:L122,TRUE)","v":99.72},{"$f":"LinInterpolate($E$37,'11'!$B7:$B122,'11'!M7:M122,TRUE)","v":100.05},{"$f":"LinInterpolate($E$37,'11'!$B7:$B122,'11'!N7:N122,TRUE)","v":100.05},{"$f":"LinInterpolate($E$37,'11'!$B7:$B122,'11'!O7:O122,TRUE)","v":100.05},{"$f":"LinInterpolate($E$37,'11'!$B7:$B122,'11'!P7:P122,TRUE)","v":100.04},100.05,{"$f":"IF(F37<'11'!AB122,Y37-AA37,0)","v":0},{"$f":"IF(E37=0,0,IF(E37<'11'!B122, LinInterpolate($G$169,$R$23:$X$23,R37:X37,TRUE),Y37))","v":100.05}]
[null,12,"H.F.O 2 SB","HFO",{"$f":"INDEX!E39","v":5.75},{"$f":"IF(G38<'12'!M122,LinInterpolate(G38,'12'!M7:M122,'12'!I7:I122,TRUE),100)","v":100},{"$f":"'INDEX (Corrected trim 3)'!AA38","v":100.05},{"$f":"LinInterpolate(F38,'12'!I7:I122,'12'!H7:H122,TRUE)","v":98.048999999999992},{"$f":"LinInterpolate(F38,'12'!I7:I122,'12'!C7:C122,TRUE)","v":20.85},{"$f":"LinInterpolate(F38,'12'!I7:I122,'12'!D7:D122,TRUE)","v":-5.46},{"$f":"LinInterpolate(F38,'12'!I7:I122,'12'!E7:E122,TRUE)","v":3.96},null,2044.3216500000001,-535.34753999999998,388.27403999999996,{"$f":"IF(LinInterpolate(F38,'12'!I7:I122,'12'!F7:F122,TRUE)>0,LinInterpolate(F38,'12'!I7:I122,'12'!F7:F122,TRUE),0)","v":0},null,{"$f":"LinInterpolate($E$38,'12'!$B7:$B122,'12'!J7:J122,TRUE)","v":99.06},{"$f":"LinInterpolate($E$38,'12'!$B7:$B122,'12'!K7:K122,TRUE)","v":99.39},{"$f":"LinInterpolate($E$38,'12'!$B7:$B122,'12'!L7:L122,TRUE)","v":99.72},{"$f":"LinInterpolate($E$38,'12'!$B7:$B122,'12'!M7:M122,TRUE)","v":100.05},{"$f":"LinInterpolate($E$38,'12'!$B7:$B122,'12'!N7:N122,TRUE)","v":100.05},{"$f":"LinInterpolate($E$38,'12'!$B7:$B122,'12'!O7:O122,TRUE)","v":100.04},{"$f":"LinInterpolate($E$38,'12'!$B7:$B122,'12'!P7:P122,TRUE)","v":100.04},100.05,{"$f":"IF(F38<'12'!AB122,Y38-AA38,0)","v":0},{"$f":"IF(E38=0,0,IF(E38<'12'!B122, LinInterpolate($G$169,$R$23:$X$23,R38:X38,TRUE),Y38))","v":100.05}]
[null,13,"H.F.O 2 C","HFO",{"$f":"INDEX!E40","v":5.77},{"$f":"IF(G39<'13'!M123,LinInterpolate(G39,'13'!M7:M123,'13'!I7:I123,TRUE),100)","v":100},{"$f":"'INDEX (Corrected trim 3)'!AA39","v":102.33},{"$f":"LinInterpolate(F39,'13'!I7:I123,'13'!H7:H123,TRUE)","v":100.2834},{"$f":"LinInterpolate(F39,'13'!I7:I123,'13'!C7:C123,TRUE)","v":21},{"$f":"LinInterpolate(F39,'13'!I7:I123,'13'!D7:D123,TRUE)","v":0},{"$f":"LinInterpolate(F39,'13'!I7:I123,'13'!E7:E123,TRUE)","v":3.9},null,2105.9513999999999,0,391.10525999999999,{"$f":"IF(LinInterpolate(F39,'13'!I7:I123,'13'!F7:F123,TRUE)>0,LinInterpolate(F39,'13'!I7:I123,'13'!F7:F123,TRUE),0)","v":0},null,{"$f":"LinInterpolate($E$39,'13'!$B7:$B123,'13'!J7:J123,TRUE)","v":102.33},{"$f":"LinInterpolate($E$39,'13'!$B7:$B123,'13'!K7:K123,TRUE)","v":102.33},{"$f":"LinInterpolate($E$39,'13'!$B7:$B123,'13'!L7:L123,TRUE)","v":102.33},{"$f":"LinInterpolate($E$39,'13'!$B7:$B123,'13'!M7:M123,TRUE)","v":102.33},{"$f":"LinInterpolate($E$39,'13'!$B7:$B123,'13'!N7:N123,TRUE)","v":101.95},{"$f":"LinInterpolate($E$39,'13'!$B7:$B123,'13'!O7:O123,TRUE)","v":101.58},{"$f":"LinInterpolate($E$39,'13'!$B7:$B123,'13'!P7:P123,TRUE)","v":101.2},102.33,{"$f":"IF(E39<'13'!AB123,Y39-AA39,0)","v":0},{"$f":"IF(E39=0,0,IF(E39<'13'!B123, LinInterpolate($G$169,$R$23:$X$23,R39:X39,TRUE),Y39))","v":102.33}]
[null,14,"H.F.O 3 PS","HFO",{"$f":"INDEX!E41","v":5.76},{"$f":"IF(G40<'14'!M123,LinInterpolate(G40,'14'!M7:M123,'14'!I7:I123,TRUE),100)","v":100},{"$f":"'INDEX (Corrected trim 3)'!AA40","v":99.48},{"$f":"LinInterpolate(F40,'14'!I7:I123,'14'!H7:H123,TRUE)","v":97.490400000000008},{"$f":"LinInterpolate(F40,'14'!I7:I123,'14'!C7:C123,TRUE)","v":16.059999999999999},{"$f":"LinInterpolate(F40,'14'!I7:I123,'14'!D7:D123,TRUE)","v":5.45},{"$f":"LinInterpolate(F40,'14'!I7:I123,'14'!E7:E123,TRUE)","v":3.98},null,1565.6958239999999,531.3226800000001,388.01179200000001,{"$f":"IF(LinInterpolate(F40,'14'!I7:I123,'14'!F7:F123,TRUE)>0,LinInterpolate(F40,'14'!I7:I123,'14'!F7:F123,TRUE),0)","v":0},null,{"$f":"LinInterpolate($E$40,'14'!$B7:$B123,'14'!J7:J123,TRUE)","v":99.48},{"$f":"LinInterpolate($E$40,'14'!$B7:$B123,'14'!K7:K123,TRUE)","v":99.48},{"$f":"LinInterpolate($E$40,'14'!$B7:$B123,'14'!L7:L123,TRUE)","v":99.48},{"$f":"LinInterpolate($E$40,'14'!$B7:$B123,'14'!M7:M123,TRUE)","v":99.48},{"$f":"LinInterpolate($E$40,'14'!$B7:$B123,'14'!N7:N123,TRUE)","v":99.09},{"$f":"LinInterpolate($E$40,'14'!$B7:$B123,'14'!O7:O123,TRUE)","v":98.7},{"$f":"LinInterpolate($E$40,'14'!$B7:$B123,'14'!P7:P123,TRUE)","v":98.31},99.48,{"$f":"IF(E40<'14'!AB123,Y40-AA40,0)","v":0},{"$f":"IF(E40=0,0,IF(E40<'14'!B123, LinInterpolate($G$169,$R$23:$X$23,R40:X40,TRUE),Y40))","v":99.48}]
[null,15,"H.F.O 3 SB","HFO",{"$f":"INDEX!E42","v":5.76},{"$f":"IF(G41<'15'!M123,LinInterpolate(G41,'15'!M7:M123,'15'!I7:I123,TRUE),100)","v":100},{"$f":"'INDEX (Corrected trim 3)'!AA41","v":99.48},{"$f":"LinInterpolate(F41,'15'!I7:I123,'15'!H7:H123,TRUE)","v":97.490400000000008},{"$f":"LinInterpolate(F41,'15'!I7:I123,'15'!C7:C123,TRUE)","v":16.059999999999999},{"$f":"LinInterpolate(F41,'15'!I7:I123,'15'!D7:D123,TRUE)","v":-5.45},{"$f":"LinInterpolate(F41,'15'!I7:I123,'15'!E7:E123,TRUE)","v":3.98},null,1565.6958239999999,-531.3226800000001,388.01179200000001,{"$f":"IF(LinInterpolate(F41,'15'!I7:I123,'15'!F7:F123,TRUE)>0,LinInterpolate(F41,'15'!I7:I123,'15'!F7:F123,TRUE),0)","v":0},null,{"$f":"LinInterpolate($E$41,'15'!$B7:$B123,'15'!J7:J123,TRUE)","v":99.48},{"$f":"LinInterpolate($E$41,'15'!$B7:$B123,'15'!K7:K123,TRUE)","v":99.48},{"$f":"LinInterpolate($E$41,'15'!$B7:$B123,'15'!L7:L123,TRUE)","v":99.48},{"$f":"LinInterpolate($E$41,'15'!$B7:$B123,'15'!M7:M123,TRUE)","v":99.48},{"$f":"LinInterpolate($E$41,'15'!$B7:$B123,'15'!N7:N123,TRUE)","v":99.09},{"$f":"LinInterpolate($E$41,'15'!$B7:$B123,'15'!O7:O123,TRUE)","v":98.7},{"$f":"LinInterpolate($E$41,'15'!$B7:$B123,'15'!P7:P123,TRUE)","v":98.31},99.48,{"$f":"IF(E41<'15'!AB123,Y41-AA41,0)","v":0},{"$f":"IF(E41=0,0,IF(E41<'15'!B123, LinInterpolate($G$169,$R$23:$X$23,R41:X41,TRUE),Y41))","v":99.48}]
[null,16,"H.F.O 4 PS","HFO",{"$f":"INDEX!E43","v":5.46},{"$f":"IF(G42<'16'!M117,LinInterpolate(G42,'16'!M7:M117,'16'!I7:I117,TRUE),100)","v":100},{"$f":"'INDEX (Corrected trim 3)'!AA42","v":90.63},{"$f":"LinInterpolate(F42,'16'!I7:I117,'16'!H7:H117,TRUE)","v":88.817399999999992},{"$f":"LinInterpolate(F42,'16'!I7:I117,'16'!C7:C117,TRUE)","v":11.2},{"$f":"LinInterpolate(F42,'16'!I7:I117,'16'!D7:D117,TRUE)","v":5.39},{"$f":"LinInterpolate(F42,'16'!I7:I117,'16'!E7:E117,TRUE)","v":4.49},null,994.75487999999984,478.72578599999991,398.79012599999999,{"$f":"IF(LinInterpolate(F42,'16'!I7:I117,'16'!F7:F117,TRUE)>0,LinInterpolate(F42,'16'!I7:I117,'16'!F7:F117,TRUE),0)","v":0},null,{"$f":"LinInterpolate($E$42,'16'!$B7:$B117,'16'!J7:J117,TRUE)","v":90.63},{"$f":"LinInterpolate($E$42,'16'!$B7:$B117,'16'!K7:K117,TRUE)","v":90.63},{"$f":"LinInterpolate($E$42,'16'!$B7:$B117,'16'!L7:L117,TRUE)","v":90.63},{"$f":"LinInterpolate($E$42,'16'!$B7:$B117,'16'!M7:M117,TRUE)","v":90.63},{"$f":"LinInterpolate($E$42,'16'!$B7:$B117,'16'!N7:N117,TRUE)","v":90.19},{"$f":"LinInterpolate($E$42,'16'!$B7:$B117,'16'!O7:O117,TRUE)","v":89.75},{"$f":"LinInterpolate($E$42,'16'!$B7:$B117,'16'!P7:P117,TRUE)","v":89.31},90.63,{"$f":"IF(E42<'16'!AB117,Y42-AA42,0)","v":0},{"$f":"IF(E42=0,0,IF(E42<'16'!B117, LinInterpolate($G$169,$R$23:$X$23,R42:X42,TRUE),Y42))","v":90.63}]
[null,17,"H.F.O 4 SB","HFO",{"$f":"INDEX!E44","v":5.46},{"$f":"IF(G43<'17'!M115,LinInterpolate(G43,'17'!M7:M115,'17'!I7:I115,TRUE),100)","v":100},{"$f":"'INDEX (Corrected trim 3)'!AA43","v":90.63},{"$f":"LinInterpolate(F43,'17'!I7:I115,'17'!H7:H115,TRUE)","v":88.817399999999992},{"$f":"LinInterpolate(F43,'17'!I7:I115,'17'!C7:C115,TRUE)","v":11.2},{"$f":"LinInterpolate(F43,'17'!I7:I115,'17'!D7:D115,TRUE)","v":-5.39},{"$f":"LinInterpolate(F43,'17'!I7:I115,'17'!E7:E115,TRUE)","v":4.49},null,994.75487999999984,-478.72578599999991,398.79012599999999,{"$f":"IF(LinInterpolate(F43,'17'!I7:I115,'17'!F7:F115,TRUE)>0,LinInterpolate(F43,'17'!I7:I115,'17'!F7:F115,TRUE),0)","v":0},null,{"$f":"LinInterpolate($E$43,'17'!$B7:$B115,'17'!J7:J115,TRUE)","v":90.976666666666645},{"$f":"LinInterpolate($E$43,'17'!$B7:$B115,'17'!K7:K115,TRUE)","v":91.056666666666644},{"$f":"LinInterpolate($E$43,'17'!$B7:$B115,'17'!L7:L115,TRUE)","v":91.403333333333308},{"$f":"LinInterpolate($E$43,'17'!$B7:$B115,'17'!M7:M115,TRUE)","v":92.496666666666613},{"$f":"LinInterpolate($E$43,'17'!$B7:$B115,'17'!N7:N115,TRUE)","v":92.056666666666658},{"$f":"LinInterpolate($E$43,'17'!$B7:$B115,'17'!O7:O115,TRUE)","v":91.61666666666666},{"$f":"LinInterpolate($E$43,'17'!$B7:$B115,'17'!P7:P115,TRUE)","v":91.176666666666662},90.63,{"$f":"IF(E43<'17'!AB115,Y43-AA43,0)","v":0},{"$f":"IF(E43=0,0,IF(E43<'17'!B115, LinInterpolate($G$169,$R$23:$X$23,R43:X43,TRUE),Y43))","v":90.63}]
[null,18,"H.F.O 4 C","HFO",{"$f":"INDEX!E45","v":5.38},{"$f":"IF(G44<'18'!M115,LinInterpolate(G44,'18'!M7:M115,'18'!I7:I115,TRUE),100)","v":100},{"$f":"'INDEX (Corrected trim 3)'!AA44","v":87.63},{"$f":"LinInterpolate(F44,'18'!I7:I115,'18'!H7:H115,TRUE)","v":85.877399999999994},{"$f":"LinInterpolate(F44,'18'!I7:I115,'18'!C7:C115,TRUE)","v":10.57},{"$f":"LinInterpolate(F44,'18'!I7:I115,'18'!D7:D115,TRUE)","v":0},{"$f":"LinInterpolate(F44,'18'!I7:I115,'18'!E7:E115,TRUE)","v":4.3499999999999996},null,907.72411799999998,0,373.56668999999994,{"$f":"IF(LinInterpolate(F44,'18'!I7:I115,'18'!F7:F115,TRUE)>0,LinInterpolate(F44,'18'!I7:I115,'18'!F7:F115,TRUE),0)","v":0},null,{"$f":"LinInterpolate($E$44,'18'!$B7:$B115,'18'!J7:J115,TRUE)","v":87.649999999999977},{"$f":"LinInterpolate($E$44,'18'!$B7:$B115,'18'!K7:K115,TRUE)","v":87.649999999999977},{"$f":"LinInterpolate($E$44,'18'!$B7:$B115,'18'!L7:L115,TRUE)","v":87.669999999999987},{"$f":"LinInterpolate($E$44,'18'!$B7:$B115,'18'!M7:M115,TRUE)","v":87.989999999999952},{"$f":"LinInterpolate($E$44,'18'!$B7:$B115,'18'!N7:N115,TRUE)","v":87.629999999999953},{"$f":"LinInterpolate($E$44,'18'!$B7:$B115,'18'!O7:O115,TRUE)","v":87.259999999999991},{"$f":"LinInterpolate($E$44,'18'!$B7:$B115,'18'!P7:P115,TRUE)","v":86.899999999999991},87.63,{"$f":"IF(E44<'18'!AB115,Y44-AA44,0)","v":0},{"$f":"IF(E44=0,0,IF(E44<'18'!B115, LinInterpolate($G$169,$R$23:$X$23,R44:X44,TRUE),Y44))","v":87.63}]
[null,null,"Total H.F.O",null,null,{"$f":"G45/995.8*100","v":99.995983129142402},{"$f":"SUM((G35:G44))","v":995.76},{"$f":"SUM((H35:H44))","v":975.84479999999996},{"$f":"M45/H45","v":18.417754579416727},{"$f":"N45/H45","v":0},{"$f":"O45/H45","v":4.0886282839238373},null,{"$f":"SUM((M35:M44))","v":17972.870034},{"$f":"SUM((N35:N44))","v":0},{"$f":"SUM((O35:O44))","v":3989.8666500000004},{"$f":"SUM((P35:P44))","v":0},null,null,null,null,null,null,null,null,null,{"$f":"SUM((Z35:Z44))","v":0},{"$f":"SUM((AA35:AA44))","v":995.76}]
[]
[null,"Sheet No.","Name","Sort of Fluid","Sounding Height","% Full","Volume","Weight","LCG","TCG","VCG",null,"Longitudinal","Transverse","Vertical","FSMt"]
[null,null,null,null,null," "," "," ","Fwd of AP","PS:+","Above BL",null,"Moment","Moment","Moment"," "]
[null,null,null,null,null,"%","m³","t","m","m","m",null,"t·m","t·m","t·m","t·m"]
[null,null,"WB (S.G. 1.025)",null,null,null,null,null,null,null,null,null,null,null,null,null,null,-1.5,-1,-0.5,0,0.5,1,1.5,"Volume","∆Volume","Volume2"]
[null,19,"W.B 1 PS ","FW",{"$f":"INDEX!E52","v":3.25},{"$f":"IF(G51<'19'!M72,LinInterpolate(G51,'19'!M7:M72,'19'!I7:I72,TRUE),100)","v":100},{"$f":"'INDEX (Corrected trim 3)'!AA51","v":63.76},{"$f":"LinInterpolate(F51,'19'!I7:I72,'19'!H7:H72,TRUE)","v":65.353999999999999},{"$f":"LinInterpolate(F51,'19'!I7:I72,'19'!C7:C72,TRUE)","v":-2.2400000000000002},{"$f":"LinInterpolate(F51,'19'!I7:I72,'19'!D7:D72,TRUE)","v":4.49},{"$f":"LinInterpolate(F51,'19'!I7:I72,'19'!E7:E72,TRUE)","v":5.71},null,{"$f":"$H51*I51","v":-146.39296000000002},293.43946,373.17133999999999,{"$f":"IF(LinInterpolate(F51,'19'!I7:I72,'19'!F7:F72,TRUE)>0,LinInterpolate(F51,'19'!I7:I72,'19'!F7:F72,TRUE),0)","v":0},null,{"$f":"LinInterpolate($E$51,'19'!$B7:$B72,'19'!J7:J72,TRUE)","v":63.626666666666679},{"$f":"LinInterpolate($E$51,'19'!$B7:$B72,'19'!K7:K72,TRUE)","v":63.813333333333333},{"$f":"LinInterpolate($E$51,'19'!$B7:$B72,'19'!L7:L72,TRUE)","v":64.073333333333338},{"$f":"LinInterpolate($E$51,'19'!$B7:$B72,'19'!M7:M72,TRUE)","v":64.38},{"$f":"LinInterpolate($E$51,'19'!$B7:$B72,'19'!N7:N72,TRUE)","v":64.036666666666662},{"$f":"LinInterpolate($E$51,'19'!$B7:$B72,'19'!O7:O72,TRUE)","v":63.74},{"$f":"LinInterpolate($E$51,'19'!$B7:$B72,'19'!P7:P72,TRUE)","v":63.493333333333339},{"$f":"G51","v":63.76},{"$f":"IF(E51<'19'!B72,Y51-AA51,0)","v":0},{"$f":"IF(E51=0,0,IF(E51<'19'!B72, LinInterpolate($G$169,$R$23:$X$23,R51:X51,TRUE),Y51))","v":63.76}]
[null,20,"W.B 1 SB ","FW",{"$f":"INDEX!E53","v":3.25},{"$f":"IF(G52<'20'!M72,LinInterpolate(G52,'20'!M7:M72,'20'!I7:I72,TRUE),100)","v":100},{"$f":"'INDEX (Corrected trim 3)'!AA52","v":63.76},{"$f":"LinInterpolate(F52,'20'!I7:I72,'20'!H7:H72,TRUE)","v":65.353999999999999},{"$f":"LinInterpolate(F52,'20'!I7:I72,'20'!C7:C72,TRUE)","v":-2.2400000000000002},{"$f":"LinInterpolate(F52,'20'!I7:I72,'20'!D7:D72,TRUE)","v":-4.49},{"$f":"LinInterpolate(F52,'20'!I7:I72,'20'!E7:E72,TRUE)","v":5.71},null,-146.39296000000002,-293.43946,373.17133999999999,{"$f":"IF(LinInterpolate(F52,'20'!I7:I72,'20'!F7:F72,TRUE)>0,LinInterpolate(F52,'20'!I7:I72,'20'!F7:F72,TRUE),0)","v":0},null,{"$f":"LinInterpolate($E$52,'20'!$B7:$B72,'20'!J7:J72,TRUE)","v":63.34},{"$f":"LinInterpolate($E$52,'20'!$B7:$B72,'20'!K7:K72,TRUE)","v":63.48},{"$f":"LinInterpolate($E$52,'20'!$B7:$B72,'20'!L7:L72,TRUE)","v":63.62},{"$f":"LinInterpolate($E$52,'20'!$B7:$B72,'20'!M7:M72,TRUE)","v":63.76},{"$f":"LinInterpolate($E$52,'20'!$B7:$B72,'20'!N7:N72,TRUE)","v":63.51},{"$f":"LinInterpolate($E$52,'20'!$B7:$B72,'20'!O7:O72,TRUE)","v":63.26},{"$f":"LinInterpolate($E$52,'20'!$B7:$B72,'20'!P7:P72,TRUE)","v":63.02},63.76,{"$f":"IF(E52<'19'!B72,Y52-AA52,0)","v":0},{"$f":"IF(E52=0,0,IF(E52<'20'!B72, LinInterpolate($G$169,$R$23:$X$23,R52:X52,TRUE),Y52))","v":63.76}]
[null,21,{"$f":"'INDEX (Corrected trim 4)'!C52","v":"W.B 1 SB "},"SW",{"$f":"INDEX!E54","v":7.8},{"$f":"IF(G53<'21'!M163,LinInterpolate(G53,'21'!M7:M163,'21'!I7:I163,TRUE),100)","v":100},{"$f":"'INDEX (Corrected trim 3)'!AA53","v":64.81},{"$f":"LinInterpolate(F53,'21'!I7:I163,'21'!H7:H163,TRUE)","v":66.430250000000001},{"$f":"LinInterpolate(F53,'21'!I7:I163,'21'!C7:C163,TRUE)","v":51.05},{"$f":"LinInterpolate(F53,'21'!I7:I163,'21'!D7:D163,TRUE)","v":0},{"$f":"LinInterpolate(F53,'21'!I7:I163,'21'!E7:E163,TRUE)","v":4.75},null,3391.2642624999999,0,315.54368750000003,{"$f":"IF(LinInterpolate(F53,'21'!I7:I163,'21'!F7:F163,TRUE)>0,LinInterpolate(F53,'21'!I7:I163,'21'!F7:F163,TRUE),0)","v":0},null,{"$f":"LinInterpolate($E$53,'21'!$B7:$B163,'21'!J7:J163,TRUE)","v":64.8},{"$f":"LinInterpolate($E$53,'21'!$B7:$B163,'21'!K7:K163,TRUE)","v":64.81},{"$f":"LinInterpolate($E$53,'21'!$B7:$B163,'21'!L7:L163,TRUE)","v":64.81},{"$f":"LinInterpolate($E$53,'21'!$B7:$B163,'21'!M7:M163,TRUE)","v":64.81},{"$f":"LinInterpolate($E$53,'21'!$B7:$B163,'21'!N7:N163,TRUE)","v":64.81},{"$f":"LinInterpolate($E$53,'21'!$B7:$B163,'21'!O7:O163,TRUE)","v":64.78},{"$f":"LinInterpolate($E$53,'21'!$B7:$B163,'21'!P7:P163,TRUE)","v":64.66},64.81,{"$f":"IF(E53<'19'!B163,Y53-AA53,0)","v":0},{"$f":"IF(E53=0,0,IF(E53<'21'!B163, LinInterpolate($G$169,$R$23:$X$23,R53:X53,TRUE),Y53))","v":64.81}]
[null,22,"W.B. 2 PS","SW",{"$f":"INDEX!E55","v":7.8},{"$f":"IF(G54<'22'!M163,LinInterpolate(G54,'22'!M7:M163,'22'!I7:I163,TRUE),100)","v":100},{"$f":"'INDEX (Corrected trim 3)'!AA54","v":86.037999999999997},{"$f":"LinInterpolate(F54,'22'!I7:I163,'22'!H7:H163,TRUE)","v":88.188949999999991},{"$f":"LinInterpolate(F54,'22'!I7:I163,'22'!C7:C163,TRUE)","v":39.74},{"$f":"LinInterpolate(F54,'22'!I7:I163,'22'!D7:D163,TRUE)","v":6.82},{"$f":"LinInterpolate(F54,'22'!I7:I163,'22'!E7:E163,TRUE)","v":4.4800000000000004},null,3504.6288729999997,601.44863899999996,395.08649600000001,{"$f":"IF(LinInterpolate(F54,'22'!I7:I163,'22'!F7:F163,TRUE)>0,LinInterpolate(F54,'22'!I7:I163,'22'!F7:F163,TRUE),0)","v":0},null,{"$f":"LinInterpolate(E54,'22'!$B7:$B163,'22'!J7:J163,TRUE)","v":85.09},{"$f":"LinInterpolate(E54,'22'!$B7:$B163,'22'!K7:K163,TRUE)","v":85.85},{"$f":"LinInterpolate(E54,'22'!$B7:$B163,'22'!L7:L163,TRUE)","v":86.03},{"$f":"LinInterpolate(E54,'22'!$B7:$B163,'22'!M7:M163,TRUE)","v":86.037999999999997},{"$f":"LinInterpolate(E54,'22'!$B7:$B163,'22'!N7:N163,TRUE)","v":86.03},{"$f":"LinInterpolate(E54,'22'!$B7:$B163,'22'!O7:O163,TRUE)","v":86.03},{"$f":"LinInterpolate(E54,'22'!$B7:$B163,'22'!P7:P163,TRUE)","v":86.03},86.037999999999997,{"$f":"IF(E54<'19'!B163,Y54-AA54,0)","v":0},{"$f":"IF(E54=0,0,IF(E54<'22'!B163, LinInterpolate($G$169,$R$23:$X$23,R54:X54,TRUE),Y54))","v":86.037999999999997}]
[null,23,"W.B. 2 SB","SW",{"$f":"INDEX!E56","v":7.8},{"$f":"IF(G55<'23'!M163,LinInterpolate(G55,'23'!M7:M163,'23'!I7:I163,TRUE),100)","v":100},{"$f":"'INDEX (Corrected trim 3)'!AA55","v":87.665999999999997},{"$f":"LinInterpolate(F55,'23'!I7:I163,'23'!H7:H163,TRUE)","v":89.857649999999992},{"$f":"LinInterpolate(F55,'23'!I7:I163,'23'!C7:C163,TRUE)","v":39.83},{"$f":"LinInterpolate(F55,'23'!I7:I163,'23'!D7:D163,TRUE)","v":-6.78},{"$f":"LinInterpolate(F55,'23'!I7:I163,'23'!E7:E163,TRUE)","v":4.42},null,3579.0301994999995,-609.23486700000001,397.17081299999995,{"$f":"IF(LinInterpolate(F55,'23'!I7:I163,'23'!F7:F163,TRUE)>0,LinInterpolate(F55,'23'!I7:I163,'23'!F7:F163,TRUE),0)","v":0},null,{"$f":"LinInterpolate(E55,'23'!$B7:$B163,'23'!J7:J163,TRUE)","v":86.72},{"$f":"LinInterpolate(E55,'23'!$B7:$B163,'23'!K7:K163,TRUE)","v":87.48},{"$f":"LinInterpolate(E55,'23'!$B7:$B163,'23'!L7:L163,TRUE)","v":87.66},{"$f":"LinInterpolate(E55,'23'!$B7:$B163,'23'!M7:M163,TRUE)","v":87.665999999999997},{"$f":"LinInterpolate(E55,'23'!$B7:$B163,'23'!N7:N163,TRUE)","v":87.66},{"$f":"LinInterpolate(E55,'23'!$B7:$B163,'23'!O7:O163,TRUE)","v":87.66},{"$f":"LinInterpolate(E55,'23'!$B7:$B163,'23'!P7:P163,TRUE)","v":87.66},87.665999999999997,{"$f":"IF(E55<'19'!B163,Y55-AA55,0)","v":0},{"$f":"IF(E55=0,0,IF(E55<'23'!B163, LinInterpolate($G$169,$R$23:$X$23,R55:X55,TRUE),Y55))","v":87.665999999999997}]
[null,24,"W.B. 3 PS","SW",{"$f":"INDEX!E57","v":5.48},{"$f":"IF(G56<'24'!M117,LinInterpolate(G56,'24'!M7:M117,'24'!I7:I117,TRUE),100)","v":100},{"$f":"'INDEX (Corrected trim 3)'!AA56","v":28.05},{"$f":"LinInterpolate(F56,'24'!I7:I117,'24'!H7:H117,TRUE)","v":28.751249999999999},{"$f":"LinInterpolate(F56,'24'!I7:I117,'24'!C7:C117,TRUE)","v":31.59},{"$f":"LinInterpolate(F56,'24'!I7:I117,'24'!D7:D117,TRUE)","v":7.77},{"$f":"LinInterpolate(F56,'24'!I7:I117,'24'!E7:E117,TRUE)","v":3.95},null,908.25198749999993,223.39721249999997,113.5674375,{"$f":"IF(LinInterpolate(F56,'24'!I7:I117,'24'!F7:F117,TRUE)>0,LinInterpolate(F56,'24'!I7:I117,'24'!F7:F117,TRUE),0)","v":0},null,{"$f":"LinInterpolate(E56,'24'!$B7:$B117,'24'!J7:J117,TRUE)","v":27.91},{"$f":"LinInterpolate(E56,'24'!$B7:$B117,'24'!K7:K117,TRUE)","v":27.95},{"$f":"LinInterpolate(E56,'24'!$B7:$B117,'24'!L7:L117,TRUE)","v":28},{"$f":"LinInterpolate(E56,'24'!$B7:$B117,'24'!M7:M117,TRUE)","v":28.05},{"$f":"LinInterpolate(E56,'24'!$B7:$B117,'24'!N7:N117,TRUE)","v":28.03},{"$f":"LinInterpolate(E56,'24'!$B7:$B117,'24'!O7:O117,TRUE)","v":28.01},{"$f":"LinInterpolate(E56,'24'!$B7:$B117,'24'!P7:P117,TRUE)","v":28},28.05,{"$f":"IF(E56<'19'!B117,Y56-AA56,0)","v":0},{"$f":"IF(E56=0,0,IF(E56<'24'!B117,LinInterpolate($G$169,$R$23:$X$23,R56:X56,TRUE),Y56))","v":28.05}]
[null,25,"W.B. 3 SB","SW",{"$f":"INDEX!E58","v":5.48},{"$f":"IF(G57<'25'!M117,LinInterpolate(G57,'25'!M7:M117,'25'!I7:I117,TRUE),100)","v":100},{"$f":"'INDEX (Corrected trim 3)'!AA57","v":28.05},{"$f":"LinInterpolate(F57,'25'!I7:I117,'25'!H7:H117,TRUE)","v":28.751249999999999},{"$f":"LinInterpolate(F57,'25'!I7:I117,'25'!C7:C117,TRUE)","v":31.59},{"$f":"LinInterpolate(F57,'25'!I7:I117,'25'!D7:D117,TRUE)","v":-7.77},{"$f":"LinInterpolate(F57,'25'!I7:I117,'25'!E7:E117,TRUE)","v":3.95},null,908.25198749999993,-223.39721249999997,113.5674375,{"$f":"IF(LinInterpolate(F57,'25'!I7:I117,'25'!F7:F117,TRUE)>0,LinInterpolate(F57,'25'!I7:I117,'25'!F7:F117,TRUE),0)","v":0},null,{"$f":"LinInterpolate(E57,'25'!$B7:$B117,'25'!J7:J117,TRUE)","v":28.03},{"$f":"LinInterpolate(E57,'25'!$B7:$B117,'25'!K7:K117,TRUE)","v":28.04},{"$f":"LinInterpolate(E57,'25'!$B7:$B117,'25'!L7:L117,TRUE)","v":28.04},{"$f":"LinInterpolate(E57,'25'!$B7:$B117,'25'!M7:M117,TRUE)","v":28.05},{"$f":"LinInterpolate(E57,'25'!$B7:$B117,'25'!N7:N117,TRUE)","v":27.98},{"$f":"LinInterpolate(E57,'25'!$B7:$B117,'25'!O7:O117,TRUE)","v":27.91},{"$f":"LinInterpolate(E57,'25'!$B7:$B117,'25'!P7:P117,TRUE)","v":27.84},28.05,{"$f":"IF(E57<'19'!B117,Y57-AA57,0)","v":0},{"$f":"IF(E57=0,0,IF(E57<'25'!B117, LinInterpolate($G$169,$R$23:$X$23,R57:X57,TRUE),Y57))","v":28.05}]
[null,26,"W.B. 3 PS DB","SW",{"$f":"INDEX!E59","v":1.35},{"$f":"IF(G58<'26'!M34,LinInterpolate(G58,'26'!M7:M34,'26'!I7:I34,TRUE),100)","v":100},{"$f":"'INDEX (Corrected trim 3)'!AA58","v":24.36},{"$f":"LinInterpolate(F58,'26'!I7:I34,'26'!H7:H34,TRUE)","v":24.968999999999998},{"$f":"LinInterpolate(F58,'26'!I7:I34,'26'!C7:C34,TRUE)","v":31.46},{"$f":"LinInterpolate(F58,'26'!I7:I34,'26'!D7:D34,TRUE)","v":5.71},{"$f":"LinInterpolate(F58,'26'!I7:I34,'26'!E7:E34,TRUE)","v":0.63},null,785.52473999999995,142.57298999999998,15.730469999999999,{"$f":"IF(LinInterpolate(F58,'26'!I7:I34,'26'!F7:F34,TRUE)>0,LinInterpolate(F58,'26'!I7:I34,'26'!F7:F34,TRUE),0)","v":0},null,{"$f":"LinInterpolate(E58,'26'!$B7:$B34,'26'!J7:J34,TRUE)","v":24.36},{"$f":"LinInterpolate(E58,'26'!$B7:$B34,'26'!K7:K34,TRUE)","v":24.36},{"$f":"LinInterpolate(E58,'26'!$B7:$B34,'26'!L7:L34,TRUE)","v":24.36},{"$f":"LinInterpolate(E58,'26'!$B7:$B34,'26'!M7:M34,TRUE)","v":24.36},{"$f":"LinInterpolate(E58,'26'!$B7:$B34,'26'!N7:N34,TRUE)","v":24.36},{"$f":"LinInterpolate(E58,'26'!$B7:$B34,'26'!O7:O34,TRUE)","v":24.36},{"$f":"LinInterpolate(E58,'26'!$B7:$B34,'26'!P7:P34,TRUE)","v":24.33},24.36,{"$f":"IF(E58<'19'!B34,Y58-AA58,0)","v":0},{"$f":"IF(E58=0,0,IF(E58<'26'!B34,LinInterpolate($G$169,$R$23:$X$23,R58:X58,TRUE),Y58))","v":24.36}]
[null,27,"W.B. 3 SB DB","SW",{"$f":"INDEX!E60","v":1.35},{"$f":"IF(G59<'27'!M34,LinInterpolate(G59,'27'!M7:M34,'27'!I7:I34,TRUE),100)","v":100},{"$f":"'INDEX (Corrected trim 3)'!AA59","v":24.36},{"$f":"LinInterpolate(F59,'27'!I7:I34,'27'!H7:H34,TRUE)","v":24.968999999999998},{"$f":"LinInterpolate(F59,'27'!I7:I34,'27'!C7:C34,TRUE)","v":31.46},{"$f":"LinInterpolate(F59,'27'!I7:I34,'27'!D7:D34,TRUE)","v":-5.71},{"$f":"LinInterpolate(F59,'27'!I7:I34,'27'!E7:E34,TRUE)","v":0.63},null,785.52473999999995,-142.57298999999998,15.730469999999999,{"$f":"IF(LinInterpolate(F59,'27'!I7:I34,'27'!F7:F34,TRUE)>0,LinInterpolate(F59,'27'!I7:I34,'27'!F7:F34,TRUE),0)","v":0},null,{"$f":"LinInterpolate(E59,'27'!$B7:$B34,'27'!J7:J34,TRUE)","v":24.36},{"$f":"LinInterpolate(E59,'27'!$B7:$B34,'27'!K7:K34,TRUE)","v":24.36},{"$f":"LinInterpolate(E59,'27'!$B7:$B34,'27'!L7:L34,TRUE)","v":24.36},{"$f":"LinInterpolate(E59,'27'!$B7:$B34,'27'!M7:M34,TRUE)","v":24.36},{"$f":"LinInterpolate(E59,'27'!$B7:$B34,'27'!N7:N34,TRUE)","v":24.36},{"$f":"LinInterpolate(E59,'27'!$B7:$B34,'27'!O7:O34,TRUE)","v":24.36},{"$f":"LinInterpolate(E59,'27'!$B7:$B34,'27'!P7:P34,TRUE)","v":24.33},24.36,{"$f":"IF(E59<'19'!B34,Y59-AA59,0)","v":0},{"$f":"IF(E59=0,0,IF(E59<'27'!B34, LinInterpolate($G$169,$R$23:$X$23,R59:X59,TRUE),Y59))","v":24.36}]
[null,28,"W.B. 4 PS","SW",{"$f":"INDEX!E61","v":5.52},{"$f":"IF(G60<'28'!M118,LinInterpolate(G60,'28'!M7:M118,'28'!I7:I118,TRUE),100)","v":100},{"$f":"'INDEX (Corrected trim 3)'!AA60","v":26.7},{"$f":"LinInterpolate(F60,'28'!I7:I118,'28'!H7:H118,TRUE)","v":27.367499999999996},{"$f":"LinInterpolate(F60,'28'!I7:I118,'28'!C7:C118,TRUE)","v":26.1},{"$f":"LinInterpolate(F60,'28'!I7:I118,'28'!D7:D118,TRUE)","v":7.8},{"$f":"LinInterpolate(F60,'28'!I7:I118,'28'!E7:E118,TRUE)","v":4.04},null,714.29174999999998,213.46649999999997,110.56469999999999,{"$f":"IF(LinInterpolate(F60,'28'!I7:I118,'28'!F7:F118,TRUE)>0,LinInterpolate(F60,'28'!I7:I118,'28'!F7:F118,TRUE),0)","v":0},null,{"$f":"LinInterpolate(E60,'28'!$B7:$B118,'28'!J7:J118,TRUE)","v":26.35},{"$f":"LinInterpolate(E60,'28'!$B7:$B118,'28'!K7:K118,TRUE)","v":26.47},{"$f":"LinInterpolate(E60,'28'!$B7:$B118,'28'!L7:L118,TRUE)","v":26.58},{"$f":"LinInterpolate(E60,'28'!$B7:$B118,'28'!M7:M118,TRUE)","v":26.7},{"$f":"LinInterpolate(E60,'28'!$B7:$B118,'28'!N7:N118,TRUE)","v":26.7},{"$f":"LinInterpolate(E60,'28'!$B7:$B118,'28'!O7:O118,TRUE)","v":26.7},{"$f":"LinInterpolate(E60,'28'!$B7:$B118,'28'!P7:P118,TRUE)","v":26.7},26.7,{"$f":"IF(E60<'19'!B118,Y60-AA60,0)","v":0},{"$f":"IF(E60=0,0,IF(E60<'28'!B118,LinInterpolate($G$169,$R$23:$X$23,R60:X60,TRUE),Y60))","v":26.7}]
[null,29,"W.B. 4 SB","SW",{"$f":"INDEX!E62","v":5.52},{"$f":"IF(G61<'29'!M118,LinInterpolate(G61,'29'!M7:M118,'29'!I7:I118,TRUE),100)","v":100},{"$f":"'INDEX (Corrected trim 3)'!AA61","v":26.7},{"$f":"LinInterpolate(F61,'29'!I7:I118,'29'!H7:H118,TRUE)","v":27.367499999999996},{"$f":"LinInterpolate(F61,'29'!I7:I118,'29'!C7:C118,TRUE)","v":26.1},{"$f":"LinInterpolate(F61,'29'!I7:I118,'29'!D7:D118,TRUE)","v":-7.8},{"$f":"LinInterpolate(F61,'29'!I7:I118,'29'!E7:E118,TRUE)","v":4.04},null,714.29174999999998,-213.46649999999997,110.56469999999999,{"$f":"IF(LinInterpolate(F61,'29'!I7:I118,'29'!F7:F118,TRUE)>0,LinInterpolate(F61,'29'!I7:I118,'29'!F7:F118,TRUE),0)","v":0},null,{"$f":"LinInterpolate(E61,'29'!$B7:$B118,'29'!J7:J118,TRUE)","v":26.35},{"$f":"LinInterpolate(E61,'29'!$B7:$B118,'29'!K7:K118,TRUE)","v":26.47},{"$f":"LinInterpolate(E61,'29'!$B7:$B118,'29'!L7:L118,TRUE)","v":26.58},{"$f":"LinInterpolate(E61,'29'!$B7:$B118,'29'!M7:M118,TRUE)","v":26.7},{"$f":"LinInterpolate(E61,'29'!$B7:$B118,'29'!N7:N118,TRUE)","v":26.7},{"$f":"LinInterpolate(E61,'29'!$B7:$B118,'29'!O7:O118,TRUE)","v":26.7},{"$f":"LinInterpolate(E61,'29'!$B7:$B118,'29'!P7:P118,TRUE)","v":26.7},26.7,{"$f":"IF(E61<'19'!B118,Y61-AA61,0)","v":0},{"$f":"IF(E61=0,0,IF(E61<'29'!B118,LinInterpolate($G$169,$R$23:$X$23,R61:X61,TRUE),Y61))","v":26.7}]
[null,30,"W.B. 4 PS DB","SW",{"$f":"INDEX!E63","v":1.3},{"$f":"IF(G62<'30'!M34,LinInterpolate(G62,'30'!M7:M34,'30'!I7:I34,TRUE),100)","v":100},{"$f":"'INDEX (Corrected trim 3)'!AA62","v":45.49},{"$f":"LinInterpolate(F62,'30'!I7:I34,'30'!H7:H34,TRUE)","v":46.627249999999997},{"$f":"LinInterpolate(F62,'30'!I7:I34,'30'!C7:C34,TRUE)","v":26.09},{"$f":"LinInterpolate(F62,'30'!I7:I34,'30'!D7:D34,TRUE)","v":4.0999999999999996},{"$f":"LinInterpolate(F62,'30'!I7:I34,'30'!E7:E34,TRUE)","v":0.56000000000000005},null,1216.5049524999999,191.17172499999998,26.111260000000001,{"$f":"IF(LinInterpolate(F62,'30'!I7:I34,'30'!F7:F34,TRUE)>0,LinInterpolate(F62,'30'!I7:I34,'30'!F7:F34,TRUE),0)","v":0},null,{"$f":"LinInterpolate(E62,'30'!$B7:$B34,'30'!J7:J34,TRUE)","v":45.38},{"$f":"LinInterpolate(E62,'30'!$B7:$B34,'30'!K7:K34,TRUE)","v":45.46},{"$f":"LinInterpolate(E62,'30'!$B7:$B34,'30'!L7:L34,TRUE)","v":45.49},{"$f":"LinInterpolate(E62,'30'!$B7:$B34,'30'!M7:M34,TRUE)","v":45.49},{"$f":"LinInterpolate(E62,'30'!$B7:$B34,'30'!N7:N34,TRUE)","v":45.49},{"$f":"LinInterpolate(E62,'30'!$B7:$B34,'30'!O7:O34,TRUE)","v":45.49},{"$f":"LinInterpolate(E62,'30'!$B7:$B34,'30'!P7:P34,TRUE)","v":45.49},45.49,{"$f":"IF(E62<'19'!B34,Y62-AA62,0)","v":0},{"$f":"IF(E62=0,0,IF(E62<'30'!B34, LinInterpolate($G$169,$R$23:$X$23,S62:X62,TRUE),Y62))","v":45.49}]
[null,31,"W.B. 4 SB DB","SW",{"$f":"INDEX!E64","v":5.52},{"$f":"IF(G63<'31'!M34,LinInterpolate(G63,'31'!M7:M34,'31'!I7:I34,TRUE),100)","v":100},{"$f":"'INDEX (Corrected trim 3)'!AA63","v":45.49},{"$f":"LinInterpolate(F63,'31'!I7:I34,'31'!H7:H34,TRUE)","v":46.627249999999997},{"$f":"LinInterpolate(F63,'31'!I7:I34,'31'!C7:C34,TRUE)","v":26.09},{"$f":"LinInterpolate(F63,'31'!I7:I34,'31'!D7:D34,TRUE)","v":-4.0999999999999996},{"$f":"LinInterpolate(F63,'31'!I7:I34,'31'!E7:E34,TRUE)","v":0.56000000000000005},null,1216.5049524999999,-191.17172499999998,26.111260000000001,{"$f":"IF(LinInterpolate(F63,'31'!I7:I34,'31'!F7:F34,TRUE)>0,LinInterpolate(F63,'31'!I7:I34,'31'!F7:F34,TRUE),0)","v":0},null,{"$f":"LinInterpolate(E63,'31'!$B7:$B34,'31'!J7:J34,TRUE)","v":53.810000000000109},{"$f":"LinInterpolate(E63,'31'!$B7:$B34,'31'!K7:K34,TRUE)","v":48.825999999999929},{"$f":"LinInterpolate(E63,'31'!$B7:$B34,'31'!L7:L34,TRUE)","v":45.49},{"$f":"LinInterpolate(E63,'31'!$B7:$B34,'31'!M7:M34,TRUE)","v":45.49},{"$f":"LinInterpolate(E63,'31'!$B7:$B34,'31'!N7:N34,TRUE)","v":45.49},{"$f":"LinInterpolate(E63,'31'!$B7:$B34,'31'!O7:O34,TRUE)","v":45.49},{"$f":"LinInterpolate(E63,'31'!$B7:$B34,'31'!P7:P34,TRUE)","v":45.49},45.49,{"$f":"IF(E63<'19'!B34,Y63-AA63,0)","v":0},{"$f":"IF(E63=0,0,IF(E63<'31'!B34,LinInterpolate($G$169,$R$23:$X$23,R63:X63,TRUE),Y63))","v":45.49}]
[null,32,"W.B. 5 PS","SW",{"$f":"INDEX!E65","v":5.52},{"$f":"IF(G64<'32'!M118,LinInterpolate(G64,'32'!M7:M118,'32'!I7:I118,TRUE),100)","v":100},{"$f":"'INDEX (Corrected trim 3)'!AA64","v":23.67},{"$f":"LinInterpolate(F64,'32'!I7:I118,'32'!H7:H118,TRUE)","v":24.261749999999999},{"$f":"LinInterpolate(F64,'32'!I7:I118,'32'!C7:C118,TRUE)","v":21},{"$f":"LinInterpolate(F64,'32'!I7:I118,'32'!D7:D118,TRUE)","v":7.8},{"$f":"LinInterpolate(F64,'32'!I7:I118,'32'!E7:E118,TRUE)","v":4.04},null,509.49674999999996,189.24164999999999,98.017470000000003,{"$f":"IF(LinInterpolate(F64,'32'!I7:I118,'32'!F7:F118,TRUE)>0,LinInterpolate(F64,'32'!I7:I118,'32'!F7:F118,TRUE),0)","v":0},null,{"$f":"LinInterpolate(E64,'32'!$B7:$B118,'32'!J7:J118,TRUE)","v":23.41},{"$f":"LinInterpolate(E64,'32'!$B7:$B118,'32'!K7:K118,TRUE)","v":23.5},{"$f":"LinInterpolate(E64,'32'!$B7:$B118,'32'!L7:L118,TRUE)","v":23.58},{"$f":"LinInterpolate(E64,'32'!$B7:$B118,'32'!M7:M118,TRUE)","v":23.67},{"$f":"LinInterpolate(E64,'32'!$B7:$B118,'32'!N7:N118,TRUE)","v":23.67},{"$f":"LinInterpolate(E64,'32'!$B7:$B118,'32'!O7:O118,TRUE)","v":23.67},{"$f":"LinInterpolate(E64,'32'!$B7:$B118,'32'!P7:P118,TRUE)","v":23.67},23.67,{"$f":"IF(E64<'19'!B118,Y64-AA64,0)","v":0},{"$f":"IF(E64=0,0,IF(E64<'32'!B118,LinInterpolate($G$169,$R$23:$X$23,R64:X64,TRUE),Y64))","v":23.67}]
[null,33,"W.B. 5 SB","SW",{"$f":"INDEX!E66","v":5.52},{"$f":"IF(G65<'33'!M118,LinInterpolate(G65,'33'!M7:M118,'33'!I7:I118,TRUE),100)","v":100},{"$f":"'INDEX (Corrected trim 3)'!AA65","v":23.67},{"$f":"LinInterpolate(F65,'33'!I7:I118,'33'!H7:H118,TRUE)","v":24.261749999999999},{"$f":"LinInterpolate(F65,'33'!I7:I118,'33'!C7:C118,TRUE)","v":21},{"$f":"LinInterpolate(F65,'33'!I7:I118,'33'!D7:D118,TRUE)","v":-7.8},{"$f":"LinInterpolate(F65,'33'!I7:I118,'33'!E7:E118,TRUE)","v":4.04},null,509.49674999999996,-189.24164999999999,98.017470000000003,{"$f":"IF(LinInterpolate(F65,'33'!I7:I118,'33'!F7:F118,TRUE)>0,LinInterpolate(F65,'33'!I7:I118,'33'!F7:F118,TRUE),0)","v":0},null,{"$f":"LinInterpolate(E65,'33'!$B7:$B118,'33'!J7:J118,TRUE)","v":23.41},{"$f":"LinInterpolate(E65,'33'!$B7:$B118,'33'!K7:K118,TRUE)","v":23.5},{"$f":"LinInterpolate(E65,'33'!$B7:$B118,'33'!L7:L118,TRUE)","v":23.58},{"$f":"LinInterpolate(E65,'33'!$B7:$B118,'33'!M7:M118,TRUE)","v":23.67},{"$f":"LinInterpolate(E65,'33'!$B7:$B118,'33'!N7:N118,TRUE)","v":23.67},{"$f":"LinInterpolate(E65,'33'!$B7:$B118,'33'!O7:O118,TRUE)","v":23.67},{"$f":"LinInterpolate(E65,'33'!$B7:$B118,'33'!P7:P118,TRUE)","v":23.67},23.67,{"$f":"IF(E65<'19'!B118,Y65-AA65,0)","v":0},{"$f":"IF(E65=0,0,IF(E65<'33'!B118, LinInterpolate($G$169,$R$23:$X$23,R65:X65,TRUE),Y65))","v":23.67}]
[null,34,"W.B. 5 PS DB","SW",{"$f":"INDEX!E67","v":1.35},{"$f":"IF(G66<'34'!M34,LinInterpolate(G66,'34'!M7:M34,'34'!I7:I34,TRUE),100)","v":100},{"$f":"'INDEX (Corrected trim 3)'!AA66","v":40.159999999999997},{"$f":"LinInterpolate(F66,'34'!I7:I34,'34'!H7:H34,TRUE)","v":41.163999999999994},{"$f":"LinInterpolate(F66,'34'!I7:I34,'34'!C7:C34,TRUE)","v":21},{"$f":"LinInterpolate(F66,'34'!I7:I34,'34'!D7:D34,TRUE)","v":4.1500000000000004},{"$f":"LinInterpolate(F66,'34'!I7:I34,'34'!E7:E34,TRUE)","v":0.56000000000000005},null,864.44399999999985,170.8306,23.051839999999999,{"$f":"IF(LinInterpolate(F66,'34'!I7:I34,'34'!F7:F34,TRUE)>0,LinInterpolate(F66,'34'!I7:I34,'34'!F7:F34,TRUE),0)","v":0},null,{"$f":"LinInterpolate(E66,'34'!$B7:$B34,'34'!J7:J34,TRUE)","v":40.14},{"$f":"LinInterpolate(E66,'34'!$B7:$B34,'34'!K7:K34,TRUE)","v":40.159999999999997},{"$f":"LinInterpolate(E66,'34'!$B7:$B34,'34'!L7:L34,TRUE)","v":40.159999999999997},{"$f":"LinInterpolate(E66,'34'!$B7:$B34,'34'!M7:M34,TRUE)","v":40.159999999999997},{"$f":"LinInterpolate(E66,'34'!$B7:$B34,'34'!N7:N34,TRUE)","v":40.159999999999997},{"$f":"LinInterpolate(E66,'34'!$B7:$B34,'34'!O7:O34,TRUE)","v":40.159999999999997},{"$f":"LinInterpolate(E66,'34'!$B7:$B34,'34'!P7:P34,TRUE)","v":40.159999999999997},40.159999999999997,{"$f":"IF(E66<'19'!B34,Y66-AA66,0)","v":0},{"$f":"IF(E66=0,0,IF(E66<'34'!B34,LinInterpolate($G$169,$R$23:$X$23,R66:X66,TRUE),Y66))","v":40.159999999999997}]
[null,35,"W.B. 5 SB DB","SW",{"$f":"INDEX!E68","v":1.35},{"$f":"IF(G67<'35'!M34,LinInterpolate(G67,'35'!M7:M34,'35'!I7:I34,TRUE),100)","v":100},{"$f":"'INDEX (Corrected trim 3)'!AA67","v":40.159999999999997},{"$f":"LinInterpolate(F67,'35'!I7:I34,'35'!H7:H34,TRUE)","v":41.163999999999994},{"$f":"LinInterpolate(F67,'35'!I7:I34,'35'!C7:C34,TRUE)","v":21},{"$f":"LinInterpolate(F67,'35'!I7:I34,'35'!D7:D34,TRUE)","v":-4.1500000000000004},{"$f":"LinInterpolate(F67,'35'!I7:I34,'35'!E7:E34,TRUE)","v":0.56000000000000005},null,{"$f":"$H67*I67","v":864.44399999999985},-170.8306,23.051839999999999,{"$f":"IF(LinInterpolate(F67,'35'!I7:I34,'35'!F7:F34,TRUE)>0,LinInterpolate(F67,'35'!I7:I34,'35'!F7:F34,TRUE),0)","v":0},null,{"$f":"LinInterpolate(E67,'35'!$B7:$B34,'35'!J7:J34,TRUE)","v":40.14},{"$f":"LinInterpolate(E67,'35'!$B7:$B34,'35'!K7:K34,TRUE)","v":40.159999999999997},{"$f":"LinInterpolate(E67,'35'!$B7:$B34,'35'!L7:L34,TRUE)","v":40.159999999999997},{"$f":"LinInterpolate(E67,'35'!$B7:$B34,'35'!M7:M34,TRUE)","v":40.159999999999997},{"$f":"LinInterpolate(E67,'35'!$B7:$B34,'35'!N7:N34,TRUE)","v":40.159999999999997},{"$f":"LinInterpolate(E67,'35'!$B7:$B34,'35'!O7:O34,TRUE)","v":40.159999999999997},{"$f":"LinInterpolate(E67,'35'!$B7:$B34,'35'!P7:P34,TRUE)","v":40.159999999999997},40.159999999999997,{"$f":"IF(E67<'19'!B34,Y67-AA67,0)","v":0},{"$f":"IF(E67=0,0,IF(E67<'35'!B34,LinInterpolate($G$169,$R$23:$X$23,R67:X67,TRUE),Y67))","v":40.159999999999997}]
[null,36,"W.B. 6 PS","SW",{"$f":"INDEX!E69","v":5.51},{"$f":"IF(G68<'36'!M118,LinInterpolate(G68,'36'!M7:M118,'36'!I7:I118,TRUE),100)","v":100},{"$f":"'INDEX (Corrected trim 3)'!AA68","v":22.31},{"$f":"LinInterpolate(F68,'36'!I7:I118,'36'!H7:H118,TRUE)","v":22.857499999999998},{"$f":"LinInterpolate(F68,'36'!I7:I118,'36'!C7:C118,TRUE)","v":16.260000000000002},{"$f":"LinInterpolate(F68,'36'!I7:I118,'36'!D7:D118,TRUE)","v":7.79},{"$f":"LinInterpolate(F68,'36'!I7:I118,'36'!E7:E118,TRUE)","v":4.21},null,371.66295000000002,178.05992499999999,96.230074999999985,{"$f":"IF(LinInterpolate(F68,'36'!I7:I118,'36'!F7:F118,TRUE)>0,LinInterpolate(F68,'36'!I7:I118,'36'!F7:F118,TRUE),0)","v":0},null,{"$f":"LinInterpolate(E68,'36'!$B21:$B118,'36'!J21:J118,TRUE)","v":22.3},{"$f":"LinInterpolate(E68,'36'!$B21:$B118,'36'!K21:K118,TRUE)","v":22.3},{"$f":"LinInterpolate(E68,'36'!$B21:$B118,'36'!L21:L118,TRUE)","v":22.31},{"$f":"LinInterpolate(E68,'36'!$B21:$B118,'36'!M21:M118,TRUE)","v":22.31},{"$f":"LinInterpolate(E68,'36'!$B21:$B118,'36'!N21:N118,TRUE)","v":22.24},{"$f":"LinInterpolate(E68,'36'!$B21:$B118,'36'!O21:O118,TRUE)","v":22.17},{"$f":"LinInterpolate(E68,'36'!$B21:$B118,'36'!P21:P118,TRUE)","v":22.1},22.31,{"$f":"IF(E68<'19'!B118,Y68-AA68,0)","v":0},{"$f":"IF(E68=0,0,IF(E68<'36'!B118,LinInterpolate($G$169,$R$23:$X$23,R68:X68,TRUE),Y68))","v":22.31}]
[null,37,"W.B. 6 SB","SW",{"$f":"INDEX!E70","v":5.51},{"$f":"IF(G69<'37'!M118,LinInterpolate(G69,'37'!M7:M118,'37'!I7:I118,TRUE),100)","v":100},{"$f":"'INDEX (Corrected trim 3)'!AA69","v":22.31},{"$f":"LinInterpolate(F69,'37'!I7:I118,'37'!H7:H118,TRUE)","v":22.857499999999998},{"$f":"LinInterpolate(F69,'37'!I7:I118,'37'!C7:C118,TRUE)","v":16.260000000000002},{"$f":"LinInterpolate(F69,'37'!I7:I118,'37'!D7:D118,TRUE)","v":-7.79},{"$f":"LinInterpolate(F69,'37'!I7:I118,'37'!E7:E118,TRUE)","v":4.21},null,371.66295000000002,-178.05992499999999,96.230074999999985,{"$f":"IF(LinInterpolate(F69,'37'!I7:I118,'37'!F7:F118,TRUE)>0,LinInterpolate(F69,'37'!I7:I118,'37'!F7:F118,TRUE),0)","v":0},null,{"$f":"LinInterpolate(E69,'37'!$B7:$B118,'37'!J7:J118,TRUE)","v":22.3},{"$f":"LinInterpolate(E69,'37'!$B7:$B118,'37'!K7:K118,TRUE)","v":22.3},{"$f":"LinInterpolate(E69,'37'!$B7:$B118,'37'!L7:L118,TRUE)","v":22.3},{"$f":"LinInterpolate(E69,'37'!$B7:$B118,'37'!M7:M118,TRUE)","v":22.31},{"$f":"LinInterpolate(E69,'37'!$B7:$B118,'37'!N7:N118,TRUE)","v":22.24},{"$f":"LinInterpolate(E69,'37'!$B7:$B118,'37'!O7:O118,TRUE)","v":22.18},{"$f":"LinInterpolate(E69,'37'!$B7:$B118,'37'!P7:P118,TRUE)","v":22.11},22.31,{"$f":"IF(E69<'19'!B118,Y69-AA69,0)","v":0},{"$f":"IF(E69=0,0,IF(E69<'37'!B118,LinInterpolate($G$169,$R$23:$X$23,R69:X69,TRUE),Y69))","v":22.31}]
[null,38,"W.B. 6 PS DB","SW",{"$f":"INDEX!E71","v":2.2000000000000002},{"$f":"IF(G70<'38'!M51,LinInterpolate(G70,'38'!M7:M51,'38'!I7:I51,TRUE),100)","v":100},{"$f":"'INDEX (Corrected trim 3)'!AA70","v":39.67},{"$f":"LinInterpolate(F70,'38'!I7:I51,'38'!H7:H51,TRUE)","v":40.661749999999998},{"$f":"LinInterpolate(F70,'38'!I7:I51,'38'!C7:C51,TRUE)","v":16.2},{"$f":"LinInterpolate(F70,'38'!I7:I51,'38'!D7:D51,TRUE)","v":4.16},{"$f":"LinInterpolate(F70,'38'!I7:I51,'38'!E7:E51,TRUE)","v":0.63},null,658.72034999999994,169.15288000000001,25.616902499999998,{"$f":"IF(LinInterpolate(F70,'38'!I7:I51,'38'!F7:F51,TRUE)>0,LinInterpolate(F70,'38'!I7:I51,'38'!F7:F51,TRUE),0)","v":0},null,{"$f":"LinInterpolate(E70,'38'!$B7:$B51,'38'!J7:J51,TRUE)","v":39.67},{"$f":"LinInterpolate(E70,'38'!$B7:$B51,'38'!K7:K51,TRUE)","v":39.67},{"$f":"LinInterpolate(E70,'38'!$B7:$B51,'38'!L7:L51,TRUE)","v":39.67},{"$f":"LinInterpolate(E70,'38'!$B7:$B51,'38'!M7:M51,TRUE)","v":39.67},{"$f":"LinInterpolate(E70,'38'!$B7:$B51,'38'!N7:N51,TRUE)","v":39.659999999999997},{"$f":"LinInterpolate(E70,'38'!$B7:$B51,'38'!O7:O51,TRUE)","v":39.659999999999997},{"$f":"LinInterpolate(E70,'38'!$B7:$B51,'38'!P7:P51,TRUE)","v":39.65},39.67,{"$f":"IF(E70<'19'!B51,Y70-AA70,0)","v":0},{"$f":"IF(E70=0,0,IF(E70<'38'!B51, LinInterpolate($G$169,$R$23:$X$23,R70:X70,TRUE),Y70))","v":39.67}]
[null,39,"W.B. 6 SB DB","SW",{"$f":"INDEX!E72","v":2.2000000000000002},{"$f":"IF(G71<'39'!M51,LinInterpolate(G71,'39'!M7:M51,'39'!I7:I51,TRUE),100)","v":100},{"$f":"'INDEX (Corrected trim 3)'!AA71","v":39.67},{"$f":"LinInterpolate(F71,'39'!I7:I51,'39'!H7:H51,TRUE)","v":40.661749999999998},{"$f":"LinInterpolate(F71,'39'!I7:I51,'39'!C7:C51,TRUE)","v":16.2},{"$f":"LinInterpolate(F71,'39'!I7:I51,'39'!D7:D51,TRUE)","v":-4.16},{"$f":"LinInterpolate(F71,'39'!I7:I51,'39'!E7:E51,TRUE)","v":0.63},null,658.72034999999994,-169.15288000000001,25.616902499999998,{"$f":"IF(LinInterpolate(F71,'39'!I7:I51,'39'!F7:F51,TRUE)>0,LinInterpolate(F71,'39'!I7:I51,'39'!F7:F51,TRUE),0)","v":0},null,{"$f":"LinInterpolate(E71,'39'!$B7:$B51,'39'!J7:J51,TRUE)","v":39.67},{"$f":"LinInterpolate(E71,'39'!$B7:$B51,'39'!K7:K51,TRUE)","v":39.67},{"$f":"LinInterpolate(E71,'39'!$B7:$B51,'39'!L7:L51,TRUE)","v":39.67},{"$f":"LinInterpolate(E71,'39'!$B7:$B51,'39'!M7:M51,TRUE)","v":39.67},{"$f":"LinInterpolate(E71,'39'!$B7:$B51,'39'!N7:N51,TRUE)","v":39.659999999999997},{"$f":"LinInterpolate(E71,'39'!$B7:$B51,'39'!O7:O51,TRUE)","v":39.659999999999997},{"$f":"LinInterpolate(E71,'39'!$B7:$B51,'39'!P7:P51,TRUE)","v":39.659999999999997},39.67,{"$f":"IF(E71<'19'!B51,Y71-AA71,0)","v":0},{"$f":"IF(E71=0,0,IF(E71<'39'!B51, LinInterpolate($G$169,$R$23:$X$23,R71:X71,TRUE),Y71))","v":39.67}]
[null,40,"W.B. 7 PS","SW",{"$f":"INDEX!E73","v":4.6399999999999997},{"$f":"IF(G72<'40'!M100,LinInterpolate(G72,'40'!M7:M100,'40'!I7:I100,TRUE),100)","v":100},{"$f":"'INDEX (Corrected trim 3)'!AA72","v":17.48},{"$f":"LinInterpolate(F72,'40'!I7:I100,'40'!H7:H100,TRUE)","v":17.916999999999998},{"$f":"LinInterpolate(F72,'40'!I7:I100,'40'!C7:C100,TRUE)","v":11.34},{"$f":"LinInterpolate(F72,'40'!I7:I100,'40'!D7:D100,TRUE)","v":7.79},{"$f":"LinInterpolate(F72,'40'!I7:I100,'40'!E7:E100,TRUE)","v":4.92},null,203.17877999999999,139.57342999999997,88.151639999999986,{"$f":"IF(LinInterpolate(F72,'40'!I7:I100,'40'!F7:F100,TRUE)>0,LinInterpolate(F72,'40'!I7:I100,'40'!F7:F100,TRUE),0)","v":0},null,{"$f":"LinInterpolate(E72,'40'!$B7:$B100,'40'!J7:J100,TRUE)","v":17.48},{"$f":"LinInterpolate(E72,'40'!$B7:$B100,'40'!K7:K100,TRUE)","v":17.48},{"$f":"LinInterpolate(E72,'40'!$B7:$B100,'40'!L7:L100,TRUE)","v":17.48},{"$f":"LinInterpolate(E72,'40'!$B7:$B100,'40'!M7:M100,TRUE)","v":17.48},{"$f":"LinInterpolate(E72,'40'!$B7:$B100,'40'!N7:N100,TRUE)","v":17.37},{"$f":"LinInterpolate(E72,'40'!$B7:$B100,'40'!O7:O100,TRUE)","v":17.260000000000002},{"$f":"LinInterpolate(E72,'40'!$B7:$B100,'40'!P7:P100,TRUE)","v":17.149999999999999},17.48,{"$f":"IF(E72<'19'!B100,Y72-AA72,0)","v":0},{"$f":"IF(E72=0,0,IF(E72<'40'!B100,LinInterpolate($G$169,$R$23:$X$23,R72:X72,TRUE),Y72))","v":17.48}]
[null,41,"W.B. 7 SB","SW",{"$f":"INDEX!E74","v":4.6399999999999997},{"$f":"IF(G73<'41'!M100,LinInterpolate(G73,'41'!M7:M100,'41'!I7:I100,TRUE),100)","v":100},{"$f":"'INDEX (Corrected trim 3)'!AA73","v":17.48},{"$f":"LinInterpolate(F73,'41'!I7:I100,'41'!H7:H100,TRUE)","v":17.916999999999998},{"$f":"LinInterpolate(F73,'41'!I7:I100,'41'!C7:C100,TRUE)","v":11.34},{"$f":"LinInterpolate(F73,'41'!I7:I100,'41'!D7:D100,TRUE)","v":-7.79},{"$f":"LinInterpolate(F73,'41'!I7:I100,'41'!E7:E100,TRUE)","v":4.92},null,203.17877999999999,-139.57342999999997,88.151639999999986,{"$f":"IF(LinInterpolate(F73,'41'!I7:I100,'41'!F7:F100,TRUE)>0,LinInterpolate(F73,'41'!I7:I100,'41'!F7:F100,TRUE),0)","v":0},null,{"$f":"LinInterpolate(E73,'41'!$B7:$B100,'41'!J7:J100,TRUE)","v":17.48},{"$f":"LinInterpolate(E73,'41'!$B7:$B100,'41'!K7:K100,TRUE)","v":17.48},{"$f":"LinInterpolate(E73,'41'!$B7:$B100,'41'!L7:L100,TRUE)","v":17.48},{"$f":"LinInterpolate(E73,'41'!$B7:$B100,'41'!M7:M100,TRUE)","v":17.48},{"$f":"LinInterpolate(E73,'41'!$B7:$B100,'41'!N7:N100,TRUE)","v":17.37},{"$f":"LinInterpolate(E73,'41'!$B7:$B100,'41'!O7:O100,TRUE)","v":17.260000000000002},{"$f":"LinInterpolate(E73,'41'!$B7:$B100,'41'!P7:P100,TRUE)","v":17.149999999999999},17.48,{"$f":"IF(E73<'19'!B100,Y73-AA73,0)","v":0},{"$f":"IF(E73=0,0,IF(E73<'41'!B100, LinInterpolate($G$169,$R$23:$X$23,R73:X73,TRUE),Y73))","v":17.48}]
[null,42,"W.B. 7 PS DB","SW",{"$f":"INDEX!E75","v":4.55},{"$f":"IF(G74<'42'!M98,LinInterpolate(G74,'42'!M7:M98,'42'!I7:I98,TRUE),100)","v":100},{"$f":"'INDEX (Corrected trim 3)'!AA74","v":35.4},{"$f":"LinInterpolate(F74,'42'!I7:I98,'42'!H7:H98,TRUE)","v":36.284999999999997},{"$f":"LinInterpolate(F74,'42'!I7:I98,'42'!C7:C98,TRUE)","v":10.63},{"$f":"LinInterpolate(F74,'42'!I7:I98,'42'!D7:D98,TRUE)","v":5.9},{"$f":"LinInterpolate(F74,'42'!I7:I98,'42'!E7:E98,TRUE)","v":1.98},null,385.70954999999998,214.08150000000001,71.84429999999999,{"$f":"IF(LinInterpolate(F74,'42'!I7:I98,'42'!F7:F98,TRUE)>0,LinInterpolate(F74,'42'!I7:I98,'42'!F7:F98,TRUE),0)","v":0},null,{"$f":"LinInterpolate(E74,'42'!$B7:$B98,'42'!J7:J98,TRUE)","v":35.4},{"$f":"LinInterpolate(E74,'42'!$B7:$B98,'42'!K7:K98,TRUE)","v":35.4},{"$f":"LinInterpolate(E74,'42'!$B7:$B98,'42'!L7:L98,TRUE)","v":35.4},{"$f":"LinInterpolate(E74,'42'!$B7:$B98,'42'!M7:M98,TRUE)","v":35.4},{"$f":"LinInterpolate(E74,'42'!$B7:$B98,'42'!N7:N98,TRUE)","v":35.39},{"$f":"LinInterpolate(E74,'42'!$B7:$B98,'42'!O7:O98,TRUE)","v":35.39},{"$f":"LinInterpolate(E74,'42'!$B7:$B98,'42'!P7:P98,TRUE)","v":35.380000000000003},35.4,{"$f":"IF(E74<'19'!B98,Y74-AA74,0)","v":0},{"$f":"IF(E74=0,0,IF(E74<'42'!B98,LinInterpolate($G$169,$R$23:$X$23,R74:X74,TRUE),Y74))","v":35.4}]
[null,43,"W.B. 7 SB DB","SW",{"$f":"INDEX!E76","v":4.55},{"$f":"IF(G75<'43'!M98,LinInterpolate(G75,'43'!M7:M98,'43'!I7:I98,TRUE),100)","v":100},{"$f":"'INDEX (Corrected trim 3)'!AA75","v":35.4},{"$f":"LinInterpolate(F75,'43'!I7:I98,'43'!H7:H98,TRUE)","v":36.284999999999997},{"$f":"LinInterpolate(F75,'43'!I7:I98,'43'!C7:C98,TRUE)","v":10.63},{"$f":"LinInterpolate(F75,'43'!I7:I98,'43'!D7:D98,TRUE)","v":-5.9},{"$f":"LinInterpolate(F75,'43'!I7:I98,'43'!E7:E98,TRUE)","v":1.98},null,385.70954999999998,-214.08150000000001,71.84429999999999,{"$f":"IF(LinInterpolate(F75,'43'!I7:I98,'43'!F7:F98,TRUE)>0,LinInterpolate(F75,'43'!I7:I98,'43'!F7:F98,TRUE),0)","v":0},null,{"$f":"LinInterpolate(E75,'43'!$B7:$B98,'43'!J7:J98,TRUE)","v":35.4},{"$f":"LinInterpolate(E75,'43'!$B7:$B98,'43'!K7:K98,TRUE)","v":35.4},{"$f":"LinInterpolate(E75,'43'!$B7:$B98,'43'!L7:L98,TRUE)","v":35.4},{"$f":"LinInterpolate(E75,'43'!$B7:$B98,'43'!M7:M98,TRUE)","v":35.4},{"$f":"LinInterpolate(E75,'43'!$B7:$B98,'43'!N7:N98,TRUE)","v":35.39},{"$f":"LinInterpolate(E75,'43'!$B7:$B98,'43'!O7:O98,TRUE)","v":35.39},{"$f":"LinInterpolate(E75,'43'!$B7:$B98,'43'!P7:P98,TRUE)","v":35.380000000000003},35.4,{"$f":"IF(E75<'19'!B98,Y75-AA75,0)","v":0},{"$f":"IF(E75=0,0,IF(E75<'43'!B98,LinInterpolate($G$169,$R$23:$X$23,R75:X75,TRUE),Y75))","v":35.4}]
[null,44,"W.B. 8 PS DB","SW",{"$f":"INDEX!E77","v":2.7},{"$f":"IF(G76<'44'!M61,LinInterpolate(G76,'44'!M7:M61,'44'!I7:I61,TRUE),100)","v":100},{"$f":"'INDEX (Corrected trim 3)'!AA76","v":29.71},{"$f":"LinInterpolate(F76,'44'!I7:I61,'44'!H7:H61,TRUE)","v":30.452749999999998},{"$f":"LinInterpolate(F76,'44'!I7:I61,'44'!C7:C61,TRUE)","v":10.53},{"$f":"LinInterpolate(F76,'44'!I7:I61,'44'!D7:D61,TRUE)","v":1.47},{"$f":"LinInterpolate(F76,'44'!I7:I61,'44'!E7:E61,TRUE)","v":1.1100000000000001},null,320.66745749999995,44.765542499999995,33.802552500000004,{"$f":"IF(LinInterpolate(F76,'44'!I7:I61,'44'!F7:F61,TRUE)>0,LinInterpolate(F76,'44'!I7:I61,'44'!F7:F61,TRUE),0)","v":0},null,{"$f":"LinInterpolate(E76,'44'!$B7:$B61,'44'!J7:J61,TRUE)","v":29.71},{"$f":"LinInterpolate(E76,'44'!$B7:$B61,'44'!K7:K61,TRUE)","v":29.71},{"$f":"LinInterpolate(E76,'44'!$B7:$B61,'44'!L7:L61,TRUE)","v":29.71},{"$f":"LinInterpolate(E76,'44'!$B7:$B61,'44'!M7:M61,TRUE)","v":29.71},{"$f":"LinInterpolate(E76,'44'!$B7:$B61,'44'!N7:N61,TRUE)","v":29.7},{"$f":"LinInterpolate(E76,'44'!$B7:$B61,'44'!O7:O61,TRUE)","v":29.67},{"$f":"LinInterpolate(E76,'44'!$B7:$B61,'44'!P7:P61,TRUE)","v":29.59},29.71,{"$f":"IF(E76<'19'!B61,Y76-AA76,0)","v":0},{"$f":"IF(E76=0,0,IF(E76<'44'!B61,LinInterpolate($G$169,$R$23:$X$23,R76:X76,TRUE),Y76))","v":29.71}]
[null,45,"W.B. 8 SB DB","SW",{"$f":"INDEX!E78","v":2.7},{"$f":"IF(G77<'45'!M61,LinInterpolate(G77,'45'!M7:M61,'45'!I7:I61,TRUE),100)","v":100},{"$f":"'INDEX (Corrected trim 3)'!AA77","v":29.71},{"$f":"LinInterpolate(F77,'45'!I7:I61,'45'!H7:H61,TRUE)","v":30.452749999999998},{"$f":"LinInterpolate(F77,'45'!I7:I61,'45'!C7:C61,TRUE)","v":10.53},{"$f":"LinInterpolate(F77,'45'!I7:I61,'45'!D7:D61,TRUE)","v":-1.47},{"$f":"LinInterpolate(F77,'45'!I7:I61,'45'!E7:E61,TRUE)","v":1.1100000000000001},null,320.66745749999995,-44.765542499999995,33.802552500000004,{"$f":"IF(LinInterpolate(F77,'45'!I7:I61,'45'!F7:F61,TRUE)>0,LinInterpolate(F77,'45'!I7:I61,'45'!F7:F61,TRUE),0)","v":0},null,{"$f":"LinInterpolate(E77,'45'!$B7:$B61,'45'!J7:J61,TRUE)","v":29.71},{"$f":"LinInterpolate(E77,'45'!$B7:$B61,'45'!K7:K61,TRUE)","v":29.71},{"$f":"LinInterpolate(E77,'45'!$B7:$B61,'45'!L7:L61,TRUE)","v":29.71},{"$f":"LinInterpolate(E77,'45'!$B7:$B61,'45'!M7:M61,TRUE)","v":29.71},{"$f":"LinInterpolate(E77,'45'!$B7:$B61,'45'!N7:N61,TRUE)","v":29.7},{"$f":"LinInterpolate(E77,'45'!$B7:$B61,'45'!O7:O61,TRUE)","v":29.67},{"$f":"LinInterpolate(E77,'45'!$B7:$B61,'45'!P7:P61,TRUE)","v":29.59},29.71,{"$f":"IF(E77<'19'!B61,Y77-AA77,0)","v":0},{"$f":"IF(E77=0,0,IF(E77<'45'!B61, LinInterpolate($G$169,$R$23:$X$23,R77:X77,TRUE),Y77))","v":29.71}]
[null,null,"Total BW",null,null,{"$f":"(G78/1032)*100","v":100.00329457364339},{"$f":"SUM((G51:G77))","v":1032.0339999999997},{"$f":"SUM((H51:H77))","v":1057.8143499999999},{"$f":"M78/H78","v":22.744108122564228},{"$f":"N78/H78","v":-7.3606753396756736E-3},{"$f":"O78/H78","v":3.0813733728418415},null,{"$f":"SUM((M51:M77))","v":24059.043949999996},{"$f":"SUM((N51:N77))","v":-7.786228000000051},{"$f":"SUM((O51:O77))","v":3259.5209715000001},{"$f":"SUM((P51:P77))","v":0},null,null,null,null,null,null,null,null,null,{"$f":"SUM((Z51:Z77))","v":0},{"$f":"SUM((AA51:AA77))","v":1032.0339999999997}]
[]
[null,null,"FW (S.G. 1.000)",null,null,null,null,null,null,null,null,null,null,null,null,null,null,-1.5,-1,-0.5,0,0.5,1,1.5,"Volume","∆Volume","Volume2"]
[null,46,"F.W. 1 PS","FW",{"$f":"INDEX!E82","v":7.77},{"$f":"IF(G81<'46'!M163,LinInterpolate(G81,'46'!M7:M163,'46'!I7:I163,TRUE),100)","v":100},{"$f":"'INDEX (Corrected trim 3)'!AA81","v":73.349999999999994},{"$f":"LinInterpolate(F81,'46'!I7:I163,'46'!H7:H163,TRUE)","v":73.349999999999994},{"$f":"LinInterpolate(F81,'46'!I7:I163,'46'!C7:C163,TRUE)","v":47.04},{"$f":"LinInterpolate(F81,'46'!I7:I163,'46'!D7:D163,TRUE)","v":2.93},{"$f":"LinInterpolate(F81,'46'!I7:I163,'46'!E7:E163,TRUE)","v":4.93},null,{"$f":"$H81*I81","v":3450.3839999999996},214.91550000000001,361.61549999999994,{"$f":"IF(LinInterpolate(F81,'46'!I7:I163,'46'!F7:F163,TRUE)>0,LinInterpolate(F81,'46'!I7:I163,'46'!F7:F163,TRUE),0)","v":0},null,{"$f":"LinInterpolate(E81,'46'!$B7:$B163,'46'!J7:J163,TRUE)","v":72.150000000000006},{"$f":"LinInterpolate(E81,'46'!$B7:$B163,'46'!K7:K163,TRUE)","v":72.55},{"$f":"LinInterpolate(E81,'46'!$B7:$B163,'46'!L7:L163,TRUE)","v":72.95},{"$f":"LinInterpolate(E81,'46'!$B7:$B163,'46'!M7:M163,TRUE)","v":73.349999999999994},{"$f":"LinInterpolate(E81,'46'!$B7:$B163,'46'!N7:N163,TRUE)","v":73.349999999999994},{"$f":"LinInterpolate(E81,'46'!$B7:$B163,'46'!O7:O163,TRUE)","v":73.349999999999994},{"$f":"LinInterpolate(E81,'46'!$B7:$B163,'46'!P7:P163,TRUE)","v":73.349999999999994},{"$f":"G81","v":73.349999999999994},{"$f":"IF(E81<'19'!B163,Y81-AA81,0)","v":0},{"$f":"IF(E81=0,0,IF(E81<'46'!B163,LinInterpolate($G$169,$R$23:$X$23,R81:X81,TRUE),Y81))","v":73.349999999999994}]
[null,47,"F.W. 1 SB","FW",{"$f":"INDEX!E83","v":7.77},{"$f":"IF(G82<'47'!M163,LinInterpolate(G82,'47'!M7:M163,'47'!I7:I163,TRUE),100)","v":100},{"$f":"'INDEX (Corrected trim 3)'!AA82","v":73.349999999999994},{"$f":"LinInterpolate(F82,'47'!I7:I163,'47'!H7:H163,TRUE)","v":73.349999999999994},{"$f":"LinInterpolate(F82,'47'!I7:I163,'47'!C7:C163,TRUE)","v":47.05},{"$f":"LinInterpolate(F82,'47'!I7:I163,'47'!D7:D163,TRUE)","v":-2.93},{"$f":"LinInterpolate(F82,'47'!I7:I163,'47'!E7:E163,TRUE)","v":4.93},null,3451.1174999999994,-214.91550000000001,361.61549999999994,{"$f":"IF(LinInterpolate(F82,'47'!I7:I163,'47'!F7:F163,TRUE)>0,LinInterpolate(F82,'47'!I7:I163,'47'!F7:F163,TRUE),0)","v":0},null,{"$f":"LinInterpolate(E82,'47'!$B7:$B163,'47'!J7:J163,TRUE)","v":72.150000000000006},{"$f":"LinInterpolate(E82,'47'!$B7:$B163,'47'!K7:K163,TRUE)","v":72.55},{"$f":"LinInterpolate(E82,'47'!$B7:$B163,'47'!L7:L163,TRUE)","v":72.95},{"$f":"LinInterpolate(E82,'47'!$B7:$B163,'47'!M7:M163,TRUE)","v":73.349999999999994},{"$f":"LinInterpolate(E82,'47'!$B7:$B163,'47'!N7:N163,TRUE)","v":73.349999999999994},{"$f":"LinInterpolate(E82,'47'!$B7:$B163,'47'!O7:O163,TRUE)","v":73.349999999999994},{"$f":"LinInterpolate(E82,'47'!$B7:$B163,'47'!P7:P163,TRUE)","v":73.349999999999994},{"$f":"G82","v":73.349999999999994},{"$f":"IF(E82<'19'!B163,Y82-AA82,0)","v":0},{"$f":"IF(E82=0,0,IF(E82<'47'!B163, LinInterpolate($G$169,$R$23:$X$23,R82:X82,TRUE),Y82))","v":73.349999999999994}]
[null,48,"F.W. 1 C","FW",{"$f":"INDEX!E84","v":5.77},{"$f":"IF(G83<'48'!M123,LinInterpolate(G83,'48'!M7:M123,'48'!I7:I123,TRUE),100)","v":100},{"$f":"'INDEX (Corrected trim 3)'!AA83","v":103.64},{"$f":"LinInterpolate(F83,'48'!I7:I123,'48'!H7:H123,TRUE)","v":103.64},{"$f":"LinInterpolate(F83,'48'!I7:I123,'48'!C7:C123,TRUE)","v":15.61},{"$f":"LinInterpolate(F83,'48'!I7:I123,'48'!D7:D123,TRUE)","v":0},{"$f":"LinInterpolate(F83,'48'!I7:I123,'48'!E7:E123,TRUE)","v":3.91},null,1617.8204000000001,0,405.23240000000004,{"$f":"IF(LinInterpolate(F83,'48'!I7:I123,'48'!F7:F123,TRUE)>0,LinInterpolate(F83,'48'!I7:I123,'48'!F7:F123,TRUE),0)","v":0},null,{"$f":"LinInterpolate(E83,'48'!$B7:$B123,'48'!J7:J123,TRUE)","v":103.63},{"$f":"LinInterpolate(E83,'48'!$B7:$B123,'48'!K7:K123,TRUE)","v":103.64},{"$f":"LinInterpolate(E83,'48'!$B7:$B123,'48'!L7:L123,TRUE)","v":103.64},{"$f":"LinInterpolate(E83,'48'!$B7:$B123,'48'!M7:M123,TRUE)","v":103.64},{"$f":"LinInterpolate(E83,'48'!$B7:$B123,'48'!N7:N123,TRUE)","v":103.28},{"$f":"LinInterpolate(E83,'48'!$B7:$B123,'48'!O7:O123,TRUE)","v":102.93},{"$f":"LinInterpolate(E83,'48'!$B7:$B123,'48'!P7:P123,TRUE)","v":102.58},{"$f":"G83","v":103.64},{"$f":"IF(E83<'19'!B123,Y83-AA83,0)","v":0},{"$f":"IF(E83=0,0,IF(E83<'48'!B123, LinInterpolate($G$169,$R$23:$X$23,R83:X83,TRUE),Y83))","v":103.64}]
[null,49,"F.W. 2 PS","FW",{"$f":"INDEX!E85","v":5.8},{"$f":"IF(G84<'49'!M123,LinInterpolate(G84,'49'!M7:M123,'49'!I7:I123,TRUE),100)","v":100},{"$f":"'INDEX (Corrected trim 3)'!AA84","v":116.59},{"$f":"LinInterpolate(F84,'49'!I7:I123,'49'!H7:H123,TRUE)","v":116.59},{"$f":"LinInterpolate(F84,'49'!I7:I123,'49'!C7:C123,TRUE)","v":5.23},{"$f":"LinInterpolate(F84,'49'!I7:I123,'49'!D7:D123,TRUE)","v":4.01},{"$f":"LinInterpolate(F84,'49'!I7:I123,'49'!E7:E123,TRUE)","v":4.93},null,609.76570000000004,467.52589999999998,574.78869999999995,{"$f":"IF(LinInterpolate(F84,'49'!I7:I123,'49'!F7:F123,TRUE)>0,LinInterpolate(F84,'49'!I7:I123,'49'!F7:F123,TRUE),0)","v":0},null,{"$f":"LinInterpolate(E84,'49'!$B7:$B123,'49'!J7:J123,TRUE)","v":116.59},{"$f":"LinInterpolate(E84,'49'!$B7:$B123,'49'!K7:K123,TRUE)","v":116.59},{"$f":"LinInterpolate(E84,'49'!$B7:$B123,'49'!L7:L123,TRUE)","v":116.59},{"$f":"LinInterpolate(E84,'49'!$B7:$B123,'49'!M7:M123,TRUE)","v":116.59},{"$f":"LinInterpolate(E84,'49'!$B7:$B123,'49'!N7:N123,TRUE)","v":115.95},{"$f":"LinInterpolate(E84,'49'!$B7:$B123,'49'!O7:O123,TRUE)","v":115.32},{"$f":"LinInterpolate(E84,'49'!$B7:$B123,'49'!P7:P123,TRUE)","v":114.68},{"$f":"G84","v":116.59},{"$f":"IF(E84<'19'!B123,Y84-AA84,0)","v":0},{"$f":"IF(E84=0,0,IF(E84<'49'!B123,LinInterpolate($G$169,$R$23:$X$23,R84:X84,TRUE),Y84))","v":116.59}]
[null,50,"F.W. 2 SB","FW",{"$f":"INDEX!E86","v":5.8},{"$f":"IF(G85<'50'!M123,LinInterpolate(G85,'50'!M7:M123,'50'!I7:I123,TRUE),100)","v":100},{"$f":"'INDEX (Corrected trim 3)'!AA85","v":116.59},{"$f":"LinInterpolate(F85,'50'!I7:I123,'50'!H7:H123,TRUE)","v":116.59},{"$f":"LinInterpolate(F85,'50'!I7:I123,'50'!C7:C123,TRUE)","v":5.23},{"$f":"LinInterpolate(F85,'50'!I7:I123,'50'!D7:D123,TRUE)","v":-4.01},{"$f":"LinInterpolate(F85,'50'!I7:I123,'50'!E7:E123,TRUE)","v":4.93},null,609.76570000000004,-467.52589999999998,574.78869999999995,{"$f":"IF(LinInterpolate(F85,'50'!I7:I123,'50'!F7:F123,TRUE)>0,LinInterpolate(F85,'50'!I7:I123,'50'!F7:F123,TRUE),0)","v":0},null,{"$f":"LinInterpolate(E85,'50'!$B7:$B123,'50'!J7:J123,TRUE)","v":116.59},{"$f":"LinInterpolate(E85,'50'!$B7:$B123,'50'!K7:K123,TRUE)","v":116.59},{"$f":"LinInterpolate(E85,'50'!$B7:$B123,'50'!L7:L123,TRUE)","v":116.59},{"$f":"LinInterpolate(E85,'50'!$B7:$B123,'50'!M7:M123,TRUE)","v":116.59},{"$f":"LinInterpolate(E85,'50'!$B7:$B123,'50'!N7:N123,TRUE)","v":115.95},{"$f":"LinInterpolate(E85,'50'!$B7:$B123,'50'!O7:O123,TRUE)","v":115.32},{"$f":"LinInterpolate(E85,'50'!$B7:$B123,'50'!P7:P123,TRUE)","v":114.68},{"$f":"G85","v":116.59},{"$f":"IF(E85<'19'!B123,Y85-AA85,0)","v":0},{"$f":"IF(E85=0,0,IF(E85<'50'!B123,LinInterpolate($G$169,$R$23:$X$23,R85:X85,TRUE),Y85))","v":116.59}]
[null,null,"TOTAL FW ",null,null,{"$f":"(G86/483.5)*100","v":100.00413650465356},{"$f":"SUM((G81:G85))","v":483.52},{"$f":"SUM((H81:H85))","v":483.52},{"$f":"M86/H86","v":20.141572840833884},{"$f":"N86/H86","v":0},{"$f":"O86/H86","v":4.7113682991396422},null,{"$f":"SUM((M81:M85))","v":9738.8532999999989},{"$f":"SUM((N81:N85))","v":0},{"$f":"SUM((O81:O85))","v":2278.0407999999998},{"$f":"SUM((P81:P85))","v":0},null,null,null,null,null,null,null,null,null,{"$f":"SUM((Z81:Z85))","v":0},{"$f":"SUM((AA81:AA85))","v":483.52}]
[]
[null,"Sheet No.","Name","Sort of Fluid","Sounding Height","% Full","Volume","Weight","LCG","TCG","VCG",null,"Longitudinal","Transverse","Vertical","FSMt"]
[null,null,null,null,null," "," "," ","Fwd of AP","PS:+","Above BL",null,"Moment","Moment","Moment"," "]
[null,null,null,null,null,"%","m³","t","m","m","m",null,"t·m","t·m","t·m","t·m"]
[null,null,"MISC (S.G. Various)",null,null,null,null,null,null,null,null,null,null,null,null,null,null,-1.5,-1,-0.5,0,0.5,1,1.5,"Volume","∆Volume","Volume2"]
[null,51,"DIRTY OIL ","DIRTY",{"$f":"INDEX!E93","v":2},{"$f":"IF(G92<'51'!M27,LinInterpolate(G92,'51'!M7:M27,'51'!I7:I27,TRUE),100)","v":100},{"$f":"'INDEX (Corrected trim 3)'!AA92","v":13.43},{"$f":"LinInterpolate(F92,'51'!I7:I27,'51'!H7:H27,TRUE)","v":13.161399999999999},{"$f":"LinInterpolate(F92,'51'!I7:I27,'51'!C7:C27,TRUE)","v":36.93},{"$f":"LinInterpolate(F92,'51'!I7:I27,'51'!D7:D27,TRUE)","v":0},{"$f":"LinInterpolate(F92,'51'!I7:I27,'51'!E7:E27,TRUE)","v":0.5},null,{"$f":"$H92*I92","v":486.05050199999994},0,6.5806999999999993,{"$f":"IF(LinInterpolate(F92,'51'!I7:I27,'51'!F7:F27,TRUE)>0,LinInterpolate(F92,'51'!I7:I27,'51'!F7:F27,TRUE),0)","v":0},null,{"$f":"LinInterpolate(E92,'51'!$B7:$B27,'51'!J7:J27,TRUE)","v":24.639999999999997},{"$f":"LinInterpolate(E92,'51'!$B7:$B27,'51'!K7:K27,TRUE)","v":24.169999999999973},{"$f":"LinInterpolate(E92,'51'!$B7:$B27,'51'!L7:L27,TRUE)","v":22.029999999999987},{"$f":"LinInterpolate(E92,'51'!$B7:$B27,'51'!M7:M27,TRUE)","v":18.829999999999988},{"$f":"LinInterpolate(E92,'51'!$B7:$B27,'51'!N7:N27,TRUE)","v":15.829999999999982},{"$f":"LinInterpolate(E92,'51'!$B7:$B27,'51'!O7:O27,TRUE)","v":14.830000000000004},{"$f":"LinInterpolate(E92,'51'!$B7:$B27,'51'!P7:P27,TRUE)","v":14.630000000000008},{"$f":"G92","v":13.43},{"$f":"IF(E92<'19'!B27,Y92-AA92,0)","v":0},{"$f":"IF(E92=0,0,IF(E92<'51'!B27,LinInterpolate($G$169,$R$23:$X$23,R92:X92,TRUE),Y92))","v":13.43}]
[null,52,"OILY WATER ","OILY",{"$f":"INDEX!E94","v":2},{"$f":"IF(G93<'52'!M31,LinInterpolate(G93,'52'!M7:M31,'52'!I7:I31,TRUE),100)","v":100},{"$f":"'INDEX (Corrected trim 3)'!AA93","v":30.2},{"$f":"LinInterpolate(F93,'52'!I7:I31,'52'!H7:H31,TRUE)","v":29.596},{"$f":"LinInterpolate(F93,'52'!I7:I31,'52'!C7:C31,TRUE)","v":37.85},{"$f":"LinInterpolate(F93,'52'!I7:I31,'52'!D7:D31,TRUE)","v":-4.3},{"$f":"LinInterpolate(F93,'52'!I7:I31,'52'!E7:E31,TRUE)","v":0.56999999999999995},null,1120.2085999999999,-127.2628,16.869719999999997,{"$f":"IF(LinInterpolate(F93,'52'!I7:I31,'52'!F7:F31,TRUE)>0,LinInterpolate(F93,'52'!I7:I31,'52'!F7:F31,TRUE),0)","v":0},null,{"$f":"LinInterpolate(E93,'52'!$B7:$B31,'52'!J7:J31,TRUE)","v":38.539999999999978},{"$f":"LinInterpolate(E93,'52'!$B7:$B31,'52'!K7:K31,TRUE)","v":34.799999999999983},{"$f":"LinInterpolate(E93,'52'!$B7:$B31,'52'!L7:L31,TRUE)","v":31.479999999999972},{"$f":"LinInterpolate(E93,'52'!$B7:$B31,'52'!M7:M31,TRUE)","v":30.519999999999992},{"$f":"LinInterpolate(E93,'52'!$B7:$B31,'52'!N7:N31,TRUE)","v":30.2},{"$f":"LinInterpolate(E93,'52'!$B7:$B31,'52'!O7:O31,TRUE)","v":30.2},{"$f":"LinInterpolate(E93,'52'!$B7:$B31,'52'!P7:P31,TRUE)","v":30.2},30.2,{"$f":"IF(E93<'19'!B31,Y93-AA93,0)","v":0},{"$f":"IF(E93=0,0,IF(E93<'52'!B31, LinInterpolate($G$169,$R$23:$X$23,R93:X93,TRUE),Y93))","v":30.2}]
[null,53,"GREY WATER ","GREY",{"$f":"INDEX!E95","v":2},{"$f":"IF(G94<'53'!M27,LinInterpolate(G94,'53'!M7:M27,'53'!I7:I27,TRUE),100)","v":100},{"$f":"'INDEX (Corrected trim 3)'!AA94","v":31.1},{"$f":"LinInterpolate(F94,'53'!I7:I27,'53'!H7:H27,TRUE)","v":30.478000000000002},{"$f":"LinInterpolate(F94,'53'!I7:I27,'53'!C7:C27,TRUE)","v":41.56},{"$f":"LinInterpolate(F94,'53'!I7:I27,'53'!D7:D27,TRUE)","v":0},{"$f":"LinInterpolate(F94,'53'!I7:I27,'53'!E7:E27,TRUE)","v":0.5},null,1266.6656800000001,0,15.239000000000001,{"$f":"IF(LinInterpolate(F94,'53'!I7:I27,'53'!F7:F27,TRUE)>0,LinInterpolate(F94,'53'!I7:I27,'53'!F7:F27,TRUE),0)","v":0},null,{"$f":"LinInterpolate(E94,'53'!$B7:$B27,'53'!J7:J27,TRUE)","v":44.620000000000012},{"$f":"LinInterpolate(E94,'53'!$B7:$B27,'53'!K7:K27,TRUE)","v":44.389999999999951},{"$f":"LinInterpolate(E94,'53'!$B7:$B27,'53'!L7:L27,TRUE)","v":43.300000000000047},{"$f":"LinInterpolate(E94,'53'!$B7:$B27,'53'!M7:M27,TRUE)","v":43.500000000000007},{"$f":"LinInterpolate(E94,'53'!$B7:$B27,'53'!N7:N27,TRUE)","v":44.900000000000013},{"$f":"LinInterpolate(E94,'53'!$B7:$B27,'53'!O7:O27,TRUE)","v":45.959999999999987},{"$f":"LinInterpolate(E94,'53'!$B7:$B27,'53'!P7:P27,TRUE)","v":46.139999999999979},31.1,{"$f":"IF(E94<'19'!B27,Y94-AA94,0)","v":0},{"$f":"IF(E94=0,0,IF(E94<'53'!B27, LinInterpolate($G$169,$R$23:$X$23,R94:X94,TRUE),Y94))","v":31.1}]
[null,54,"SEWAGE ","SEWAGE",{"$f":"INDEX!E96","v":2},{"$f":"IF(G95<'54'!M31,LinInterpolate(G95,'54'!M7:M31,'54'!I7:I31,TRUE),100)","v":100},{"$f":"'INDEX (Corrected trim 3)'!AA95","v":30.2},{"$f":"LinInterpolate(F95,'54'!I7:I31,'54'!H7:H31,TRUE)","v":29.596},{"$f":"LinInterpolate(F95,'54'!I7:I31,'54'!C7:C31,TRUE)","v":37.85},{"$f":"LinInterpolate(F95,'54'!I7:I31,'54'!D7:D31,TRUE)","v":4.3},{"$f":"LinInterpolate(F95,'54'!I7:I31,'54'!E7:E31,TRUE)","v":0.56999999999999995},null,1120.2085999999999,127.2628,16.869719999999997,{"$f":"IF(LinInterpolate(F95,'54'!I7:I31,'54'!F7:F31,TRUE)>0,LinInterpolate(F95,'54'!I7:I31,'54'!F7:F31,TRUE),0)","v":0},null,{"$f":"LinInterpolate(E95,'54'!$B7:$B31,'54'!J7:J31,TRUE)","v":38.539999999999978},{"$f":"LinInterpolate(E95,'54'!$B7:$B31,'54'!K7:K31,TRUE)","v":34.799999999999983},{"$f":"LinInterpolate(E95,'54'!$B7:$B31,'54'!L7:L31,TRUE)","v":31.479999999999972},{"$f":"LinInterpolate(E95,'54'!$B7:$B31,'54'!M7:M31,TRUE)","v":30.519999999999992},{"$f":"LinInterpolate(E95,'54'!$B7:$B31,'54'!N7:N31,TRUE)","v":30.2},{"$f":"LinInterpolate(E95,'54'!$B7:$B31,'54'!O7:O31,TRUE)","v":30.2},{"$f":"LinInterpolate(E95,'54'!$B7:$B31,'54'!P7:P31,TRUE)","v":30.2},30.2,{"$f":"IF(E95<'19'!B31,Y95-AA95,0)","v":0},{"$f":"IF(E95=0,0,IF(E95<'54'!B31,LinInterpolate($G$169,$R$23:$X$23,R95:X95,TRUE),Y95))","v":30.2}]
[null,55,"SLUDGE ","SLUDGE",{"$f":"INDEX!E97","v":2},{"$f":"IF(G96<'55'!M27,LinInterpolate(G96,'55'!M7:M27,'55'!I7:I27,TRUE),100)","v":100},{"$f":"'INDEX (Corrected trim 3)'!AA96","v":19.05},{"$f":"LinInterpolate(F96,'55'!I7:I27,'55'!H7:H27,TRUE)","v":18.669},{"$f":"LinInterpolate(F96,'55'!I7:I27,'55'!C7:C27,TRUE)","v":31.5},{"$f":"LinInterpolate(F96,'55'!I7:I27,'55'!D7:D27,TRUE)","v":-1.8},{"$f":"LinInterpolate(F96,'55'!I7:I27,'55'!E7:E27,TRUE)","v":0.5},null,588.07349999999997,-33.604199999999999,9.3345000000000002,{"$f":"IF(LinInterpolate(F96,'55'!I7:I27,'55'!F7:F27,TRUE)>0,LinInterpolate(F96,'55'!I7:I27,'55'!F7:F27,TRUE),0)","v":0},null,{"$f":"LinInterpolate(E96,'55'!$B7:$B27,'55'!J7:J27,TRUE)","v":35.590000000000003},{"$f":"LinInterpolate(E96,'55'!$B7:$B27,'55'!K7:K27,TRUE)","v":35.409999999999982},{"$f":"LinInterpolate(E96,'55'!$B7:$B27,'55'!L7:L27,TRUE)","v":34.180000000000021},{"$f":"LinInterpolate(E96,'55'!$B7:$B27,'55'!M7:M27,TRUE)","v":26.649999999999974},{"$f":"LinInterpolate(E96,'55'!$B7:$B27,'55'!N7:N27,TRUE)","v":20.849999999999998},{"$f":"LinInterpolate(E96,'55'!$B7:$B27,'55'!O7:O27,TRUE)","v":20.050000000000015},{"$f":"LinInterpolate(E96,'55'!$B7:$B27,'55'!P7:P27,TRUE)","v":19.849999999999984},19.05,{"$f":"IF(E96<'19'!B27,Y96-AA96,0)","v":0},{"$f":"IF(E96=0,0,IF(E96<'55'!B27,LinInterpolate($G$169,$R$23:$X$23,R96:X96,TRUE),Y96))","v":19.05}]
[null,56,"LUBRICATION OIL PS","OIL",{"$f":"INDEX!E98","v":2},{"$f":"IF(G97<'56'!M47,LinInterpolate(G97,'56'!M7:M47,'56'!I7:I47,TRUE),100)","v":100},{"$f":"'INDEX (Corrected trim 3)'!AA97","v":10.58},{"$f":"LinInterpolate(F97,'56'!I7:I47,'56'!H7:H47,TRUE)","v":9.5220000000000002},{"$f":"LinInterpolate(F97,'56'!I7:I47,'56'!C7:C47,TRUE)","v":30.3},{"$f":"LinInterpolate(F97,'56'!I7:I47,'56'!D7:D47,TRUE)","v":-0.9},{"$f":"LinInterpolate(F97,'56'!I7:I47,'56'!E7:E47,TRUE)","v":5.8},null,288.51660000000004,-8.5698000000000008,55.227600000000002,{"$f":"IF(LinInterpolate(F97,'56'!I7:I47,'56'!F7:F47,TRUE)>0,LinInterpolate(F97,'56'!I7:I47,'56'!F7:F47,TRUE),0)","v":0},null,{"$f":"LinInterpolate(E97,'56'!$B7:$B47,'56'!J7:J47,TRUE)","v":10.594999999999999},{"$f":"LinInterpolate(E97,'56'!$B7:$B47,'56'!K7:K47,TRUE)","v":10.61},{"$f":"LinInterpolate(E97,'56'!$B7:$B47,'56'!L7:L47,TRUE)","v":10.64},{"$f":"LinInterpolate(E97,'56'!$B7:$B47,'56'!M7:M47,TRUE)","v":10.73},{"$f":"LinInterpolate(E97,'56'!$B7:$B47,'56'!N7:N47,TRUE)","v":10.684999999999999},{"$f":"LinInterpolate(E97,'56'!$B7:$B47,'56'!O7:O47,TRUE)","v":10.614999999999998},{"$f":"LinInterpolate(E97,'56'!$B7:$B47,'56'!P7:P47,TRUE)","v":10.530000000000003},10.58,{"$f":"IF(E97<'19'!B47,Y97-AA97,0)","v":0},{"$f":"IF(E97=0,0,IF(E97<'56'!B47, LinInterpolate($G$169,$R$23:$X$23,R97:X97,TRUE),Y97))","v":10.58}]
[null,57,"LUBRICATION OIL SB","OIL",{"$f":"INDEX!E99","v":2},{"$f":"IF(G98<'57'!M47,LinInterpolate(G98,'57'!M7:M47,'57'!I7:I47,TRUE),100)","v":100},{"$f":"'INDEX (Corrected trim 3)'!AA98","v":10.58},{"$f":"LinInterpolate(F98,'57'!I7:I47,'57'!H7:H47,TRUE)","v":9.5220000000000002},{"$f":"LinInterpolate(F98,'57'!I7:I47,'57'!C7:C47,TRUE)","v":30.3},{"$f":"LinInterpolate(F98,'57'!I7:I47,'57'!D7:D47,TRUE)","v":-2.7},{"$f":"LinInterpolate(F98,'57'!I7:I47,'57'!E7:E47,TRUE)","v":5.8},null,288.51660000000004,-25.709400000000002,55.227600000000002,{"$f":"IF(LinInterpolate(F98,'57'!I7:I47,'57'!F7:F47,TRUE)>0,LinInterpolate(F98,'57'!I7:I47,'57'!F7:F47,TRUE),0)","v":0},null,{"$f":"LinInterpolate(E98,'57'!$B7:$B47,'57'!J7:J47,TRUE)","v":10.594999999999999},{"$f":"LinInterpolate(E98,'57'!$B7:$B47,'57'!K7:K47,TRUE)","v":10.61},{"$f":"LinInterpolate(E98,'57'!$B7:$B47,'57'!L7:L47,TRUE)","v":10.64},{"$f":"LinInterpolate(E98,'57'!$B7:$B47,'57'!M7:M47,TRUE)","v":10.73},{"$f":"LinInterpolate(E98,'57'!$B7:$B47,'57'!N7:N47,TRUE)","v":10.684999999999999},{"$f":"LinInterpolate(E98,'57'!$B7:$B47,'57'!O7:O47,TRUE)","v":10.614999999999998},{"$f":"LinInterpolate(E98,'57'!$B7:$B47,'57'!P7:P47,TRUE)","v":10.530000000000003},10.58,{"$f":"IF(E98<'19'!B47,Y98-AA98,0)","v":0},{"$f":"IF(E98=0,0,IF(E98<'57'!B47,LinInterpolate($G$169,$R$23:$X$23,R98:X98,TRUE),Y98))","v":10.58}]
[null,58,"THERMAL OIL","OIL",{"$f":"INDEX!E100","v":2},{"$f":"IF(G99<'58'!M47,LinInterpolate(G99,'58'!M7:M47,'58'!I7:I47,TRUE),100)","v":100},{"$f":"'INDEX (Corrected trim 3)'!AA99","v":10.58},{"$f":"LinInterpolate(F99,'58'!I7:I47,'58'!H7:H47,TRUE)","v":10.368399999999999},{"$f":"LinInterpolate(F99,'58'!I7:I47,'58'!C7:C47,TRUE)","v":30.3},{"$f":"LinInterpolate(F99,'58'!I7:I47,'58'!D7:D47,TRUE)","v":0.9},{"$f":"LinInterpolate(F99,'58'!I7:I47,'58'!E7:E47,TRUE)","v":5.78},null,314.16251999999997,9.3315599999999996,59.929352000000002,{"$f":"IF(LinInterpolate(F99,'58'!I7:I47,'58'!F7:F47,TRUE)>0,LinInterpolate(F99,'58'!I7:I47,'58'!F7:F47,TRUE),0)","v":0},null,{"$f":"LinInterpolate(E99,'58'!$B7:$B47,'58'!J7:J47,TRUE)","v":10.58},{"$f":"LinInterpolate(E99,'58'!$B7:$B47,'58'!K7:K47,TRUE)","v":10.58},{"$f":"LinInterpolate(E99,'58'!$B7:$B47,'58'!L7:L47,TRUE)","v":10.58},{"$f":"LinInterpolate(E99,'58'!$B7:$B47,'58'!M7:M47,TRUE)","v":10.58},{"$f":"LinInterpolate(E99,'58'!$B7:$B47,'58'!N7:N47,TRUE)","v":10.58},{"$f":"LinInterpolate(E99,'58'!$B7:$B47,'58'!O7:O47,TRUE)","v":10.58},{"$f":"LinInterpolate(E99,'58'!$B7:$B47,'58'!P7:P47,TRUE)","v":10.58},10.58,{"$f":"IF(E99<'19'!B47,Y99-AA99,0)","v":0},{"$f":"IF(E99=0,0,IF(E99<'58'!B47, LinInterpolate($G$169,$R$23:$X$23,R99:X99,TRUE),Y99))","v":10.58}]
[null,null,"Total MISC",null,null,{"$f":"(G100/155.7)*100","v":100.01284521515738},{"$f":"SUM((G92:G99))","v":155.72000000000003},{"$f":"SUM((H92:H99))","v":150.9128},{"$f":"M100/H100","v":36.262017549207222},{"$f":"N100/H100","v":-0.38798458447527312},{"$f":"O100/H100","v":1.5590340381995429},null,{"$f":"SUM((M92:M99))","v":5472.4026020000001},{"$f":"SUM((N92:N99))","v":-58.551839999999999},{"$f":"SUM((O92:O99))","v":235.27819199999999},{"$f":"SUM((P92:P99))","v":0},null,null,null,null,null,null,null,null,null,{"$f":"SUM((Z92:Z99))","v":0},{"$f":"SUM((AA92:AA99))","v":155.72000000000003}]
[]
[null,null,"Total in all tanks",null,null,{"$f":"(G102/3086.976667)*100","v":97.529191355799654},{"$f":"G100+G86+G78+G45+G32","v":3010.7033806673162},{"$f":"H100+H86+H78+H45+H32","v":2963.6476173738924},{"$f":"M102/H102","v":22.294652881350018},{"$f":"N102/H102","v":-1.2433552418304E-2},{"$f":"O102/H102","v":3.6697937980142825},null,{"$f":"M100+M86+M78+M45+M32","v":66073.494891990966},{"$f":"N100+N86+N78+N45+N32","v":-36.848668000000046},{"$f":"O100+O86+O78+O45+O32","v":10875.975645738516},{"$f":"P100+P86+P78+P45+P32","v":13.984407371296962},null,null,null,null,null,null,null,null,null,{"$f":"Z100+Z86+Z78+Z45+Z32","v":0},{"$f":"AA100+AA86+AA78+AA45+AA32","v":3010.7033806673162}]
[]
[null,null,"Name",null,null,null,null,"Weight","LCG","TCG","VCG",null,"Longitudinal","Transverse","Vertical","FSMt"]
[null,null,null,null,null,null,null," ","Fwd of AP","PS:+","Above BL",null,"Moment","Moment","Moment"," "]
[null,null,null,null,null,null,null,"t","m","m","m",null,"t·m","t·m","t·m","t·m"]
[]
[null,null,"(DECK) LOADS"]
[null,null,"Name",null,null,null,null,"Weight","LCG","TCG","VCG",null,"Longitudinal","Transverse","Vertical","FSMt"]
[null,null,null,null,null,null,null," ","Fwd of AP","PS:+","Above BL",null,"Moment","Moment","Moment"," "]
[null,null,null,null,null,null,null,"t","m","m","m",null,"t·m","t·m","t·m","t·m"]
[null,null,{"$f":"INDEX!C113","v":"Deck load 1"},{"$f":"INDEX!#REF!","v":{"$error":"#REF!"}},{"$f":"INDEX!#REF!","v":{"$error":"#REF!"}},{"$f":"INDEX!#REF!","v":{"$error":"#REF!"}},{"$f":"INDEX!#REF!","v":{"$error":"#REF!"}},{"$f":"INDEX!H113","v":5},{"$f":"INDEX!I113","v":5},{"$f":"INDEX!J113","v":1},{"$f":"INDEX!K113","v":7},null,{"$f":"$H112*I112","v":25},{"$f":"$H112*J112","v":5},{"$f":"$H112*K112","v":35}]
[null,null,{"$f":"INDEX!C114","v":"Deck load 2"},{"$f":"INDEX!#REF!","v":{"$error":"#REF!"}},{"$f":"INDEX!#REF!","v":{"$error":"#REF!"}},{"$f":"INDEX!#REF!","v":{"$error":"#REF!"}},{"$f":"INDEX!#REF!","v":{"$error":"#REF!"}},{"$f":"INDEX!H114","v":5},{"$f":"INDEX!I114","v":5},{"$f":"INDEX!J114","v":-1},{"$f":"INDEX!K114","v":7},null,{"$f":"$H113*I113","v":25},{"$f":"$H113*J113","v":-5},{"$f":"$H113*K113","v":35}]
[null,null,{"$f":"INDEX!C115","v":"Deck load 3"},{"$f":"INDEX!#REF!","v":{"$error":"#REF!"}},{"$f":"INDEX!#REF!","v":{"$error":"#REF!"}},{"$f":"INDEX!#REF!","v":{"$error":"#REF!"}},{"$f":"INDEX!#REF!","v":{"$error":"#REF!"}},{"$f":"INDEX!H115","v":10},{"$f":"INDEX!I115","v":6},{"$f":"INDEX!J115","v":1},{"$f":"INDEX!K115","v":7},null,{"$f":"$H114*I114","v":60},{"$f":"$H114*J114","v":10},{"$f":"$H114*K114","v":70}]
[null,null,{"$f":"INDEX!C116","v":"Deck load 4"},{"$f":"INDEX!#REF!","v":{"$error":"#REF!"}},{"$f":"INDEX!#REF!","v":{"$error":"#REF!"}},{"$f":"INDEX!#REF!","v":{"$error":"#REF!"}},{"$f":"INDEX!#REF!","v":{"$error":"#REF!"}},{"$f":"INDEX!H116","v":10},{"$f":"INDEX!I116","v":6},{"$f":"INDEX!J116","v":-1},{"$f":"INDEX!K116","v":7},null,{"$f":"$H115*I115","v":60},{"$f":"$H115*J115","v":-10},{"$f":"$H115*K115","v":70}]
[null,null,{"$f":"INDEX!C117","v":"Deck load 5"},null,null,null,null,{"$f":"INDEX!H117","v":15},{"$f":"INDEX!I117","v":7},{"$f":"INDEX!J117","v":1},{"$f":"INDEX!K117","v":7},null,{"$f":"$H116*I116","v":105},{"$f":"$H116*J116","v":15},{"$f":"$H116*K116","v":105}]
[null,null,{"$f":"INDEX!C118","v":"Deck load 6"},null,null,null,null,{"$f":"INDEX!H118","v":15},{"$f":"INDEX!I118","v":7},{"$f":"INDEX!J118","v":-1},{"$f":"INDEX!K118","v":7},null,{"$f":"$H117*I117","v":105},{"$f":"$H117*J117","v":-15},{"$f":"$H117*K117","v":105}]
[null,null,{"$f":"INDEX!C119","v":"Deck load 7"},null,null,null,null,{"$f":"INDEX!H119","v":5},{"$f":"INDEX!I119","v":8},{"$f":"INDEX!J119","v":1},{"$f":"INDEX!K119","v":7},null,{"$f":"$H118*I118","v":40},{"$f":"$H118*J118","v":5},{"$f":"$H118*K118","v":35}]
[null,null,{"$f":"INDEX!C120","v":"Deck load 8"},null,null,null,null,{"$f":"INDEX!H120","v":5},{"$f":"INDEX!I120","v":8},{"$f":"INDEX!J120","v":-1},{"$f":"INDEX!K120","v":7},null,{"$f":"$H119*I119","v":40},{"$f":"$H119*J119","v":-5},{"$f":"$H119*K119","v":35}]
[]
[null,null,"Total Remaining",null,null,null,null,{"$f":"SUM(H112:H120)","v":70},{"$f":"M121/H121","v":6.5714285714285712},{"$f":"N121/H121","v":0},{"$f":"O121/H121","v":7},null,{"$f":"SUM(M112:M120)","v":460},{"$f":"SUM(N112:N120)","v":0},{"$f":"SUM(O112:O120)","v":490}]
[]
[]
[null,null,"Calculation Results"]
[null,null,null,null,null,null,"  "]
[null,null,"Ship weight",null,null,null,null,null,"LCG","TCG","VCG","Total Moments",null,null,null,"FSMt / ∆"]
[null,null,null,null,null,null,null,"t","m","m","m","t·m",null,"t·m","t·m","m"]
[null,null,"Displacement",null,null,null,null,{"$f":"H129+H21","v":4733.647617373892},{"$f":"L128/H128","v":24.829371426087601},{"$f":"N128/H128","v":-7.7844129894152868E-3},{"$f":"O128/H128","v":4.9150206196898729},{"$f":"L129+M21","v":117533.49489199097},null,{"$f":"N129+N21","v":-36.848668000000046},{"$f":"O129+O21","v":23265.975645738516},{"$f":"P102/H128","v":2.9542561047362368E-3}]
[null,null,"Total Deadweight",null,null,null,null,{"$f":"H121+H102","v":3033.6476173738924},{"$f":"L129/H129","v":21.931846833808059},{"$f":"N129/H129","v":-1.2146654011153236E-2},{"$f":"O129/H129","v":3.7466367486602108},{"$f":"M121+M102","v":66533.494891990966},null,{"$f":"N121+N102","v":-36.848668000000046},{"$f":"O121+O102","v":11365.975645738516}]
[]
[null,null,"Longitudinal Stability"]
[null,null,"Sheet used for calculation data:","Hydrostatics"]
[]
[null,null,"Trim","Draft","Displ.","LCB","VCB","ϕ","LCG'","LCB'","LCG'-LCB'",null,"LCF","KM"]
[null,null,null,"Moulded"," ","Fwd of AP",null,null,"LCG + tanϕ * VCG","LCB + tanϕ * VCB",null,null,"Fwd of AP"]
[null,null,"m","m","t","m","m","rad","m","m","m",null,"m","m"]
[null,null,-1.5,{"$f":"LinInterpolate(E137,Hydrostatics!D6:D86,Hydrostatics!C6:C86,TRUE)","v":6.6481864199444516},{"$f":"$H$128","v":4733.647617373892},{"$f":"LinInterpolate($E137,Hydrostatics!$D6:$D86,Hydrostatics!I6:I86,TRUE)","v":23.428186419944449},{"$f":"LinInterpolate($E137,Hydrostatics!$D6:$D86,Hydrostatics!J6:J86,TRUE)","v":3.6292745679777805},{"$f":"ATAN(C137/($G$172))","v":-2.8401451838560528E-2},{"$f":"$I$128+((TAN(H137))*$K$128)","v":24.689740158482774},{"$f":"F137+((TAN(H137))*G137)","v":23.325082028808716},{"$f":"I137-J137","v":1.3646581296740585},null,{"$f":"LinInterpolate($E137,Hydrostatics!$D6:$D86,Hydrostatics!K6:K86,TRUE)","v":33.981345435122321},{"$f":"LinInterpolate($E137,Hydrostatics!$D6:$D86,Hydrostatics!E6:E86,TRUE)","v":5.5743525921333177}]
[null,null,-1.4,{"$f":"LinInterpolate(E138,Hydrostatics!D88:D168,Hydrostatics!C88:C168,TRUE)","v":6.6344092413679743},4733.647617373892,{"$f":"LinInterpolate($E138,Hydrostatics!$D88:$D168,Hydrostatics!I88:I168,TRUE)","v":23.444409241367975},{"$f":"LinInterpolate($E138,Hydrostatics!$D88:$D168,Hydrostatics!J88:J168,TRUE)","v":3.6268818482735949},-2.6508940280468775E-2,24.69904890965643,23.348241919633448,1.3508069900229813,null,{"$f":"LinInterpolate($E138,Hydrostatics!$D88:$D168,Hydrostatics!K88:K168,TRUE)","v":33.576784165340399},{"$f":"LinInterpolate($E138,Hydrostatics!$D88:$D168,Hydrostatics!E88:E168,TRUE)","v":5.6442996689904561}]
[null,null,-1.3,{"$f":"LinInterpolate(E139,Hydrostatics!D170:D250,Hydrostatics!C170:C250,TRUE)","v":6.6211727631691986},4733.647617373892,{"$f":"LinInterpolate($E139,Hydrostatics!$D170:$D250,Hydrostatics!I170:I250,TRUE)","v":23.461172763169198},{"$f":"LinInterpolate($E139,Hydrostatics!$D170:$D250,Hydrostatics!J170:J250,TRUE)","v":3.6284691052676794},-2.4616238770206935E-2,24.708357660830085,23.371835455653137,1.3365222051769479,null,{"$f":"LinInterpolate($E139,Hydrostatics!$D170:$D250,Hydrostatics!K170:K250,TRUE)","v":33.24381339494709},{"$f":"LinInterpolate($E139,Hydrostatics!$D170:$D250,Hydrostatics!E170:E250,TRUE)","v":5.7049508157600837}]
[null,null,-1.2,{"$f":"LinInterpolate(E140,Hydrostatics!D252:D332,Hydrostatics!C252:C332,TRUE)","v":6.6085984157366235},4733.647617373892,{"$f":"LinInterpolate($E140,Hydrostatics!$D252:$D332,Hydrostatics!I252:I332,TRUE)","v":23.468598415736626},{"$f":"LinInterpolate($E140,Hydrostatics!$D252:$D332,Hydrostatics!J252:J332,TRUE)","v":3.6234393662946496},-2.2723360841641067E-2,24.717666412003741,23.386247521048112,1.3314188909556286,null,{"$f":"LinInterpolate($E140,Hydrostatics!$D252:$D332,Hydrostatics!K252:K332,TRUE)","v":32.828210849553884},{"$f":"LinInterpolate($E140,Hydrostatics!$D252:$D332,Hydrostatics!E252:E332,TRUE)","v":5.7776441190847772}]
[null,null,-1.1000000000000001,{"$f":"LinInterpolate(E141,Hydrostatics!D334:D414,Hydrostatics!C334:C414,TRUE)","v":6.5969400321738734},4733.647617373892,{"$f":"LinInterpolate($E141,Hydrostatics!$D334:$D414,Hydrostatics!I334:I414,TRUE)","v":23.487552025739099},{"$f":"LinInterpolate($E141,Hydrostatics!$D334:$D414,Hydrostatics!J334:J414,TRUE)","v":3.6287760128695492},-2.0830320036217088E-2,24.726975163177396,23.411952525470983,1.3150226377064129,null,{"$f":"LinInterpolate($E141,Hydrostatics!$D334:$D414,Hydrostatics!K334:K414,TRUE)","v":32.22900874643387},{"$f":"LinInterpolate($E141,Hydrostatics!$D334:$D414,Hydrostatics!E334:E414,TRUE)","v":5.8704038906088298},null," "]
[null,null,-1,{"$f":"LinInterpolate(E142,Hydrostatics!D416:D496,Hydrostatics!C416:C496,TRUE)","v":6.5868236870499848},4733.647617373892,{"$f":"LinInterpolate($E142,Hydrostatics!$D416:$D496,Hydrostatics!I416:I496,TRUE)","v":23.509458949639988},{"$f":"LinInterpolate($E142,Hydrostatics!$D416:$D496,Hydrostatics!J416:J496,TRUE)","v":3.6247294748199939},-1.8937129902380841E-2,24.736283914351048,23.440808770192639,1.2954751441584094,null,{"$f":"LinInterpolate($E142,Hydrostatics!$D416:$D496,Hydrostatics!K416:K496,TRUE)","v":31.525862701429645},{"$f":"LinInterpolate($E142,Hydrostatics!$D416:$D496,Hydrostatics!E416:E496,TRUE)","v":5.9874347266200525}]
[null,null,-0.89999999999999902,{"$f":"LinInterpolate(E143,Hydrostatics!D498:D578,Hydrostatics!C498:C578,TRUE)","v":6.5780886896458624},4733.647617373892,{"$f":"LinInterpolate($E143,Hydrostatics!$D498:$D578,Hydrostatics!I498:I578,TRUE)","v":23.532470951716693},{"$f":"LinInterpolate($E143,Hydrostatics!$D498:$D578,Hydrostatics!J498:J578,TRUE)","v":3.6256177379291725},-1.7043803994997404E-2,24.745592665524704,23.470670649365626,1.2749220161590777,null,{"$f":"LinInterpolate($E143,Hydrostatics!$D498:$D578,Hydrostatics!K498:K578,TRUE)","v":30.668278427305054},{"$f":"LinInterpolate($E143,Hydrostatics!$D498:$D578,Hydrostatics!E498:E578,TRUE)","v":6.1307920276290311}]
[null,null,-0.79999999999999905,{"$f":"LinInterpolate(E144,Hydrostatics!D580:D660,Hydrostatics!C580:C660,TRUE)","v":6.5710616678260516},4733.647617373892,{"$f":"LinInterpolate($E144,Hydrostatics!$D580:$D660,Hydrostatics!I580:I660,TRUE)","v":23.556849334260839},{"$f":"LinInterpolate($E144,Hydrostatics!$D580:$D660,Hydrostatics!J580:J660,TRUE)","v":3.628424667130421},-1.5150355874769794E-2,24.75490141669836,23.501873202940683,1.2530282137576769,null,{"$f":"LinInterpolate($E144,Hydrostatics!$D580:$D660,Hydrostatics!K580:K660,TRUE)","v":29.627706376694352},{"$f":"LinInterpolate($E144,Hydrostatics!$D580:$D660,Hydrostatics!E580:E660,TRUE)","v":6.3078423266088972}]
[null,null,-0.69999999999999896,{"$f":"LinInterpolate(E145,Hydrostatics!D662:D742,Hydrostatics!C662:C742,TRUE)","v":6.5660179835509158},4733.647617373892,{"$f":"LinInterpolate($E145,Hydrostatics!$D662:$D742,Hydrostatics!I662:I742,TRUE)","v":23.58961079013055},{"$f":"LinInterpolate($E145,Hydrostatics!$D662:$D742,Hydrostatics!J662:J742,TRUE)","v":3.6264071934203663},-1.3256799107656836E-2,24.764210167872015,23.541533422035961,1.2226767458360541,null,{"$f":"LinInterpolate($E145,Hydrostatics!$D662:$D742,Hydrostatics!K662:K742,TRUE)","v":28.391108551906093},{"$f":"LinInterpolate($E145,Hydrostatics!$D662:$D742,Hydrostatics!E662:E742,TRUE)","v":6.5106885019843208}]
[null,null,-0.59999999999999898,{"$f":"LinInterpolate(E146,Hydrostatics!D744:D824,Hydrostatics!C744:C824,TRUE)","v":6.5637178410544417},4733.647617373892,{"$f":"LinInterpolate($E146,Hydrostatics!$D744:$D824,Hydrostatics!I744:I824,TRUE)","v":23.628230704632667},{"$f":"LinInterpolate($E146,Hydrostatics!$D744:$D824,Hydrostatics!J744:J824,TRUE)","v":3.6254871364217771},-1.136314726429071E-2,24.773518919045671,23.587031987173329,1.1864869318723414,null,{"$f":"LinInterpolate($E146,Hydrostatics!$D744:$D824,Hydrostatics!K744:K824,TRUE)","v":26.754559279239015},{"$f":"LinInterpolate($E146,Hydrostatics!$D744:$D824,Hydrostatics!E744:E824,TRUE)","v":6.7839751126189043}]
[null,null,-0.5,{"$f":"LinInterpolate(E147,Hydrostatics!D826:D906,Hydrostatics!C826:C906,TRUE)","v":6.5648529023218476},4733.647617373892,{"$f":"LinInterpolate($E147,Hydrostatics!$D826:$D906,Hydrostatics!I826:I906,TRUE)","v":23.682970580464371},{"$f":"LinInterpolate($E147,Hydrostatics!$D826:$D906,Hydrostatics!J826:J906,TRUE)","v":3.6259411609287393},-9.4694139193938574E-3,24.782827670219326,23.648634016440425,1.134193653778901,null,{"$f":"LinInterpolate($E147,Hydrostatics!$D826:$D906,Hydrostatics!K826:K906,TRUE)","v":24.798791949559117},{"$f":"LinInterpolate($E147,Hydrostatics!$D826:$D906,Hydrostatics!E826:E906,TRUE)","v":7.1092944595677379}]
[null,null,-0.4,{"$f":"LinInterpolate(E148,Hydrostatics!D908:D988,Hydrostatics!C908:C988,TRUE)","v":6.5704042062487114},4733.647617373892,{"$f":"LinInterpolate($E148,Hydrostatics!$D908:$D988,Hydrostatics!I908:I988,TRUE)","v":23.751838317500514},{"$f":"LinInterpolate($E148,Hydrostatics!$D908:$D988,Hydrostatics!J908:J988,TRUE)","v":3.6222425237492266},-7.575612651195416E-3,24.792136421392982,23.724397086259991,1.0677393351329911,null,{"$f":"LinInterpolate($E148,Hydrostatics!$D908:$D988,Hydrostatics!K908:K988,TRUE)","v":22.672674328690459},{"$f":"LinInterpolate($E148,Hydrostatics!$D908:$D988,Hydrostatics!E908:E988,TRUE)","v":7.4530897150092796}]
[null,null,-0.3,{"$f":"LinInterpolate(E149,Hydrostatics!D990:D1070,Hydrostatics!C990:C1070,TRUE)","v":6.5785446141597879},4733.647617373892,{"$f":"LinInterpolate($E149,Hydrostatics!$D990:$D1070,Hydrostatics!I990:I1070,TRUE)","v":23.828582154336086},{"$f":"LinInterpolate($E149,Hydrostatics!$D990:$D1070,Hydrostatics!J990:J1070,TRUE)","v":3.621417845663915},-5.6817570408474469E-3,24.801445172566634,23.808005916576633,0.99343925599000116,null,{"$f":"LinInterpolate($E149,Hydrostatics!$D990:$D1070,Hydrostatics!K990:K1070,TRUE)","v":21.782835691327833},{"$f":"LinInterpolate($E149,Hydrostatics!$D990:$D1070,Hydrostatics!E990:E1070,TRUE)","v":7.61}]
[null,null,-0.2,{"$f":"LinInterpolate(E150,Hydrostatics!D1072:D1152,Hydrostatics!C1072:C1152,TRUE)","v":6.5872445139032489},4733.647617373892,{"$f":"LinInterpolate($E150,Hydrostatics!$D1072:$D1152,Hydrostatics!I1072:I1152,TRUE)","v":23.915102194438699},{"$f":"LinInterpolate($E150,Hydrostatics!$D1072:$D1152,Hydrostatics!J1072:J1152,TRUE)","v":3.6223467083419494},-3.7878606718406652E-3,24.81075392374029,23.901381184179829,0.90937273956046027,null,{"$f":"LinInterpolate($E150,Hydrostatics!$D1072:$D1152,Hydrostatics!K1072:K1152,TRUE)","v":21.819795611122597},{"$f":"LinInterpolate($E150,Hydrostatics!$D1072:$D1152,Hydrostatics!E1072:E1152,TRUE)","v":7.61}]
[null,null,-0.1,{"$f":"LinInterpolate(E151,Hydrostatics!D1154:D1234,Hydrostatics!C1154:C1234,TRUE)","v":6.5958961992965071},4733.647617373892,{"$f":"LinInterpolate($E151,Hydrostatics!$D1154:$D1234,Hydrostatics!I1154:I1234,TRUE)","v":24.001641520281396},{"$f":"LinInterpolate($E151,Hydrostatics!$D1154:$D1234,Hydrostatics!J1154:J1234,TRUE)","v":3.6183584797186032},-1.893937129420008E-3,24.820062674913945,23.994788568615263,0.82527410629868214,null,{"$f":"LinInterpolate($E151,Hydrostatics!$D1154:$D1234,Hydrostatics!K1154:K1234,TRUE)","v":21.856716959437204},{"$f":"LinInterpolate($E151,Hydrostatics!$D1154:$D1234,Hydrostatics!E1154:E1234,TRUE)","v":7.62}]
[null,null,0,{"$f":"LinInterpolate(E152,Hydrostatics!D1236:D1316,Hydrostatics!C1236:C1316,TRUE)","v":6.6044255800155742},4733.647617373892,{"$f":"LinInterpolate($E152,Hydrostatics!$D1236:$D1316,Hydrostatics!I1236:I1316,TRUE)","v":24.08822976799377},{"$f":"LinInterpolate($E152,Hydrostatics!$D1236:$D1316,Hydrostatics!J1236:J1316,TRUE)","v":3.6226553480093444},0,24.829371426087601,24.08822976799377,0.74114165809383081,null,{"$f":"LinInterpolate($E152,Hydrostatics!$D1236:$D1316,Hydrostatics!K1236:K1316,TRUE)","v":21.89354046401246},{"$f":"LinInterpolate($E152,Hydrostatics!$D1236:$D1316,Hydrostatics!E1236:E1316,TRUE)","v":7.62}]
[null,null,0.1,{"$f":"LinInterpolate(E153,Hydrostatics!D1318:D1398,Hydrostatics!C1318:C1398,TRUE)","v":6.6129167979573733},4733.647617373892,{"$f":"LinInterpolate($E153,Hydrostatics!$D1318:$D1398,Hydrostatics!I1318:I1398,TRUE)","v":24.174833280817051},{"$f":"LinInterpolate($E153,Hydrostatics!$D1318:$D1398,Hydrostatics!J1318:J1398,TRUE)","v":3.6177500787744239},1.893937129420008E-3,24.838680177261256,24.18168508020867,0.65699509705258663,null,{"$f":"LinInterpolate($E153,Hydrostatics!$D1318:$D1398,Hydrostatics!K1318:K1398,TRUE)","v":21.930333438365899},{"$f":"LinInterpolate($E153,Hydrostatics!$D1318:$D1398,Hydrostatics!E1318:E1398,TRUE)","v":7.6274166404085255}]
[null,null,0.2,{"$f":"LinInterpolate(E154,Hydrostatics!D1400:D1480,Hydrostatics!C1400:C1480,TRUE)","v":6.6213701086762189},4733.647617373892,{"$f":"LinInterpolate($E154,Hydrostatics!$D1400:$D1480,Hydrostatics!I1400:I1480,TRUE)","v":24.261451956529513},{"$f":"LinInterpolate($E154,Hydrostatics!$D1400:$D1480,Hydrostatics!J1400:J1480,TRUE)","v":3.6228220652057312},3.7878606718406652E-3,24.847988928434912,24.275174767382566,0.57281416105234584,null,{"$f":"LinInterpolate($E154,Hydrostatics!$D1400:$D1480,Hydrostatics!K1400:K1480,TRUE)","v":21.967096086940973},{"$f":"LinInterpolate($E154,Hydrostatics!$D1400:$D1480,Hydrostatics!E1400:E1480,TRUE)","v":7.63}]
[null,null,0.3,{"$f":"LinInterpolate(E155,Hydrostatics!D1482:D1562,Hydrostatics!C1482:C1562,TRUE)","v":6.6297406443905045},4733.647617373892,{"$f":"LinInterpolate($E155,Hydrostatics!$D1482:$D1562,Hydrostatics!I1482:I1562,TRUE)","v":24.348103742243797},{"$f":"LinInterpolate($E155,Hydrostatics!$D1482:$D1562,Hydrostatics!J1482:J1562,TRUE)","v":3.6218962577562017},5.6817570408474469E-3,24.857297679608568,24.368682698253775,0.48861498135479309,null,{"$f":"LinInterpolate($E155,Hydrostatics!$D1482:$D1562,Hydrostatics!K1482:K1562,TRUE)","v":22.0078443866343},{"$f":"LinInterpolate($E155,Hydrostatics!$D1482:$D1562,Hydrostatics!E1482:E1562,TRUE)","v":7.64}]
[null,null,0.4,{"$f":"LinInterpolate(E156,Hydrostatics!D1564:D1644,Hydrostatics!C1564:C1644,TRUE)","v":6.6379995729619337},4733.647617373892,{"$f":"LinInterpolate($E156,Hydrostatics!$D1564:$D1644,Hydrostatics!I1564:I1644,TRUE)","v":24.434800170815226},{"$f":"LinInterpolate($E156,Hydrostatics!$D1564:$D1644,Hydrostatics!J1564:J1644,TRUE)","v":3.62279974377716},7.575612651195416E-3,24.86660643078222,24.462245623419598,0.4043608073626217,null,{"$f":"LinInterpolate($E156,Hydrostatics!$D1564:$D1644,Hydrostatics!K1564:K1644,TRUE)","v":22.042799743777159},{"$f":"LinInterpolate($E156,Hydrostatics!$D1564:$D1644,Hydrostatics!E1564:E1644,TRUE)","v":7.6424000854076128}]
[null,null,0.5,{"$f":"LinInterpolate(E157,Hydrostatics!D1646:D1726,Hydrostatics!C1646:C1726,TRUE)","v":6.646266834492085},4733.647617373892,{"$f":"LinInterpolate($E157,Hydrostatics!$D1646:$D1726,Hydrostatics!I1646:I1726,TRUE)","v":24.521493266203166},{"$f":"LinInterpolate($E157,Hydrostatics!$D1646:$D1726,Hydrostatics!J1646:J1726,TRUE)","v":3.6277601006952507},9.4694139193938574E-3,24.875915181955875,24.555847055035507,0.32006812692036846,null,{"$f":"LinInterpolate($E157,Hydrostatics!$D1646:$D1726,Hydrostatics!K1646:K1726,TRUE)","v":22.077760100695251},{"$f":"LinInterpolate($E157,Hydrostatics!$D1646:$D1726,Hydrostatics!E1646:E1726,TRUE)","v":7.65}]
[null,null,0.6,{"$f":"LinInterpolate(E158,Hydrostatics!D1728:D1808,Hydrostatics!C1728:C1808,TRUE)","v":6.6543862415265469},4733.647617373892,{"$f":"LinInterpolate($E158,Hydrostatics!$D1728:$D1808,Hydrostatics!I1728:I1808,TRUE)","v":24.607368255084072},{"$f":"LinInterpolate($E158,Hydrostatics!$D1728:$D1808,Hydrostatics!J1728:J1808,TRUE)","v":3.6226317449159282},1.1363147264290729E-2,24.885223933129531,24.648534524912662,0.23668940821686846,null,{"$f":"LinInterpolate($E158,Hydrostatics!$D1728:$D1808,Hydrostatics!K1728:K1808,TRUE)","v":22.112631744915927},{"$f":"LinInterpolate($E158,Hydrostatics!$D1728:$D1808,Hydrostatics!E1728:E1808,TRUE)","v":7.65}]
[null,null,0.7,{"$f":"LinInterpolate(E159,Hydrostatics!D1810:D1890,Hydrostatics!C1810:C1890,TRUE)","v":6.6624973526376587},4733.647617373892,{"$f":"LinInterpolate($E159,Hydrostatics!$D1810:$D1890,Hydrostatics!I1810:I1890,TRUE)","v":24.692501588417404},{"$f":"LinInterpolate($E159,Hydrostatics!$D1810:$D1890,Hydrostatics!J1810:J1890,TRUE)","v":3.6274984115825948},1.3256799107656855E-2,24.894532684303186,24.740593423419444,0.15393926088374243,null,{"$f":"LinInterpolate($E159,Hydrostatics!$D1810:$D1890,Hydrostatics!K1810:K1890,TRUE)","v":22.144998941055064},{"$f":"LinInterpolate($E159,Hydrostatics!$D1810:$D1890,Hydrostatics!E1810:E1890,TRUE)","v":7.6575005294724683}]
[null,null,0.8,{"$f":"LinInterpolate(E160,Hydrostatics!D1892:D1972,Hydrostatics!C1892:C1972,TRUE)","v":6.6705430037571185},4733.647617373892,{"$f":"LinInterpolate($E160,Hydrostatics!$D1892:$D1972,Hydrostatics!I1892:I1972,TRUE)","v":24.777674197745728},{"$f":"LinInterpolate($E160,Hydrostatics!$D1892:$D1972,Hydrostatics!J1892:J1972,TRUE)","v":3.6282172015028471},1.5150355874769813E-2,24.903841435476842,24.832647185647286,7.1194249829556355E-2,null,{"$f":"LinInterpolate($E160,Hydrostatics!$D1892:$D1972,Hydrostatics!K1892:K1972,TRUE)","v":22.096045186474374},{"$f":"LinInterpolate($E160,Hydrostatics!$D1892:$D1972,Hydrostatics!E1892:E1972,TRUE)","v":7.6412397947400343}]
[null,null,0.9,{"$f":"LinInterpolate(E161,Hydrostatics!D1974:D2054,Hydrostatics!C1974:C2054,TRUE)","v":6.6787529342756633},4733.647617373892,{"$f":"LinInterpolate($E161,Hydrostatics!$D1974:$D2054,Hydrostatics!I1974:I2054,TRUE)","v":24.868498826289734},{"$f":"LinInterpolate($E161,Hydrostatics!$D1974:$D2054,Hydrostatics!J1974:J2054,TRUE)","v":3.627251760565398},1.7043803994997424E-2,24.913150186650498,24.930326981299373,-1.7176794648875671E-2,null,{"$f":"LinInterpolate($E161,Hydrostatics!$D1974:$D2054,Hydrostatics!K1974:K2054,TRUE)","v":22.004480046925487},{"$f":"LinInterpolate($E161,Hydrostatics!$D1974:$D2054,Hydrostatics!E1974:E2054,TRUE)","v":7.6067435445935399}]
[null,null,1,{"$f":"LinInterpolate(E162,Hydrostatics!D2056:D2136,Hydrostatics!C2056:C2136,TRUE)","v":6.6870740602414127},4733.647617373892,{"$f":"LinInterpolate($E162,Hydrostatics!$D2056:$D2136,Hydrostatics!I2056:I2136,TRUE)","v":24.955170375903435},{"$f":"LinInterpolate($E162,Hydrostatics!$D2056:$D2136,Hydrostatics!J2056:J2136,TRUE)","v":3.6322444361448478},1.8937129902380841E-2,24.922458937824153,25.023962884163755,-0.10150394633960147,null,{"$f":"LinInterpolate($E162,Hydrostatics!$D2056:$D2136,Hydrostatics!K2056:K2136,TRUE)","v":21.906333457827284},{"$f":"LinInterpolate($E162,Hydrostatics!$D2056:$D2136,Hydrostatics!E2056:E2136,TRUE)","v":7.5613630072274791}]
[null,null,1.1000000000000001,{"$f":"LinInterpolate(E163,Hydrostatics!D2138:D2218,Hydrostatics!C2138:C2218,TRUE)","v":6.6954984252550025},4733.647617373892,{"$f":"LinInterpolate($E163,Hydrostatics!$D2138:$D2218,Hydrostatics!I2138:I2218,TRUE)","v":25.042700944846999},{"$f":"LinInterpolate($E163,Hydrostatics!$D2138:$D2218,Hydrostatics!J2138:J2218,TRUE)","v":3.6281993701020006},2.0830320036217088E-2,24.931767688997805,25.118288431724125,-0.18652074272631936,null,{"$f":"LinInterpolate($E163,Hydrostatics!$D2138:$D2218,Hydrostatics!K2138:K2218,TRUE)","v":21.840610708265984},{"$f":"LinInterpolate($E163,Hydrostatics!$D2138:$D2218,Hydrostatics!E2138:E2218,TRUE)","v":7.5408037793879954}]
[null,null,1.2,{"$f":"LinInterpolate(E164,Hydrostatics!D2220:D2300,Hydrostatics!C2220:C2300,TRUE)","v":6.7042233540165377},4733.647617373892,{"$f":"LinInterpolate($E164,Hydrostatics!$D2220:$D2300,Hydrostatics!I2220:I2300,TRUE)","v":25.127465987590078},{"$f":"LinInterpolate($E164,Hydrostatics!$D2220:$D2300,Hydrostatics!J2220:J2300,TRUE)","v":3.6325340124099226},2.2723360841641067E-2,24.941076440171461,25.210023578781211,-0.26894713860975017,null,{"$f":"LinInterpolate($E164,Hydrostatics!$D2220:$D2300,Hydrostatics!K2220:K2300,TRUE)","v":21.736349217507392},{"$f":"LinInterpolate($E164,Hydrostatics!$D2220:$D2300,Hydrostatics!E2220:E2300,TRUE)","v":7.4998639503603091}]
[null,null,1.3,{"$f":"LinInterpolate(E165,Hydrostatics!D2302:D2382,Hydrostatics!C2302:C2382,TRUE)","v":6.7133026460308978},4733.647617373892,{"$f":"LinInterpolate($E165,Hydrostatics!$D2302:$D2382,Hydrostatics!I2302:I2382,TRUE)","v":25.212018412381461},{"$f":"LinInterpolate($E165,Hydrostatics!$D2302:$D2382,Hydrostatics!J2302:J2382,TRUE)","v":3.6353210584123588},2.4616238770206935E-2,24.950385191345116,25.30152442328934,-0.3511392319442237,null,{"$f":"LinInterpolate($E165,Hydrostatics!$D2302:$D2382,Hydrostatics!K2302:K2382,TRUE)","v":21.660826240639334},{"$f":"LinInterpolate($E165,Hydrostatics!$D2302:$D2382,Hydrostatics!E2302:E2382,TRUE)","v":7.4580736495258462}]
[null,null,1.4,{"$f":"LinInterpolate(E166,Hydrostatics!D2328:D2464,Hydrostatics!C2328:C2464,TRUE)","v":6.7223057624089613},4733.647617373892,{"$f":"LinInterpolate($E166,Hydrostatics!$D2328:$D2464,Hydrostatics!I2328:I2464,TRUE)","v":25.30215539007283},{"$f":"LinInterpolate($E166,Hydrostatics!$D2328:$D2464,Hydrostatics!J2328:J2464,TRUE)","v":3.6389223049635846},2.6508940280468775E-2,24.959693942518772,25.398641966340804,-0.43894802382203224,null,{"$f":"LinInterpolate($E166,Hydrostatics!$D2328:$D2464,Hydrostatics!K2328:K2464,TRUE)","v":21.638471187955194},{"$f":"LinInterpolate($E166,Hydrostatics!$D2328:$D2464,Hydrostatics!E2328:E2464,TRUE)","v":7.4464661702184918}]
[null,null,1.5,{"$f":"LinInterpolate(E167,Hydrostatics!D2466:D2546,Hydrostatics!C2466:C2546,TRUE)","v":6.7313520592013099},4733.647617373892,{"$f":"LinInterpolate($E167,Hydrostatics!$D2466:$D2546,Hydrostatics!I2466:I2546,TRUE)","v":25.391188764479214},{"$f":"LinInterpolate($E167,Hydrostatics!$D2466:$D2546,Hydrostatics!J2466:J2546,TRUE)","v":3.6388112355207856},2.8401451838560528E-2,24.969002693692428,25.494564083670145,-0.5255613899777174,null,{"$f":"LinInterpolate($E167,Hydrostatics!$D2466:$D2546,Hydrostatics!K2466:K2546,TRUE)","v":21.59459176319476},{"$f":"LinInterpolate($E167,Hydrostatics!$D2466:$D2546,Hydrostatics!E2466:E2546,TRUE)","v":7.4072958815973813}]
[]
[null,null,"Total trim",null,null,null,{"$f":"LinInterpolate(0,(K137:K167),(C137:C167),FALSE)","v":0.88056287016833001},"m"]
[null,null,"Mean Draft","From Hydro Table",null,null,{"$f":"LinInterpolate(0,(K137:K167),(D137:D167),FALSE)","v":6.6771571594216841},"m"]
[null,null,"LBP/2","From Hydro Table",null,null,{"$f":"G172/2","v":26.4},"m"]
[null,null,"LBP","Ship Data",null,null,52.8,"m"]
[]
[null,null,"Draft aft",null,null,null,{"$f":"G170-(G169/2)","v":6.2368757243375192},"m"]
[null,null,"Draft forward",null,null,null,{"$f":"G170+G169/2","v":7.1174385945058489},"m"]
[null,null,"Draft midships",null,null,null,{"$f":"(G174+G175)/2","v":6.6771571594216841},"m"]
[]
[null,null,"Transverse Stability"]
[null,null,"KMt","From Hydro Table",null,null,{"$f":"LinInterpolate(G169,(C137:C167),(N137:N167),FALSE)","v":7.6134486255215714},"m"]
[null,null,"KGsolid",null,null,null,{"$f":"K128","v":4.9150206196898729},"m"]
[null,null,"KGfluid","KMt-GMtfluid",null,null,{"$f":"G179-G183","v":4.9179748757946093},"m"]
[null,null,"GMtsolid","KMt-KGsolid",null,null,{"$f":"G179-G180","v":2.6984280058316985},"m"]
[null,null,"GMtfluid","GMtsolid-FSMt",null,null,{"$f":"G182-P128","v":2.6954737497269621},"m"]

{"sheet":"INDEX (Corrected trim 3)","index":2,"n_rows":183,"n_cols":27,"rows_kept":183,"cut":false,"hidden":false,"merged":[[20,17,20,23],[20,24,20,26],[113,2,113,6],[112,2,112,6],[111,2,111,6],[125,11,125,12],[117,2,117,6],[116,2,116,6],[115,2,115,6],[114,2,114,6],[126,11,126,12],[127,11,127,12],[128,11,128,12],[173,3,173,4],[174,3,174,4],[103,1,105,1],[103,2,105,6],[108,2,110,6],[179,3,179,5],[175,3,175,4],[118,2,118,6],[16,1,18,1],[46,1,48,1],[87,1,89,1],[14,8,14,11],[2,5,2,12],[3,5,3,12],[4,5,4,12],[7,1,8,7],[7,8,7,15],[8,10,8,11],[9,10,9,11],[10,10,10,11],[11,10,11,11],[12,10,12,11],[13,10,13,11]]}
[]
[null,null,null,"Stability Calculation ",null,null,null,null,null,null,null,null,null,null,null,null,null,"Explanation of worksheet:"]
[null,null,null,"Project :",null,null,null,null,null,null,null,null,null,"Originator :",null,null,null,"Changing tank filling"]
[null,null,null,"Doc. No :",null,null,null,null,null,null,null,null,null,"Checked :",null,null,null,"Fill in all sounding heights of tanks in following cells:"]
[null,null,null,"Subject/Remarks :",null,null,null,null,null,null,null,null,null,"Revision :",null,null,null,"The following data will be calculated automatically, with help of tank tables:",null,null,null,null,null,null,"Volume","m³"]
[null,null,null,null,null,null,null,null,null,null,null,null,null,"Date :",null,null,null,null,null,null,null,null,null,null,"Weight","t"]
[null,null,null,null,null,null,null,null,null,null,null,null,null,null,null,null,null,null,null,null,null,null,null,null,"LCG","m"]
[null,"Summary Stability Results",null,null,null,null,null,null,"Summary Loading condition",null,null,null,null,null,null,null,null,null,null,null,null,null,null,null,"TCG ","m"]
[null,null,null,null,null,null,null,null,"Item","% Full","Volume",null,"Weight","LCG","TCG","VCG",null,null,null,null,null,null,null,null,"VCG","m"]
[null,"Displ.",{"$f":"H128","v":4733.647617373892},"t","Draft mid.",null,{"$f":"G176","v":6.6771571594216841},"m","F.O. ",{"$f":"F32","v":99.932940002127552},{"$f":"G32","v":343.66938066731666},null,{"$f":"H32","v":295.55566737389228},{"$f":"I32","v":29.877028190497114},{"$f":"J32","v":9.9776127664960246E-2},{"$f":"K32","v":3.7666983080726206},null,null,null,null,null,null,null,null,"FSM","m"]
[null,"DW",{"$f":"H129","v":3033.6476173738924},"t","Draft aft",null,{"$f":"G174","v":6.2368757243375192},"m","HFO ",{"$f":"F45","v":100.0060259114191},{"$f":"G45","v":995.76},null,{"$f":"H45","v":975.84479999999996},{"$f":"I45","v":18.417754579416727},{"$f":"J45","v":0},{"$f":"K45","v":4.0886282839238373},null,"Add or remove deckloads"]
[null,"LCG",{"$f":"I128","v":24.829371426087601},"m","Draft fw",null,{"$f":"G175","v":7.1174385945058489},"m","WB",{"$f":"F78","v":99.98391784537877},{"$f":"G78","v":1032.0339999999997},null,{"$f":"H78","v":1057.8143499999999},{"$f":"I78","v":22.744108122564228},{"$f":"J78","v":-7.3606753396756736E-3},{"$f":"K78","v":3.0813733728418415},null,"Add or remove deckloads and fill the required data in the following cells:"]
[null,"TCG",{"$f":"J128","v":-7.7844129894152868E-3},"m","KMt",null,{"$f":"G179","v":7.6134486255215714},"m","FW",{"$f":"F86","v":99.983457402812235},{"$f":"G86","v":483.52},null,{"$f":"H86","v":483.52},{"$f":"I86","v":20.141572840833884},{"$f":"J86","v":0},{"$f":"K86","v":4.7113682991396422},null,"The following input data is required to calculated the stability results:",null,null,null,null,null,null,"Weight","t"]
[null,"VCG",{"$f":"K128","v":4.9150206196898729},"m","KGfluid",null,{"$f":"G181","v":4.9179748757946093},"m","MISC",{"$f":"F100","v":105.42992552471229},{"$f":"G100","v":155.72000000000003},null,{"$f":"H100","v":150.9128},{"$f":"I100","v":36.262017549207222},{"$f":"J100","v":-0.38798458447527312},{"$f":"K100","v":1.5590340381995429},null,"Attention! ",null,null,null,null,null,null,"LCG","m"]
[null,"Trim tot.",{"$f":"G169","v":0.88056287016833001},"m","GMtfluid",null,{"$f":"G183","v":2.6954737497269621},"m","(DECK) LOADS",null,null,null,{"$f":"H121","v":70},{"$f":"I121","v":6.5714285714285712},{"$f":"J121","v":0},{"$f":"K121","v":7},null,"This worksheet is only valid when the heel of the vessel is equal to 0°",null,null,null,null,null,null,"TCG ","m"]
[null,null,null,null,null,null,null,null,null,null,null,null,null,null,null,null,null,"The results of this worksheet are not checked to any stability criteria!",null,null,null,null,null,null,"VCG","m"]
[null,"Sheet No.","Name","Sort of Fluid","Sounding Height","% Full","Volume","Weight","LCG","TCG","VCG",null,"Longitudinal","Transverse","Vertical","FSMt",null,"To print the loading conditon press the button:"]
[null,null,null,null,null," "," "," ","Fwd of AP","PS:+","Above BL",null,"Moment","Moment","Moment"," "]
[null,null,null,null,null,"%","m³","t","m","m","m",null,"t·m","t·m","t·m","t·m"]
[null,null,"SHIP DATA"]
[null,null,"Lightship",null,null,null,null,{"$f":"INDEX!H22","v":1700},{"$f":"INDEX!I22","v":30},{"$f":"INDEX!J22","v":0},{"$f":"INDEX!K22","v":7},null,{"$f":"INDEX!M22","v":51000},{"$f":"INDEX!N22","v":0},{"$f":"INDEX!O22","v":11900},null,null,"Volume at each Trim",null,null,null,null,null,null,"Volume Interpolation"]
[]
[null,null,"F.O. (SG 0.860)",null,null,null,null,null,null,null,null,null,null,null,null,null,null,-1.5,-1,-0.5,0,0.5,1,1.5,"Volume","∆Volume","Volume2"]
[null,1,"F.O. 1 PS","MGO",{"$f":"INDEX!E25","v":3.8},{"$f":"IF(G24<'1'!M83,LinInterpolate(G24,'1'!M7:M83,'1'!I7:I83,TRUE),100)","v":100},{"$f":"'INDEX (Corrected trim 2)'!AA24","v":31.019690333658328},{"$f":"LinInterpolate(F24,'1'!I7:I83,'1'!H7:H83,TRUE)","v":26.67693368694616},{"$f":"LinInterpolate(F24,'1'!I7:I83,'1'!C7:C83,TRUE)","v":32.979999999999997},{"$f":"LinInterpolate(F24,'1'!I7:I82,'1'!D7:D83,TRUE)","v":5.38},{"$f":"LinInterpolate(F24,'1'!I7:I83,'1'!E7:E83,TRUE)","v":2.9999827963143515},null,{"$f":"$H24*I24","v":879.8052729954843},143.52190323577034,80.03034211925727,{"$f":"IF(LinInterpolate(F24,'1'!I7:I83,'1'!F7:F83,TRUE)>0,LinInterpolate(F24,'1'!I7:I83,'1'!F7:F83,TRUE),0)","v":1.720368564848139E-2},null,{"$f":"LinInterpolate($E$24,'1'!$B7:$B83,'1'!J7:J83,TRUE)","v":31.02},{"$f":"LinInterpolate($E$24,'1'!$B7:$B83,'1'!K7:K83,TRUE)","v":31.02},{"$f":"LinInterpolate($E$24,'1'!$B7:$B83,'1'!L7:L83,TRUE)","v":31.02},{"$f":"LinInterpolate($E$24,'1'!$B7:$B83,'1'!M7:M83,TRUE)","v":31.02},{"$f":"LinInterpolate($E$24,'1'!$B7:$B83,'1'!N7:N83,TRUE)","v":31.02},{"$f":"LinInterpolate($E$24,'1'!$B7:$B83,'1'!O7:O83,TRUE)","v":31.01},{"$f":"LinInterpolate($E$24,'1'!$B7:$B83,'1'!P7:P83,TRUE)","v":30.96},{"$f":"G24","v":31.019690333658328},{"$f":"IF(E24<'1'!B83,Y24-AA24,0)","v":0},{"$f":"IF(E24=0,0,IF(E24<'1'!B83,LinInterpolate($G$169,$R$23:$X$23,R24:X24,TRUE),Y24))","v":31.019690333658328}]
[null,2,"F.O. 1 SB","MGO",{"$f":"INDEX!E26","v":3.8},{"$f":"IF(G25<'2'!M83,LinInterpolate(G25,'2'!M7:M83,'2'!I7:I83,TRUE),100)","v":100},{"$f":"'INDEX (Corrected trim 2)'!AA25","v":31.019690333658328},{"$f":"LinInterpolate(F25,'2'!I7:I83,'2'!H7:H83,TRUE)","v":26.67693368694616},{"$f":"LinInterpolate(F25,'2'!I7:I83,'2'!C7:C83,TRUE)","v":32.979999999999997},{"$f":"LinInterpolate(F25,'2'!I7:I83,'2'!D7:D83,TRUE)","v":-5.38},{"$f":"LinInterpolate(F25,'2'!I7:I83,'2'!E7:E83,TRUE)","v":2.9999827963143515},null,879.8052729954843,-143.52190323577034,80.03034211925727,{"$f":"IF(LinInterpolate(F25,'2'!I7:I83,'2'!F7:F83,TRUE)>0,LinInterpolate(F25,'2'!I7:I83,'2'!F7:F83,TRUE),0)","v":1.720368564848139E-2},null,{"$f":"LinInterpolate($E$25,'2'!$B7:$B83,'2'!J7:J83,TRUE)","v":31.02},{"$f":"LinInterpolate($E$25,'2'!$B7:$B83,'2'!K7:K83,TRUE)","v":31.02},{"$f":"LinInterpolate($E$25,'2'!$B7:$B83,'2'!L7:L83,TRUE)","v":31.02},{"$f":"LinInterpolate($E$25,'2'!$B7:$B83,'2'!M7:M83,TRUE)","v":31.02},{"$f":"LinInterpolate($E$25,'2'!$B7:$B83,'2'!N7:N83,TRUE)","v":31.02},{"$f":"LinInterpolate($E$25,'2'!$B7:$B83,'2'!O7:O83,TRUE)","v":31.01},{"$f":"LinInterpolate($E$25,'2'!$B7:$B83,'2'!P7:P83,TRUE)","v":30.96},31.019690333658328,{"$f":"IF(E25<'2'!B83,Y25-AA25,0)","v":0},{"$f":"IF(E25=0,0,IF(E25<'2'!B83, LinInterpolate($G$169,$R$23:$X$23,R25:X25,TRUE),Y25))","v":31.019690333658328}]
[null,3,"F.O.1 C","MGO",{"$f":"INDEX!E27","v":5.77},{"$f":"IF(G26<'3'!M123,LinInterpolate(G26,'3'!M7:M123,'3'!I7:I123,TRUE),100)","v":100},{"$f":"'INDEX (Corrected trim 2)'!AA26","v":102.32},{"$f":"LinInterpolate(F26,'3'!I7:I123,'3'!H7:H123,TRUE)","v":87.995199999999997},{"$f":"LinInterpolate(F26,'3'!I7:I123,'3'!C7:C123,TRUE)","v":26.1},{"$f":"LinInterpolate(F26,'3'!I7:I123,'3'!D7:D123,TRUE)","v":0},{"$f":"LinInterpolate(F26,'3'!I7:I123,'3'!E7:E123,TRUE)","v":3.9},null,2296.67472,0,343.18127999999996,{"$f":"IF(LinInterpolate(F26,'3'!I7:I123,'3'!F7:F123,TRUE)>0,LinInterpolate(F26,'3'!I7:I123,'3'!F7:F123,TRUE),0)","v":0},null,{"$f":"LinInterpolate($E$26,'3'!$B7:$B123,'3'!J7:J123,TRUE)","v":102.32},{"$f":"LinInterpolate($E$26,'3'!$B7:$B123,'3'!K7:K123,TRUE)","v":102.32},{"$f":"LinInterpolate($E$26,'3'!$B7:$B123,'3'!L7:L123,TRUE)","v":102.32},{"$f":"LinInterpolate($E$26,'3'!$B7:$B123,'3'!M7:M123,TRUE)","v":102.32},{"$f":"LinInterpolate($E$26,'3'!$B7:$B123,'3'!N7:N123,TRUE)","v":101.93},{"$f":"LinInterpolate($E$26,'3'!$B7:$B123,'3'!O7:O123,TRUE)","v":101.55},{"$f":"LinInterpolate($E$26,'3'!$B7:$B123,'3'!P7:P123,TRUE)","v":101.17},102.32,{"$f":"IF(E26<'3'!B123,Y26-AA26,0)","v":0},{"$f":"IF(E26=0,0,IF(E26<'3'!B123, LinInterpolate($G$169,$R$23:$X$23,R26:X26,TRUE),Y26))","v":102.32}]
[null,4,"F.O. 2 PS","MGO",{"$f":"INDEX!E28","v":2},{"$f":"IF(G27<'4'!M47,LinInterpolate(G27,'4'!M7:M47,'4'!I7:I47,TRUE),100)","v":100},{"$f":"'INDEX (Corrected trim 2)'!AA27","v":39.69},{"$f":"LinInterpolate(F27,'4'!I7:I47,'4'!H7:H47,TRUE)","v":34.133399999999995},{"$f":"LinInterpolate(F27,'4'!I7:I47,'4'!C7:C47,TRUE)","v":31.5},{"$f":"LinInterpolate(F27,'4'!I7:I47,'4'!D7:D47,TRUE)","v":5.47},{"$f":"LinInterpolate(F27,'4'!I7:I47,'4'!E7:E47,TRUE)","v":5.8},null,1075.2020999999997,186.70969799999997,197.97371999999996,{"$f":"IF(LinInterpolate(F27,'4'!I7:I47,'4'!F7:F47,TRUE)>0,LinInterpolate(F27,'4'!I7:I47,'4'!F7:F47,TRUE),0)","v":0},null,{"$f":"LinInterpolate($E$27,'4'!$B7:$B47,'4'!J7:J47,TRUE)","v":39.69},{"$f":"LinInterpolate($E$27,'4'!$B7:$B47,'4'!K7:K47,TRUE)","v":39.69},{"$f":"LinInterpolate($E$27,'4'!$B7:$B47,'4'!L7:L47,TRUE)","v":39.69},{"$f":"LinInterpolate($E$27,'4'!$B7:$B47,'4'!M7:M47,TRUE)","v":39.69},{"$f":"LinInterpolate($E$27,'4'!$B7:$B47,'4'!N7:N47,TRUE)","v":39.69},{"$f":"LinInterpolate($E$27,'4'!$B7:$B47,'4'!O7:O47,TRUE)","v":39.69},{"$f":"LinInterpolate($E$27,'4'!$B7:$B47,'4'!P7:P47,TRUE)","v":39.69},39.69,{"$f":"IF(E27<'4'!B47,Y27-AA27,0)","v":0},{"$f":"IF(E27=0,0,IF(E27<'4'!B47, LinInterpolate($G$169,$R$23:$X$23,R27:X27,TRUE),Y27))","v":39.69}]
[null,5,"F.O. 2 SB","MGO",{"$f":"INDEX!E29","v":2},{"$f":"IF(G28<'5'!M47,LinInterpolate(G28,'5'!M7:M47,'5'!I7:I47,TRUE),100)","v":100},{"$f":"'INDEX (Corrected trim 2)'!AA28","v":39.69},{"$f":"LinInterpolate(F28,'5'!I7:I47,'5'!H7:H47,TRUE)","v":34.133399999999995},{"$f":"LinInterpolate(F28,'5'!I7:I47,'5'!C7:C47,TRUE)","v":31.5},{"$f":"LinInterpolate(F28,'5'!I7:I47,'5'!D7:D47,TRUE)","v":-5.47},{"$f":"LinInterpolate(F28,'5'!I7:I47,'5'!E7:E47,TRUE)","v":5.8},null,1075.2020999999997,-186.70969799999997,197.97371999999996,{"$f":"IF(LinInterpolate(F28,'5'!I7:I47,'5'!F7:F47,TRUE)>0,LinInterpolate(F28,'5'!I7:I47,'5'!F7:F47,TRUE),0)","v":0},null,{"$f":"LinInterpolate($E$28,'5'!$B7:$B47,'5'!J7:J47,TRUE)","v":39.69},{"$f":"LinInterpolate($E$28,'5'!$B7:$B47,'5'!K7:K47,TRUE)","v":39.69},{"$f":"LinInterpolate($E$28,'5'!$B7:$B47,'5'!L7:L47,TRUE)","v":39.69},{"$f":"LinInterpolate($E$28,'5'!$B7:$B47,'5'!M7:M47,TRUE)","v":39.69},{"$f":"LinInterpolate($E$28,'5'!$B7:$B47,'5'!N7:N47,TRUE)","v":39.69},{"$f":"LinInterpolate($E$28,'5'!$B7:$B47,'5'!O7:O47,TRUE)","v":39.69},{"$f":"LinInterpolate($E$28,'5'!$B7:$B47,'5'!P7:P47,TRUE)","v":39.69},39.69,{"$f":"IF(E28<'5'!B47,Y28-AA28,0)","v":0},{"$f":"IF(E28=0,0,IF(E28<'5'!B47, LinInterpolate($G$169,$R$23:$X$23,R28:X28,TRUE),Y28))","v":39.69}]
[null,6,"F.O. 3 PS","MGO",{"$f":"INDEX!E30","v":3.8},{"$f":"IF(G29<'6'!M83,LinInterpolate(G29,'6'!M7:M83,'6'!I7:I83,TRUE),100)","v":100},{"$f":"'INDEX (Corrected trim 2)'!AA29","v":40.44},{"$f":"LinInterpolate(F29,'6'!I7:I83,'6'!H7:H83,TRUE)","v":34.778399999999998},{"$f":"LinInterpolate(F29,'6'!I7:I83,'6'!C7:C83,TRUE)","v":30.3},{"$f":"LinInterpolate(F29,'6'!I7:I83,'6'!D7:D83,TRUE)","v":5.45},{"$f":"LinInterpolate(F29,'6'!I7:I83,'6'!E7:E83,TRUE)","v":2.96},null,1053.7855199999999,189.54228000000001,102.944064,{"$f":"IF(LinInterpolate(F29,'6'!I7:I83,'6'!F7:F83,TRUE)>0,LinInterpolate(F29,'6'!I7:I83,'6'!F7:F83,TRUE),0)","v":0.85},null,{"$f":"LinInterpolate($E$29,'6'!$B7:$B83,'6'!J7:J83,TRUE)","v":40.44},{"$f":"LinInterpolate($E$29,'6'!$B7:$B83,'6'!K7:K83,TRUE)","v":40.44},{"$f":"LinInterpolate($E$29,'6'!$B7:$B83,'6'!L7:L83,TRUE)","v":40.44},{"$f":"LinInterpolate($E$29,'6'!$B7:$B83,'6'!M7:M83,TRUE)","v":40.44},{"$f":"LinInterpolate($E$29,'6'!$B7:$B83,'6'!N7:N83,TRUE)","v":40.44},{"$f":"LinInterpolate($E$29,'6'!$B7:$B83,'6'!O7:O83,TRUE)","v":40.44},{"$f":"LinInterpolate($E$29,'6'!$B7:$B83,'6'!P7:P83,TRUE)","v":40.44},40.44,{"$f":"IF(E29<'6'!B83,Y29-AA29,0)","v":0},{"$f":"IF(E29=0,0,IF(E29<'6'!B83, LinInterpolate($G$169,$R$23:$X$23,R29:X29,TRUE),Y29))","v":40.44}]
[null,7,"F.O. 3 SB","MGO",{"$f":"INDEX!E31","v":3.8},{"$f":"IF(G30<'7'!M83,LinInterpolate(G30,'7'!M7:M83,'7'!I7:I83,TRUE),100)","v":100},{"$f":"'INDEX (Corrected trim 2)'!AA30","v":40.44},{"$f":"LinInterpolate(F30,'7'!I7:I83,'7'!H7:H83,TRUE)","v":34.778399999999998},{"$f":"LinInterpolate(F30,'7'!I7:I83,'7'!C7:C83,TRUE)","v":30.3},{"$f":"LinInterpolate(F30,'7'!I7:I83,'7'!D7:D83,TRUE)","v":-5.45},{"$f":"LinInterpolate(F30,'7'!I7:I83,'7'!E7:E83,TRUE)","v":2.96},null,1053.7855199999999,-189.54228000000001,102.944064,{"$f":"IF(LinInterpolate(F30,'7'!I7:I83,'7'!F7:F83,TRUE)>0,LinInterpolate(F30,'7'!I7:I83,'7'!F7:F83,TRUE),0)","v":11.1},null,{"$f":"LinInterpolate($E$30,'7'!$B7:$B83,'7'!J7:J83,TRUE)","v":40.44},{"$f":"LinInterpolate($E$30,'7'!$B7:$B83,'7'!K7:K83,TRUE)","v":40.44},{"$f":"LinInterpolate($E$30,'7'!$B7:$B83,'7'!L7:L83,TRUE)","v":40.44},{"$f":"LinInterpolate($E$30,'7'!$B7:$B83,'7'!M7:M83,TRUE)","v":40.44},{"$f":"LinInterpolate($E$30,'7'!$B7:$B83,'7'!N7:N83,TRUE)","v":40.44},{"$f":"LinInterpolate($E$30,'7'!$B7:$B83,'7'!O7:O83,TRUE)","v":40.44},{"$f":"LinInterpolate($E$30,'7'!$B7:$B83,'7'!P7:P83,TRUE)","v":40.44},40.44,{"$f":"IF(E30<'6'!B83,Y30-AA30,0)","v":0},{"$f":"IF(E30=0,0,IF(E30<'7'!B83, LinInterpolate($G$169,$R$23:$X$23,R30:X30,TRUE),Y30))","v":40.44}]
[null,8,"F.O. 4 PS","MGO",{"$f":"INDEX!E32","v":1},{"$f":"IF(G31<'8'!M28,LinInterpolate(G31,'8'!M10:M28,'8'!I10:I28,TRUE),100)","v":100},{"$f":"'INDEX (Corrected trim 2)'!AA31","v":19.05},{"$f":"LinInterpolate(F31,'8'!I7:I28,'8'!H7:H28,TRUE)","v":16.382999999999999},{"$f":"LinInterpolate(F31,'8'!I7:I28,'8'!C7:C28,TRUE)","v":31.5},{"$f":"LinInterpolate(F31,'8'!I7:I28,'8'!D7:D28,TRUE)","v":1.8},{"$f":"LinInterpolate(F31,'8'!I7:I28,'8'!E7:E28,TRUE)","v":0.5},null,516.06449999999995,29.4894,8.1914999999999996,{"$f":"IF(LinInterpolate(F31,'8'!I7:I28,'8'!F7:F28,TRUE)>0,LinInterpolate(F31,'8'!I7:I28,'8'!F7:F28,TRUE),0)","v":2},null,{"$f":"LinInterpolate($E$31,'8'!$B7:$B28,'8'!J7:J28,TRUE)","v":19.05},{"$f":"LinInterpolate($E$31,'8'!$B7:$B28,'8'!K7:K28,TRUE)","v":19.05},{"$f":"LinInterpolate($E$31,'8'!$B7:$B28,'8'!L7:L28,TRUE)","v":19.05},{"$f":"LinInterpolate($E$31,'8'!$B7:$B28,'8'!M7:M28,TRUE)","v":19.05},{"$f":"LinInterpolate($E$31,'8'!$B7:$B28,'8'!N7:N28,TRUE)","v":19.05},{"$f":"LinInterpolate($E$31,'8'!$B7:$B28,'8'!O7:O28,TRUE)","v":19.05},{"$f":"LinInterpolate($E$31,'8'!$B7:$B28,'8'!P7:P28,TRUE)","v":19.05},19.05,{"$f":"IF(E31<'8'!B28,Y31-AA31,0)","v":0},{"$f":"IF(E31=0,0,IF(E31<'8'!B28, LinInterpolate($G$169,$R$23:$X$23,R31:X31,TRUE),Y31))","v":19.05}]
[null,null,"Total F.O.",null,null,{"$f":"(G32/343.9)*100","v":99.932940002127552},{"$f":"SUM((G24:G31))","v":343.66938066731666},{"$f":"SUM((H24:H31))","v":295.55566737389228},{"$f":"M32/H32","v":29.877028190497114},{"$f":"N32/H32","v":9.9776127664960246E-2},{"$f":"O32/H32","v":3.7666983080726206},null,{"$f":"SUM((M24:M31))","v":8830.3250059909678},{"$f":"SUM((N24:N31))","v":29.4894},{"$f":"SUM((O24:O31))","v":1113.2690322385142},{"$f":"SUM((P24:P31))","v":13.984407371296962},null,null,null,null,null,null,null,null,null,{"$f":"SUM((Z24:Z31))","v":0},{"$f":"SUM((AA24:AA31))","v":343.66938066731666}]
[]
[null,null,"HFO (SG 0.980)",null,null,null,null,null,null,null,null,null,null,null,null,null,null,-1.5,-1,-0.5,0,0.5,1,1.5,"Volume","∆Volume","Volume2"]
[null,9,"H.F.O 1 PS","HFO",{"$f":"INDEX!E36","v":5.75},{"$f":"IF(G35<'9'!M122,LinInterpolate(G35,'9'!M7:M122,'9'!I7:I122,TRUE),100)","v":100},{"$f":"'INDEX (Corrected trim 2)'!AA35","v":112.74},{"$f":"LinInterpolate(F35,'9'!I7:I122,'9'!H7:H122,TRUE)","v":110.48519999999999},{"$f":"LinInterpolate(F35,'9'!I7:I122,'9'!C7:C122,TRUE)","v":26.02},{"$f":"LinInterpolate(F35,'9'!I7:I122,'9'!D7:D122,TRUE)","v":5.46},{"$f":"LinInterpolate(F35,'9'!I7:I122,'9'!E7:E122,TRUE)","v":3.96},null,{"$f":"$H35*I35","v":2874.8249039999996},603.24919199999999,437.52139199999999,{"$f":"IF(LinInterpolate(F35,'9'!I7:I122,'9'!F7:F122,TRUE)>0,LinInterpolate(F35,'9'!I7:I122,'9'!F7:F122,TRUE),0)","v":0},null,{"$f":"LinInterpolate($E$35,'9'!$B7:$B122,'9'!J7:J122,TRUE)","v":111.41},{"$f":"LinInterpolate($E$35,'9'!$B7:$B122,'9'!K7:K122,TRUE)","v":111.85},{"$f":"LinInterpolate($E$35,'9'!$B7:$B122,'9'!L7:L122,TRUE)","v":112.29},{"$f":"LinInterpolate($E$35,'9'!$B7:$B122,'9'!M7:M122,TRUE)","v":112.74},{"$f":"LinInterpolate($E$35,'9'!$B7:$B122,'9'!N7:N122,TRUE)","v":112.73},{"$f":"LinInterpolate($E$35,'9'!$B7:$B122,'9'!O7:O122,TRUE)","v":112.73},{"$f":"LinInterpolate($E$35,'9'!$B7:$B122,'9'!P7:P122,TRUE)","v":112.72},{"$f":"G35","v":112.74},{"$f":"IF(E35<'9'!AB122,Y35-AA35,0)","v":0},{"$f":"IF(E35=0,0,IF(E35<'9'!B122, LinInterpolate($G$169,$R$23:$X$23,R35:X35,TRUE),Y35))","v":112.74}]
[null,10,"H.F.O 1 SB","HFO",{"$f":"INDEX!E37","v":5.75},{"$f":"IF(G36<'10'!M122,LinInterpolate(G36,'10'!M7:M122,'10'!I7:I122,TRUE),100)","v":100},{"$f":"'INDEX (Corrected trim 2)'!AA36","v":112.74},{"$f":"LinInterpolate(F36,'10'!I7:I122,'10'!H7:H122,TRUE)","v":110.48519999999999},{"$f":"LinInterpolate(F36,'10'!I7:I122,'10'!C7:C122,TRUE)","v":26.02},{"$f":"LinInterpolate(F36,'10'!I7:I122,'10'!D7:D122,TRUE)","v":-5.46},{"$f":"LinInterpolate(F36,'10'!I7:I122,'10'!E7:E122,TRUE)","v":3.96},null,2874.8249039999996,-603.24919199999999,437.52139199999999,{"$f":"LinInterpolate(F36,'10'!I7:I122,'10'!F7:F122,TRUE)","v":0},null,{"$f":"LinInterpolate($E$36,'10'!$B7:$B122,'10'!J7:J122,TRUE)","v":111.41},{"$f":"LinInterpolate($E$36,'10'!$B7:$B122,'10'!K7:K122,TRUE)","v":111.85},{"$f":"LinInterpolate($E$36,'10'!$B7:$B122,'10'!L7:L122,TRUE)","v":112.29},{"$f":"LinInterpolate($E$36,'10'!$B7:$B122,'10'!M7:M122,TRUE)","v":112.74},{"$f":"LinInterpolate($E$36,'10'!$B7:$B122,'10'!N7:N122,TRUE)","v":112.73},{"$f":"LinInterpolate($E$36,'10'!$B7:$B122,'10'!O7:O122,TRUE)","v":112.73},{"$f":"LinInterpolate($E$36,'10'!$B7:$B122,'10'!P7:P122,TRUE)","v":112.72},112.74,{"$f":"IF(E36<'10'!AB122,AA36-Y36,0)","v":0},{"$f":"IF(E36=0,0,IF(E36<'10'!B122, LinInterpolate($G$169,$R$23:$X$23,R36:X36,TRUE),Y36))","v":112.74}]
[null,11,"H.F.O 2 PS","HFO",{"$f":"INDEX!E38","v":5.75},{"$f":"IF(G37<'11'!M122,LinInterpolate(G37,'11'!M7:M122,'11'!I7:I122,TRUE),100)","v":100},{"$f":"'INDEX (Corrected trim 2)'!AA37","v":100.05},{"$f":"LinInterpolate(F37,'11'!I7:I122,'11'!H7:H122,TRUE)","v":98.048999999999992},{"$f":"LinInterpolate(F37,'11'!I7:I122,'11'!C7:C122,TRUE)","v":20.85},{"$f":"LinInterpolate(F37,'11'!I7:I122,'11'!D7:D122,TRUE)","v":5.46},{"$f":"LinInterpolate(F37,'11'!I7:I122,'11'!E7:E122,TRUE)","v":3.96},null,2044.3216500000001,535.34753999999998,388.27403999999996,{"$f":"IF(LinInterpolate(F37,'11'!I7:I122,'11'!F7:F122,TRUE)>0,LinInterpolate(F37,'11'!I7:I122,'11'!F7:F122,TRUE),0)","v":0},null,{"$f":"LinInterpolate($E$37,'11'!$B7:$B122,'11'!J7:J122,TRUE)","v":99.06},{"$f":"LinInterpolate($E$37,'11'!$B7:$B122,'11'!K7:K122,TRUE)","v":99.39},{"$f":"LinInterpolate($E$37,'11'!$B7:$B122,'11'!L7:L122,TRUE)","v":99.72},{"$f":"LinInterpolate($E$37,'11'!$B7:$B122,'11'!M7:M122,TRUE)","v":100.05},{"$f":"LinInterpolate($E$37,'11'!$B7:$B122,'11'!N7:N122,TRUE)","v":100.05},{"$f":"LinInterpolate($E$37,'11'!$B7:$B122,'11'!O7:O122,TRUE)","v":100.05},{"$f":"LinInterpolate($E$37,'11'!$B7:$B122,'11'!P7:P122,TRUE)","v":100.04},100.05,{"$f":"IF(F37<'11'!AB122,Y37-AA37,0)","v":0},{"$f":"IF(E37=0,0,IF(E37<'11'!B122, LinInterpolate($G$169,$R$23:$X$23,R37:X37,TRUE),Y37))","v":100.05}]
[null,12,"H.F.O 2 SB","HFO",{"$f":"INDEX!E39","v":5.75},{"$f":"IF(G38<'12'!M122,LinInterpolate(G38,'12'!M7:M122,'12'!I7:I122,TRUE),100)","v":100},{"$f":"'INDEX (Corrected trim 2)'!AA38","v":100.05},{"$f":"LinInterpolate(F38,'12'!I7:I122,'12'!H7:H122,TRUE)","v":98.048999999999992},{"$f":"LinInterpolate(F38,'12'!I7:I122,'12'!C7:C122,TRUE)","v":20.85},{"$f":"LinInterpolate(F38,'12'!I7:I122,'12'!D7:D122,TRUE)","v":-5.46},{"$f":"LinInterpolate(F38,'12'!I7:I122,'12'!E7:E122,TRUE)","v":3.96},null,2044.3216500000001,-535.34753999999998,388.27403999999996,{"$f":"IF(LinInterpolate(F38,'12'!I7:I122,'12'!F7:F122,TRUE)>0,LinInterpolate(F38,'12'!I7:I122,'12'!F7:F122,TRUE),0)","v":0},null,{"$f":"LinInterpolate($E$38,'12'!$B7:$B122,'12'!J7:J122,TRUE)","v":99.06},{"$f":"LinInterpolate($E$38,'12'!$B7:$B122,'12'!K7:K122,TRUE)","v":99.39},{"$f":"LinInterpolate($E$38,'12'!$B7:$B122,'12'!L7:L122,TRUE)","v":99.72},{"$f":"LinInterpolate($E$38,'12'!$B7:$B122,'12'!M7:M122,TRUE)","v":100.05},{"$f":"LinInterpolate($E$38,'12'!$B7:$B122,'12'!N7:N122,TRUE)","v":100.05},{"$f":"LinInterpolate($E$38,'12'!$B7:$B122,'12'!O7:O122,TRUE)","v":100.04},{"$f":"LinInterpolate($E$38,'12'!$B7:$B122,'12'!P7:P122,TRUE)","v":100.04},100.05,{"$f":"IF(F38<'12'!AB122,Y38-AA38,0)","v":0},{"$f":"IF(E38=0,0,IF(E38<'12'!B122, LinInterpolate($G$169,$R$23:$X$23,R38:X38,TRUE),Y38))","v":100.05}]
[null,13,"H.F.O 2 C","HFO",{"$f":"INDEX!E40","v":5.77},{"$f":"IF(G39<'13'!M123,LinInterpolate(G39,'13'!M7:M123,'13'!I7:I123,TRUE),100)","v":100},{"$f":"'INDEX (Corrected trim 2)'!AA39","v":102.33},{"$f":"LinInterpolate(F39,'13'!I7:I123,'13'!H7:H123,TRUE)","v":100.2834},{"$f":"LinInterpolate(F39,'13'!I7:I123,'13'!C7:C123,TRUE)","v":21},{"$f":"LinInterpolate(F39,'13'!I7:I123,'13'!D7:D123,TRUE)","v":0},{"$f":"LinInterpolate(F39,'13'!I7:I123,'13'!E7:E123,TRUE)","v":3.9},null,2105.9513999999999,0,391.10525999999999,{"$f":"IF(LinInterpolate(F39,'13'!I7:I123,'13'!F7:F123,TRUE)>0,LinInterpolate(F39,'13'!I7:I123,'13'!F7:F123,TRUE),0)","v":0},null,{"$f":"LinInterpolate($E$39,'13'!$B7:$B123,'13'!J7:J123,TRUE)","v":102.33},{"$f":"LinInterpolate($E$39,'13'!$B7:$B123,'13'!K7:K123,TRUE)","v":102.33},{"$f":"LinInterpolate($E$39,'13'!$B7:$B123,'13'!L7:L123,TRUE)","v":102.33},{"$f":"LinInterpolate($E$39,'13'!$B7:$B123,'13'!M7:M123,TRUE)","v":102.33},{"$f":"LinInterpolate($E$39,'13'!$B7:$B123,'13'!N7:N123,TRUE)","v":101.95},{"$f":"LinInterpolate($E$39,'13'!$B7:$B123,'13'!O7:O123,TRUE)","v":101.58},{"$f":"LinInterpolate($E$39,'13'!$B7:$B123,'13'!P7:P123,TRUE)","v":101.2},102.33,{"$f":"IF(E39<'13'!AB123,Y39-AA39,0)","v":0},{"$f":"IF(E39=0,0,IF(E39<'13'!B123, LinInterpolate($G$169,$R$23:$X$23,R39:X39,TRUE),Y39))","v":102.33}]
[null,14,"H.F.O 3 PS","HFO",{"$f":"INDEX!E41","v":5.76},{"$f":"IF(G40<'14'!M123,LinInterpolate(G40,'14'!M7:M123,'14'!I7:I123,TRUE),100)","v":100},{"$f":"'INDEX (Corrected trim 2)'!AA40","v":99.48},{"$f":"LinInterpolate(F40,'14'!I7:I123,'14'!H7:H123,TRUE)","v":97.490400000000008},{"$f":"LinInterpolate(F40,'14'!I7:I123,'14'!C7:C123,TRUE)","v":16.059999999999999},{"$f":"LinInterpolate(F40,'14'!I7:I123,'14'!D7:D123,TRUE)","v":5.45},{"$f":"LinInterpolate(F40,'14'!I7:I123,'14'!E7:E123,TRUE)","v":3.98},null,1565.6958239999999,531.3226800000001,388.01179200000001,{"$f":"IF(LinInterpolate(F40,'14'!I7:I123,'14'!F7:F123,TRUE)>0,LinInterpolate(F40,'14'!I7:I123,'14'!F7:F123,TRUE),0)","v":0},null,{"$f":"LinInterpolate($E$40,'14'!$B7:$B123,'14'!J7:J123,TRUE)","v":99.48},{"$f":"LinInterpolate($E$40,'14'!$B7:$B123,'14'!K7:K123,TRUE)","v":99.48},{"$f":"LinInterpolate($E$40,'14'!$B7:$B123,'14'!L7:L123,TRUE)","v":99.48},{"$f":"LinInterpolate($E$40,'14'!$B7:$B123,'14'!M7:M123,TRUE)","v":99.48},{"$f":"LinInterpolate($E$40,'14'!$B7:$B123,'14'!N7:N123,TRUE)","v":99.09},{"$f":"LinInterpolate($E$40,'14'!$B7:$B123,'14'!O7:O123,TRUE)","v":98.7},{"$f":"LinInterpolate($E$40,'14'!$B7:$B123,'14'!P7:P123,TRUE)","v":98.31},99.48,{"$f":"IF(E40<'14'!AB123,Y40-AA40,0)","v":0},{"$f":"IF(E40=0,0,IF(E40<'14'!B123, LinInterpolate($G$169,$R$23:$X$23,R40:X40,TRUE),Y40))","v":99.48}]
[null,15,"H.F.O 3 SB","HFO",{"$f":"INDEX!E42","v":5.76},{"$f":"IF(G41<'15'!M123,LinInterpolate(G41,'15'!M7:M123,'15'!I7:I123,TRUE),100)","v":100},{"$f":"'INDEX (Corrected trim 2)'!AA41","v":99.48},{"$f":"LinInterpolate(F41,'15'!I7:I123,'15'!H7:H123,TRUE)","v":97.490400000000008},{"$f":"LinInterpolate(F41,'15'!I7:I123,'15'!C7:C123,TRUE)","v":16.059999999999999},{"$f":"LinInterpolate(F41,'15'!I7:I123,'15'!D7:D123,TRUE)","v":-5.45},{"$f":"LinInterpolate(F41,'15'!I7:I123,'15'!E7:E123,TRUE)","v":3.98},null,1565.6958239999999,-531.3226800000001,388.01179200000001,{"$f":"IF(LinInterpolate(F41,'15'!I7:I123,'15'!F7:F123,TRUE)>0,LinInterpolate(F41,'15'!I7:I123,'15'!F7:F123,TRUE),0)","v":0},null,{"$f":"LinInterpolate($E$41,'15'!$B7:$B123,'15'!J7:J123,TRUE)","v":99.48},{"$f":"LinInterpolate($E$41,'15'!$B7:$B123,'15'!K7:K123,TRUE)","v":99.48},{"$f":"LinInterpolate($E$41,'15'!$B7:$B123,'15'!L7:L123,TRUE)","v":99.48},{"$f":"LinInterpolate($E$41,'15'!$B7:$B123,'15'!M7:M123,TRUE)","v":99.48},{"$f":"LinInterpolate($E$41,'15'!$B7:$B123,'15'!N7:N123,TRUE)","v":99.09},{"$f":"LinInterpolate($E$41,'15'!$B7:$B123,'15'!O7:O123,TRUE)","v":98.7},{"$f":"LinInterpolate($E$41,'15'!$B7:$B123,'15'!P7:P123,TRUE)","v":98.31},99.48,{"$f":"IF(E41<'15'!AB123,Y41-AA41,0)","v":0},{"$f":"IF(E41=0,0,IF(E41<'15'!B123, LinInterpolate($G$169,$R$23:$X$23,R41:X41,TRUE),Y41))","v":99.48}]
[null,16,"H.F.O 4 PS","HFO",{"$f":"INDEX!E43","v":5.46},{"$f":"IF(G42<'16'!M117,LinInterpolate(G42,'16'!M7:M117,'16'!I7:I117,TRUE),100)","v":100},{"$f":"'INDEX (Corrected trim 2)'!AA42","v":90.63},{"$f":"LinInterpolate(F42,'16'!I7:I117,'16'!H7:H117,TRUE)","v":88.817399999999992},{"$f":"LinInterpolate(F42,'16'!I7:I117,'16'!C7:C117,TRUE)","v":11.2},{"$f":"LinInterpolate(F42,'16'!I7:I117,'16'!D7:D117,TRUE)","v":5.39},{"$f":"LinInterpolate(F42,'16'!I7:I117,'16'!E7:E117,TRUE)","v":4.49},null,994.75487999999984,478.72578599999991,398.79012599999999,{"$f":"IF(LinInterpolate(F42,'16'!I7:I117,'16'!F7:F117,TRUE)>0,LinInterpolate(F42,'16'!I7:I117,'16'!F7:F117,TRUE),0)","v":0},null,{"$f":"LinInterpolate($E$42,'16'!$B7:$B117,'16'!J7:J117,TRUE)","v":90.63},{"$f":"LinInterpolate($E$42,'16'!$B7:$B117,'16'!K7:K117,TRUE)","v":90.63},{"$f":"LinInterpolate($E$42,'16'!$B7:$B117,'16'!L7:L117,TRUE)","v":90.63},{"$f":"LinInterpolate($E$42,'16'!$B7:$B117,'16'!M7:M117,TRUE)","v":90.63},{"$f":"LinInterpolate($E$42,'16'!$B7:$B117,'16'!N7:N117,TRUE)","v":90.19},{"$f":"LinInterpolate($E$42,'16'!$B7:$B117,'16'!O7:O117,TRUE)","v":89.75},{"$f":"LinInterpolate($E$42,'16'!$B7:$B117,'16'!P7:P117,TRUE)","v":89.31},90.63,{"$f":"IF(E42<'16'!AB117,Y42-AA42,0)","v":0},{"$f":"IF(E42=0,0,IF(E42<'16'!B117, LinInterpolate($G$169,$R$23:$X$23,R42:X42,TRUE),Y42))","v":90.63}]
[null,17,"H.F.O 4 SB","HFO",{"$f":"INDEX!E44","v":5.46},{"$f":"IF(G43<'17'!M115,LinInterpolate(G43,'17'!M7:M115,'17'!I7:I115,TRUE),100)","v":100},{"$f":"'INDEX (Corrected trim 2)'!AA43","v":90.63},{"$f":"LinInterpolate(F43,'17'!I7:I115,'17'!H7:H115,TRUE)","v":88.817399999999992},{"$f":"LinInterpolate(F43,'17'!I7:I115,'17'!C7:C115,TRUE)","v":11.2},{"$f":"LinInterpolate(F43,'17'!I7:I115,'17'!D7:D115,TRUE)","v":-5.39},{"$f":"LinInterpolate(F43,'17'!I7:I115,'17'!E7:E115,TRUE)","v":4.49},null,994.75487999999984,-478.72578599999991,398.79012599999999,{"$f":"IF(LinInterpolate(F43,'17'!I7:I115,'17'!F7:F115,TRUE)>0,LinInterpolate(F43,'17'!I7:I115,'17'!F7:F115,TRUE),0)","v":0},null,{"$f":"LinInterpolate($E$43,'17'!$B7:$B115,'17'!J7:J115,TRUE)","v":90.976666666666645},{"$f":"LinInterpolate($E$43,'17'!$B7:$B115,'17'!K7:K115,TRUE)","v":91.056666666666644},{"$f":"LinInterpolate($E$43,'17'!$B7:$B115,'17'!L7:L115,TRUE)","v":91.403333333333308},{"$f":"LinInterpolate($E$43,'17'!$B7:$B115,'17'!M7:M115,TRUE)","v":92.496666666666613},{"$f":"LinInterpolate($E$43,'17'!$B7:$B115,'17'!N7:N115,TRUE)","v":92.056666666666658},{"$f":"LinInterpolate($E$43,'17'!$B7:$B115,'17'!O7:O115,TRUE)","v":91.61666666666666},{"$f":"LinInterpolate($E$43,'17'!$B7:$B115,'17'!P7:P115,TRUE)","v":91.176666666666662},90.63,{"$f":"IF(E43<'17'!AB115,Y43-AA43,0)","v":0},{"$f":"IF(E43=0,0,IF(E43<'17'!B115, LinInterpolate($G$169,$R$23:$X$23,R43:X43,TRUE),Y43))","v":90.63}]
[null,18,"H.F.O 4 C","HFO",{"$f":"INDEX!E45","v":5.38},{"$f":"IF(G44<'18'!M115,LinInterpolate(G44,'18'!M7:M115,'18'!I7:I115,TRUE),100)","v":100},{"$f":"'INDEX (Corrected trim 2)'!AA44","v":87.63},{"$f":"LinInterpolate(F44,'18'!I7:I115,'18'!H7:H115,TRUE)","v":85.877399999999994},{"$f":"LinInterpolate(F44,'18'!I7:I115,'18'!C7:C115,TRUE)","v":10.57},{"$f":"LinInterpolate(F44,'18'!I7:I115,'18'!D7:D115,TRUE)","v":0},{"$f":"LinInterpolate(F44,'18'!I7:I115,'18'!E7:E115,TRUE)","v":4.3499999999999996},null,907.72411799999998,0,373.56668999999994,{"$f":"IF(LinInterpolate(F44,'18'!I7:I115,'18'!F7:F115,TRUE)>0,LinInterpolate(F44,'18'!I7:I115,'18'!F7:F115,TRUE),0)","v":0},null,{"$f":"LinInterpolate($E$44,'18'!$B7:$B115,'18'!J7:J115,TRUE)","v":87.649999999999977},{"$f":"LinInterpolate($E$44,'18'!$B7:$B115,'18'!K7:K115,TRUE)","v":87.649999999999977},{"$f":"LinInterpolate($E$44,'18'!$B7:$B115,'18'!L7:L115,TRUE)","v":87.669999999999987},{"$f":"LinInterpolate($E$44,'18'!$B7:$B115,'18'!M7:M115,TRUE)","v":87.989999999999952},{"$f":"LinInterpolate($E$44,'18'!$B7:$B115,'18'!N7:N115,TRUE)","v":87.629999999999953},{"$f":"LinInterpolate($E$44,'18'!$B7:$B115,'18'!O7:O115,TRUE)","v":87.259999999999991},{"$f":"LinInterpolate($E$44,'18'!$B7:$B115,'18'!P7:P115,TRUE)","v":86.899999999999991},87.63,{"$f":"IF(E44<'18'!AB115,Y44-AA44,0)","v":0},{"$f":"IF(E44=0,0,IF(E44<'18'!B115, LinInterpolate($G$169,$R$23:$X$23,R44:X44,TRUE),Y44))","v":87.63}]
[null,null,"Total H.F.O",null,null,{"$f":"G45/995.7*100","v":100.0060259114191},{"$f":"SUM((G35:G44))","v":995.76},{"$f":"SUM((H35:H44))","v":975.84479999999996},{"$f":"M45/H45","v":18.417754579416727},{"$f":"N45/H45","v":0},{"$f":"O45/H45","v":4.0886282839238373},null,{"$f":"SUM((M35:M44))","v":17972.870034},{"$f":"SUM((N35:N44))","v":0},{"$f":"SUM((O35:O44))","v":3989.8666500000004},{"$f":"SUM((P35:P44))","v":0},null,null,null,null,null,null,null,null,null,{"$f":"SUM((Z35:Z44))","v":0},{"$f":"SUM((AA35:AA44))","v":995.76}]
[]
[null,"Sheet No.","Name","Sort of Fluid","Sounding Height","% Full","Volume","Weight","LCG","TCG","VCG",null,"Longitudinal","Transverse","Vertical","FSMt"]
[null,null,null,null,null," "," "," ","Fwd of AP","PS:+","Above BL",null,"Moment","Moment","Moment"," "]
[null,null,null,null,null,"%","m³","t","m","m","m",null,"t·m","t·m","t·m","t·m"]
[null,null,"WB (S.G. 1.025)",null,null,null,null,null,null,null,null,null,null,null,null,null,null,-1.5,-1,-0.5,0,0.5,1,1.5,"Volume","∆Volume","Volume2"]
[null,19,"W.B 1 PS ","FW",{"$f":"INDEX!E52","v":3.25},{"$f":"IF(G51<'19'!M72,LinInterpolate(G51,'19'!M7:M72,'19'!I7:I72,TRUE),100)","v":100},{"$f":"'INDEX (Corrected trim 2)'!AA51","v":63.76},{"$f":"LinInterpolate(F51,'19'!I7:I72,'19'!H7:H72,TRUE)","v":65.353999999999999},{"$f":"LinInterpolate(F51,'19'!I7:I72,'19'!C7:C72,TRUE)","v":-2.2400000000000002},{"$f":"LinInterpolate(F51,'19'!I7:I72,'19'!D7:D72,TRUE)","v":4.49},{"$f":"LinInterpolate(F51,'19'!I7:I72,'19'!E7:E72,TRUE)","v":5.71},null,{"$f":"$H51*I51","v":-146.39296000000002},293.43946,373.17133999999999,{"$f":"IF(LinInterpolate(F51,'19'!I7:I72,'19'!F7:F72,TRUE)>0,LinInterpolate(F51,'19'!I7:I72,'19'!F7:F72,TRUE),0)","v":0},null,{"$f":"LinInterpolate($E$51,'19'!$B7:$B72,'19'!J7:J72,TRUE)","v":63.626666666666679},{"$f":"LinInterpolate($E$51,'19'!$B7:$B72,'19'!K7:K72,TRUE)","v":63.813333333333333},{"$f":"LinInterpolate($E$51,'19'!$B7:$B72,'19'!L7:L72,TRUE)","v":64.073333333333338},{"$f":"LinInterpolate($E$51,'19'!$B7:$B72,'19'!M7:M72,TRUE)","v":64.38},{"$f":"LinInterpolate($E$51,'19'!$B7:$B72,'19'!N7:N72,TRUE)","v":64.036666666666662},{"$f":"LinInterpolate($E$51,'19'!$B7:$B72,'19'!O7:O72,TRUE)","v":63.74},{"$f":"LinInterpolate($E$51,'19'!$B7:$B72,'19'!P7:P72,TRUE)","v":63.493333333333339},{"$f":"G51","v":63.76},{"$f":"IF(E51<'19'!B72,Y51-AA51,0)","v":0},{"$f":"IF(E51=0,0,IF(E51<'19'!B72, LinInterpolate($G$169,$R$23:$X$23,R51:X51,TRUE),Y51))","v":63.76}]
[null,20,"W.B 1 SB ","FW",{"$f":"INDEX!E53","v":3.25},{"$f":"IF(G52<'20'!M72,LinInterpolate(G52,'20'!M7:M72,'20'!I7:I72,TRUE),100)","v":100},{"$f":"'INDEX (Corrected trim 2)'!AA52","v":63.76},{"$f":"LinInterpolate(F52,'20'!I7:I72,'20'!H7:H72,TRUE)","v":65.353999999999999},{"$f":"LinInterpolate(F52,'20'!I7:I72,'20'!C7:C72,TRUE)","v":-2.2400000000000002},{"$f":"LinInterpolate(F52,'20'!I7:I72,'20'!D7:D72,TRUE)","v":-4.49},{"$f":"LinInterpolate(F52,'20'!I7:I72,'20'!E7:E72,TRUE)","v":5.71},null,-146.39296000000002,-293.43946,373.17133999999999,{"$f":"IF(LinInterpolate(F52,'20'!I7:I72,'20'!F7:F72,TRUE)>0,LinInterpolate(F52,'20'!I7:I72,'20'!F7:F72,TRUE),0)","v":0},null,{"$f":"LinInterpolate($E$52,'20'!$B7:$B72,'20'!J7:J72,TRUE)","v":63.34},{"$f":"LinInterpolate($E$52,'20'!$B7:$B72,'20'!K7:K72,TRUE)","v":63.48},{"$f":"LinInterpolate($E$52,'20'!$B7:$B72,'20'!L7:L72,TRUE)","v":63.62},{"$f":"LinInterpolate($E$52,'20'!$B7:$B72,'20'!M7:M72,TRUE)","v":63.76},{"$f":"LinInterpolate($E$52,'20'!$B7:$B72,'20'!N7:N72,TRUE)","v":63.51},{"$f":"LinInterpolate($E$52,'20'!$B7:$B72,'20'!O7:O72,TRUE)","v":63.26},{"$f":"LinInterpolate($E$52,'20'!$B7:$B72,'20'!P7:P72,TRUE)","v":63.02},63.76,{"$f":"IF(E52<'19'!B72,Y52-AA52,0)","v":0},{"$f":"IF(E52=0,0,IF(E52<'20'!B72, LinInterpolate($G$169,$R$23:$X$23,R52:X52,TRUE),Y52))","v":63.76}]
[null,21,{"$f":"'INDEX (Corrected trim 4)'!C52","v":"W.B 1 SB "},"SW",{"$f":"INDEX!E54","v":7.8},{"$f":"IF(G53<'21'!M163,LinInterpolate(G53,'21'!M7:M163,'21'!I7:I163,TRUE),100)","v":100},{"$f":"'INDEX (Corrected trim 2)'!AA53","v":64.81},{"$f":"LinInterpolate(F53,'21'!I7:I163,'21'!H7:H163,TRUE)","v":66.430250000000001},{"$f":"LinInterpolate(F53,'21'!I7:I163,'21'!C7:C163,TRUE)","v":51.05},{"$f":"LinInterpolate(F53,'21'!I7:I163,'21'!D7:D163,TRUE)","v":0},{"$f":"LinInterpolate(F53,'21'!I7:I163,'21'!E7:E163,TRUE)","v":4.75},null,3391.2642624999999,0,315.54368750000003,{"$f":"IF(LinInterpolate(F53,'21'!I7:I163,'21'!F7:F163,TRUE)>0,LinInterpolate(F53,'21'!I7:I163,'21'!F7:F163,TRUE),0)","v":0},null,{"$f":"LinInterpolate($E$53,'21'!$B7:$B163,'21'!J7:J163,TRUE)","v":64.8},{"$f":"LinInterpolate($E$53,'21'!$B7:$B163,'21'!K7:K163,TRUE)","v":64.81},{"$f":"LinInterpolate($E$53,'21'!$B7:$B163,'21'!L7:L163,TRUE)","v":64.81},{"$f":"LinInterpolate($E$53,'21'!$B7:$B163,'21'!M7:M163,TRUE)","v":64.81},{"$f":"LinInterpolate($E$53,'21'!$B7:$B163,'21'!N7:N163,TRUE)","v":64.81},{"$f":"LinInterpolate($E$53,'21'!$B7:$B163,'21'!O7:O163,TRUE)","v":64.78},{"$f":"LinInterpolate($E$53,'21'!$B7:$B163,'21'!P7:P163,TRUE)","v":64.66},64.81,{"$f":"IF(E53<'19'!B163,Y53-AA53,0)","v":0},{"$f":"IF(E53=0,0,IF(E53<'21'!B163, LinInterpolate($G$169,$R$23:$X$23,R53:X53,TRUE),Y53))","v":64.81}]
[null,22,"W.B. 2 PS","SW",{"$f":"INDEX!E55","v":7.8},{"$f":"IF(G54<'22'!M163,LinInterpolate(G54,'22'!M7:M163,'22'!I7:I163,TRUE),100)","v":100},{"$f":"'INDEX (Corrected trim 2)'!AA54","v":86.037999999999997},{"$f":"LinInterpolate(F54,'22'!I7:I163,'22'!H7:H163,TRUE)","v":88.188949999999991},{"$f":"LinInterpolate(F54,'22'!I7:I163,'22'!C7:C163,TRUE)","v":39.74},{"$f":"LinInterpolate(F54,'22'!I7:I163,'22'!D7:D163,TRUE)","v":6.82},{"$f":"LinInterpolate(F54,'22'!I7:I163,'22'!E7:E163,TRUE)","v":4.4800000000000004},null,3504.6288729999997,601.44863899999996,395.08649600000001,{"$f":"IF(LinInterpolate(F54,'22'!I7:I163,'22'!F7:F163,TRUE)>0,LinInterpolate(F54,'22'!I7:I163,'22'!F7:F163,TRUE),0)","v":0},null,{"$f":"LinInterpolate(E54,'22'!$B7:$B163,'22'!J7:J163,TRUE)","v":85.09},{"$f":"LinInterpolate(E54,'22'!$B7:$B163,'22'!K7:K163,TRUE)","v":85.85},{"$f":"LinInterpolate(E54,'22'!$B7:$B163,'22'!L7:L163,TRUE)","v":86.03},{"$f":"LinInterpolate(E54,'22'!$B7:$B163,'22'!M7:M163,TRUE)","v":86.037999999999997},{"$f":"LinInterpolate(E54,'22'!$B7:$B163,'22'!N7:N163,TRUE)","v":86.03},{"$f":"LinInterpolate(E54,'22'!$B7:$B163,'22'!O7:O163,TRUE)","v":86.03},{"$f":"LinInterpolate(E54,'22'!$B7:$B163,'22'!P7:P163,TRUE)","v":86.03},86.037999999999997,{"$f":"IF(E54<'19'!B163,Y54-AA54,0)","v":0},{"$f":"IF(E54=0,0,IF(E54<'22'!B163, LinInterpolate($G$169,$R$23:$X$23,R54:X54,TRUE),Y54))","v":86.037999999999997}]
[null,23,"W.B. 2 SB","SW",{"$f":"INDEX!E56","v":7.8},{"$f":"IF(G55<'23'!M163,LinInterpolate(G55,'23'!M7:M163,'23'!I7:I163,TRUE),100)","v":100},{"$f":"'INDEX (Corrected trim 2)'!AA55","v":87.665999999999997},{"$f":"LinInterpolate(F55,'23'!I7:I163,'23'!H7:H163,TRUE)","v":89.857649999999992},{"$f":"LinInterpolate(F55,'23'!I7:I163,'23'!C7:C163,TRUE)","v":39.83},{"$f":"LinInterpolate(F55,'23'!I7:I163,'23'!D7:D163,TRUE)","v":-6.78},{"$f":"LinInterpolate(F55,'23'!I7:I163,'23'!E7:E163,TRUE)","v":4.42},null,3579.0301994999995,-609.23486700000001,397.17081299999995,{"$f":"IF(LinInterpolate(F55,'23'!I7:I163,'23'!F7:F163,TRUE)>0,LinInterpolate(F55,'23'!I7:I163,'23'!F7:F163,TRUE),0)","v":0},null,{"$f":"LinInterpolate(E55,'23'!$B7:$B163,'23'!J7:J163,TRUE)","v":86.72},{"$f":"LinInterpolate(E55,'23'!$B7:$B163,'23'!K7:K163,TRUE)","v":87.48},{"$f":"LinInterpolate(E55,'23'!$B7:$B163,'23'!L7:L163,TRUE)","v":87.66},{"$f":"LinInterpolate(E55,'23'!$B7:$B163,'23'!M7:M163,TRUE)","v":87.665999999999997},{"$f":"LinInterpolate(E55,'23'!$B7:$B163,'23'!N7:N163,TRUE)","v":87.66},{"$f":"LinInterpolate(E55,'23'!$B7:$B163,'23'!O7:O163,TRUE)","v":87.66},{"$f":"LinInterpolate(E55,'23'!$B7:$B163,'23'!P7:P163,TRUE)","v":87.66},87.665999999999997,{"$f":"IF(E55<'19'!B163,Y55-AA55,0)","v":0},{"$f":"IF(E55=0,0,IF(E55<'23'!B163, LinInterpolate($G$169,$R$23:$X$23,R55:X55,TRUE),Y55))","v":87.665999999999997}]
[null,24,"W.B. 3 PS","SW",{"$f":"INDEX!E57","v":5.48},{"$f":"IF(G56<'24'!M117,LinInterpolate(G56,'24'!M7:M117,'24'!I7:I117,TRUE),100)","v":100},{"$f":"'INDEX (Corrected trim 2)'!AA56","v":28.05},{"$f":"LinInterpolate(F56,'24'!I7:I117,'24'!H7:H117,TRUE)","v":28.751249999999999},{"$f":"LinInterpolate(F56,'24'!I7:I117,'24'!C7:C117,TRUE)","v":31.59},{"$f":"LinInterpolate(F56,'24'!I7:I117,'24'!D7:D117,TRUE)","v":7.77},{"$f":"LinInterpolate(F56,'24'!I7:I117,'24'!E7:E117,TRUE)","v":3.95},null,908.25198749999993,223.39721249999997,113.5674375,{"$f":"IF(LinInterpolate(F56,'24'!I7:I117,'24'!F7:F117,TRUE)>0,LinInterpolate(F56,'24'!I7:I117,'24'!F7:F117,TRUE),0)","v":0},null,{"$f":"LinInterpolate(E56,'24'!$B7:$B117,'24'!J7:J117,TRUE)","v":27.91},{"$f":"LinInterpolate(E56,'24'!$B7:$B117,'24'!K7:K117,TRUE)","v":27.95},{"$f":"LinInterpolate(E56,'24'!$B7:$B117,'24'!L7:L117,TRUE)","v":28},{"$f":"LinInterpolate(E56,'24'!$B7:$B117,'24'!M7:M117,TRUE)","v":28.05},{"$f":"LinInterpolate(E56,'24'!$B7:$B117,'24'!N7:N117,TRUE)","v":28.03},{"$f":"LinInterpolate(E56,'24'!$B7:$B117,'24'!O7:O117,TRUE)","v":28.01},{"$f":"LinInterpolate(E56,'24'!$B7:$B117,'24'!P7:P117,TRUE)","v":28},28.05,{"$f":"IF(E56<'19'!B117,Y56-AA56,0)","v":0},{"$f":"IF(E56=0,0,IF(E56<'24'!B117,LinInterpolate($G$169,$R$23:$X$23,R56:X56,TRUE),Y56))","v":28.05}]
[null,25,"W.B. 3 SB","SW",{"$f":"INDEX!E58","v":5.48},{"$f":"IF(G57<'25'!M117,LinInterpolate(G57,'25'!M7:M117,'25'!I7:I117,TRUE),100)","v":100},{"$f":"'INDEX (Corrected trim 2)'!AA57","v":28.05},{"$f":"LinInterpolate(F57,'25'!I7:I117,'25'!H7:H117,TRUE)","v":28.751249999999999},{"$f":"LinInterpolate(F57,'25'!I7:I117,'25'!C7:C117,TRUE)","v":31.59},{"$f":"LinInterpolate(F57,'25'!I7:I117,'25'!D7:D117,TRUE)","v":-7.77},{"$f":"LinInterpolate(F57,'25'!I7:I117,'25'!E7:E117,TRUE)","v":3.95},null,908.25198749999993,-223.39721249999997,113.5674375,{"$f":"IF(LinInterpolate(F57,'25'!I7:I117,'25'!F7:F117,TRUE)>0,LinInterpolate(F57,'25'!I7:I117,'25'!F7:F117,TRUE),0)","v":0},null,{"$f":"LinInterpolate(E57,'25'!$B7:$B117,'25'!J7:J117,TRUE)","v":28.03},{"$f":"LinInterpolate(E57,'25'!$B7:$B117,'25'!K7:K117,TRUE)","v":28.04},{"$f":"LinInterpolate(E57,'25'!$B7:$B117,'25'!L7:L117,TRUE)","v":28.04},{"$f":"LinInterpolate(E57,'25'!$B7:$B117,'25'!M7:M117,TRUE)","v":28.05},{"$f":"LinInterpolate(E57,'25'!$B7:$B117,'25'!N7:N117,TRUE)","v":27.98},{"$f":"LinInterpolate(E57,'25'!$B7:$B117,'25'!O7:O117,TRUE)","v":27.91},{"$f":"LinInterpolate(E57,'25'!$B7:$B117,'25'!P7:P117,TRUE)","v":27.84},28.05,{"$f":"IF(E57<'19'!B117,Y57-AA57,0)","v":0},{"$f":"IF(E57=0,0,IF(E57<'25'!B117, LinInterpolate($G$169,$R$23:$X$23,R57:X57,TRUE),Y57))","v":28.05}]
[null,26,"W.B. 3 PS DB","SW",{"$f":"INDEX!E59","v":1.35},{"$f":"IF(G58<'26'!M34,LinInterpolate(G58,'26'!M7:M34,'26'!I7:I34,TRUE),100)","v":100},{"$f":"'INDEX (Corrected trim 2)'!AA58","v":24.36},{"$f":"LinInterpolate(F58,'26'!I7:I34,'26'!H7:H34,TRUE)","v":24.968999999999998},{"$f":"LinInterpolate(F58,'26'!I7:I34,'26'!C7:C34,TRUE)","v":31.46},{"$f":"LinInterpolate(F58,'26'!I7:I34,'26'!D7:D34,TRUE)","v":5.71},{"$f":"LinInterpolate(F58,'26'!I7:I34,'26'!E7:E34,TRUE)","v":0.63},null,785.52473999999995,142.57298999999998,15.730469999999999,{"$f":"IF(LinInterpolate(F58,'26'!I7:I34,'26'!F7:F34,TRUE)>0,LinInterpolate(F58,'26'!I7:I34,'26'!F7:F34,TRUE),0)","v":0},null,{"$f":"LinInterpolate(E58,'26'!$B7:$B34,'26'!J7:J34,TRUE)","v":24.36},{"$f":"LinInterpolate(E58,'26'!$B7:$B34,'26'!K7:K34,TRUE)","v":24.36},{"$f":"LinInterpolate(E58,'26'!$B7:$B34,'26'!L7:L34,TRUE)","v":24.36},{"$f":"LinInterpolate(E58,'26'!$B7:$B34,'26'!M7:M34,TRUE)","v":24.36},{"$f":"LinInterpolate(E58,'26'!$B7:$B34,'26'!N7:N34,TRUE)","v":24.36},{"$f":"LinInterpolate(E58,'26'!$B7:$B34,'26'!O7:O34,TRUE)","v":24.36},{"$f":"LinInterpolate(E58,'26'!$B7:$B34,'26'!P7:P34,TRUE)","v":24.33},24.36,{"$f":"IF(E58<'19'!B34,Y58-AA58,0)","v":0},{"$f":"IF(E58=0,0,IF(E58<'26'!B34,LinInterpolate($G$169,$R$23:$X$23,R58:X58,TRUE),Y58))","v":24.36}]
[null,27,"W.B. 3 SB DB","SW",{"$f":"INDEX!E60","v":1.35},{"$f":"IF(G59<'27'!M34,LinInterpolate(G59,'27'!M7:M34,'27'!I7:I34,TRUE),100)","v":100},{"$f":"'INDEX (Corrected trim 2)'!AA59","v":24.36},{"$f":"LinInterpolate(F59,'27'!I7:I34,'27'!H7:H34,TRUE)","v":24.968999999999998},{"$f":"LinInterpolate(F59,'27'!I7:I34,'27'!C7:C34,TRUE)","v":31.46},{"$f":"LinInterpolate(F59,'27'!I7:I34,'27'!D7:D34,TRUE)","v":-5.71},{"$f":"LinInterpolate(F59,'27'!I7:I34,'27'!E7:E34,TRUE)","v":0.63},null,785.52473999999995,-142.57298999999998,15.730469999999999,{"$f":"IF(LinInterpolate(F59,'27'!I7:I34,'27'!F7:F34,TRUE)>0,LinInterpolate(F59,'27'!I7:I34,'27'!F7:F34,TRUE),0)","v":0},null,{"$f":"LinInterpolate(E59,'27'!$B7:$B34,'27'!J7:J34,TRUE)","v":24.36},{"$f":"LinInterpolate(E59,'27'!$B7:$B34,'27'!K7:K34,TRUE)","v":24.36},{"$f":"LinInterpolate(E59,'27'!$B7:$B34,'27'!L7:L34,TRUE)","v":24.36},{"$f":"LinInterpolate(E59,'27'!$B7:$B34,'27'!M7:M34,TRUE)","v":24.36},{"$f":"LinInterpolate(E59,'27'!$B7:$B34,'27'!N7:N34,TRUE)","v":24.36},{"$f":"LinInterpolate(E59,'27'!$B7:$B34,'27'!O7:O34,TRUE)","v":24.36},{"$f":"LinInterpolate(E59,'27'!$B7:$B34,'27'!P7:P34,TRUE)","v":24.33},24.36,{"$f":"IF(E59<'19'!B34,Y59-AA59,0)","v":0},{"$f":"IF(E59=0,0,IF(E59<'27'!B34, LinInterpolate($G$169,$R$23:$X$23,R59:X59,TRUE),Y59))","v":24.36}]
[null,28,"W.B. 4 PS","SW",{"$f":"INDEX!E61","v":5.52},{"$f":"IF(G60<'28'!M118,LinInterpolate(G60,'28'!M7:M118,'28'!I7:I118,TRUE),100)","v":100},{"$f":"'INDEX (Corrected trim 2)'!AA60","v":26.7},{"$f":"LinInterpolate(F60,'28'!I7:I118,'28'!H7:H118,TRUE)","v":27.367499999999996},{"$f":"LinInterpolate(F60,'28'!I7:I118,'28'!C7:C118,TRUE)","v":26.1},{"$f":"LinInterpolate(F60,'28'!I7:I118,'28'!D7:D118,TRUE)","v":7.8},{"$f":"LinInterpolate(F60,'28'!I7:I118,'28'!E7:E118,TRUE)","v":4.04},null,714.29174999999998,213.46649999999997,110.56469999999999,{"$f":"IF(LinInterpolate(F60,'28'!I7:I118,'28'!F7:F118,TRUE)>0,LinInterpolate(F60,'28'!I7:I118,'28'!F7:F118,TRUE),0)","v":0},null,{"$f":"LinInterpolate(E60,'28'!$B7:$B118,'28'!J7:J118,TRUE)","v":26.35},{"$f":"LinInterpolate(E60,'28'!$B7:$B118,'28'!K7:K118,TRUE)","v":26.47},{"$f":"LinInterpolate(E60,'28'!$B7:$B118,'28'!L7:L118,TRUE)","v":26.58},{"$f":"LinInterpolate(E60,'28'!$B7:$B118,'28'!M7:M118,TRUE)","v":26.7},{"$f":"LinInterpolate(E60,'28'!$B7:$B118,'28'!N7:N118,TRUE)","v":26.7},{"$f":"LinInterpolate(E60,'28'!$B7:$B118,'28'!O7:O118,TRUE)","v":26.7},{"$f":"LinInterpolate(E60,'28'!$B7:$B118,'28'!P7:P118,TRUE)","v":26.7},26.7,{"$f":"IF(E60<'19'!B118,Y60-AA60,0)","v":0},{"$f":"IF(E60=0,0,IF(E60<'28'!B118,LinInterpolate($G$169,$R$23:$X$23,R60:X60,TRUE),Y60))","v":26.7}]
[null,29,"W.B. 4 SB","SW",{"$f":"INDEX!E62","v":5.52},{"$f":"IF(G61<'29'!M118,LinInterpolate(G61,'29'!M7:M118,'29'!I7:I118,TRUE),100)","v":100},{"$f":"'INDEX (Corrected trim 2)'!AA61","v":26.7},{"$f":"LinInterpolate(F61,'29'!I7:I118,'29'!H7:H118,TRUE)","v":27.367499999999996},{"$f":"LinInterpolate(F61,'29'!I7:I118,'29'!C7:C118,TRUE)","v":26.1},{"$f":"LinInterpolate(F61,'29'!I7:I118,'29'!D7:D118,TRUE)","v":-7.8},{"$f":"LinInterpolate(F61,'29'!I7:I118,'29'!E7:E118,TRUE)","v":4.04},null,714.29174999999998,-213.46649999999997,110.56469999999999,{"$f":"IF(LinInterpolate(F61,'29'!I7:I118,'29'!F7:F118,TRUE)>0,LinInterpolate(F61,'29'!I7:I118,'29'!F7:F118,TRUE),0)","v":0},null,{"$f":"LinInterpolate(E61,'29'!$B7:$B118,'29'!J7:J118,TRUE)","v":26.35},{"$f":"LinInterpolate(E61,'29'!$B7:$B118,'29'!K7:K118,TRUE)","v":26.47},{"$f":"LinInterpolate(E61,'29'!$B7:$B118,'29'!L7:L118,TRUE)","v":26.58},{"$f":"LinInterpolate(E61,'29'!$B7:$B118,'29'!M7:M118,TRUE)","v":26.7},{"$f":"LinInterpolate(E61,'29'!$B7:$B118,'29'!N7:N118,TRUE)","v":26.7},{"$f":"LinInterpolate(E61,'29'!$B7:$B118,'29'!O7:O118,TRUE)","v":26.7},{"$f":"LinInterpolate(E61,'29'!$B7:$B118,'29'!P7:P118,TRUE)","v":26.7},26.7,{"$f":"IF(E61<'19'!B118,Y61-AA61,0)","v":0},{"$f":"IF(E61=0,0,IF(E61<'29'!B118,LinInterpolate($G$169,$R$23:$X$23,R61:X61,TRUE),Y61))","v":26.7}]
[null,30,"W.B. 4 PS DB","SW",{"$f":"INDEX!E63","v":1.3},{"$f":"IF(G62<'30'!M34,LinInterpolate(G62,'30'!M7:M34,'30'!I7:I34,TRUE),100)","v":100},{"$f":"'INDEX (Corrected trim 2)'!AA62","v":45.49},{"$f":"LinInterpolate(F62,'30'!I7:I34,'30'!H7:H34,TRUE)","v":46.627249999999997},{"$f":"LinInterpolate(F62,'30'!I7:I34,'30'!C7:C34,TRUE)","v":26.09},{"$f":"LinInterpolate(F62,'30'!I7:I34,'30'!D7:D34,TRUE)","v":4.0999999999999996},{"$f":"LinInterpolate(F62,'30'!I7:I34,'30'!E7:E34,TRUE)","v":0.56000000000000005},null,1216.5049524999999,191.17172499999998,26.111260000000001,{"$f":"IF(LinInterpolate(F62,'30'!I7:I34,'30'!F7:F34,TRUE)>0,LinInterpolate(F62,'30'!I7:I34,'30'!F7:F34,TRUE),0)","v":0},null,{"$f":"LinInterpolate(E62,'30'!$B7:$B34,'30'!J7:J34,TRUE)","v":45.38},{"$f":"LinInterpolate(E62,'30'!$B7:$B34,'30'!K7:K34,TRUE)","v":45.46},{"$f":"LinInterpolate(E62,'30'!$B7:$B34,'30'!L7:L34,TRUE)","v":45.49},{"$f":"LinInterpolate(E62,'30'!$B7:$B34,'30'!M7:M34,TRUE)","v":45.49},{"$f":"LinInterpolate(E62,'30'!$B7:$B34,'30'!N7:N34,TRUE)","v":45.49},{"$f":"LinInterpolate(E62,'30'!$B7:$B34,'30'!O7:O34,TRUE)","v":45.49},{"$f":"LinInterpolate(E62,'30'!$B7:$B34,'30'!P7:P34,TRUE)","v":45.49},45.49,{"$f":"IF(E62<'19'!B34,Y62-AA62,0)","v":0},{"$f":"IF(E62=0,0,IF(E62<'30'!B34, LinInterpolate($G$169,$R$23:$X$23,S62:X62,TRUE),Y62))","v":45.49}]
[null,31,"W.B. 4 SB DB","SW",{"$f":"INDEX!E64","v":5.52},{"$f":"IF(G63<'31'!M34,LinInterpolate(G63,'31'!M7:M34,'31'!I7:I34,TRUE),100)","v":100},{"$f":"'INDEX (Corrected trim 2)'!AA63","v":45.49},{"$f":"LinInterpolate(F63,'31'!I7:I34,'31'!H7:H34,TRUE)","v":46.627249999999997},{"$f":"LinInterpolate(F63,'31'!I7:I34,'31'!C7:C34,TRUE)","v":26.09},{"$f":"LinInterpolate(F63,'31'!I7:I34,'31'!D7:D34,TRUE)","v":-4.0999999999999996},{"$f":"LinInterpolate(F63,'31'!I7:I34,'31'!E7:E34,TRUE)","v":0.56000000000000005},null,1216.5049524999999,-191.17172499999998,26.111260000000001,{"$f":"IF(LinInterpolate(F63,'31'!I7:I34,'31'!F7:F34,TRUE)>0,LinInterpolate(F63,'31'!I7:I34,'31'!F7:F34,TRUE),0)","v":0},null,{"$f":"LinInterpolate(E63,'31'!$B7:$B34,'31'!J7:J34,TRUE)","v":53.810000000000109},{"$f":"LinInterpolate(E63,'31'!$B7:$B34,'31'!K7:K34,TRUE)","v":48.825999999999929},{"$f":"LinInterpolate(E63,'31'!$B7:$B34,'31'!L7:L34,TRUE)","v":45.49},{"$f":"LinInterpolate(E63,'31'!$B7:$B34,'31'!M7:M34,TRUE)","v":45.49},{"$f":"LinInterpolate(E63,'31'!$B7:$B34,'31'!N7:N34,TRUE)","v":45.49},{"$f":"LinInterpolate(E63,'31'!$B7:$B34,'31'!O7:O34,TRUE)","v":45.49},{"$f":"LinInterpolate(E63,'31'!$B7:$B34,'31'!P7:P34,TRUE)","v":45.49},45.49,{"$f":"IF(E63<'19'!B34,Y63-AA63,0)","v":0},{"$f":"IF(E63=0,0,IF(E63<'31'!B34,LinInterpolate($G$169,$R$23:$X$23,R63:X63,TRUE),Y63))","v":45.49}]
[null,32,"W.B. 5 PS","SW",{"$f":"INDEX!E65","v":5.52},{"$f":"IF(G64<'32'!M118,LinInterpolate(G64,'32'!M7:M118,'32'!I7:I118,TRUE),100)","v":100},{"$f":"'INDEX (Corrected trim 2)'!AA64","v":23.67},{"$f":"LinInterpolate(F64,'32'!I7:I118,'32'!H7:H118,TRUE)","v":24.261749999999999},{"$f":"LinInterpolate(F64,'32'!I7:I118,'32'!C7:C118,TRUE)","v":21},{"$f":"LinInterpolate(F64,'32'!I7:I118,'32'!D7:D118,TRUE)","v":7.8},{"$f":"LinInterpolate(F64,'32'!I7:I118,'32'!E7:E118,TRUE)","v":4.04},null,509.49674999999996,189.24164999999999,98.017470000000003,{"$f":"IF(LinInterpolate(F64,'32'!I7:I118,'32'!F7:F118,TRUE)>0,LinInterpolate(F64,'32'!I7:I118,'32'!F7:F118,TRUE),0)","v":0},null,{"$f":"LinInterpolate(E64,'32'!$B7:$B118,'32'!J7:J118,TRUE)","v":23.41},{"$f":"LinInterpolate(E64,'32'!$B7:$B118,'32'!K7:K118,TRUE)","v":23.5},{"$f":"LinInterpolate(E64,'32'!$B7:$B118,'32'!L7:L118,TRUE)","v":23.58},{"$f":"LinInterpolate(E64,'32'!$B7:$B118,'32'!M7:M118,TRUE)","v":23.67},{"$f":"LinInterpolate(E64,'32'!$B7:$B118,'32'!N7:N118,TRUE)","v":23.67},{"$f":"LinInterpolate(E64,'32'!$B7:$B118,'32'!O7:O118,TRUE)","v":23.67},{"$f":"LinInterpolate(E64,'32'!$B7:$B118,'32'!P7:P118,TRUE)","v":23.67},23.67,{"$f":"IF(E64<'19'!B118,Y64-AA64,0)","v":0},{"$f":"IF(E64=0,0,IF(E64<'32'!B118,LinInterpolate($G$169,$R$23:$X$23,R64:X64,TRUE),Y64))","v":23.67}]
[null,33,"W.B. 5 SB","SW",{"$f":"INDEX!E66","v":5.52},{"$f":"IF(G65<'33'!M118,LinInterpolate(G65,'33'!M7:M118,'33'!I7:I118,TRUE),100)","v":100},{"$f":"'INDEX (Corrected trim 2)'!AA65","v":23.67},{"$f":"LinInterpolate(F65,'33'!I7:I118,'33'!H7:H118,TRUE)","v":24.261749999999999},{"$f":"LinInterpolate(F65,'33'!I7:I118,'33'!C7:C118,TRUE)","v":21},{"$f":"LinInterpolate(F65,'33'!I7:I118,'33'!D7:D118,TRUE)","v":-7.8},{"$f":"LinInterpolate(F65,'33'!I7:I118,'33'!E7:E118,TRUE)","v":4.04},null,509.49674999999996,-189.24164999999999,98.017470000000003,{"$f":"IF(LinInterpolate(F65,'33'!I7:I118,'33'!F7:F118,TRUE)>0,LinInterpolate(F65,'33'!I7:I118,'33'!F7:F118,TRUE),0)","v":0},null,{"$f":"LinInterpolate(E65,'33'!$B7:$B118,'33'!J7:J118,TRUE)","v":23.41},{"$f":"LinInterpolate(E65,'33'!$B7:$B118,'33'!K7:K118,TRUE)","v":23.5},{"$f":"LinInterpolate(E65,'33'!$B7:$B118,'33'!L7:L118,TRUE)","v":23.58},{"$f":"LinInterpolate(E65,'33'!$B7:$B118,'33'!M7:M118,TRUE)","v":23.67},{"$f":"LinInterpolate(E65,'33'!$B7:$B118,'33'!N7:N118,TRUE)","v":23.67},{"$f":"LinInterpolate(E65,'33'!$B7:$B118,'33'!O7:O118,TRUE)","v":23.67},{"$f":"LinInterpolate(E65,'33'!$B7:$B118,'33'!P7:P118,TRUE)","v":23.67},23.67,{"$f":"IF(E65<'19'!B118,Y65-AA65,0)","v":0},{"$f":"IF(E65=0,0,IF(E65<'33'!B118, LinInterpolate($G$169,$R$23:$X$23,R65:X65,TRUE),Y65))","v":23.67}]
[null,34,"W.B. 5 PS DB","SW",{"$f":"INDEX!E67","v":1.35},{"$f":"IF(G66<'34'!M34,LinInterpolate(G66,'34'!M7:M34,'34'!I7:I34,TRUE),100)","v":100},{"$f":"'INDEX (Corrected trim 2)'!AA66","v":40.159999999999997},{"$f":"LinInterpolate(F66,'34'!I7:I34,'34'!H7:H34,TRUE)","v":41.163999999999994},{"$f":"LinInterpolate(F66,'34'!I7:I34,'34'!C7:C34,TRUE)","v":21},{"$f":"LinInterpolate(F66,'34'!I7:I34,'34'!D7:D34,TRUE)","v":4.1500000000000004},{"$f":"LinInterpolate(F66,'34'!I7:I34,'34'!E7:E34,TRUE)","v":0.56000000000000005},null,864.44399999999985,170.8306,23.051839999999999,{"$f":"IF(LinInterpolate(F66,'34'!I7:I34,'34'!F7:F34,TRUE)>0,LinInterpolate(F66,'34'!I7:I34,'34'!F7:F34,TRUE),0)","v":0},null,{"$f":"LinInterpolate(E66,'34'!$B7:$B34,'34'!J7:J34,TRUE)","v":40.14},{"$f":"LinInterpolate(E66,'34'!$B7:$B34,'34'!K7:K34,TRUE)","v":40.159999999999997},{"$f":"LinInterpolate(E66,'34'!$B7:$B34,'34'!L7:L34,TRUE)","v":40.159999999999997},{"$f":"LinInterpolate(E66,'34'!$B7:$B34,'34'!M7:M34,TRUE)","v":40.159999999999997},{"$f":"LinInterpolate(E66,'34'!$B7:$B34,'34'!N7:N34,TRUE)","v":40.159999999999997},{"$f":"LinInterpolate(E66,'34'!$B7:$B34,'34'!O7:O34,TRUE)","v":40.159999999999997},{"$f":"LinInterpolate(E66,'34'!$B7:$B34,'34'!P7:P34,TRUE)","v":40.159999999999997},40.159999999999997,{"$f":"IF(E66<'19'!B34,Y66-AA66,0)","v":0},{"$f":"IF(E66=0,0,IF(E66<'34'!B34,LinInterpolate($G$169,$R$23:$X$23,R66:X66,TRUE),Y66))","v":40.159999999999997}]
[null,35,"W.B. 5 SB DB","SW",{"$f":"INDEX!E68","v":1.35},{"$f":"IF(G67<'35'!M34,LinInterpolate(G67,'35'!M7:M34,'35'!I7:I34,TRUE),100)","v":100},{"$f":"'INDEX (Corrected trim 2)'!AA67","v":40.159999999999997},{"$f":"LinInterpolate(F67,'35'!I7:I34,'35'!H7:H34,TRUE)","v":41.163999999999994},{"$f":"LinInterpolate(F67,'35'!I7:I34,'35'!C7:C34,TRUE)","v":21},{"$f":"LinInterpolate(F67,'35'!I7:I34,'35'!D7:D34,TRUE)","v":-4.1500000000000004},{"$f":"LinInterpolate(F67,'35'!I7:I34,'35'!E7:E34,TRUE)","v":0.56000000000000005},null,{"$f":"$H67*I67","v":864.44399999999985},-170.8306,23.051839999999999,{"$f":"IF(LinInterpolate(F67,'35'!I7:I34,'35'!F7:F34,TRUE)>0,LinInterpolate(F67,'35'!I7:I34,'35'!F7:F34,TRUE),0)","v":0},null,{"$f":"LinInterpolate(E67,'35'!$B7:$B34,'35'!J7:J34,TRUE)","v":40.14},{"$f":"LinInterpolate(E67,'35'!$B7:$B34,'35'!K7:K34,TRUE)","v":40.159999999999997},{"$f":"LinInterpolate(E67,'35'!$B7:$B34,'35'!L7:L34,TRUE)","v":40.159999999999997},{"$f":"LinInterpolate(E67,'35'!$B7:$B34,'35'!M7:M34,TRUE)","v":40.159999999999997},{"$f":"LinInterpolate(E67,'35'!$B7:$B34,'35'!N7:N34,TRUE)","v":40.159999999999997},{"$f":"LinInterpolate(E67,'35'!$B7:$B34,'35'!O7:O34,TRUE)","v":40.159999999999997},{"$f":"LinInterpolate(E67,'35'!$B7:$B34,'35'!P7:P34,TRUE)","v":40.159999999999997},40.159999999999997,{"$f":"IF(E67<'19'!B34,Y67-AA67,0)","v":0},{"$f":"IF(E67=0,0,IF(E67<'35'!B34,LinInterpolate($G$169,$R$23:$X$23,R67:X67,TRUE),Y67))","v":40.159999999999997}]
[null,36,"W.B. 6 PS","SW",{"$f":"INDEX!E69","v":5.51},{"$f":"IF(G68<'36'!M118,LinInterpolate(G68,'36'!M7:M118,'36'!I7:I118,TRUE),100)","v":100},{"$f":"'INDEX (Corrected trim 2)'!AA68","v":22.31},{"$f":"LinInterpolate(F68,'36'!I7:I118,'36'!H7:H118,TRUE)","v":22.857499999999998},{"$f":"LinInterpolate(F68,'36'!I7:I118,'36'!C7:C118,TRUE)","v":16.260000000000002},{"$f":"LinInterpolate(F68,'36'!I7:I118,'36'!D7:D118,TRUE)","v":7.79},{"$f":"LinInterpolate(F68,'36'!I7:I118,'36'!E7:E118,TRUE)","v":4.21},null,371.66295000000002,178.05992499999999,96.230074999999985,{"$f":"IF(LinInterpolate(F68,'36'!I7:I118,'36'!F7:F118,TRUE)>0,LinInterpolate(F68,'36'!I7:I118,'36'!F7:F118,TRUE),0)","v":0},null,{"$f":"LinInterpolate(E68,'36'!$B21:$B118,'36'!J21:J118,TRUE)","v":22.3},{"$f":"LinInterpolate(E68,'36'!$B21:$B118,'36'!K21:K118,TRUE)","v":22.3},{"$f":"LinInterpolate(E68,'36'!$B21:$B118,'36'!L21:L118,TRUE)","v":22.31},{"$f":"LinInterpolate(E68,'36'!$B21:$B118,'36'!M21:M118,TRUE)","v":22.31},{"$f":"LinInterpolate(E68,'36'!$B21:$B118,'36'!N21:N118,TRUE)","v":22.24},{"$f":"LinInterpolate(E68,'36'!$B21:$B118,'36'!O21:O118,TRUE)","v":22.17},{"$f":"LinInterpolate(E68,'36'!$B21:$B118,'36'!P21:P118,TRUE)","v":22.1},22.31,{"$f":"IF(E68<'19'!B118,Y68-AA68,0)","v":0},{"$f":"IF(E68=0,0,IF(E68<'36'!B118,LinInterpolate($G$169,$R$23:$X$23,R68:X68,TRUE),Y68))","v":22.31}]
[null,37,"W.B. 6 SB","SW",{"$f":"INDEX!E70","v":5.51},{"$f":"IF(G69<'37'!M118,LinInterpolate(G69,'37'!M7:M118,'37'!I7:I118,TRUE),100)","v":100},{"$f":"'INDEX (Corrected trim 2)'!AA69","v":22.31},{"$f":"LinInterpolate(F69,'37'!I7:I118,'37'!H7:H118,TRUE)","v":22.857499999999998},{"$f":"LinInterpolate(F69,'37'!I7:I118,'37'!C7:C118,TRUE)","v":16.260000000000002},{"$f":"LinInterpolate(F69,'37'!I7:I118,'37'!D7:D118,TRUE)","v":-7.79},{"$f":"LinInterpolate(F69,'37'!I7:I118,'37'!E7:E118,TRUE)","v":4.21},null,371.66295000000002,-178.05992499999999,96.230074999999985,{"$f":"IF(LinInterpolate(F69,'37'!I7:I118,'37'!F7:F118,TRUE)>0,LinInterpolate(F69,'37'!I7:I118,'37'!F7:F118,TRUE),0)","v":0},null,{"$f":"LinInterpolate(E69,'37'!$B7:$B118,'37'!J7:J118,TRUE)","v":22.3},{"$f":"LinInterpolate(E69,'37'!$B7:$B118,'37'!K7:K118,TRUE)","v":22.3},{"$f":"LinInterpolate(E69,'37'!$B7:$B118,'37'!L7:L118,TRUE)","v":22.3},{"$f":"LinInterpolate(E69,'37'!$B7:$B118,'37'!M7:M118,TRUE)","v":22.31},{"$f":"LinInterpolate(E69,'37'!$B7:$B118,'37'!N7:N118,TRUE)","v":22.24},{"$f":"LinInterpolate(E69,'37'!$B7:$B118,'37'!O7:O118,TRUE)","v":22.18},{"$f":"LinInterpolate(E69,'37'!$B7:$B118,'37'!P7:P118,TRUE)","v":22.11},22.31,{"$f":"IF(E69<'19'!B118,Y69-AA69,0)","v":0},{"$f":"IF(E69=0,0,IF(E69<'37'!B118,LinInterpolate($G$169,$R$23:$X$23,R69:X69,TRUE),Y69))","v":22.31}]
[null,38,"W.B. 6 PS DB","SW",{"$f":"INDEX!E71","v":2.2000000000000002},{"$f":"IF(G70<'38'!M51,LinInterpolate(G70,'38'!M7:M51,'38'!I7:I51,TRUE),100)","v":100},{"$f":"'INDEX (Corrected trim 2)'!AA70","v":39.67},{"$f":"LinInterpolate(F70,'38'!I7:I51,'38'!H7:H51,TRUE)","v":40.661749999999998},{"$f":"LinInterpolate(F70,'38'!I7:I51,'38'!C7:C51,TRUE)","v":16.2},{"$f":"LinInterpolate(F70,'38'!I7:I51,'38'!D7:D51,TRUE)","v":4.16},{"$f":"LinInterpolate(F70,'38'!I7:I51,'38'!E7:E51,TRUE)","v":0.63},null,658.72034999999994,169.15288000000001,25.616902499999998,{"$f":"IF(LinInterpolate(F70,'38'!I7:I51,'38'!F7:F51,TRUE)>0,LinInterpolate(F70,'38'!I7:I51,'38'!F7:F51,TRUE),0)","v":0},null,{"$f":"LinInterpolate(E70,'38'!$B7:$B51,'38'!J7:J51,TRUE)","v":39.67},{"$f":"LinInterpolate(E70,'38'!$B7:$B51,'38'!K7:K51,TRUE)","v":39.67},{"$f":"LinInterpolate(E70,'38'!$B7:$B51,'38'!L7:L51,TRUE)","v":39.67},{"$f":"LinInterpolate(E70,'38'!$B7:$B51,'38'!M7:M51,TRUE)","v":39.67},{"$f":"LinInterpolate(E70,'38'!$B7:$B51,'38'!N7:N51,TRUE)","v":39.659999999999997},{"$f":"LinInterpolate(E70,'38'!$B7:$B51,'38'!O7:O51,TRUE)","v":39.659999999999997},{"$f":"LinInterpolate(E70,'38'!$B7:$B51,'38'!P7:P51,TRUE)","v":39.65},39.67,{"$f":"IF(E70<'19'!B51,Y70-AA70,0)","v":0},{"$f":"IF(E70=0,0,IF(E70<'38'!B51, LinInterpolate($G$169,$R$23:$X$23,R70:X70,TRUE),Y70))","v":39.67}]
[null,39,"W.B. 6 SB DB","SW",{"$f":"INDEX!E72","v":2.2000000000000002},{"$f":"IF(G71<'39'!M51,LinInterpolate(G71,'39'!M7:M51,'39'!I7:I51,TRUE),100)","v":100},{"$f":"'INDEX (Corrected trim 2)'!AA71","v":39.67},{"$f":"LinInterpolate(F71,'39'!I7:I51,'39'!H7:H51,TRUE)","v":40.661749999999998},{"$f":"LinInterpolate(F71,'39'!I7:I51,'39'!C7:C51,TRUE)","v":16.2},{"$f":"LinInterpolate(F71,'39'!I7:I51,'39'!D7:D51,TRUE)","v":-4.16},{"$f":"LinInterpolate(F71,'39'!I7:I51,'39'!E7:E51,TRUE)","v":0.63},null,658.72034999999994,-169.15288000000001,25.616902499999998,{"$f":"IF(LinInterpolate(F71,'39'!I7:I51,'39'!F7:F51,TRUE)>0,LinInterpolate(F71,'39'!I7:I51,'39'!F7:F51,TRUE),0)","v":0},null,{"$f":"LinInterpolate(E71,'39'!$B7:$B51,'39'!J7:J51,TRUE)","v":39.67},{"$f":"LinInterpolate(E71,'39'!$B7:$B51,'39'!K7:K51,TRUE)","v":39.67},{"$f":"LinInterpolate(E71,'39'!$B7:$B51,'39'!L7:L51,TRUE)","v":39.67},{"$f":"LinInterpolate(E71,'39'!$B7:$B51,'39'!M7:M51,TRUE)","v":39.67},{"$f":"LinInterpolate(E71,'39'!$B7:$B51,'39'!N7:N51,TRUE)","v":39.659999999999997},{"$f":"LinInterpolate(E71,'39'!$B7:$B51,'39'!O7:O51,TRUE)","v":39.659999999999997},{"$f":"LinInterpolate(E71,'39'!$B7:$B51,'39'!P7:P51,TRUE)","v":39.659999999999997},39.67,{"$f":"IF(E71<'19'!B51,Y71-AA71,0)","v":0},{"$f":"IF(E71=0,0,IF(E71<'39'!B51, LinInterpolate($G$169,$R$23:$X$23,R71:X71,TRUE),Y71))","v":39.67}]
[null,40,"W.B. 7 PS","SW",{"$f":"INDEX!E73","v":4.6399999999999997},{"$f":"IF(G72<'40'!M100,LinInterpolate(G72,'40'!M7:M100,'40'!I7:I100,TRUE),100)","v":100},{"$f":"'INDEX (Corrected trim 2)'!AA72","v":17.48},{"$f":"LinInterpolate(F72,'40'!I7:I100,'40'!H7:H100,TRUE)","v":17.916999999999998},{"$f":"LinInterpolate(F72,'40'!I7:I100,'40'!C7:C100,TRUE)","v":11.34},{"$f":"LinInterpolate(F72,'40'!I7:I100,'40'!D7:D100,TRUE)","v":7.79},{"$f":"LinInterpolate(F72,'40'!I7:I100,'40'!E7:E100,TRUE)","v":4.92},null,203.17877999999999,139.57342999999997,88.151639999999986,{"$f":"IF(LinInterpolate(F72,'40'!I7:I100,'40'!F7:F100,TRUE)>0,LinInterpolate(F72,'40'!I7:I100,'40'!F7:F100,TRUE),0)","v":0},null,{"$f":"LinInterpolate(E72,'40'!$B7:$B100,'40'!J7:J100,TRUE)","v":17.48},{"$f":"LinInterpolate(E72,'40'!$B7:$B100,'40'!K7:K100,TRUE)","v":17.48},{"$f":"LinInterpolate(E72,'40'!$B7:$B100,'40'!L7:L100,TRUE)","v":17.48},{"$f":"LinInterpolate(E72,'40'!$B7:$B100,'40'!M7:M100,TRUE)","v":17.48},{"$f":"LinInterpolate(E72,'40'!$B7:$B100,'40'!N7:N100,TRUE)","v":17.37},{"$f":"LinInterpolate(E72,'40'!$B7:$B100,'40'!O7:O100,TRUE)","v":17.260000000000002},{"$f":"LinInterpolate(E72,'40'!$B7:$B100,'40'!P7:P100,TRUE)","v":17.149999999999999},17.48,{"$f":"IF(E72<'19'!B100,Y72-AA72,0)","v":0},{"$f":"IF(E72=0,0,IF(E72<'40'!B100,LinInterpolate($G$169,$R$23:$X$23,R72:X72,TRUE),Y72))","v":17.48}]
[null,41,"W.B. 7 SB","SW",{"$f":"INDEX!E74","v":4.6399999999999997},{"$f":"IF(G73<'41'!M100,LinInterpolate(G73,'41'!M7:M100,'41'!I7:I100,TRUE),100)","v":100},{"$f":"'INDEX (Corrected trim 2)'!AA73","v":17.48},{"$f":"LinInterpolate(F73,'41'!I7:I100,'41'!H7:H100,TRUE)","v":17.916999999999998},{"$f":"LinInterpolate(F73,'41'!I7:I100,'41'!C7:C100,TRUE)","v":11.34},{"$f":"LinInterpolate(F73,'41'!I7:I100,'41'!D7:D100,TRUE)","v":-7.79},{"$f":"LinInterpolate(F73,'41'!I7:I100,'41'!E7:E100,TRUE)","v":4.92},null,203.17877999999999,-139.57342999999997,88.151639999999986,{"$f":"IF(LinInterpolate(F73,'41'!I7:I100,'41'!F7:F100,TRUE)>0,LinInterpolate(F73,'41'!I7:I100,'41'!F7:F100,TRUE),0)","v":0},null,{"$f":"LinInterpolate(E73,'41'!$B7:$B100,'41'!J7:J100,TRUE)","v":17.48},{"$f":"LinInterpolate(E73,'41'!$B7:$B100,'41'!K7:K100,TRUE)","v":17.48},{"$f":"LinInterpolate(E73,'41'!$B7:$B100,'41'!L7:L100,TRUE)","v":17.48},{"$f":"LinInterpolate(E73,'41'!$B7:$B100,'41'!M7:M100,TRUE)","v":17.48},{"$f":"LinInterpolate(E73,'41'!$B7:$B100,'41'!N7:N100,TRUE)","v":17.37},{"$f":"LinInterpolate(E73,'41'!$B7:$B100,'41'!O7:O100,TRUE)","v":17.260000000000002},{"$f":"LinInterpolate(E73,'41'!$B7:$B100,'41'!P7:P100,TRUE)","v":17.149999999999999},17.48,{"$f":"IF(E73<'19'!B100,Y73-AA73,0)","v":0},{"$f":"IF(E73=0,0,IF(E73<'41'!B100, LinInterpolate($G$169,$R$23:$X$23,R73:X73,TRUE),Y73))","v":17.48}]
[null,42,"W.B. 7 PS DB","SW",{"$f":"INDEX!E75","v":4.55},{"$f":"IF(G74<'42'!M98,LinInterpolate(G74,'42'!M7:M98,'42'!I7:I98,TRUE),100)","v":100},{"$f":"'INDEX (Corrected trim 2)'!AA74","v":35.4},{"$f":"LinInterpolate(F74,'42'!I7:I98,'42'!H7:H98,TRUE)","v":36.284999999999997},{"$f":"LinInterpolate(F74,'42'!I7:I98,'42'!C7:C98,TRUE)","v":10.63},{"$f":"LinInterpolate(F74,'42'!I7:I98,'42'!D7:D98,TRUE)","v":5.9},{"$f":"LinInterpolate(F74,'42'!I7:I98,'42'!E7:E98,TRUE)","v":1.98},null,385.70954999999998,214.08150000000001,71.84429999999999,{"$f":"IF(LinInterpolate(F74,'42'!I7:I98,'42'!F7:F98,TRUE)>0,LinInterpolate(F74,'42'!I7:I98,'42'!F7:F98,TRUE),0)","v":0},null,{"$f":"LinInterpolate(E74,'42'!$B7:$B98,'42'!J7:J98,TRUE)","v":35.4},{"$f":"LinInterpolate(E74,'42'!$B7:$B98,'42'!K7:K98,TRUE)","v":35.4},{"$f":"LinInterpolate(E74,'42'!$B7:$B98,'42'!L7:L98,TRUE)","v":35.4},{"$f":"LinInterpolate(E74,'42'!$B7:$B98,'42'!M7:M98,TRUE)","v":35.4},{"$f":"LinInterpolate(E74,'42'!$B7:$B98,'42'!N7:N98,TRUE)","v":35.39},{"$f":"LinInterpolate(E74,'42'!$B7:$B98,'42'!O7:O98,TRUE)","v":35.39},{"$f":"LinInterpolate(E74,'42'!$B7:$B98,'42'!P7:P98,TRUE)","v":35.380000000000003},35.4,{"$f":"IF(E74<'19'!B98,Y74-AA74,0)","v":0},{"$f":"IF(E74=0,0,IF(E74<'42'!B98,LinInterpolate($G$169,$R$23:$X$23,R74:X74,TRUE),Y74))","v":35.4}]
[null,43,"W.B. 7 SB DB","SW",{"$f":"INDEX!E76","v":4.55},{"$f":"IF(G75<'43'!M98,LinInterpolate(G75,'43'!M7:M98,'43'!I7:I98,TRUE),100)","v":100},{"$f":"'INDEX (Corrected trim 2)'!AA75","v":35.4},{"$f":"LinInterpolate(F75,'43'!I7:I98,'43'!H7:H98,TRUE)","v":36.284999999999997},{"$f":"LinInterpolate(F75,'43'!I7:I98,'43'!C7:C98,TRUE)","v":10.63},{"$f":"LinInterpolate(F75,'43'!I7:I98,'43'!D7:D98,TRUE)","v":-5.9},{"$f":"LinInterpolate(F75,'43'!I7:I98,'43'!E7:E98,TRUE)","v":1.98},null,385.70954999999998,-214.08150000000001,71.84429999999999,{"$f":"IF(LinInterpolate(F75,'43'!I7:I98,'43'!F7:F98,TRUE)>0,LinInterpolate(F75,'43'!I7:I98,'43'!F7:F98,TRUE),0)","v":0},null,{"$f":"LinInterpolate(E75,'43'!$B7:$B98,'43'!J7:J98,TRUE)","v":35.4},{"$f":"LinInterpolate(E75,'43'!$B7:$B98,'43'!K7:K98,TRUE)","v":35.4},{"$f":"LinInterpolate(E75,'43'!$B7:$B98,'43'!L7:L98,TRUE)","v":35.4},{"$f":"LinInterpolate(E75,'43'!$B7:$B98,'43'!M7:M98,TRUE)","v":35.4},{"$f":"LinInterpolate(E75,'43'!$B7:$B98,'43'!N7:N98,TRUE)","v":35.39},{"$f":"LinInterpolate(E75,'43'!$B7:$B98,'43'!O7:O98,TRUE)","v":35.39},{"$f":"LinInterpolate(E75,'43'!$B7:$B98,'43'!P7:P98,TRUE)","v":35.380000000000003},35.4,{"$f":"IF(E75<'19'!B98,Y75-AA75,0)","v":0},{"$f":"IF(E75=0,0,IF(E75<'43'!B98,LinInterpolate($G$169,$R$23:$X$23,R75:X75,TRUE),Y75))","v":35.4}]
[null,44,"W.B. 8 PS DB","SW",{"$f":"INDEX!E77","v":2.7},{"$f":"IF(G76<'44'!M61,LinInterpolate(G76,'44'!M7:M61,'44'!I7:I61,TRUE),100)","v":100},{"$f":"'INDEX (Corrected trim 2)'!AA76","v":29.71},{"$f":"LinInterpolate(F76,'44'!I7:I61,'44'!H7:H61,TRUE)","v":30.452749999999998},{"$f":"LinInterpolate(F76,'44'!I7:I61,'44'!C7:C61,TRUE)","v":10.53},{"$f":"LinInterpolate(F76,'44'!I7:I61,'44'!D7:D61,TRUE)","v":1.47},{"$f":"LinInterpolate(F76,'44'!I7:I61,'44'!E7:E61,TRUE)","v":1.1100000000000001},null,320.66745749999995,44.765542499999995,33.802552500000004,{"$f":"IF(LinInterpolate(F76,'44'!I7:I61,'44'!F7:F61,TRUE)>0,LinInterpolate(F76,'44'!I7:I61,'44'!F7:F61,TRUE),0)","v":0},null,{"$f":"LinInterpolate(E76,'44'!$B7:$B61,'44'!J7:J61,TRUE)","v":29.71},{"$f":"LinInterpolate(E76,'44'!$B7:$B61,'44'!K7:K61,TRUE)","v":29.71},{"$f":"LinInterpolate(E76,'44'!$B7:$B61,'44'!L7:L61,TRUE)","v":29.71},{"$f":"LinInterpolate(E76,'44'!$B7:$B61,'44'!M7:M61,TRUE)","v":29.71},{"$f":"LinInterpolate(E76,'44'!$B7:$B61,'44'!N7:N61,TRUE)","v":29.7},{"$f":"LinInterpolate(E76,'44'!$B7:$B61,'44'!O7:O61,TRUE)","v":29.67},{"$f":"LinInterpolate(E76,'44'!$B7:$B61,'44'!P7:P61,TRUE)","v":29.59},29.71,{"$f":"IF(E76<'19'!B61,Y76-AA76,0)","v":0},{"$f":"IF(E76=0,0,IF(E76<'44'!B61,LinInterpolate($G$169,$R$23:$X$23,R76:X76,TRUE),Y76))","v":29.71}]
[null,45,"W.B. 8 SB DB","SW",{"$f":"INDEX!E78","v":2.7},{"$f":"IF(G77<'45'!M61,LinInterpolate(G77,'45'!M7:M61,'45'!I7:I61,TRUE),100)","v":100},{"$f":"'INDEX (Corrected trim 2)'!AA77","v":29.71},{"$f":"LinInterpolate(F77,'45'!I7:I61,'45'!H7:H61,TRUE)","v":30.452749999999998},{"$f":"LinInterpolate(F77,'45'!I7:I61,'45'!C7:C61,TRUE)","v":10.53},{"$f":"LinInterpolate(F77,'45'!I7:I61,'45'!D7:D61,TRUE)","v":-1.47},{"$f":"LinInterpolate(F77,'45'!I7:I61,'45'!E7:E61,TRUE)","v":1.1100000000000001},null,320.66745749999995,-44.765542499999995,33.802552500000004,{"$f":"IF(LinInterpolate(F77,'45'!I7:I61,'45'!F7:F61,TRUE)>0,LinInterpolate(F77,'45'!I7:I61,'45'!F7:F61,TRUE),0)","v":0},null,{"$f":"LinInterpolate(E77,'45'!$B7:$B61,'45'!J7:J61,TRUE)","v":29.71},{"$f":"LinInterpolate(E77,'45'!$B7:$B61,'45'!K7:K61,TRUE)","v":29.71},{"$f":"LinInterpolate(E77,'45'!$B7:$B61,'45'!L7:L61,TRUE)","v":29.71},{"$f":"LinInterpolate(E77,'45'!$B7:$B61,'45'!M7:M61,TRUE)","v":29.71},{"$f":"LinInterpolate(E77,'45'!$B7:$B61,'45'!N7:N61,TRUE)","v":29.7},{"$f":"LinInterpolate(E77,'45'!$B7:$B61,'45'!O7:O61,TRUE)","v":29.67},{"$f":"LinInterpolate(E77,'45'!$B7:$B61,'45'!P7:P61,TRUE)","v":29.59},29.71,{"$f":"IF(E77<'19'!B61,Y77-AA77,0)","v":0},{"$f":"IF(E77=0,0,IF(E77<'45'!B61, LinInterpolate($G$169,$R$23:$X$23,R77:X77,TRUE),Y77))","v":29.71}]
[null,null,"Total BW",null,null,{"$f":"(G78/1032.2)*100","v":99.98391784537877},{"$f":"SUM((G51:G77))","v":1032.0339999999997},{"$f":"SUM((H51:H77))","v":1057.8143499999999},{"$f":"M78/H78","v":22.744108122564228},{"$f":"N78/H78","v":-7.3606753396756736E-3},{"$f":"O78/H78","v":3.0813733728418415},null,{"$f":"SUM((M51:M77))","v":24059.043949999996},{"$f":"SUM((N51:N77))","v":-7.786228000000051},{"$f":"SUM((O51:O77))","v":3259.5209715000001},{"$f":"SUM((P51:P77))","v":0},null,null,null,null,null,null,null,null,null,{"$f":"SUM((Z51:Z77))","v":0},{"$f":"SUM((AA51:AA77))","v":1032.0339999999997}]
[]
[null,null,"FW (S.G. 1.000)",null,null,null,null,null,null,null,null,null,null,null,null,null,null,-1.5,-1,-0.5,0,0.5,1,1.5,"Volume","∆Volume","Volume2"]
[null,46,"F.W. 1 PS","FW",{"$f":"INDEX!E82","v":7.77},{"$f":"IF(G81<'46'!M163,LinInterpolate(G81,'46'!M7:M163,'46'!I7:I163,TRUE),100)","v":100},{"$f":"'INDEX (Corrected trim 2)'!AA81","v":73.349999999999994},{"$f":"LinInterpolate(F81,'46'!I7:I163,'46'!H7:H163,TRUE)","v":73.349999999999994},{"$f":"LinInterpolate(F81,'46'!I7:I163,'46'!C7:C163,TRUE)","v":47.04},{"$f":"LinInterpolate(F81,'46'!I7:I163,'46'!D7:D163,TRUE)","v":2.93},{"$f":"LinInterpolate(F81,'46'!I7:I163,'46'!E7:E163,TRUE)","v":4.93},null,{"$f":"$H81*I81","v":3450.3839999999996},214.91550000000001,361.61549999999994,{"$f":"IF(LinInterpolate(F81,'46'!I7:I163,'46'!F7:F163,TRUE)>0,LinInterpolate(F81,'46'!I7:I163,'46'!F7:F163,TRUE),0)","v":0},null,{"$f":"LinInterpolate(E81,'46'!$B7:$B163,'46'!J7:J163,TRUE)","v":72.150000000000006},{"$f":"LinInterpolate(E81,'46'!$B7:$B163,'46'!K7:K163,TRUE)","v":72.55},{"$f":"LinInterpolate(E81,'46'!$B7:$B163,'46'!L7:L163,TRUE)","v":72.95},{"$f":"LinInterpolate(E81,'46'!$B7:$B163,'46'!M7:M163,TRUE)","v":73.349999999999994},{"$f":"LinInterpolate(E81,'46'!$B7:$B163,'46'!N7:N163,TRUE)","v":73.349999999999994},{"$f":"LinInterpolate(E81,'46'!$B7:$B163,'46'!O7:O163,TRUE)","v":73.349999999999994},{"$f":"LinInterpolate(E81,'46'!$B7:$B163,'46'!P7:P163,TRUE)","v":73.349999999999994},{"$f":"G81","v":73.349999999999994},{"$f":"IF(E81<'19'!B163,Y81-AA81,0)","v":0},{"$f":"IF(E81=0,0,IF(E81<'46'!B163,LinInterpolate($G$169,$R$23:$X$23,R81:X81,TRUE),Y81))","v":73.349999999999994}]
[null,47,"F.W. 1 SB","FW",{"$f":"INDEX!E83","v":7.77},{"$f":"IF(G82<'47'!M163,LinInterpolate(G82,'47'!M7:M163,'47'!I7:I163,TRUE),100)","v":100},{"$f":"'INDEX (Corrected trim 2)'!AA82","v":73.349999999999994},{"$f":"LinInterpolate(F82,'47'!I7:I163,'47'!H7:H163,TRUE)","v":73.349999999999994},{"$f":"LinInterpolate(F82,'47'!I7:I163,'47'!C7:C163,TRUE)","v":47.05},{"$f":"LinInterpolate(F82,'47'!I7:I163,'47'!D7:D163,TRUE)","v":-2.93},{"$f":"LinInterpolate(F82,'47'!I7:I163,'47'!E7:E163,TRUE)","v":4.93},null,3451.1174999999994,-214.91550000000001,361.61549999999994,{"$f":"IF(LinInterpolate(F82,'47'!I7:I163,'47'!F7:F163,TRUE)>0,LinInterpolate(F82,'47'!I7:I163,'47'!F7:F163,TRUE),0)","v":0},null,{"$f":"LinInterpolate(E82,'47'!$B7:$B163,'47'!J7:J163,TRUE)","v":72.150000000000006},{"$f":"LinInterpolate(E82,'47'!$B7:$B163,'47'!K7:K163,TRUE)","v":72.55},{"$f":"LinInterpolate(E82,'47'!$B7:$B163,'47'!L7:L163,TRUE)","v":72.95},{"$f":"LinInterpolate(E82,'47'!$B7:$B163,'47'!M7:M163,TRUE)","v":73.349999999999994},{"$f":"LinInterpolate(E82,'47'!$B7:$B163,'47'!N7:N163,TRUE)","v":73.349999999999994},{"$f":"LinInterpolate(E82,'47'!$B7:$B163,'47'!O7:O163,TRUE)","v":73.349999999999994},{"$f":"LinInterpolate(E82,'47'!$B7:$B163,'47'!P7:P163,TRUE)","v":73.349999999999994},{"$f":"G82","v":73.349999999999994},{"$f":"IF(E82<'19'!B163,Y82-AA82,0)","v":0},{"$f":"IF(E82=0,0,IF(E82<'47'!B163, LinInterpolate($G$169,$R$23:$X$23,R82:X82,TRUE),Y82))","v":73.349999999999994}]
[null,48,"F.W. 1 C","FW",{"$f":"INDEX!E84","v":5.77},{"$f":"IF(G83<'48'!M123,LinInterpolate(G83,'48'!M7:M123,'48'!I7:I123,TRUE),100)","v":100},{"$f":"'INDEX (Corrected trim 2)'!AA83","v":103.64},{"$f":"LinInterpolate(F83,'48'!I7:I123,'48'!H7:H123,TRUE)","v":103.64},{"$f":"LinInterpolate(F83,'48'!I7:I123,'48'!C7:C123,TRUE)","v":15.61},{"$f":"LinInterpolate(F83,'48'!I7:I123,'48'!D7:D123,TRUE)","v":0},{"$f":"LinInterpolate(F83,'48'!I7:I123,'48'!E7:E123,TRUE)","v":3.91},null,1617.8204000000001,0,405.23240000000004,{"$f":"IF(LinInterpolate(F83,'48'!I7:I123,'48'!F7:F123,TRUE)>0,LinInterpolate(F83,'48'!I7:I123,'48'!F7:F123,TRUE),0)","v":0},null,{"$f":"LinInterpolate(E83,'48'!$B7:$B123,'48'!J7:J123,TRUE)","v":103.63},{"$f":"LinInterpolate(E83,'48'!$B7:$B123,'48'!K7:K123,TRUE)","v":103.64},{"$f":"LinInterpolate(E83,'48'!$B7:$B123,'48'!L7:L123,TRUE)","v":103.64},{"$f":"LinInterpolate(E83,'48'!$B7:$B123,'48'!M7:M123,TRUE)","v":103.64},{"$f":"LinInterpolate(E83,'48'!$B7:$B123,'48'!N7:N123,TRUE)","v":103.28},{"$f":"LinInterpolate(E83,'48'!$B7:$B123,'48'!O7:O123,TRUE)","v":102.93},{"$f":"LinInterpolate(E83,'48'!$B7:$B123,'48'!P7:P123,TRUE)","v":102.58},{"$f":"G83","v":103.64},{"$f":"IF(E83<'19'!B123,Y83-AA83,0)","v":0},{"$f":"IF(E83=0,0,IF(E83<'48'!B123, LinInterpolate($G$169,$R$23:$X$23,R83:X83,TRUE),Y83))","v":103.64}]
[null,49,"F.W. 2 PS","FW",{"$f":"INDEX!E85","v":5.8},{"$f":"IF(G84<'49'!M123,LinInterpolate(G84,'49'!M7:M123,'49'!I7:I123,TRUE),100)","v":100},{"$f":"'INDEX (Corrected trim 2)'!AA84","v":116.59},{"$f":"LinInterpolate(F84,'49'!I7:I123,'49'!H7:H123,TRUE)","v":116.59},{"$f":"LinInterpolate(F84,'49'!I7:I123,'49'!C7:C123,TRUE)","v":5.23},{"$f":"LinInterpolate(F84,'49'!I7:I123,'49'!D7:D123,TRUE)","v":4.01},{"$f":"LinInterpolate(F84,'49'!I7:I123,'49'!E7:E123,TRUE)","v":4.93},null,609.76570000000004,467.52589999999998,574.78869999999995,{"$f":"IF(LinInterpolate(F84,'49'!I7:I123,'49'!F7:F123,TRUE)>0,LinInterpolate(F84,'49'!I7:I123,'49'!F7:F123,TRUE),0)","v":0},null,{"$f":"LinInterpolate(E84,'49'!$B7:$B123,'49'!J7:J123,TRUE)","v":116.59},{"$f":"LinInterpolate(E84,'49'!$B7:$B123,'49'!K7:K123,TRUE)","v":116.59},{"$f":"LinInterpolate(E84,'49'!$B7:$B123,'49'!L7:L123,TRUE)","v":116.59},{"$f":"LinInterpolate(E84,'49'!$B7:$B123,'49'!M7:M123,TRUE)","v":116.59},{"$f":"LinInterpolate(E84,'49'!$B7:$B123,'49'!N7:N123,TRUE)","v":115.95},{"$f":"LinInterpolate(E84,'49'!$B7:$B123,'49'!O7:O123,TRUE)","v":115.32},{"$f":"LinInterpolate(E84,'49'!$B7:$B123,'49'!P7:P123,TRUE)","v":114.68},{"$f":"G84","v":116.59},{"$f":"IF(E84<'19'!B123,Y84-AA84,0)","v":0},{"$f":"IF(E84=0,0,IF(E84<'49'!B123,LinInterpolate($G$169,$R$23:$X$23,R84:X84,TRUE),Y84))","v":116.59}]
[null,50,"F.W. 2 SB","FW",{"$f":"INDEX!E86","v":5.8},{"$f":"IF(G85<'50'!M123,LinInterpolate(G85,'50'!M7:M123,'50'!I7:I123,TRUE),100)","v":100},{"$f":"'INDEX (Corrected trim 2)'!AA85","v":116.59},{"$f":"LinInterpolate(F85,'50'!I7:I123,'50'!H7:H123,TRUE)","v":116.59},{"$f":"LinInterpolate(F85,'50'!I7:I123,'50'!C7:C123,TRUE)","v":5.23},{"$f":"LinInterpolate(F85,'50'!I7:I123,'50'!D7:D123,TRUE)","v":-4.01},{"$f":"LinInterpolate(F85,'50'!I7:I123,'50'!E7:E123,TRUE)","v":4.93},null,609.76570000000004,-467.52589999999998,574.78869999999995,{"$f":"IF(LinInterpolate(F85,'50'!I7:I123,'50'!F7:F123,TRUE)>0,LinInterpolate(F85,'50'!I7:I123,'50'!F7:F123,TRUE),0)","v":0},null,{"$f":"LinInterpolate(E85,'50'!$B7:$B123,'50'!J7:J123,TRUE)","v":116.59},{"$f":"LinInterpolate(E85,'50'!$B7:$B123,'50'!K7:K123,TRUE)","v":116.59},{"$f":"LinInterpolate(E85,'50'!$B7:$B123,'50'!L7:L123,TRUE)","v":116.59},{"$f":"LinInterpolate(E85,'50'!$B7:$B123,'50'!M7:M123,TRUE)","v":116.59},{"$f":"LinInterpolate(E85,'50'!$B7:$B123,'50'!N7:N123,TRUE)","v":115.95},{"$f":"LinInterpolate(E85,'50'!$B7:$B123,'50'!O7:O123,TRUE)","v":115.32},{"$f":"LinInterpolate(E85,'50'!$B7:$B123,'50'!P7:P123,TRUE)","v":114.68},{"$f":"G85","v":116.59},{"$f":"IF(E85<'19'!B123,Y85-AA85,0)","v":0},{"$f":"IF(E85=0,0,IF(E85<'50'!B123,LinInterpolate($G$169,$R$23:$X$23,R85:X85,TRUE),Y85))","v":116.59}]
[null,null,"TOTAL FW ",null,null,{"$f":"(G86/483.6)*100","v":99.983457402812235},{"$f":"SUM((G81:G85))","v":483.52},{"$f":"SUM((H81:H85))","v":483.52},{"$f":"M86/H86","v":20.141572840833884},{"$f":"N86/H86","v":0},{"$f":"O86/H86","v":4.7113682991396422},null,{"$f":"SUM((M81:M85))","v":9738.8532999999989},{"$f":"SUM((N81:N85))","v":0},{"$f":"SUM((O81:O85))","v":2278.0407999999998},{"$f":"SUM((P81:P85))","v":0},null,null,null,null,null,null,null,null,null,{"$f":"SUM((Z81:Z85))","v":0},{"$f":"SUM((AA81:AA85))","v":483.52}]
[]
[null,"Sheet No.","Name","Sort of Fluid","Sounding Height","% Full","Volume","Weight","LCG","TCG","VCG",null,"Longitudinal","Transverse","Vertical","FSMt"]
[null,null,null,null,null," "," "," ","Fwd of AP","PS:+","Above BL",null,"Moment","Moment","Moment"," "]
[null,null,null,null,null,"%","m³","t","m","m","m",null,"t·m","t·m","t·m","t·m"]
[null,null,"MISC (S.G. Various)",null,null,null,null,null,null,null,null,null,null,null,null,null,null,-1.5,-1,-0.5,0,0.5,1,1.5,"Volume","∆Volume","Volume2"]
[null,51,"DIRTY OIL ","DIRTY",{"$f":"INDEX!E93","v":2},{"$f":"IF(G92<'51'!M27,LinInterpolate(G92,'51'!M7:M27,'51'!I7:I27,TRUE),100)","v":100},{"$f":"'INDEX (Corrected trim 2)'!AA92","v":13.43},{"$f":"LinInterpolate(F92,'51'!I7:I27,'51'!H7:H27,TRUE)","v":13.161399999999999},{"$f":"LinInterpolate(F92,'51'!I7:I27,'51'!C7:C27,TRUE)","v":36.93},{"$f":"LinInterpolate(F92,'51'!I7:I27,'51'!D7:D27,TRUE)","v":0},{"$f":"LinInterpolate(F92,'51'!I7:I27,'51'!E7:E27,TRUE)","v":0.5},null,{"$f":"$H92*I92","v":486.05050199999994},0,6.5806999999999993,{"$f":"IF(LinInterpolate(F92,'51'!I7:I27,'51'!F7:F27,TRUE)>0,LinInterpolate(F92,'51'!I7:I27,'51'!F7:F27,TRUE),0)","v":0},null,{"$f":"LinInterpolate(E92,'51'!$B7:$B27,'51'!J7:J27,TRUE)","v":24.639999999999997},{"$f":"LinInterpolate(E92,'51'!$B7:$B27,'51'!K7:K27,TRUE)","v":24.169999999999973},{"$f":"LinInterpolate(E92,'51'!$B7:$B27,'51'!L7:L27,TRUE)","v":22.029999999999987},{"$f":"LinInterpolate(E92,'51'!$B7:$B27,'51'!M7:M27,TRUE)","v":18.829999999999988},{"$f":"LinInterpolate(E92,'51'!$B7:$B27,'51'!N7:N27,TRUE)","v":15.829999999999982},{"$f":"LinInterpolate(E92,'51'!$B7:$B27,'51'!O7:O27,TRUE)","v":14.830000000000004},{"$f":"LinInterpolate(E92,'51'!$B7:$B27,'51'!P7:P27,TRUE)","v":14.630000000000008},{"$f":"G92","v":13.43},{"$f":"IF(E92<'19'!B27,Y92-AA92,0)","v":0},{"$f":"IF(E92=0,0,IF(E92<'51'!B27,LinInterpolate($G$169,$R$23:$X$23,R92:X92,TRUE),Y92))","v":13.43}]
[null,52,"OILY WATER ","OILY",{"$f":"INDEX!E94","v":2},{"$f":"IF(G93<'52'!M31,LinInterpolate(G93,'52'!M7:M31,'52'!I7:I31,TRUE),100)","v":100},{"$f":"'INDEX (Corrected trim 2)'!AA93","v":30.2},{"$f":"LinInterpolate(F93,'52'!I7:I31,'52'!H7:H31,TRUE)","v":29.596},{"$f":"LinInterpolate(F93,'52'!I7:I31,'52'!C7:C31,TRUE)","v":37.85},{"$f":"LinInterpolate(F93,'52'!I7:I31,'52'!D7:D31,TRUE)","v":-4.3},{"$f":"LinInterpolate(F93,'52'!I7:I31,'52'!E7:E31,TRUE)","v":0.56999999999999995},null,1120.2085999999999,-127.2628,16.869719999999997,{"$f":"IF(LinInterpolate(F93,'52'!I7:I31,'52'!F7:F31,TRUE)>0,LinInterpolate(F93,'52'!I7:I31,'52'!F7:F31,TRUE),0)","v":0},null,{"$f":"LinInterpolate(E93,'52'!$B7:$B31,'52'!J7:J31,TRUE)","v":38.539999999999978},{"$f":"LinInterpolate(E93,'52'!$B7:$B31,'52'!K7:K31,TRUE)","v":34.799999999999983},{"$f":"LinInterpolate(E93,'52'!$B7:$B31,'52'!L7:L31,TRUE)","v":31.479999999999972},{"$f":"LinInterpolate(E93,'52'!$B7:$B31,'52'!M7:M31,TRUE)","v":30.519999999999992},{"$f":"LinInterpolate(E93,'52'!$B7:$B31,'52'!N7:N31,TRUE)","v":30.2},{"$f":"LinInterpolate(E93,'52'!$B7:$B31,'52'!O7:O31,TRUE)","v":30.2},{"$f":"LinInterpolate(E93,'52'!$B7:$B31,'52'!P7:P31,TRUE)","v":30.2},30.2,{"$f":"IF(E93<'19'!B31,Y93-AA93,0)","v":0},{"$f":"IF(E93=0,0,IF(E93<'52'!B31, LinInterpolate($G$169,$R$23:$X$23,R93:X93,TRUE),Y93))","v":30.2}]
[null,53,"GREY WATER ","GREY",{"$f":"INDEX!E95","v":2},{"$f":"IF(G94<'53'!M27,LinInterpolate(G94,'53'!M7:M27,'53'!I7:I27,TRUE),100)","v":100},{"$f":"'INDEX (Corrected trim 2)'!AA94","v":31.1},{"$f":"LinInterpolate(F94,'53'!I7:I27,'53'!H7:H27,TRUE)","v":30.478000000000002},{"$f":"LinInterpolate(F94,'53'!I7:I27,'53'!C7:C27,TRUE)","v":41.56},{"$f":"LinInterpolate(F94,'53'!I7:I27,'53'!D7:D27,TRUE)","v":0},{"$f":"LinInterpolate(F94,'53'!I7:I27,'53'!E7:E27,TRUE)","v":0.5},null,1266.6656800000001,0,15.239000000000001,{"$f":"IF(LinInterpolate(F94,'53'!I7:I27,'53'!F7:F27,TRUE)>0,LinInterpolate(F94,'53'!I7:I27,'53'!F7:F27,TRUE),0)","v":0},null,{"$f":"LinInterpolate(E94,'53'!$B7:$B27,'53'!J7:J27,TRUE)","v":44.620000000000012},{"$f":"LinInterpolate(E94,'53'!$B7:$B27,'53'!K7:K27,TRUE)","v":44.389999999999951},{"$f":"LinInterpolate(E94,'53'!$B7:$B27,'53'!L7:L27,TRUE)","v":43.300000000000047},{"$f":"LinInterpolate(E94,'53'!$B7:$B27,'53'!M7:M27,TRUE)","v":43.500000000000007},{"$f":"LinInterpolate(E94,'53'!$B7:$B27,'53'!N7:N27,TRUE)","v":44.900000000000013},{"$f":"LinInterpolate(E94,'53'!$B7:$B27,'53'!O7:O27,TRUE)","v":45.959999999999987},{"$f":"LinInterpolate(E94,'53'!$B7:$B27,'53'!P7:P27,TRUE)","v":46.139999999999979},31.1,{"$f":"IF(E94<'19'!B27,Y94-AA94,0)","v":0},{"$f":"IF(E94=0,0,IF(E94<'53'!B27, LinInterpolate($G$169,$R$23:$X$23,R94:X94,TRUE),Y94))","v":31.1}]
[null,54,"SEWAGE ","SEWAGE",{"$f":"INDEX!E96","v":2},{"$f":"IF(G95<'54'!M31,LinInterpolate(G95,'54'!M7:M31,'54'!I7:I31,TRUE),100)","v":100},{"$f":"'INDEX (Corrected trim 2)'!AA95","v":30.2},{"$f":"LinInterpolate(F95,'54'!I7:I31,'54'!H7:H31,TRUE)","v":29.596},{"$f":"LinInterpolate(F95,'54'!I7:I31,'54'!C7:C31,TRUE)","v":37.85},{"$f":"LinInterpolate(F95,'54'!I7:I31,'54'!D7:D31,TRUE)","v":4.3},{"$f":"LinInterpolate(F95,'54'!I7:I31,'54'!E7:E31,TRUE)","v":0.56999999999999995},null,1120.2085999999999,127.2628,16.869719999999997,{"$f":"IF(LinInterpolate(F95,'54'!I7:I31,'54'!F7:F31,TRUE)>0,LinInterpolate(F95,'54'!I7:I31,'54'!F7:F31,TRUE),0)","v":0},null,{"$f":"LinInterpolate(E95,'54'!$B7:$B31,'54'!J7:J31,TRUE)","v":38.539999999999978},{"$f":"LinInterpolate(E95,'54'!$B7:$B31,'54'!K7:K31,TRUE)","v":34.799999999999983},{"$f":"LinInterpolate(E95,'54'!$B7:$B31,'54'!L7:L31,TRUE)","v":31.479999999999972},{"$f":"LinInterpolate(E95,'54'!$B7:$B31,'54'!M7:M31,TRUE)","v":30.519999999999992},{"$f":"LinInterpolate(E95,'54'!$B7:$B31,'54'!N7:N31,TRUE)","v":30.2},{"$f":"LinInterpolate(E95,'54'!$B7:$B31,'54'!O7:O31,TRUE)","v":30.2},{"$f":"LinInterpolate(E95,'54'!$B7:$B31,'54'!P7:P31,TRUE)","v":30.2},30.2,{"$f":"IF(E95<'19'!B31,Y95-AA95,0)","v":0},{"$f":"IF(E95=0,0,IF(E95<'54'!B31,LinInterpolate($G$169,$R$23:$X$23,R95:X95,TRUE),Y95))","v":30.2}]
[null,55,"SLUDGE ","SLUDGE",{"$f":"INDEX!E97","v":2},{"$f":"IF(G96<'55'!M27,LinInterpolate(G96,'55'!M7:M27,'55'!I7:I27,TRUE),100)","v":100},{"$f":"'INDEX (Corrected trim 2)'!AA96","v":19.05},{"$f":"LinInterpolate(F96,'55'!I7:I27,'55'!H7:H27,TRUE)","v":18.669},{"$f":"LinInterpolate(F96,'55'!I7:I27,'55'!C7:C27,TRUE)","v":31.5},{"$f":"LinInterpolate(F96,'55'!I7:I27,'55'!D7:D27,TRUE)","v":-1.8},{"$f":"LinInterpolate(F96,'55'!I7:I27,'55'!E7:E27,TRUE)","v":0.5},null,588.07349999999997,-33.604199999999999,9.3345000000000002,{"$f":"IF(LinInterpolate(F96,'55'!I7:I27,'55'!F7:F27,TRUE)>0,LinInterpolate(F96,'55'!I7:I27,'55'!F7:F27,TRUE),0)","v":0},null,{"$f":"LinInterpolate(E96,'55'!$B7:$B27,'55'!J7:J27,TRUE)","v":35.590000000000003},{"$f":"LinInterpolate(E96,'55'!$B7:$B27,'55'!K7:K27,TRUE)","v":35.409999999999982},{"$f":"LinInterpolate(E96,'55'!$B7:$B27,'55'!L7:L27,TRUE)","v":34.180000000000021},{"$f":"LinInterpolate(E96,'55'!$B7:$B27,'55'!M7:M27,TRUE)","v":26.649999999999974},{"$f":"LinInterpolate(E96,'55'!$B7:$B27,'55'!N7:N27,TRUE)","v":20.849999999999998},{"$f":"LinInterpolate(E96,'55'!$B7:$B27,'55'!O7:O27,TRUE)","v":20.050000000000015},{"$f":"LinInterpolate(E96,'55'!$B7:$B27,'55'!P7:P27,TRUE)","v":19.849999999999984},19.05,{"$f":"IF(E96<'19'!B27,Y96-AA96,0)","v":0},{"$f":"IF(E96=0,0,IF(E96<'55'!B27,LinInterpolate($G$169,$R$23:$X$23,R96:X96,TRUE),Y96))","v":19.05}]
[null,56,"LUBRICATION OIL PS","OIL",{"$f":"INDEX!E98","v":2},{"$f":"IF(G97<'56'!M47,LinInterpolate(G97,'56'!M7:M47,'56'!I7:I47,TRUE),100)","v":100},{"$f":"'INDEX (Corrected trim 2)'!AA97","v":10.58},{"$f":"LinInterpolate(F97,'56'!I7:I47,'56'!H7:H47,TRUE)","v":9.5220000000000002},{"$f":"LinInterpolate(F97,'56'!I7:I47,'56'!C7:C47,TRUE)","v":30.3},{"$f":"LinInterpolate(F97,'56'!I7:I47,'56'!D7:D47,TRUE)","v":-0.9},{"$f":"LinInterpolate(F97,'56'!I7:I47,'56'!E7:E47,TRUE)","v":5.8},null,288.51660000000004,-8.5698000000000008,55.227600000000002,{"$f":"IF(LinInterpolate(F97,'56'!I7:I47,'56'!F7:F47,TRUE)>0,LinInterpolate(F97,'56'!I7:I47,'56'!F7:F47,TRUE),0)","v":0},null,{"$f":"LinInterpolate(E97,'56'!$B7:$B47,'56'!J7:J47,TRUE)","v":10.594999999999999},{"$f":"LinInterpolate(E97,'56'!$B7:$B47,'56'!K7:K47,TRUE)","v":10.61},{"$f":"LinInterpolate(E97,'56'!$B7:$B47,'56'!L7:L47,TRUE)","v":10.64},{"$f":"LinInterpolate(E97,'56'!$B7:$B47,'56'!M7:M47,TRUE)","v":10.73},{"$f":"LinInterpolate(E97,'56'!$B7:$B47,'56'!N7:N47,TRUE)","v":10.684999999999999},{"$f":"LinInterpolate(E97,'56'!$B7:$B47,'56'!O7:O47,TRUE)","v":10.614999999999998},{"$f":"LinInterpolate(E97,'56'!$B7:$B47,'56'!P7:P47,TRUE)","v":10.530000000000003},10.58,{"$f":"IF(E97<'19'!B47,Y97-AA97,0)","v":0},{"$f":"IF(E97=0,0,IF(E97<'56'!B47, LinInterpolate($G$169,$R$23:$X$23,R97:X97,TRUE),Y97))","v":10.58}]
[null,57,"LUBRICATION OIL SB","OIL",{"$f":"INDEX!E99","v":2},{"$f":"IF(G98<'57'!M47,LinInterpolate(G98,'57'!M7:M47,'57'!I7:I47,TRUE),100)","v":100},{"$f":"'INDEX (Corrected trim 2)'!AA98","v":10.58},{"$f":"LinInterpolate(F98,'57'!I7:I47,'57'!H7:H47,TRUE)","v":9.5220000000000002},{"$f":"LinInterpolate(F98,'57'!I7:I47,'57'!C7:C47,TRUE)","v":30.3},{"$f":"LinInterpolate(F98,'57'!I7:I47,'57'!D7:D47,TRUE)","v":-2.7},{"$f":"LinInterpolate(F98,'57'!I7:I47,'57'!E7:E47,TRUE)","v":5.8},null,288.51660000000004,-25.709400000000002,55.227600000000002,{"$f":"IF(LinInterpolate(F98,'57'!I7:I47,'57'!F7:F47,TRUE)>0,LinInterpolate(F98,'57'!I7:I47,'57'!F7:F47,TRUE),0)","v":0},null,{"$f":"LinInterpolate(E98,'57'!$B7:$B47,'57'!J7:J47,TRUE)","v":10.594999999999999},{"$f":"LinInterpolate(E98,'57'!$B7:$B47,'57'!K7:K47,TRUE)","v":10.61},{"$f":"LinInterpolate(E98,'57'!$B7:$B47,'57'!L7:L47,TRUE)","v":10.64},{"$f":"LinInterpolate(E98,'57'!$B7:$B47,'57'!M7:M47,TRUE)","v":10.73},{"$f":"LinInterpolate(E98,'57'!$B7:$B47,'57'!N7:N47,TRUE)","v":10.684999999999999},{"$f":"LinInterpolate(E98,'57'!$B7:$B47,'57'!O7:O47,TRUE)","v":10.614999999999998},{"$f":"LinInterpolate(E98,'57'!$B7:$B47,'57'!P7:P47,TRUE)","v":10.530000000000003},10.58,{"$f":"IF(E98<'19'!B47,Y98-AA98,0)","v":0},{"$f":"IF(E98=0,0,IF(E98<'57'!B47,LinInterpolate($G$169,$R$23:$X$23,R98:X98,TRUE),Y98))","v":10.58}]
[null,58,"THERMAL OIL","OIL",{"$f":"INDEX!E100","v":2},{"$f":"IF(G99<'58'!M47,LinInterpolate(G99,'58'!M7:M47,'58'!I7:I47,TRUE),100)","v":100},{"$f":"'INDEX (Corrected trim 2)'!AA99","v":10.58},{"$f":"LinInterpolate(F99,'58'!I7:I47,'58'!H7:H47,TRUE)","v":10.368399999999999},{"$f":"LinInterpolate(F99,'58'!I7:I47,'58'!C7:C47,TRUE)","v":30.3},{"$f":"LinInterpolate(F99,'58'!I7:I47,'58'!D7:D47,TRUE)","v":0.9},{"$f":"LinInterpolate(F99,'58'!I7:I47,'58'!E7:E47,TRUE)","v":5.78},null,314.16251999999997,9.3315599999999996,59.929352000000002,{"$f":"IF(LinInterpolate(F99,'58'!I7:I47,'58'!F7:F47,TRUE)>0,LinInterpolate(F99,'58'!I7:I47,'58'!F7:F47,TRUE),0)","v":0},null,{"$f":"LinInterpolate(E99,'58'!$B7:$B47,'58'!J7:J47,TRUE)","v":10.58},{"$f":"LinInterpolate(E99,'58'!$B7:$B47,'58'!K7:K47,TRUE)","v":10.58},{"$f":"LinInterpolate(E99,'58'!$B7:$B47,'58'!L7:L47,TRUE)","v":10.58},{"$f":"LinInterpolate(E99,'58'!$B7:$B47,'58'!M7:M47,TRUE)","v":10.58},{"$f":"LinInterpolate(E99,'58'!$B7:$B47,'58'!N7:N47,TRUE)","v":10.58},{"$f":"LinInterpolate(E99,'58'!$B7:$B47,'58'!O7:O47,TRUE)","v":10.58},{"$f":"LinInterpolate(E99,'58'!$B7:$B47,'58'!P7:P47,TRUE)","v":10.58},10.58,{"$f":"IF(E99<'19'!B47,Y99-AA99,0)","v":0},{"$f":"IF(E99=0,0,IF(E99<'58'!B47, LinInterpolate($G$169,$R$23:$X$23,R99:X99,TRUE),Y99))","v":10.58}]
[null,null,"Total MISC",null,null,{"$f":"(G100/147.7)*100","v":105.42992552471229},{"$f":"SUM((G92:G99))","v":155.72000000000003},{"$f":"SUM((H92:H99))","v":150.9128},{"$f":"M100/H100","v":36.262017549207222},{"$f":"N100/H100","v":-0.38798458447527312},{"$f":"O100/H100","v":1.5590340381995429},null,{"$f":"SUM((M92:M99))","v":5472.4026020000001},{"$f":"SUM((N92:N99))","v":-58.551839999999999},{"$f":"SUM((O92:O99))","v":235.27819199999999},{"$f":"SUM((P92:P99))","v":0},null,null,null,null,null,null,null,null,null,{"$f":"SUM((Z92:Z99))","v":0},{"$f":"SUM((AA92:AA99))","v":155.72000000000003}]
[]
[null,null,"Total in all tanks",null,null,{"$f":"(G102/3086.976667)*100","v":97.529191355799654},{"$f":"G100+G86+G78+G45+G32","v":3010.7033806673162},{"$f":"H100+H86+H78+H45+H32","v":2963.6476173738924},{"$f":"M102/H102","v":22.294652881350018},{"$f":"N102/H102","v":-1.2433552418304E-2},{"$f":"O102/H102","v":3.6697937980142825},null,{"$f":"M100+M86+M78+M45+M32","v":66073.494891990966},{"$f":"N100+N86+N78+N45+N32","v":-36.848668000000046},{"$f":"O100+O86+O78+O45+O32","v":10875.975645738516},{"$f":"P100+P86+P78+P45+P32","v":13.984407371296962},null,null,null,null,null,null,null,null,null,{"$f":"Z100+Z86+Z78+Z45+Z32","v":0},{"$f":"AA100+AA86+AA78+AA45+AA32","v":3010.7033806673162}]
[]
[null,null,"Name",null,null,null,null,"Weight","LCG","TCG","VCG",null,"Longitudinal","Transverse","Vertical","FSMt"]
[null,null,null,null,null,null,null," ","Fwd of AP","PS:+","Above BL",null,"Moment","Moment","Moment"," "]
[null,null,null,null,null,null,null,"t","m","m","m",null,"t·m","t·m","t·m","t·m"]
[]
[null,null,"(DECK) LOADS"]
[null,null,"Name",null,null,null,null,"Weight","LCG","TCG","VCG",null,"Longitudinal","Transverse","Vertical","FSMt"]
[null,null,null,null,null,null,null," ","Fwd of AP","PS:+","Above BL",null,"Moment","Moment","Moment"," "]
[null,null,null,null,null,null,null,"t","m","m","m",null,"t·m","t·m","t·m","t·m"]
[null,null,{"$f":"INDEX!C113","v":"Deck load 1"},{"$f":"INDEX!#REF!","v":{"$error":"#REF!"}},{"$f":"INDEX!#REF!","v":{"$error":"#REF!"}},{"$f":"INDEX!#REF!","v":{"$error":"#REF!"}},{"$f":"INDEX!#REF!","v":{"$error":"#REF!"}},{"$f":"INDEX!H113","v":5},{"$f":"INDEX!I113","v":5},{"$f":"INDEX!J113","v":1},{"$f":"INDEX!K113","v":7},null,{"$f":"$H112*I112","v":25},{"$f":"$H112*J112","v":5},{"$f":"$H112*K112","v":35}]
[null,null,{"$f":"INDEX!C114","v":"Deck load 2"},{"$f":"INDEX!#REF!","v":{"$error":"#REF!"}},{"$f":"INDEX!#REF!","v":{"$error":"#REF!"}},{"$f":"INDEX!#REF!","v":{"$error":"#REF!"}},{"$f":"INDEX!#REF!","v":{"$error":"#REF!"}},{"$f":"INDEX!H114","v":5},{"$f":"INDEX!I114","v":5},{"$f":"INDEX!J114","v":-1},{"$f":"INDEX!K114","v":7},null,{"$f":"$H113*I113","v":25},{"$f":"$H113*J113","v":-5},{"$f":"$H113*K113","v":35}]
[null,null,{"$f":"INDEX!C115","v":"Deck load 3"},{"$f":"INDEX!#REF!","v":{"$error":"#REF!"}},{"$f":"INDEX!#REF!","v":{"$error":"#REF!"}},{"$f":"INDEX!#REF!","v":{"$error":"#REF!"}},{"$f":"INDEX!#REF!","v":{"$error":"#REF!"}},{"$f":"INDEX!H115","v":10},{"$f":"INDEX!I115","v":6},{"$f":"INDEX!J115","v":1},{"$f":"INDEX!K115","v":7},null,{"$f":"$H114*I114","v":60},{"$f":"$H114*J114","v":10},{"$f":"$H114*K114","v":70}]
[null,null,{"$f":"INDEX!C116","v":"Deck load 4"},{"$f":"INDEX!#REF!","v":{"$error":"#REF!"}},{"$f":"INDEX!#REF!","v":{"$error":"#REF!"}},{"$f":"INDEX!#REF!","v":{"$error":"#REF!"}},{"$f":"INDEX!#REF!","v":{"$error":"#REF!"}},{"$f":"INDEX!H116","v":10},{"$f":"INDEX!I116","v":6},{"$f":"INDEX!J116","v":-1},{"$f":"INDEX!K116","v":7},null,{"$f":"$H115*I115","v":60},{"$f":"$H115*J115","v":-10},{"$f":"$H115*K115","v":70}]
[null,null,{"$f":"INDEX!C117","v":"Deck load 5"},{"$f":"INDEX!#REF!","v":{"$error":"#REF!"}},{"$f":"INDEX!#REF!","v":{"$error":"#REF!"}},{"$f":"INDEX!#REF!","v":{"$error":"#REF!"}},{"$f":"INDEX!#REF!","v":{"$error":"#REF!"}},{"$f":"INDEX!H117","v":15},{"$f":"INDEX!I117","v":7},{"$f":"INDEX!J117","v":1},{"$f":"INDEX!K117","v":7},null,{"$f":"$H116*I116","v":105},{"$f":"$H116*J116","v":15},{"$f":"$H116*K116","v":105}]
[null,null,{"$f":"INDEX!C118","v":"Deck load 6"},{"$f":"INDEX!#REF!","v":{"$error":"#REF!"}},{"$f":"INDEX!#REF!","v":{"$error":"#REF!"}},{"$f":"INDEX!#REF!","v":{"$error":"#REF!"}},{"$f":"INDEX!#REF!","v":{"$error":"#REF!"}},{"$f":"INDEX!H118","v":15},{"$f":"INDEX!I118","v":7},{"$f":"INDEX!J118","v":-1},{"$f":"INDEX!K118","v":7},null,{"$f":"$H117*I117","v":105},{"$f":"$H117*J117","v":-15},{"$f":"$H117*K117","v":105}]
[null,null,{"$f":"INDEX!C119","v":"Deck load 7"},{"$f":"INDEX!#REF!","v":{"$error":"#REF!"}},{"$f":"INDEX!#REF!","v":{"$error":"#REF!"}},{"$f":"INDEX!#REF!","v":{"$error":"#REF!"}},{"$f":"INDEX!#REF!","v":{"$error":"#REF!"}},{"$f":"INDEX!H119","v":5},{"$f":"INDEX!I119","v":8},{"$f":"INDEX!J119","v":1},{"$f":"INDEX!K119","v":7},null,{"$f":"$H118*I118","v":40},{"$f":"$H118*J118","v":5},{"$f":"$H118*K118","v":35}]
[null,null,{"$f":"INDEX!C120","v":"Deck load 8"},{"$f":"INDEX!#REF!","v":{"$error":"#REF!"}},{"$f":"INDEX!#REF!","v":{"$error":"#REF!"}},{"$f":"INDEX!#REF!","v":{"$error":"#REF!"}},{"$f":"INDEX!#REF!","v":{"$error":"#REF!"}},{"$f":"INDEX!H120","v":5},{"$f":"INDEX!I120","v":8},{"$f":"INDEX!J120","v":-1},{"$f":"INDEX!K120","v":7},null,{"$f":"$H119*I119","v":40},{"$f":"$H119*J119","v":-5},{"$f":"$H119*K119","v":35}]
[]
[null,null,"Total Remaining",null,null,null,null,{"$f":"SUM(H112:H120)","v":70},{"$f":"M121/H121","v":6.5714285714285712},{"$f":"N121/H121","v":0},{"$f":"O121/H121","v":7},null,{"$f":"SUM(M112:M120)","v":460},{"$f":"SUM(N112:N120)","v":0},{"$f":"SUM(O112:O120)","v":490}]
[]
[]
[null,null,"Calculation Results"]
[null,null,null,null,null,null,"  "]
[null,null,"Ship weight",null,null,null,null,null,"LCG","TCG","VCG","Total Moments",null,null,null,"FSMt / ∆"]
[null,null,null,null,null,null,null,"t","m","m","m","t·m",null,"t·m","t·m","m"]
[null,null,"Displacement",null,null,null,null,{"$f":"H129+H21","v":4733.647617373892},{"$f":"L128/H128","v":24.829371426087601},{"$f":"N128/H128","v":-7.7844129894152868E-3},{"$f":"O128/H128","v":4.9150206196898729},{"$f":"L129+M21","v":117533.49489199097},null,{"$f":"N129+N21","v":-36.848668000000046},{"$f":"O129+O21","v":23265.975645738516},{"$f":"P102/H128","v":2.9542561047362368E-3}]
[null,null,"Total Deadweight",null,null,null,null,{"$f":"H121+H102","v":3033.6476173738924},{"$f":"L129/H129","v":21.931846833808059},{"$f":"N129/H129","v":-1.2146654011153236E-2},{"$f":"O129/H129","v":3.7466367486602108},{"$f":"M121+M102","v":66533.494891990966},null,{"$f":"N121+N102","v":-36.848668000000046},{"$f":"O121+O102","v":11365.975645738516}]
[]
[null,null,"Longitudinal Stability"]
[null,null,"Sheet used for calculation data:","Hydrostatics"]
[]
[null,null,"Trim","Draft","Displ.","LCB","VCB","ϕ","LCG'","LCB'","LCG'-LCB'",null,"LCF","KM"]
[null,null,null,"Moulded"," ","Fwd of AP",null,null,"LCG + tanϕ * VCG","LCB + tanϕ * VCB",null,null,"Fwd of AP"]
[null,null,"m","m","t","m","m","rad","m","m","m",null,"m","m"]
[null,null,-1.5,{"$f":"LinInterpolate(E137,Hydrostatics!D6:D86,Hydrostatics!C6:C86,TRUE)","v":6.6481864199444516},{"$f":"$H$128","v":4733.647617373892},{"$f":"LinInterpolate($E137,Hydrostatics!$D6:$D86,Hydrostatics!I6:I86,TRUE)","v":23.428186419944449},{"$f":"LinInterpolate($E137,Hydrostatics!$D6:$D86,Hydrostatics!J6:J86,TRUE)","v":3.6292745679777805},{"$f":"ATAN(C137/($G$172))","v":-2.8401451838560528E-2},{"$f":"$I$128+((TAN(H137))*$K$128)","v":24.689740158482774},{"$f":"F137+((TAN(H137))*G137)","v":23.325082028808716},{"$f":"I137-J137","v":1.3646581296740585},null,{"$f":"LinInterpolate($E137,Hydrostatics!$D6:$D86,Hydrostatics!K6:K86,TRUE)","v":33.981345435122321},{"$f":"LinInterpolate($E137,Hydrostatics!$D6:$D86,Hydrostatics!E6:E86,TRUE)","v":5.5743525921333177}]
[null,null,-1.4,{"$f":"LinInterpolate(E138,Hydrostatics!D88:D168,Hydrostatics!C88:C168,TRUE)","v":6.6344092413679743},4733.647617373892,{"$f":"LinInterpolate($E138,Hydrostatics!$D88:$D168,Hydrostatics!I88:I168,TRUE)","v":23.444409241367975},{"$f":"LinInterpolate($E138,Hydrostatics!$D88:$D168,Hydrostatics!J88:J168,TRUE)","v":3.6268818482735949},-2.6508940280468775E-2,24.69904890965643,23.348241919633448,1.3508069900229813,null,{"$f":"LinInterpolate($E138,Hydrostatics!$D88:$D168,Hydrostatics!K88:K168,TRUE)","v":33.576784165340399},{"$f":"LinInterpolate($E138,Hydrostatics!$D88:$D168,Hydrostatics!E88:E168,TRUE)","v":5.6442996689904561}]
[null,null,-1.3,{"$f":"LinInterpolate(E139,Hydrostatics!D170:D250,Hydrostatics!C170:C250,TRUE)","v":6.6211727631691986},4733.647617373892,{"$f":"LinInterpolate($E139,Hydrostatics!$D170:$D250,Hydrostatics!I170:I250,TRUE)","v":23.461172763169198},{"$f":"LinInterpolate($E139,Hydrostatics!$D170:$D250,Hydrostatics!J170:J250,TRUE)","v":3.6284691052676794},-2.4616238770206935E-2,24.708357660830085,23.371835455653137,1.3365222051769479,null,{"$f":"LinInterpolate($E139,Hydrostatics!$D170:$D250,Hydrostatics!K170:K250,TRUE)","v":33.24381339494709},{"$f":"LinInterpolate($E139,Hydrostatics!$D170:$D250,Hydrostatics!E170:E250,TRUE)","v":5.7049508157600837}]
[null,null,-1.2,{"$f":"LinInterpolate(E140,Hydrostatics!D252:D332,Hydrostatics!C252:C332,TRUE)","v":6.6085984157366235},4733.647617373892,{"$f":"LinInterpolate($E140,Hydrostatics!$D252:$D332,Hydrostatics!I252:I332,TRUE)","v":23.468598415736626},{"$f":"LinInterpolate($E140,Hydrostatics!$D252:$D332,Hydrostatics!J252:J332,TRUE)","v":3.6234393662946496},-2.2723360841641067E-2,24.717666412003741,23.386247521048112,1.3314188909556286,null,{"$f":"LinInterpolate($E140,Hydrostatics!$D252:$D332,Hydrostatics!K252:K332,TRUE)","v":32.828210849553884},{"$f":"LinInterpolate($E140,Hydrostatics!$D252:$D332,Hydrostatics!E252:E332,TRUE)","v":5.7776441190847772}]
[null,null,-1.1000000000000001,{"$f":"LinInterpolate(E141,Hydrostatics!D334:D414,Hydrostatics!C334:C414,TRUE)","v":6.5969400321738734},4733.647617373892,{"$f":"LinInterpolate($E141,Hydrostatics!$D334:$D414,Hydrostatics!I334:I414,TRUE)","v":23.487552025739099},{"$f":"LinInterpolate($E141,Hydrostatics!$D334:$D414,Hydrostatics!J334:J414,TRUE)","v":3.6287760128695492},-2.0830320036217088E-2,24.726975163177396,23.411952525470983,1.3150226377064129,null,{"$f":"LinInterpolate($E141,Hydrostatics!$D334:$D414,Hydrostatics!K334:K414,TRUE)","v":32.22900874643387},{"$f":"LinInterpolate($E141,Hydrostatics!$D334:$D414,Hydrostatics!E334:E414,TRUE)","v":5.8704038906088298},null," "]
[null,null,-1,{"$f":"LinInterpolate(E142,Hydrostatics!D416:D496,Hydrostatics!C416:C496,TRUE)","v":6.5868236870499848},4733.647617373892,{"$f":"LinInterpolate($E142,Hydrostatics!$D416:$D496,Hydrostatics!I416:I496,TRUE)","v":23.509458949639988},{"$f":"LinInterpolate($E142,Hydrostatics!$D416:$D496,Hydrostatics!J416:J496,TRUE)","v":3.6247294748199939},-1.8937129902380841E-2,24.736283914351048,23.440808770192639,1.2954751441584094,null,{"$f":"LinInterpolate($E142,Hydrostatics!$D416:$D496,Hydrostatics!K416:K496,TRUE)","v":31.525862701429645},{"$f":"LinInterpolate($E142,Hydrostatics!$D416:$D496,Hydrostatics!E416:E496,TRUE)","v":5.9874347266200525}]
[null,null,-0.89999999999999902,{"$f":"LinInterpolate(E143,Hydrostatics!D498:D578,Hydrostatics!C498:C578,TRUE)","v":6.5780886896458624},4733.647617373892,{"$f":"LinInterpolate($E143,Hydrostatics!$D498:$D578,Hydrostatics!I498:I578,TRUE)","v":23.532470951716693},{"$f":"LinInterpolate($E143,Hydrostatics!$D498:$D578,Hydrostatics!J498:J578,TRUE)","v":3.6256177379291725},-1.7043803994997404E-2,24.745592665524704,23.470670649365626,1.2749220161590777,null,{"$f":"LinInterpolate($E143,Hydrostatics!$D498:$D578,Hydrostatics!K498:K578,TRUE)","v":30.668278427305054},{"$f":"LinInterpolate($E143,Hydrostatics!$D498:$D578,Hydrostatics!E498:E578,TRUE)","v":6.1307920276290311}]
[null,null,-0.79999999999999905,{"$f":"LinInterpolate(E144,Hydrostatics!D580:D660,Hydrostatics!C580:C660,TRUE)","v":6.5710616678260516},4733.647617373892,{"$f":"LinInterpolate($E144,Hydrostatics!$D580:$D660,Hydrostatics!I580:I660,TRUE)","v":23.556849334260839},{"$f":"LinInterpolate($E144,Hydrostatics!$D580:$D660,Hydrostatics!J580:J660,TRUE)","v":3.628424667130421},-1.5150355874769794E-2,24.75490141669836,23.501873202940683,1.2530282137576769,null,{"$f":"LinInterpolate($E144,Hydrostatics!$D580:$D660,Hydrostatics!K580:K660,TRUE)","v":29.627706376694352},{"$f":"LinInterpolate($E144,Hydrostatics!$D580:$D660,Hydrostatics!E580:E660,TRUE)","v":6.3078423266088972}]
[null,null,-0.69999999999999896,{"$f":"LinInterpolate(E145,Hydrostatics!D662:D742,Hydrostatics!C662:C742,TRUE)","v":6.5660179835509158},4733.647617373892,{"$f":"LinInterpolate($E145,Hydrostatics!$D662:$D742,Hydrostatics!I662:I742,TRUE)","v":23.58961079013055},{"$f":"LinInterpolate($E145,Hydrostatics!$D662:$D742,Hydrostatics!J662:J742,TRUE)","v":3.6264071934203663},-1.3256799107656836E-2,24.764210167872015,23.541533422035961,1.2226767458360541,null,{"$f":"LinInterpolate($E145,Hydrostatics!$D662:$D742,Hydrostatics!K662:K742,TRUE)","v":28.391108551906093},{"$f":"LinInterpolate($E145,Hydrostatics!$D662:$D742,Hydrostatics!E662:E742,TRUE)","v":6.5106885019843208}]
[null,null,-0.59999999999999898,{"$f":"LinInterpolate(E146,Hydrostatics!D744:D824,Hydrostatics!C744:C824,TRUE)","v":6.5637178410544417},4733.647617373892,{"$f":"LinInterpolate($E146,Hydrostatics!$D744:$D824,Hydrostatics!I744:I824,TRUE)","v":23.628230704632667},{"$f":"LinInterpolate($E146,Hydrostatics!$D744:$D824,Hydrostatics!J744:J824,TRUE)","v":3.6254871364217771},-1.136314726429071E-2,24.773518919045671,23.587031987173329,1.1864869318723414,null,{"$f":"LinInterpolate($E146,Hydrostatics!$D744:$D824,Hydrostatics!K744:K824,TRUE)","v":26.754559279239015},{"$f":"LinInterpolate($E146,Hydrostatics!$D744:$D824,Hydrostatics!E744:E824,TRUE)","v":6.7839751126189043}]
[null,null,-0.5,{"$f":"LinInterpolate(E147,Hydrostatics!D826:D906,Hydrostatics!C826:C906,TRUE)","v":6.5648529023218476},4733.647617373892,{"$f":"LinInterpolate($E147,Hydrostatics!$D826:$D906,Hydrostatics!I826:I906,TRUE)","v":23.682970580464371},{"$f":"LinInterpolate($E147,Hydrostatics!$D826:$D906,Hydrostatics!J826:J906,TRUE)","v":3.6259411609287393},-9.4694139193938574E-3,24.782827670219326,23.648634016440425,1.134193653778901,null,{"$f":"LinInterpolate($E147,Hydrostatics!$D826:$D906,Hydrostatics!K826:K906,TRUE)","v":24.798791949559117},{"$f":"LinInterpolate($E147,Hydrostatics!$D826:$D906,Hydrostatics!E826:E906,TRUE)","v":7.1092944595677379}]
[null,null,-0.4,{"$f":"LinInterpolate(E148,Hydrostatics!D908:D988,Hydrostatics!C908:C988,TRUE)","v":6.5704042062487114},4733.647617373892,{"$f":"LinInterpolate($E148,Hydrostatics!$D908:$D988,Hydrostatics!I908:I988,TRUE)","v":23.751838317500514},{"$f":"LinInterpolate($E148,Hydrostatics!$D908:$D988,Hydrostatics!J908:J988,TRUE)","v":3.6222425237492266},-7.575612651195416E-3,24.792136421392982,23.724397086259991,1.0677393351329911,null,{"$f":"LinInterpolate($E148,Hydrostatics!$D908:$D988,Hydrostatics!K908:K988,TRUE)","v":22.672674328690459},{"$f":"LinInterpolate($E148,Hydrostatics!$D908:$D988,Hydrostatics!E908:E988,TRUE)","v":7.4530897150092796}]
[null,null,-0.3,{"$f":"LinInterpolate(E149,Hydrostatics!D990:D1070,Hydrostatics!C990:C1070,TRUE)","v":6.5785446141597879},4733.647617373892,{"$f":"LinInterpolate($E149,Hydrostatics!$D990:$D1070,Hydrostatics!I990:I1070,TRUE)","v":23.828582154336086},{"$f":"LinInterpolate($E149,Hydrostatics!$D990:$D1070,Hydrostatics!J990:J1070,TRUE)","v":3.621417845663915},-5.6817570408474469E-3,24.801445172566634,23.808005916576633,0.99343925599000116,null,{"$f":"LinInterpolate($E149,Hydrostatics!$D990:$D1070,Hydrostatics!K990:K1070,TRUE)","v":21.782835691327833},{"$f":"LinInterpolate($E149,Hydrostatics!$D990:$D1070,Hydrostatics!E990:E1070,TRUE)","v":7.61}]
[null,null,-0.2,{"$f":"LinInterpolate(E150,Hydrostatics!D1072:D1152,Hydrostatics!C1072:C1152,TRUE)","v":6.5872445139032489},4733.647617373892,{"$f":"LinInterpolate($E150,Hydrostatics!$D1072:$D1152,Hydrostatics!I1072:I1152,TRUE)","v":23.915102194438699},{"$f":"LinInterpolate($E150,Hydrostatics!$D1072:$D1152,Hydrostatics!J1072:J1152,TRUE)","v":3.6223467083419494},-3.7878606718406652E-3,24.81075392374029,23.901381184179829,0.90937273956046027,null,{"$f":"LinInterpolate($E150,Hydrostatics!$D1072:$D1152,Hydrostatics!K1072:K1152,TRUE)","v":21.819795611122597},{"$f":"LinInterpolate($E150,Hydrostatics!$D1072:$D1152,Hydrostatics!E1072:E1152,TRUE)","v":7.61}]
[null,null,-0.1,{"$f":"LinInterpolate(E151,Hydrostatics!D1154:D1234,Hydrostatics!C1154:C1234,TRUE)","v":6.5958961992965071},4733.647617373892,{"$f":"LinInterpolate($E151,Hydrostatics!$D1154:$D1234,Hydrostatics!I1154:I1234,TRUE)","v":24.001641520281396},{"$f":"LinInterpolate($E151,Hydrostatics!$D1154:$D1234,Hydrostatics!J1154:J1234,TRUE)","v":3.6183584797186032},-1.893937129420008E-3,24.820062674913945,23.994788568615263,0.82527410629868214,null,{"$f":"LinInterpolate($E151,Hydrostatics!$D1154:$D1234,Hydrostatics!K1154:K1234,TRUE)","v":21.856716959437204},{"$f":"LinInterpolate($E151,Hydrostatics!$D1154:$D1234,Hydrostatics!E1154:E1234,TRUE)","v":7.62}]
[null,null,0,{"$f":"LinInterpolate(E152,Hydrostatics!D1236:D1316,Hydrostatics!C1236:C1316,TRUE)","v":6.6044255800155742},4733.647617373892,{"$f":"LinInterpolate($E152,Hydrostatics!$D1236:$D1316,Hydrostatics!I1236:I1316,TRUE)","v":24.08822976799377},{"$f":"LinInterpolate($E152,Hydrostatics!$D1236:$D1316,Hydrostatics!J1236:J1316,TRUE)","v":3.6226553480093444},0,24.829371426087601,24.08822976799377,0.74114165809383081,null,{"$f":"LinInterpolate($E152,Hydrostatics!$D1236:$D1316,Hydrostatics!K1236:K1316,TRUE)","v":21.89354046401246},{"$f":"LinInterpolate($E152,Hydrostatics!$D1236:$D1316,Hydrostatics!E1236:E1316,TRUE)","v":7.62}]
[null,null,0.1,{"$f":"LinInterpolate(E153,Hydrostatics!D1318:D1398,Hydrostatics!C1318:C1398,TRUE)","v":6.6129167979573733},4733.647617373892,{"$f":"LinInterpolate($E153,Hydrostatics!$D1318:$D1398,Hydrostatics!I1318:I1398,TRUE)","v":24.174833280817051},{"$f":"LinInterpolate($E153,Hydrostatics!$D1318:$D1398,Hydrostatics!J1318:J1398,TRUE)","v":3.6177500787744239},1.893937129420008E-3,24.838680177261256,24.18168508020867,0.65699509705258663,null,{"$f":"LinInterpolate($E153,Hydrostatics!$D1318:$D1398,Hydrostatics!K1318:K1398,TRUE)","v":21.930333438365899},{"$f":"LinInterpolate($E153,Hydrostatics!$D1318:$D1398,Hydrostatics!E1318:E1398,TRUE)","v":7.6274166404085255}]
[null,null,0.2,{"$f":"LinInterpolate(E154,Hydrostatics!D1400:D1480,Hydrostatics!C1400:C1480,TRUE)","v":6.6213701086762189},4733.647617373892,{"$f":"LinInterpolate($E154,Hydrostatics!$D1400:$D1480,Hydrostatics!I1400:I1480,TRUE)","v":24.261451956529513},{"$f":"LinInterpolate($E154,Hydrostatics!$D1400:$D1480,Hydrostatics!J1400:J1480,TRUE)","v":3.6228220652057312},3.7878606718406652E-3,24.847988928434912,24.275174767382566,0.57281416105234584,null,{"$f":"LinInterpolate($E154,Hydrostatics!$D1400:$D1480,Hydrostatics!K1400:K1480,TRUE)","v":21.967096086940973},{"$f":"LinInterpolate($E154,Hydrostatics!$D1400:$D1480,Hydrostatics!E1400:E1480,TRUE)","v":7.63}]
[null,null,0.3,{"$f":"LinInterpolate(E155,Hydrostatics!D1482:D1562,Hydrostatics!C1482:C1562,TRUE)","v":6.6297406443905045},4733.647617373892,{"$f":"LinInterpolate($E155,Hydrostatics!$D1482:$D1562,Hydrostatics!I1482:I1562,TRUE)","v":24.348103742243797},{"$f":"LinInterpolate($E155,Hydrostatics!$D1482:$D1562,Hydrostatics!J1482:J1562,TRUE)","v":3.6218962577562017},5.6817570408474469E-3,24.857297679608568,24.368682698253775,0.48861498135479309,null,{"$f":"LinInterpolate($E155,Hydrostatics!$D1482:$D1562,Hydrostatics!K1482:K1562,TRUE)","v":22.0078443866343},{"$f":"LinInterpolate($E155,Hydrostatics!$D1482:$D1562,Hydrostatics!E1482:E1562,TRUE)","v":7.64}]
[null,null,0.4,{"$f":"LinInterpolate(E156,Hydrostatics!D1564:D1644,Hydrostatics!C1564:C1644,TRUE)","v":6.6379995729619337},4733.647617373892,{"$f":"LinInterpolate($E156,Hydrostatics!$D1564:$D1644,Hydrostatics!I1564:I1644,TRUE)","v":24.434800170815226},{"$f":"LinInterpolate($E156,Hydrostatics!$D1564:$D1644,Hydrostatics!J1564:J1644,TRUE)","v":3.62279974377716},7.575612651195416E-3,24.86660643078222,24.462245623419598,0.4043608073626217,null,{"$f":"LinInterpolate($E156,Hydrostatics!$D1564:$D1644,Hydrostatics!K1564:K1644,TRUE)","v":22.042799743777159},{"$f":"LinInterpolate($E156,Hydrostatics!$D1564:$D1644,Hydrostatics!E1564:E1644,TRUE)","v":7.6424000854076128}]
[null,null,0.5,{"$f":"LinInterpolate(E157,Hydrostatics!D1646:D1726,Hydrostatics!C1646:C1726,TRUE)","v":6.646266834492085},4733.647617373892,{"$f":"LinInterpolate($E157,Hydrostatics!$D1646:$D1726,Hydrostatics!I1646:I1726,TRUE)","v":24.521493266203166},{"$f":"LinInterpolate($E157,Hydrostatics!$D1646:$D1726,Hydrostatics!J1646:J1726,TRUE)","v":3.6277601006952507},9.4694139193938574E-3,24.875915181955875,24.555847055035507,0.32006812692036846,null,{"$f":"LinInterpolate($E157,Hydrostatics!$D1646:$D1726,Hydrostatics!K1646:K1726,TRUE)","v":22.077760100695251},{"$f":"LinInterpolate($E157,Hydrostatics!$D1646:$D1726,Hydrostatics!E1646:E1726,TRUE)","v":7.65}]
[null,null,0.6,{"$f":"LinInterpolate(E158,Hydrostatics!D1728:D1808,Hydrostatics!C1728:C1808,TRUE)","v":6.6543862415265469},4733.647617373892,{"$f":"LinInterpolate($E158,Hydrostatics!$D1728:$D1808,Hydrostatics!I1728:I1808,TRUE)","v":24.607368255084072},{"$f":"LinInterpolate($E158,Hydrostatics!$D1728:$D1808,Hydrostatics!J1728:J1808,TRUE)","v":3.6226317449159282},1.1363147264290729E-2,24.885223933129531,24.648534524912662,0.23668940821686846,null,{"$f":"LinInterpolate($E158,Hydrostatics!$D1728:$D1808,Hydrostatics!K1728:K1808,TRUE)","v":22.112631744915927},{"$f":"LinInterpolate($E158,Hydrostatics!$D1728:$D1808,Hydrostatics!E1728:E1808,TRUE)","v":7.65}]
[null,null,0.7,{"$f":"LinInterpolate(E159,Hydrostatics!D1810:D1890,Hydrostatics!C1810:C1890,TRUE)","v":6.6624973526376587},4733.647617373892,{"$f":"LinInterpolate($E159,Hydrostatics!$D1810:$D1890,Hydrostatics!I1810:I1890,TRUE)","v":24.692501588417404},{"$f":"LinInterpolate($E159,Hydrostatics!$D1810:$D1890,Hydrostatics!J1810:J1890,TRUE)","v":3.6274984115825948},1.3256799107656855E-2,24.894532684303186,24.740593423419444,0.15393926088374243,null,{"$f":"LinInterpolate($E159,Hydrostatics!$D1810:$D1890,Hydrostatics!K1810:K1890,TRUE)","v":22.144998941055064},{"$f":"LinInterpolate($E159,Hydrostatics!$D1810:$D1890,Hydrostatics!E1810:E1890,TRUE)","v":7.6575005294724683}]
[null,null,0.8,{"$f":"LinInterpolate(E160,Hydrostatics!D1892:D1972,Hydrostatics!C1892:C1972,TRUE)","v":6.6705430037571185},4733.647617373892,{"$f":"LinInterpolate($E160,Hydrostatics!$D1892:$D1972,Hydrostatics!I1892:I1972,TRUE)","v":24.777674197745728},{"$f":"LinInterpolate($E160,Hydrostatics!$D1892:$D1972,Hydrostatics!J1892:J1972,TRUE)","v":3.6282172015028471},1.5150355874769813E-2,24.903841435476842,24.832647185647286,7.1194249829556355E-2,null,{"$f":"LinInterpolate($E160,Hydrostatics!$D1892:$D1972,Hydrostatics!K1892:K1972,TRUE)","v":22.096045186474374},{"$f":"LinInterpolate($E160,Hydrostatics!$D1892:$D1972,Hydrostatics!E1892:E1972,TRUE)","v":7.6412397947400343}]
[null,null,0.9,{"$f":"LinInterpolate(E161,Hydrostatics!D1974:D2054,Hydrostatics!C1974:C2054,TRUE)","v":6.6787529342756633},4733.647617373892,{"$f":"LinInterpolate($E161,Hydrostatics!$D1974:$D2054,Hydrostatics!I1974:I2054,TRUE)","v":24.868498826289734},{"$f":"LinInterpolate($E161,Hydrostatics!$D1974:$D2054,Hydrostatics!J1974:J2054,TRUE)","v":3.627251760565398},1.7043803994997424E-2,24.913150186650498,24.930326981299373,-1.7176794648875671E-2,null,{"$f":"LinInterpolate($E161,Hydrostatics!$D1974:$D2054,Hydrostatics!K1974:K2054,TRUE)","v":22.004480046925487},{"$f":"LinInterpolate($E161,Hydrostatics!$D1974:$D2054,Hydrostatics!E1974:E2054,TRUE)","v":7.6067435445935399}]
[null,null,1,{"$f":"LinInterpolate(E162,Hydrostatics!D2056:D2136,Hydrostatics!C2056:C2136,TRUE)","v":6.6870740602414127},4733.647617373892,{"$f":"LinInterpolate($E162,Hydrostatics!$D2056:$D2136,Hydrostatics!I2056:I2136,TRUE)","v":24.955170375903435},{"$f":"LinInterpolate($E162,Hydrostatics!$D2056:$D2136,Hydrostatics!J2056:J2136,TRUE)","v":3.6322444361448478},1.8937129902380841E-2,24.922458937824153,25.023962884163755,-0.10150394633960147,null,{"$f":"LinInterpolate($E162,Hydrostatics!$D2056:$D2136,Hydrostatics!K2056:K2136,TRUE)","v":21.906333457827284},{"$f":"LinInterpolate($E162,Hydrostatics!$D2056:$D2136,Hydrostatics!E2056:E2136,TRUE)","v":7.5613630072274791}]
[null,null,1.1000000000000001,{"$f":"LinInterpolate(E163,Hydrostatics!D2138:D2218,Hydrostatics!C2138:C2218,TRUE)","v":6.6954984252550025},4733.647617373892,{"$f":"LinInterpolate($E163,Hydrostatics!$D2138:$D2218,Hydrostatics!I2138:I2218,TRUE)","v":25.042700944846999},{"$f":"LinInterpolate($E163,Hydrostatics!$D2138:$D2218,Hydrostatics!J2138:J2218,TRUE)","v":3.6281993701020006},2.0830320036217088E-2,24.931767688997805,25.118288431724125,-0.18652074272631936,null,{"$f":"LinInterpolate($E163,Hydrostatics!$D2138:$D2218,Hydrostatics!K2138:K2218,TRUE)","v":21.840610708265984},{"$f":"LinInterpolate($E163,Hydrostatics!$D2138:$D2218,Hydrostatics!E2138:E2218,TRUE)","v":7.5408037793879954}]
[null,null,1.2,{"$f":"LinInterpolate(E164,Hydrostatics!D2220:D2300,Hydrostatics!C2220:C2300,TRUE)","v":6.7042233540165377},4733.647617373892,{"$f":"LinInterpolate($E164,Hydrostatics!$D2220:$D2300,Hydrostatics!I2220:I2300,TRUE)","v":25.127465987590078},{"$f":"LinInterpolate($E164,Hydrostatics!$D2220:$D2300,Hydrostatics!J2220:J2300,TRUE)","v":3.6325340124099226},2.2723360841641067E-2,24.941076440171461,25.210023578781211,-0.26894713860975017,null,{"$f":"LinInterpolate($E164,Hydrostatics!$D2220:$D2300,Hydrostatics!K2220:K2300,TRUE)","v":21.736349217507392},{"$f":"LinInterpolate($E164,Hydrostatics!$D2220:$D2300,Hydrostatics!E2220:E2300,TRUE)","v":7.4998639503603091}]
[null,null,1.3,{"$f":"LinInterpolate(E165,Hydrostatics!D2302:D2382,Hydrostatics!C2302:C2382,TRUE)","v":6.7133026460308978},4733.647617373892,{"$f":"LinInterpolate($E165,Hydrostatics!$D2302:$D2382,Hydrostatics!I2302:I2382,TRUE)","v":25.212018412381461},{"$f":"LinInterpolate($E165,Hydrostatics!$D2302:$D2382,Hydrostatics!J2302:J2382,TRUE)","v":3.6353210584123588},2.4616238770206935E-2,24.950385191345116,25.30152442328934,-0.3511392319442237,null,{"$f":"LinInterpolate($E165,Hydrostatics!$D2302:$D2382,Hydrostatics!K2302:K2382,TRUE)","v":21.660826240639334},{"$f":"LinInterpolate($E165,Hydrostatics!$D2302:$D2382,Hydrostatics!E2302:E2382,TRUE)","v":7.4580736495258462}]
[null,null,1.4,{"$f":"LinInterpolate(E166,Hydrostatics!D2328:D2464,Hydrostatics!C2328:C2464,TRUE)","v":6.7223057624089613},4733.647617373892,{"$f":"LinInterpolate($E166,Hydrostatics!$D2328:$D2464,Hydrostatics!I2328:I2464,TRUE)","v":25.30215539007283},{"$f":"LinInterpolate($E166,Hydrostatics!$D2328:$D2464,Hydrostatics!J2328:J2464,TRUE)","v":3.6389223049635846},2.6508940280468775E-2,24.959693942518772,25.398641966340804,-0.43894802382203224,null,{"$f":"LinInterpolate($E166,Hydrostatics!$D2328:$D2464,Hydrostatics!K2328:K2464,TRUE)","v":21.638471187955194},{"$f":"LinInterpolate($E166,Hydrostatics!$D2328:$D2464,Hydrostatics!E2328:E2464,TRUE)","v":7.4464661702184918}]
[null,null,1.5,{"$f":"LinInterpolate(E167,Hydrostatics!D2466:D2546,Hydrostatics!C2466:C2546,TRUE)","v":6.7313520592013099},4733.647617373892,{"$f":"LinInterpolate($E167,Hydrostatics!$D2466:$D2546,Hydrostatics!I2466:I2546,TRUE)","v":25.391188764479214},{"$f":"LinInterpolate($E167,Hydrostatics!$D2466:$D2546,Hydrostatics!J2466:J2546,TRUE)","v":3.6388112355207856},2.8401451838560528E-2,24.969002693692428,25.494564083670145,-0.5255613899777174,null,{"$f":"LinInterpolate($E167,Hydrostatics!$D2466:$D2546,Hydrostatics!K2466:K2546,TRUE)","v":21.59459176319476},{"$f":"LinInterpolate($E167,Hydrostatics!$D2466:$D2546,Hydrostatics!E2466:E2546,TRUE)","v":7.4072958815973813}]
[]
[null,null,"Total trim",null,null,null,{"$f":"LinInterpolate(0,(K137:K167),(C137:C167),FALSE)","v":0.88056287016833001},"m"]
[null,null,"Mean Draft","From Hydro Table",null,null,{"$f":"LinInterpolate(0,(K137:K167),(D137:D167),FALSE)","v":6.6771571594216841},"m"]
[null,null,"LBP/2","From Hydro Table",null,null,{"$f":"G172/2","v":26.4},"m"]
[null,null,"LBP","Ship Data",null,null,52.8,"m"]
[]
[null,null,"Draft aft",null,null,null,{"$f":"G170-(G169/2)","v":6.2368757243375192},"m"]
[null,null,"Draft forward",null,null,null,{"$f":"G170+G169/2","v":7.1174385945058489},"m"]
[null,null,"Draft midships",null,null,null,{"$f":"(G174+G175)/2","v":6.6771571594216841},"m"]
[]
[null,null,"Transverse Stability"]
[null,null,"KMt","From Hydro Table",null,null,{"$f":"LinInterpolate(G169,(C137:C167),(N137:N167),FALSE)","v":7.6134486255215714},"m"]
[null,null,"KGsolid",null,null,null,{"$f":"K128","v":4.9150206196898729},"m"]
[null,null,"KGfluid","KMt-GMtfluid",null,null,{"$f":"G179-G183","v":4.9179748757946093},"m"]
[null,null,"GMtsolid","KMt-KGsolid",null,null,{"$f":"G179-G180","v":2.6984280058316985},"m"]
[null,null,"GMtfluid","GMtsolid-FSMt",null,null,{"$f":"G182-P128","v":2.6954737497269621},"m"]

{"sheet":"INDEX (Corrected trim 2)","index":3,"n_rows":183,"n_cols":27,"rows_kept":183,"cut":false,"hidden":false,"merged":[[20,17,20,23],[20,24,20,26],[113,2,113,6],[112,2,112,6],[111,2,111,6],[125,11,125,12],[117,2,117,6],[116,2,116,6],[115,2,115,6],[114,2,114,6],[126,11,126,12],[127,11,127,12],[128,11,128,12],[173,3,173,4],[174,3,174,4],[103,1,105,1],[103,2,105,6],[108,2,110,6],[179,3,179,5],[175,3,175,4],[118,2,118,6],[16,1,18,1],[46,1,48,1],[87,1,89,1],[14,8,14,11],[2,5,2,12],[3,5,3,12],[4,5,4,12],[7,1,8,7],[7,8,7,15],[8,10,8,11],[9,10,9,11],[10,10,10,11],[11,10,11,11],[12,10,12,11],[13,10,13,11]]}
[]
[null,null,null,"Stability Calculation ",null,null,null,null,null,null,null,null,null,null,null,null,null,"Explanation of worksheet:"]
[null,null,null,"Project :",null,null,null,null,null,null,null,null,null,"Originator :",null,null,null,"Changing tank filling"]
[null,null,null,"Doc. No :",null,null,null,null,null,null,null,null,null,"Checked :",null,null,null,"Fill in all sounding heights of tanks in following cells:"]
[null,null,null,"Subject/Remarks :",null,null,null,null,null,null,null,null,null,"Revision :",null,null,null,"The following data will be calculated automatically, with help of tank tables:",null,null,null,null,null,null,"Volume","m³"]
[null,null,null,null,null,null,null,null,null,null,null,null,null,"Date :",null,null,null,null,null,null,null,null,null,null,"Weight","t"]
[null,null,null,null,null,null,null,null,null,null,null,null,null,null,null,null,null,null,null,null,null,null,null,null,"LCG","m"]
[null,"Summary Stability Results",null,null,null,null,null,null,"Summary Loading condition",null,null,null,null,null,null,null,null,null,null,null,null,null,null,null,"TCG ","m"]
[null,null,null,null,null,null,null,null,"Item","% Full","Volume",null,"Weight","LCG","TCG","VCG",null,null,null,null,null,null,null,null,"VCG","m"]
[null,"Displ.",{"$f":"H128","v":4733.647617373892},"t","Draft mid.",null,{"$f":"G176","v":6.6771571594216841},"m","F.O. ",{"$f":"F32","v":99.932940002127552},{"$f":"G32","v":343.66938066731666},null,{"$f":"H32","v":295.55566737389228},{"$f":"I32","v":29.877028190497114},{"$f":"J32","v":9.9776127664960246E-2},{"$f":"K32","v":3.7666983080726206},null,null,null,null,null,null,null,null,"FSM","m"]
[null,"DW",{"$f":"H129","v":3033.6476173738924},"t","Draft aft",null,{"$f":"G174","v":6.2368757243375192},"m","HFO ",{"$f":"F45","v":100.0060259114191},{"$f":"G45","v":995.76},null,{"$f":"H45","v":975.84479999999996},{"$f":"I45","v":18.417754579416727},{"$f":"J45","v":0},{"$f":"K45","v":4.0886282839238373},null,"Add or remove deckloads"]
[null,"LCG",{"$f":"I128","v":24.829371426087601},"m","Draft fw",null,{"$f":"G175","v":7.1174385945058489},"m","WB",{"$f":"F78","v":99.98391784537877},{"$f":"G78","v":1032.0339999999997},null,{"$f":"H78","v":1057.8143499999999},{"$f":"I78","v":22.744108122564228},{"$f":"J78","v":-7.3606753396756736E-3},{"$f":"K78","v":3.0813733728418415},null,"Add or remove deckloads and fill the required data in the following cells:"]
[null,"TCG",{"$f":"J128","v":-7.7844129894152868E-3},"m","KMt",null,{"$f":"G179","v":7.6134486255215714},"m","FW",{"$f":"F86","v":99.983457402812235},{"$f":"G86","v":483.52},null,{"$f":"H86","v":483.52},{"$f":"I86","v":20.141572840833884},{"$f":"J86","v":0},{"$f":"K86","v":4.7113682991396422},null,"The following input data is required to calculated the stability results:",null,null,null,null,null,null,"Weight","t"]
[null,"VCG",{"$f":"K128","v":4.9150206196898729},"m","KGfluid",null,{"$f":"G181","v":4.9179748757946093},"m","MISC",{"$f":"F100","v":105.42992552471229},{"$f":"G100","v":155.72000000000003},null,{"$f":"H100","v":150.9128},{"$f":"I100","v":36.262017549207222},{"$f":"J100","v":-0.38798458447527312},{"$f":"K100","v":1.5590340381995429},null,"Attention! ",null,null,null,null,null,null,"LCG","m"]
[null,"Trim tot.",{"$f":"G169","v":0.88056287016833001},"m","GMtfluid",null,{"$f":"G183","v":2.6954737497269621},"m","(DECK) LOADS",null,null,null,{"$f":"H121","v":70},{"$f":"I121","v":6.5714285714285712},{"$f":"J121","v":0},{"$f":"K121","v":7},null,"This worksheet is only valid when the heel of the vessel is equal to 0°",null,null,null,null,null,null,"TCG ","m"]
[null,null,null,null,null,null,null,null,null,null,null,null,null,null,null,null,null,"The results of this worksheet are not checked to any stability criteria!",null,null,null,null,null,null,"VCG","m"]
[null,"Sheet No.","Name","Sort of Fluid","Sounding Height","% Full","Volume","Weight","LCG","TCG","VCG",null,"Longitudinal","Transverse","Vertical","FSMt",null,"To print the loading conditon press the button:"]
[null,null,null,null,null," "," "," ","Fwd of AP","PS:+","Above BL",null,"Moment","Moment","Moment"," "]
[null,null,null,null,null,"%","m³","t","m","m","m",null,"t·m","t·m","t·m","t·m"]
[null,null,"SHIP DATA"]
[null,null,"Lightship",null,null,null,null,{"$f":"INDEX!H22","v":1700},{"$f":"INDEX!I22","v":30},{"$f":"INDEX!J22","v":0},{"$f":"INDEX!K22","v":7},null,{"$f":"INDEX!M22","v":51000},{"$f":"INDEX!N22","v":0},{"$f":"INDEX!O22","v":11900},null,null,"Volume at each Trim",null,null,null,null,null,null,"Volume Interpolation"]
[]
[null,null,"F.O. (SG 0.860)",null,null,null,null,null,null,null,null,null,null,null,null,null,null,-1.5,-1,-0.5,0,0.5,1,1.5,"Volume","∆Volume","Volume2"]
[null,1,"F.O. 1 PS","MGO",{"$f":"INDEX!E25","v":3.8},{"$f":"IF(G24<'1'!M83,LinInterpolate(G24,'1'!M7:M83,'1'!I7:I83,TRUE),100)","v":100},{"$f":"'INDEX (Corrected trim 1)'!AA24","v":31.019690333658328},{"$f":"LinInterpolate(F24,'1'!I7:I83,'1'!H7:H83,TRUE)","v":26.67693368694616},{"$f":"LinInterpolate(F24,'1'!I7:I83,'1'!C7:C83,TRUE)","v":32.979999999999997},{"$f":"LinInterpolate(F24,'1'!I7:I82,'1'!D7:D83,TRUE)","v":5.38},{"$f":"LinInterpolate(F24,'1'!I7:I83,'1'!E7:E83,TRUE)","v":2.9999827963143515},null,{"$f":"$H24*I24","v":879.8052729954843},143.52190323577034,80.03034211925727,{"$f":"IF(LinInterpolate(F24,'1'!I7:I83,'1'!F7:F83,TRUE)>0,LinInterpolate(F24,'1'!I7:I83,'1'!F7:F83,TRUE),0)","v":1.720368564848139E-2},null,{"$f":"LinInterpolate($E$24,'1'!$B7:$B83,'1'!J7:J83,TRUE)","v":31.02},{"$f":"LinInterpolate($E$24,'1'!$B7:$B83,'1'!K7:K83,TRUE)","v":31.02},{"$f":"LinInterpolate($E$24,'1'!$B7:$B83,'1'!L7:L83,TRUE)","v":31.02},{"$f":"LinInterpolate($E$24,'1'!$B7:$B83,'1'!M7:M83,TRUE)","v":31.02},{"$f":"LinInterpolate($E$24,'1'!$B7:$B83,'1'!N7:N83,TRUE)","v":31.02},{"$f":"LinInterpolate($E$24,'1'!$B7:$B83,'1'!O7:O83,TRUE)","v":31.01},{"$f":"LinInterpolate($E$24,'1'!$B7:$B83,'1'!P7:P83,TRUE)","v":30.96},{"$f":"G24","v":31.019690333658328},{"$f":"IF(E24<'1'!B83,Y24-AA24,0)","v":0},{"$f":"IF(E24=0,0,IF(E24<'1'!B83,LinInterpolate($G$169,$R$23:$X$23,R24:X24,TRUE),Y24))","v":31.019690333658328}]
[null,2,"F.O. 1 SB","MGO",{"$f":"INDEX!E26","v":3.8},{"$f":"IF(G25<'2'!M83,LinInterpolate(G25,'2'!M7:M83,'2'!I7:I83,TRUE),100)","v":100},{"$f":"'INDEX (Corrected trim 1)'!AA25","v":31.019690333658328},{"$f":"LinInterpolate(F25,'2'!I7:I83,'2'!H7:H83,TRUE)","v":26.67693368694616},{"$f":"LinInterpolate(F25,'2'!I7:I83,'2'!C7:C83,TRUE)","v":32.979999999999997},{"$f":"LinInterpolate(F25,'2'!I7:I83,'2'!D7:D83,TRUE)","v":-5.38},{"$f":"LinInterpolate(F25,'2'!I7:I83,'2'!E7:E83,TRUE)","v":2.9999827963143515},null,879.8052729954843,-143.52190323577034,80.03034211925727,{"$f":"IF(LinInterpolate(F25,'2'!I7:I83,'2'!F7:F83,TRUE)>0,LinInterpolate(F25,'2'!I7:I83,'2'!F7:F83,TRUE),0)","v":1.720368564848139E-2},null,{"$f":"LinInterpolate($E$25,'2'!$B7:$B83,'2'!J7:J83,TRUE)","v":31.02},{"$f":"LinInterpolate($E$25,'2'!$B7:$B83,'2'!K7:K83,TRUE)","v":31.02},{"$f":"LinInterpolate($E$25,'2'!$B7:$B83,'2'!L7:L83,TRUE)","v":31.02},{"$f":"LinInterpolate($E$25,'2'!$B7:$B83,'2'!M7:M83,TRUE)","v":31.02},{"$f":"LinInterpolate($E$25,'2'!$B7:$B83,'2'!N7:N83,TRUE)","v":31.02},{"$f":"LinInterpolate($E$25,'2'!$B7:$B83,'2'!O7:O83,TRUE)","v":31.01},{"$f":"LinInterpolate($E$25,'2'!$B7:$B83,'2'!P7:P83,TRUE)","v":30.96},31.019690333658328,{"$f":"IF(E25<'2'!B83,Y25-AA25,0)","v":0},{"$f":"IF(E25=0,0,IF(E25<'2'!B83, LinInterpolate($G$169,$R$23:$X$23,R25:X25,TRUE),Y25))","v":31.019690333658328}]
[null,3,"F.O.1 C","MGO",{"$f":"INDEX!E27","v":5.77},{"$f":"IF(G26<'3'!M123,LinInterpolate(G26,'3'!M7:M123,'3'!I7:I123,TRUE),100)","v":100},{"$f":"'INDEX (Corrected trim 1)'!AA26","v":102.32},{"$f":"LinInterpolate(F26,'3'!I7:I123,'3'!H7:H123,TRUE)","v":87.995199999999997},{"$f":"LinInterpolate(F26,'3'!I7:I123,'3'!C7:C123,TRUE)","v":26.1},{"$f":"LinInterpolate(F26,'3'!I7:I123,'3'!D7:D123,TRUE)","v":0},{"$f":"LinInterpolate(F26,'3'!I7:I123,'3'!E7:E123,TRUE)","v":3.9},null,2296.67472,0,343.18127999999996,{"$f":"IF(LinInterpolate(F26,'3'!I7:I123,'3'!F7:F123,TRUE)>0,LinInterpolate(F26,'3'!I7:I123,'3'!F7:F123,TRUE),0)","v":0},null,{"$f":"LinInterpolate($E$26,'3'!$B7:$B123,'3'!J7:J123,TRUE)","v":102.32},{"$f":"LinInterpolate($E$26,'3'!$B7:$B123,'3'!K7:K123,TRUE)","v":102.32},{"$f":"LinInterpolate($E$26,'3'!$B7:$B123,'3'!L7:L123,TRUE)","v":102.32},{"$f":"LinInterpolate($E$26,'3'!$B7:$B123,'3'!M7:M123,TRUE)","v":102.32},{"$f":"LinInterpolate($E$26,'3'!$B7:$B123,'3'!N7:N123,TRUE)","v":101.93},{"$f":"LinInterpolate($E$26,'3'!$B7:$B123,'3'!O7:O123,TRUE)","v":101.55},{"$f":"LinInterpolate($E$26,'3'!$B7:$B123,'3'!P7:P123,TRUE)","v":101.17},102.32,{"$f":"IF(E26<'3'!B123,Y26-AA26,0)","v":0},{"$f":"IF(E26=0,0,IF(E26<'3'!B123, LinInterpolate($G$169,$R$23:$X$23,R26:X26,TRUE),Y26))","v":102.32}]
[null,4,"F.O. 2 PS","MGO",{"$f":"INDEX!E28","v":2},{"$f":"IF(G27<'4'!M47,LinInterpolate(G27,'4'!M7:M47,'4'!I7:I47,TRUE),100)","v":100},{"$f":"'INDEX (Corrected trim 1)'!AA27","v":39.69},{"$f":"LinInterpolate(F27,'4'!I7:I47,'4'!H7:H47,TRUE)","v":34.133399999999995},{"$f":"LinInterpolate(F27,'4'!I7:I47,'4'!C7:C47,TRUE)","v":31.5},{"$f":"LinInterpolate(F27,'4'!I7:I47,'4'!D7:D47,TRUE)","v":5.47},{"$f":"LinInterpolate(F27,'4'!I7:I47,'4'!E7:E47,TRUE)","v":5.8},null,1075.2020999999997,186.70969799999997,197.97371999999996,{"$f":"IF(LinInterpolate(F27,'4'!I7:I47,'4'!F7:F47,TRUE)>0,LinInterpolate(F27,'4'!I7:I47,'4'!F7:F47,TRUE),0)","v":0},null,{"$f":"LinInterpolate($E$27,'4'!$B7:$B47,'4'!J7:J47,TRUE)","v":39.69},{"$f":"LinInterpolate($E$27,'4'!$B7:$B47,'4'!K7:K47,TRUE)","v":39.69},{"$f":"LinInterpolate($E$27,'4'!$B7:$B47,'4'!L7:L47,TRUE)","v":39.69},{"$f":"LinInterpolate($E$27,'4'!$B7:$B47,'4'!M7:M47,TRUE)","v":39.69},{"$f":"LinInterpolate($E$27,'4'!$B7:$B47,'4'!N7:N47,TRUE)","v":39.69},{"$f":"LinInterpolate($E$27,'4'!$B7:$B47,'4'!O7:O47,TRUE)","v":39.69},{"$f":"LinInterpolate($E$27,'4'!$B7:$B47,'4'!P7:P47,TRUE)","v":39.69},39.69,{"$f":"IF(E27<'4'!B47,Y27-AA27,0)","v":0},{"$f":"IF(E27=0,0,IF(E27<'4'!B47, LinInterpolate($G$169,$R$23:$X$23,R27:X27,TRUE),Y27))","v":39.69}]
[null,5,"F.O. 2 SB","MGO",{"$f":"INDEX!E29","v":2},{"$f":"IF(G28<'5'!M47,LinInterpolate(G28,'5'!M7:M47,'5'!I7:I47,TRUE),100)","v":100},{"$f":"'INDEX (Corrected trim 1)'!AA28","v":39.69},{"$f":"LinInterpolate(F28,'5'!I7:I47,'5'!H7:H47,TRUE)","v":34.133399999999995},{"$f":"LinInterpolate(F28,'5'!I7:I47,'5'!C7:C47,TRUE)","v":31.5},{"$f":"LinInterpolate(F28,'5'!I7:I47,'5'!D7:D47,TRUE)","v":-5.47},{"$f":"LinInterpolate(F28,'5'!I7:I47,'5'!E7:E47,TRUE)","v":5.8},null,1075.2020999999997,-186.70969799999997,197.97371999999996,{"$f":"IF(LinInterpolate(F28,'5'!I7:I47,'5'!F7:F47,TRUE)>0,LinInterpolate(F28,'5'!I7:I47,'5'!F7:F47,TRUE),0)","v":0},null,{"$f":"LinInterpolate($E$28,'5'!$B7:$B47,'5'!J7:J47,TRUE)","v":39.69},{"$f":"LinInterpolate($E$28,'5'!$B7:$B47,'5'!K7:K47,TRUE)","v":39.69},{"$f":"LinInterpolate($E$28,'5'!$B7:$B47,'5'!L7:L47,TRUE)","v":39.69},{"$f":"LinInterpolate($E$28,'5'!$B7:$B47,'5'!M7:M47,TRUE)","v":39.69},{"$f":"LinInterpolate($E$28,'5'!$B7:$B47,'5'!N7:N47,TRUE)","v":39.69},{"$f":"LinInterpolate($E$28,'5'!$B7:$B47,'5'!O7:O47,TRUE)","v":39.69},{"$f":"LinInterpolate($E$28,'5'!$B7:$B47,'5'!P7:P47,TRUE)","v":39.69},39.69,{"$f":"IF(E28<'5'!B47,Y28-AA28,0)","v":0},{"$f":"IF(E28=0,0,IF(E28<'5'!B47, LinInterpolate($G$169,$R$23:$X$23,R28:X28,TRUE),Y28))","v":39.69}]
[null,6,"F.O. 3 PS","MGO",{"$f":"INDEX!E30","v":3.8},{"$f":"IF(G29<'6'!M83,LinInterpolate(G29,'6'!M7:M83,'6'!I7:I83,TRUE),100)","v":100},{"$f":"'INDEX (Corrected trim 1)'!AA29","v":40.44},{"$f":"LinInterpolate(F29,'6'!I7:I83,'6'!H7:H83,TRUE)","v":34.778399999999998},{"$f":"LinInterpolate(F29,'6'!I7:I83,'6'!C7:C83,TRUE)","v":30.3},{"$f":"LinInterpolate(F29,'6'!I7:I83,'6'!D7:D83,TRUE)","v":5.45},{"$f":"LinInterpolate(F29,'6'!I7:I83,'6'!E7:E83,TRUE)","v":2.96},null,1053.7855199999999,189.54228000000001,102.944064,{"$f":"IF(LinInterpolate(F29,'6'!I7:I83,'6'!F7:F83,TRUE)>0,LinInterpolate(F29,'6'!I7:I83,'6'!F7:F83,TRUE),0)","v":0.85},null,{"$f":"LinInterpolate($E$29,'6'!$B7:$B83,'6'!J7:J83,TRUE)","v":40.44},{"$f":"LinInterpolate($E$29,'6'!$B7:$B83,'6'!K7:K83,TRUE)","v":40.44},{"$f":"LinInterpolate($E$29,'6'!$B7:$B83,'6'!L7:L83,TRUE)","v":40.44},{"$f":"LinInterpolate($E$29,'6'!$B7:$B83,'6'!M7:M83,TRUE)","v":40.44},{"$f":"LinInterpolate($E$29,'6'!$B7:$B83,'6'!N7:N83,TRUE)","v":40.44},{"$f":"LinInterpolate($E$29,'6'!$B7:$B83,'6'!O7:O83,TRUE)","v":40.44},{"$f":"LinInterpolate($E$29,'6'!$B7:$B83,'6'!P7:P83,TRUE)","v":40.44},40.44,{"$f":"IF(E29<'6'!B83,Y29-AA29,0)","v":0},{"$f":"IF(E29=0,0,IF(E29<'6'!B83, LinInterpolate($G$169,$R$23:$X$23,R29:X29,TRUE),Y29))","v":40.44}]
[null,7,"F.O. 3 SB","MGO",{"$f":"INDEX!E31","v":3.8},{"$f":"IF(G30<'7'!M83,LinInterpolate(G30,'7'!M7:M83,'7'!I7:I83,TRUE),100)","v":100},{"$f":"'INDEX (Corrected trim 1)'!AA30","v":40.44},{"$f":"LinInterpolate(F30,'7'!I7:I83,'7'!H7:H83,TRUE)","v":34.778399999999998},{"$f":"LinInterpolate(F30,'7'!I7:I83,'7'!C7:C83,TRUE)","v":30.3},{"$f":"LinInterpolate(F30,'7'!I7:I83,'7'!D7:D83,TRUE)","v":-5.45},{"$f":"LinInterpolate(F30,'7'!I7:I83,'7'!E7:E83,TRUE)","v":2.96},null,1053.7855199999999,-189.54228000000001,102.944064,{"$f":"IF(LinInterpolate(F30,'7'!I7:I83,'7'!F7:F83,TRUE)>0,LinInterpolate(F30,'7'!I7:I83,'7'!F7:F83,TRUE),0)","v":11.1},null,{"$f":"LinInterpolate($E$30,'7'!$B7:$B83,'7'!J7:J83,TRUE)","v":40.44},{"$f":"LinInterpolate($E$30,'7'!$B7:$B83,'7'!K7:K83,TRUE)","v":40.44},{"$f":"LinInterpolate($E$30,'7'!$B7:$B83,'7'!L7:L83,TRUE)","v":40.44},{"$f":"LinInterpolate($E$30,'7'!$B7:$B83,'7'!M7:M83,TRUE)","v":40.44},{"$f":"LinInterpolate($E$30,'7'!$B7:$B83,'7'!N7:N83,TRUE)","v":40.44},{"$f":"LinInterpolate($E$30,'7'!$B7:$B83,'7'!O7:O83,TRUE)","v":40.44},{"$f":"LinInterpolate($E$30,'7'!$B7:$B83,'7'!P7:P83,TRUE)","v":40.44},40.44,{"$f":"IF(E30<'6'!B83,Y30-AA30,0)","v":0},{"$f":"IF(E30=0,0,IF(E30<'7'!B83, LinInterpolate($G$169,$R$23:$X$23,R30:X30,TRUE),Y30))","v":40.44}]
[null,8,"F.O. 4 PS","MGO",{"$f":"INDEX!E32","v":1},{"$f":"IF(G31<'8'!M28,LinInterpolate(G31,'8'!M10:M28,'8'!I10:I28,TRUE),100)","v":100},{"$f":"'INDEX (Corrected trim 1)'!AA31","v":19.05},{"$f":"LinInterpolate(F31,'8'!I7:I28,'8'!H7:H28,TRUE)","v":16.382999999999999},{"$f":"LinInterpolate(F31,'8'!I7:I28,'8'!C7:C28,TRUE)","v":31.5},{"$f":"LinInterpolate(F31,'8'!I7:I28,'8'!D7:D28,TRUE)","v":1.8},{"$f":"LinInterpolate(F31,'8'!I7:I28,'8'!E7:E28,TRUE)","v":0.5},null,516.06449999999995,29.4894,8.1914999999999996,{"$f":"IF(LinInterpolate(F31,'8'!I7:I28,'8'!F7:F28,TRUE)>0,LinInterpolate(F31,'8'!I7:I28,'8'!F7:F28,TRUE),0)","v":2},null,{"$f":"LinInterpolate($E$31,'8'!$B7:$B28,'8'!J7:J28,TRUE)","v":19.05},{"$f":"LinInterpolate($E$31,'8'!$B7:$B28,'8'!K7:K28,TRUE)","v":19.05},{"$f":"LinInterpolate($E$31,'8'!$B7:$B28,'8'!L7:L28,TRUE)","v":19.05},{"$f":"LinInterpolate($E$31,'8'!$B7:$B28,'8'!M7:M28,TRUE)","v":19.05},{"$f":"LinInterpolate($E$31,'8'!$B7:$B28,'8'!N7:N28,TRUE)","v":19.05},{"$f":"LinInterpolate($E$31,'8'!$B7:$B28,'8'!O7:O28,TRUE)","v":19.05},{"$f":"LinInterpolate($E$31,'8'!$B7:$B28,'8'!P7:P28,TRUE)","v":19.05},19.05,{"$f":"IF(E31<'8'!B28,Y31-AA31,0)","v":0},{"$f":"IF(E31=0,0,IF(E31<'8'!B28, LinInterpolate($G$169,$R$23:$X$23,R31:X31,TRUE),Y31))","v":19.05}]
[null,null,"Total F.O.",null,null,{"$f":"(G32/343.9)*100","v":99.932940002127552},{"$f":"SUM((G24:G31))","v":343.66938066731666},{"$f":"SUM((H24:H31))","v":295.55566737389228},{"$f":"M32/H32","v":29.877028190497114},{"$f":"N32/H32","v":9.9776127664960246E-2},{"$f":"O32/H32","v":3.7666983080726206},null,{"$f":"SUM((M24:M31))","v":8830.3250059909678},{"$f":"SUM((N24:N31))","v":29.4894},{"$f":"SUM((O24:O31))","v":1113.2690322385142},{"$f":"SUM((P24:P31))","v":13.984407371296962},null,null,null,null,null,null,null,null,null,{"$f":"SUM((Z24:Z31))","v":0},{"$f":"SUM((AA24:AA31))","v":343.66938066731666}]
[]
[null,null,"HFO (SG 0.980)",null,null,null,null,null,null,null,null,null,null,null,null,null,null,-1.5,-1,-0.5,0,0.5,1,1.5,"Volume","∆Volume","Volume2"]
[null,9,"H.F.O 1 PS","HFO",{"$f":"INDEX!E36","v":5.75},{"$f":"IF(G35<'9'!M122,LinInterpolate(G35,'9'!M7:M122,'9'!I7:I122,TRUE),100)","v":100},{"$f":"'INDEX (Corrected trim 1)'!AA35","v":112.74},{"$f":"LinInterpolate(F35,'9'!I7:I122,'9'!H7:H122,TRUE)","v":110.48519999999999},{"$f":"LinInterpolate(F35,'9'!I7:I122,'9'!C7:C122,TRUE)","v":26.02},{"$f":"LinInterpolate(F35,'9'!I7:I122,'9'!D7:D122,TRUE)","v":5.46},{"$f":"LinInterpolate(F35,'9'!I7:I122,'9'!E7:E122,TRUE)","v":3.96},null,{"$f":"$H35*I35","v":2874.8249039999996},603.24919199999999,437.52139199999999,{"$f":"IF(LinInterpolate(F35,'9'!I7:I122,'9'!F7:F122,TRUE)>0,LinInterpolate(F35,'9'!I7:I122,'9'!F7:F122,TRUE),0)","v":0},null,{"$f":"LinInterpolate($E$35,'9'!$B7:$B122,'9'!J7:J122,TRUE)","v":111.41},{"$f":"LinInterpolate($E$35,'9'!$B7:$B122,'9'!K7:K122,TRUE)","v":111.85},{"$f":"LinInterpolate($E$35,'9'!$B7:$B122,'9'!L7:L122,TRUE)","v":112.29},{"$f":"LinInterpolate($E$35,'9'!$B7:$B122,'9'!M7:M122,TRUE)","v":112.74},{"$f":"LinInterpolate($E$35,'9'!$B7:$B122,'9'!N7:N122,TRUE)","v":112.73},{"$f":"LinInterpolate($E$35,'9'!$B7:$B122,'9'!O7:O122,TRUE)","v":112.73},{"$f":"LinInterpolate($E$35,'9'!$B7:$B122,'9'!P7:P122,TRUE)","v":112.72},{"$f":"G35","v":112.74},{"$f":"IF(E35<'9'!AB122,Y35-AA35,0)","v":0},{"$f":"IF(E35=0,0,IF(E35<'9'!B122, LinInterpolate($G$169,$R$23:$X$23,R35:X35,TRUE),Y35))","v":112.74}]
[null,10,"H.F.O 1 SB","HFO",{"$f":"INDEX!E37","v":5.75},{"$f":"IF(G36<'10'!M122,LinInterpolate(G36,'10'!M7:M122,'10'!I7:I122,TRUE),100)","v":100},{"$f":"'INDEX (Corrected trim 1)'!AA36","v":112.74},{"$f":"LinInterpolate(F36,'10'!I7:I122,'10'!H7:H122,TRUE)","v":110.48519999999999},{"$f":"LinInterpolate(F36,'10'!I7:I122,'10'!C7:C122,TRUE)","v":26.02},{"$f":"LinInterpolate(F36,'10'!I7:I122,'10'!D7:D122,TRUE)","v":-5.46},{"$f":"LinInterpolate(F36,'10'!I7:I122,'10'!E7:E122,TRUE)","v":3.96},null,2874.8249039999996,-603.24919199999999,437.52139199999999,{"$f":"LinInterpolate(F36,'10'!I7:I122,'10'!F7:F122,TRUE)","v":0},null,{"$f":"LinInterpolate($E$36,'10'!$B7:$B122,'10'!J7:J122,TRUE)","v":111.41},{"$f":"LinInterpolate($E$36,'10'!$B7:$B122,'10'!K7:K122,TRUE)","v":111.85},{"$f":"LinInterpolate($E$36,'10'!$B7:$B122,'10'!L7:L122,TRUE)","v":112.29},{"$f":"LinInterpolate($E$36,'10'!$B7:$B122,'10'!M7:M122,TRUE)","v":112.74},{"$f":"LinInterpolate($E$36,'10'!$B7:$B122,'10'!N7:N122,TRUE)","v":112.73},{"$f":"LinInterpolate($E$36,'10'!$B7:$B122,'10'!O7:O122,TRUE)","v":112.73},{"$f":"LinInterpolate($E$36,'10'!$B7:$B122,'10'!P7:P122,TRUE)","v":112.72},112.74,{"$f":"IF(E36<'10'!AB122,AA36-Y36,0)","v":0},{"$f":"IF(E36=0,0,IF(E36<'10'!B122, LinInterpolate($G$169,$R$23:$X$23,R36:X36,TRUE),Y36))","v":112.74}]
[null,11,"H.F.O 2 PS","HFO",{"$f":"INDEX!E38","v":5.75},{"$f":"IF(G37<'11'!M122,LinInterpolate(G37,'11'!M7:M122,'11'!I7:I122,TRUE),100)","v":100},{"$f":"'INDEX (Corrected trim 1)'!AA37","v":100.05},{"$f":"LinInterpolate(F37,'11'!I7:I122,'11'!H7:H122,TRUE)","v":98.048999999999992},{"$f":"LinInterpolate(F37,'11'!I7:I122,'11'!C7:C122,TRUE)","v":20.85},{"$f":"LinInterpolate(F37,'11'!I7:I122,'11'!D7:D122,TRUE)","v":5.46},{"$f":"LinInterpolate(F37,'11'!I7:I122,'11'!E7:E122,TRUE)","v":3.96},null,2044.3216500000001,535.34753999999998,388.27403999999996,{"$f":"IF(LinInterpolate(F37,'11'!I7:I122,'11'!F7:F122,TRUE)>0,LinInterpolate(F37,'11'!I7:I122,'11'!F7:F122,TRUE),0)","v":0},null,{"$f":"LinInterpolate($E$37,'11'!$B7:$B122,'11'!J7:J122,TRUE)","v":99.06},{"$f":"LinInterpolate($E$37,'11'!$B7:$B122,'11'!K7:K122,TRUE)","v":99.39},{"$f":"LinInterpolate($E$37,'11'!$B7:$B122,'11'!L7:L122,TRUE)","v":99.72},{"$f":"LinInterpolate($E$37,'11'!$B7:$B122,'11'!M7:M122,TRUE)","v":100.05},{"$f":"LinInterpolate($E$37,'11'!$B7:$B122,'11'!N7:N122,TRUE)","v":100.05},{"$f":"LinInterpolate($E$37,'11'!$B7:$B122,'11'!O7:O122,TRUE)","v":100.05},{"$f":"LinInterpolate($E$37,'11'!$B7:$B122,'11'!P7:P122,TRUE)","v":100.04},100.05,{"$f":"IF(F37<'11'!AB122,Y37-AA37,0)","v":0},{"$f":"IF(E37=0,0,IF(E37<'11'!B122, LinInterpolate($G$169,$R$23:$X$23,R37:X37,TRUE),Y37))","v":100.05}]
[null,12,"H.F.O 2 SB","HFO",{"$f":"INDEX!E39","v":5.75},{"$f":"IF(G38<'12'!M122,LinInterpolate(G38,'12'!M7:M122,'12'!I7:I122,TRUE),100)","v":100},{"$f":"'INDEX (Corrected trim 1)'!AA38","v":100.05},{"$f":"LinInterpolate(F38,'12'!I7:I122,'12'!H7:H122,TRUE)","v":98.048999999999992},{"$f":"LinInterpolate(F38,'12'!I7:I122,'12'!C7:C122,TRUE)","v":20.85},{"$f":"LinInterpolate(F38,'12'!I7:I122,'12'!D7:D122,TRUE)","v":-5.46},{"$f":"LinInterpolate(F38,'12'!I7:I122,'12'!E7:E122,TRUE)","v":3.96},null,2044.3216500000001,-535.34753999999998,388.27403999999996,{"$f":"IF(LinInterpolate(F38,'12'!I7:I122,'12'!F7:F122,TRUE)>0,LinInterpolate(F38,'12'!I7:I122,'12'!F7:F122,TRUE),0)","v":0},null,{"$f":"LinInterpolate($E$38,'12'!$B7:$B122,'12'!J7:J122,TRUE)","v":99.06},{"$f":"LinInterpolate($E$38,'12'!$B7:$B122,'12'!K7:K122,TRUE)","v":99.39},{"$f":"LinInterpolate($E$38,'12'!$B7:$B122,'12'!L7:L122,TRUE)","v":99.72},{"$f":"LinInterpolate($E$38,'12'!$B7:$B122,'12'!M7:M122,TRUE)","v":100.05},{"$f":"LinInterpolate($E$38,'12'!$B7:$B122,'12'!N7:N122,TRUE)","v":100.05},{"$f":"LinInterpolate($E$38,'12'!$B7:$B122,'12'!O7:O122,TRUE)","v":100.04},{"$f":"LinInterpolate($E$38,'12'!$B7:$B122,'12'!P7:P122,TRUE)","v":100.04},100.05,{"$f":"IF(F38<'12'!AB122,Y38-AA38,0)","v":0},{"$f":"IF(E38=0,0,IF(E38<'12'!B122, LinInterpolate($G$169,$R$23:$X$23,R38:X38,TRUE),Y38))","v":100.05}]
[null,13,"H.F.O 2 C","HFO",{"$f":"INDEX!E40","v":5.77},{"$f":"IF(G39<'13'!M123,LinInterpolate(G39,'13'!M7:M123,'13'!I7:I123,TRUE),100)","v":100},{"$f":"'INDEX (Corrected trim 1)'!AA39","v":102.33},{"$f":"LinInterpolate(F39,'13'!I7:I123,'13'!H7:H123,TRUE)","v":100.2834},{"$f":"LinInterpolate(F39,'13'!I7:I123,'13'!C7:C123,TRUE)","v":21},{"$f":"LinInterpolate(F39,'13'!I7:I123,'13'!D7:D123,TRUE)","v":0},{"$f":"LinInterpolate(F39,'13'!I7:I123,'13'!E7:E123,TRUE)","v":3.9},null,2105.9513999999999,0,391.10525999999999,{"$f":"IF(LinInterpolate(F39,'13'!I7:I123,'13'!F7:F123,TRUE)>0,LinInterpolate(F39,'13'!I7:I123,'13'!F7:F123,TRUE),0)","v":0},null,{"$f":"LinInterpolate($E$39,'13'!$B7:$B123,'13'!J7:J123,TRUE)","v":102.33},{"$f":"LinInterpolate($E$39,'13'!$B7:$B123,'13'!K7:K123,TRUE)","v":102.33},{"$f":"LinInterpolate($E$39,'13'!$B7:$B123,'13'!L7:L123,TRUE)","v":102.33},{"$f":"LinInterpolate($E$39,'13'!$B7:$B123,'13'!M7:M123,TRUE)","v":102.33},{"$f":"LinInterpolate($E$39,'13'!$B7:$B123,'13'!N7:N123,TRUE)","v":101.95},{"$f":"LinInterpolate($E$39,'13'!$B7:$B123,'13'!O7:O123,TRUE)","v":101.58},{"$f":"LinInterpolate($E$39,'13'!$B7:$B123,'13'!P7:P123,TRUE)","v":101.2},102.33,{"$f":"IF(E39<'13'!AB123,Y39-AA39,0)","v":0},{"$f":"IF(E39=0,0,IF(E39<'13'!B123, LinInterpolate($G$169,$R$23:$X$23,R39:X39,TRUE),Y39))","v":102.33}]
[null,14,"H.F.O 3 PS","HFO",{"$f":"INDEX!E41","v":5.76},{"$f":"IF(G40<'14'!M123,LinInterpolate(G40,'14'!M7:M123,'14'!I7:I123,TRUE),100)","v":100},{"$f":"'INDEX (Corrected trim 1)'!AA40","v":99.48},{"$f":"LinInterpolate(F40,'14'!I7:I123,'14'!H7:H123,TRUE)","v":97.490400000000008},{"$f":"LinInterpolate(F40,'14'!I7:I123,'14'!C7:C123,TRUE)","v":16.059999999999999},{"$f":"LinInterpolate(F40,'14'!I7:I123,'14'!D7:D123,TRUE)","v":5.45},{"$f":"LinInterpolate(F40,'14'!I7:I123,'14'!E7:E123,TRUE)","v":3.98},null,1565.6958239999999,531.3226800000001,388.01179200000001,{"$f":"IF(LinInterpolate(F40,'14'!I7:I123,'14'!F7:F123,TRUE)>0,LinInterpolate(F40,'14'!I7:I123,'14'!F7:F123,TRUE),0)","v":0},null,{"$f":"LinInterpolate($E$40,'14'!$B7:$B123,'14'!J7:J123,TRUE)","v":99.48},{"$f":"LinInterpolate($E$40,'14'!$B7:$B123,'14'!K7:K123,TRUE)","v":99.48},{"$f":"LinInterpolate($E$40,'14'!$B7:$B123,'14'!L7:L123,TRUE)","v":99.48},{"$f":"LinInterpolate($E$40,'14'!$B7:$B123,'14'!M7:M123,TRUE)","v":99.48},{"$f":"LinInterpolate($E$40,'14'!$B7:$B123,'14'!N7:N123,TRUE)","v":99.09},{"$f":"LinInterpolate($E$40,'14'!$B7:$B123,'14'!O7:O123,TRUE)","v":98.7},{"$f":"LinInterpolate($E$40,'14'!$B7:$B123,'14'!P7:P123,TRUE)","v":98.31},99.48,{"$f":"IF(E40<'14'!AB123,Y40-AA40,0)","v":0},{"$f":"IF(E40=0,0,IF(E40<'14'!B123, LinInterpolate($G$169,$R$23:$X$23,R40:X40,TRUE),Y40))","v":99.48}]
[null,15,"H.F.O 3 SB","HFO",{"$f":"INDEX!E42","v":5.76},{"$f":"IF(G41<'15'!M123,LinInterpolate(G41,'15'!M7:M123,'15'!I7:I123,TRUE),100)","v":100},{"$f":"'INDEX (Corrected trim 1)'!AA41","v":99.48},{"$f":"LinInterpolate(F41,'15'!I7:I123,'15'!H7:H123,TRUE)","v":97.490400000000008},{"$f":"LinInterpolate(F41,'15'!I7:I123,'15'!C7:C123,TRUE)","v":16.059999999999999},{"$f":"LinInterpolate(F41,'15'!I7:I123,'15'!D7:D123,TRUE)","v":-5.45},{"$f":"LinInterpolate(F41,'15'!I7:I123,'15'!E7:E123,TRUE)","v":3.98},null,1565.6958239999999,-531.3226800000001,388.01179200000001,{"$f":"IF(LinInterpolate(F41,'15'!I7:I123,'15'!F7:F123,TRUE)>0,LinInterpolate(F41,'15'!I7:I123,'15'!F7:F123,TRUE),0)","v":0},null,{"$f":"LinInterpolate($E$41,'15'!$B7:$B123,'15'!J7:J123,TRUE)","v":99.48},{"$f":"LinInterpolate($E$41,'15'!$B7:$B123,'15'!K7:K123,TRUE)","v":99.48},{"$f":"LinInterpolate($E$41,'15'!$B7:$B123,'15'!L7:L123,TRUE)","v":99.48},{"$f":"LinInterpolate($E$41,'15'!$B7:$B123,'15'!M7:M123,TRUE)","v":99.48},{"$f":"LinInterpolate($E$41,'15'!$B7:$B123,'15'!N7:N123,TRUE)","v":99.09},{"$f":"LinInterpolate($E$41,'15'!$B7:$B123,'15'!O7:O123,TRUE)","v":98.7},{"$f":"LinInterpolate($E$41,'15'!$B7:$B123,'15'!P7:P123,TRUE)","v":98.31},99.48,{"$f":"IF(E41<'15'!AB123,Y41-AA41,0)","v":0},{"$f":"IF(E41=0,0,IF(E41<'15'!B123, LinInterpolate($G$169,$R$23:$X$23,R41:X41,TRUE),Y41))","v":99.48}]
[null,16,"H.F.O 4 PS","HFO",{"$f":"INDEX!E43","v":5.46},{"$f":"IF(G42<'16'!M117,LinInterpolate(G42,'16'!M7:M117,'16'!I7:I117,TRUE),100)","v":100},{"$f":"'INDEX (Corrected trim 1)'!AA42","v":90.63},{"$f":"LinInterpolate(F42,'16'!I7:I117,'16'!H7:H117,TRUE)","v":88.817399999999992},{"$f":"LinInterpolate(F42,'16'!I7:I117,'16'!C7:C117,TRUE)","v":11.2},{"$f":"LinInterpolate(F42,'16'!I7:I117,'16'!D7:D117,TRUE)","v":5.39},{"$f":"LinInterpolate(F42,'16'!I7:I117,'16'!E7:E117,TRUE)","v":4.49},null,994.75487999999984,478.72578599999991,398.79012599999999,{"$f":"IF(LinInterpolate(F42,'16'!I7:I117,'16'!F7:F117,TRUE)>0,LinInterpolate(F42,'16'!I7:I117,'16'!F7:F117,TRUE),0)","v":0},null,{"$f":"LinInterpolate($E$42,'16'!$B7:$B117,'16'!J7:J117,TRUE)","v":90.63},{"$f":"LinInterpolate($E$42,'16'!$B7:$B117,'16'!K7:K117,TRUE)","v":90.63},{"$f":"LinInterpolate($E$42,'16'!$B7:$B117,'16'!L7:L117,TRUE)","v":90.63},{"$f":"LinInterpolate($E$42,'16'!$B7:$B117,'16'!M7:M117,TRUE)","v":90.63},{"$f":"LinInterpolate($E$42,'16'!$B7:$B117,'16'!N7:N117,TRUE)","v":90.19},{"$f":"LinInterpolate($E$42,'16'!$B7:$B117,'16'!O7:O117,TRUE)","v":89.75},{"$f":"LinInterpolate($E$42,'16'!$B7:$B117,'16'!P7:P117,TRUE)","v":89.31},90.63,{"$f":"IF(E42<'16'!AB117,Y42-AA42,0)","v":0},{"$f":"IF(E42=0,0,IF(E42<'16'!B117, LinInterpolate($G$169,$R$23:$X$23,R42:X42,TRUE),Y42))","v":90.63}]
[null,17,"H.F.O 4 SB","HFO",{"$f":"INDEX!E44","v":5.46},{"$f":"IF(G43<'17'!M115,LinInterpolate(G43,'17'!M7:M115,'17'!I7:I115,TRUE),100)","v":100},{"$f":"'INDEX (Corrected trim 1)'!AA43","v":90.63},{"$f":"LinInterpolate(F43,'17'!I7:I115,'17'!H7:H115,TRUE)","v":88.817399999999992},{"$f":"LinInterpolate(F43,'17'!I7:I115,'17'!C7:C115,TRUE)","v":11.2},{"$f":"LinInterpolate(F43,'17'!I7:I115,'17'!D7:D115,TRUE)","v":-5.39},{"$f":"LinInterpolate(F43,'17'!I7:I115,'17'!E7:E115,TRUE)","v":4.49},null,994.75487999999984,-478.72578599999991,398.79012599999999,{"$f":"IF(LinInterpolate(F43,'17'!I7:I115,'17'!F7:F115,TRUE)>0,LinInterpolate(F43,'17'!I7:I115,'17'!F7:F115,TRUE),0)","v":0},null,{"$f":"LinInterpolate($E$43,'17'!$B7:$B115,'17'!J7:J115,TRUE)","v":90.976666666666645},{"$f":"LinInterpolate($E$43,'17'!$B7:$B115,'17'!K7:K115,TRUE)","v":91.056666666666644},{"$f":"LinInterpolate($E$43,'17'!$B7:$B115,'17'!L7:L115,TRUE)","v":91.403333333333308},{"$f":"LinInterpolate($E$43,'17'!$B7:$B115,'17'!M7:M115,TRUE)","v":92.496666666666613},{"$f":"LinInterpolate($E$43,'17'!$B7:$B115,'17'!N7:N115,TRUE)","v":92.056666666666658},{"$f":"LinInterpolate($E$43,'17'!$B7:$B115,'17'!O7:O115,TRUE)","v":91.61666666666666},{"$f":"LinInterpolate($E$43,'17'!$B7:$B115,'17'!P7:P115,TRUE)","v":91.176666666666662},90.63,{"$f":"IF(E43<'17'!AB115,Y43-AA43,0)","v":0},{"$f":"IF(E43=0,0,IF(E43<'17'!B115, LinInterpolate($G$169,$R$23:$X$23,R43:X43,TRUE),Y43))","v":90.63}]
[null,18,"H.F.O 4 C","HFO",{"$f":"INDEX!E45","v":5.38},{"$f":"IF(G44<'18'!M115,LinInterpolate(G44,'18'!M7:M115,'18'!I7:I115,TRUE),100)","v":100},{"$f":"'INDEX (Corrected trim 1)'!AA44","v":87.63},{"$f":"LinInterpolate(F44,'18'!I7:I115,'18'!H7:H115,TRUE)","v":85.877399999999994},{"$f":"LinInterpolate(F44,'18'!I7:I115,'18'!C7:C115,TRUE)","v":10.57},{"$f":"LinInterpolate(F44,'18'!I7:I115,'18'!D7:D115,TRUE)","v":0},{"$f":"LinInterpolate(F44,'18'!I7:I115,'18'!E7:E115,TRUE)","v":4.3499999999999996},null,907.72411799999998,0,373.56668999999994,{"$f":"IF(LinInterpolate(F44,'18'!I7:I115,'18'!F7:F115,TRUE)>0,LinInterpolate(F44,'18'!I7:I115,'18'!F7:F115,TRUE),0)","v":0},null,{"$f":"LinInterpolate($E$44,'18'!$B7:$B115,'18'!J7:J115,TRUE)","v":87.649999999999977},{"$f":"LinInterpolate($E$44,'18'!$B7:$B115,'18'!K7:K115,TRUE)","v":87.649999999999977},{"$f":"LinInterpolate($E$44,'18'!$B7:$B115,'18'!L7:L115,TRUE)","v":87.669999999999987},{"$f":"LinInterpolate($E$44,'18'!$B7:$B115,'18'!M7:M115,TRUE)","v":87.989999999999952},{"$f":"LinInterpolate($E$44,'18'!$B7:$B115,'18'!N7:N115,TRUE)","v":87.629999999999953},{"$f":"LinInterpolate($E$44,'18'!$B7:$B115,'18'!O7:O115,TRUE)","v":87.259999999999991},{"$f":"LinInterpolate($E$44,'18'!$B7:$B115,'18'!P7:P115,TRUE)","v":86.899999999999991},87.63,{"$f":"IF(E44<'18'!AB115,Y44-AA44,0)","v":0},{"$f":"IF(E44=0,0,IF(E44<'18'!B115, LinInterpolate($G$169,$R$23:$X$23,R44:X44,TRUE),Y44))","v":87.63}]
[null,null,"Total H.F.O",null,null,{"$f":"G45/995.7*100","v":100.0060259114191},{"$f":"SUM((G35:G44))","v":995.76},{"$f":"SUM((H35:H44))","v":975.84479999999996},{"$f":"M45/H45","v":18.417754579416727},{"$f":"N45/H45","v":0},{"$f":"O45/H45","v":4.0886282839238373},null,{"$f":"SUM((M35:M44))","v":17972.870034},{"$f":"SUM((N35:N44))","v":0},{"$f":"SUM((O35:O44))","v":3989.8666500000004},{"$f":"SUM((P35:P44))","v":0},null,null,null,null,null,null,null,null,null,{"$f":"SUM((Z35:Z44))","v":0},{"$f":"SUM((AA35:AA44))","v":995.76}]
[]
[null,"Sheet No.","Name","Sort of Fluid","Sounding Height","% Full","Volume","Weight","LCG","TCG","VCG",null,"Longitudinal","Transverse","Vertical","FSMt"]
[null,null,null,null,null," "," "," ","Fwd of AP","PS:+","Above BL",null,"Moment","Moment","Moment"," "]
[null,null,null,null,null,"%","m³","t","m","m","m",null,"t·m","t·m","t·m","t·m"]
[null,null,"WB (S.G. 1.025)",null,null,null,null,null,null,null,null,null,null,null,null,null,null,-1.5,-1,-0.5,0,0.5,1,1.5,"Volume","∆Volume","Volume2"]
[null,19,"W.B 1 PS ","FW",{"$f":"INDEX!E52","v":3.25},{"$f":"IF(G51<'19'!M72,LinInterpolate(G51,'19'!M7:M72,'19'!I7:I72,TRUE),100)","v":100},{"$f":"'INDEX (Corrected trim 1)'!AA51","v":63.76},{"$f":"LinInterpolate(F51,'19'!I7:I72,'19'!H7:H72,TRUE)","v":65.353999999999999},{"$f":"LinInterpolate(F51,'19'!I7:I72,'19'!C7:C72,TRUE)","v":-2.2400000000000002},{"$f":"LinInterpolate(F51,'19'!I7:I72,'19'!D7:D72,TRUE)","v":4.49},{"$f":"LinInterpolate(F51,'19'!I7:I72,'19'!E7:E72,TRUE)","v":5.71},null,{"$f":"$H51*I51","v":-146.39296000000002},293.43946,373.17133999999999,{"$f":"IF(LinInterpolate(F51,'19'!I7:I72,'19'!F7:F72,TRUE)>0,LinInterpolate(F51,'19'!I7:I72,'19'!F7:F72,TRUE),0)","v":0},null,{"$f":"LinInterpolate($E$51,'19'!$B7:$B72,'19'!J7:J72,TRUE)","v":63.626666666666679},{"$f":"LinInterpolate($E$51,'19'!$B7:$B72,'19'!K7:K72,TRUE)","v":63.813333333333333},{"$f":"LinInterpolate($E$51,'19'!$B7:$B72,'19'!L7:L72,TRUE)","v":64.073333333333338},{"$f":"LinInterpolate($E$51,'19'!$B7:$B72,'19'!M7:M72,TRUE)","v":64.38},{"$f":"LinInterpolate($E$51,'19'!$B7:$B72,'19'!N7:N72,TRUE)","v":64.036666666666662},{"$f":"LinInterpolate($E$51,'19'!$B7:$B72,'19'!O7:O72,TRUE)","v":63.74},{"$f":"LinInterpolate($E$51,'19'!$B7:$B72,'19'!P7:P72,TRUE)","v":63.493333333333339},{"$f":"G51","v":63.76},{"$f":"IF(E51<'19'!B72,Y51-AA51,0)","v":0},{"$f":"IF(E51=0,0,IF(E51<'19'!B72, LinInterpolate($G$169,$R$23:$X$23,R51:X51,TRUE),Y51))","v":63.76}]
[null,20,"W.B 1 SB ","FW",{"$f":"INDEX!E53","v":3.25},{"$f":"IF(G52<'20'!M72,LinInterpolate(G52,'20'!M7:M72,'20'!I7:I72,TRUE),100)","v":100},{"$f":"'INDEX (Corrected trim 1)'!AA52","v":63.76},{"$f":"LinInterpolate(F52,'20'!I7:I72,'20'!H7:H72,TRUE)","v":65.353999999999999},{"$f":"LinInterpolate(F52,'20'!I7:I72,'20'!C7:C72,TRUE)","v":-2.2400000000000002},{"$f":"LinInterpolate(F52,'20'!I7:I72,'20'!D7:D72,TRUE)","v":-4.49},{"$f":"LinInterpolate(F52,'20'!I7:I72,'20'!E7:E72,TRUE)","v":5.71},null,-146.39296000000002,-293.43946,373.17133999999999,{"$f":"IF(LinInterpolate(F52,'20'!I7:I72,'20'!F7:F72,TRUE)>0,LinInterpolate(F52,'20'!I7:I72,'20'!F7:F72,TRUE),0)","v":0},null,{"$f":"LinInterpolate($E$52,'20'!$B7:$B72,'20'!J7:J72,TRUE)","v":63.34},{"$f":"LinInterpolate($E$52,'20'!$B7:$B72,'20'!K7:K72,TRUE)","v":63.48},{"$f":"LinInterpolate($E$52,'20'!$B7:$B72,'20'!L7:L72,TRUE)","v":63.62},{"$f":"LinInterpolate($E$52,'20'!$B7:$B72,'20'!M7:M72,TRUE)","v":63.76},{"$f":"LinInterpolate($E$52,'20'!$B7:$B72,'20'!N7:N72,TRUE)","v":63.51},{"$f":"LinInterpolate($E$52,'20'!$B7:$B72,'20'!O7:O72,TRUE)","v":63.26},{"$f":"LinInterpolate($E$52,'20'!$B7:$B72,'20'!P7:P72,TRUE)","v":63.02},63.76,{"$f":"IF(E52<'19'!B72,Y52-AA52,0)","v":0},{"$f":"IF(E52=0,0,IF(E52<'20'!B72, LinInterpolate($G$169,$R$23:$X$23,R52:X52,TRUE),Y52))","v":63.76}]
[null,21,{"$f":"'INDEX (Corrected trim 4)'!C52","v":"W.B 1 SB "},"SW",{"$f":"INDEX!E54","v":7.8},{"$f":"IF(G53<'21'!M163,LinInterpolate(G53,'21'!M7:M163,'21'!I7:I163,TRUE),100)","v":100},{"$f":"'INDEX (Corrected trim 1)'!AA53","v":64.81},{"$f":"LinInterpolate(F53,'21'!I7:I163,'21'!H7:H163,TRUE)","v":66.430250000000001},{"$f":"LinInterpolate(F53,'21'!I7:I163,'21'!C7:C163,TRUE)","v":51.05},{"$f":"LinInterpolate(F53,'21'!I7:I163,'21'!D7:D163,TRUE)","v":0},{"$f":"LinInterpolate(F53,'21'!I7:I163,'21'!E7:E163,TRUE)","v":4.75},null,3391.2642624999999,0,315.54368750000003,{"$f":"IF(LinInterpolate(F53,'21'!I7:I163,'21'!F7:F163,TRUE)>0,LinInterpolate(F53,'21'!I7:I163,'21'!F7:F163,TRUE),0)","v":0},null,{"$f":"LinInterpolate($E$53,'21'!$B7:$B163,'21'!J7:J163,TRUE)","v":64.8},{"$f":"LinInterpolate($E$53,'21'!$B7:$B163,'21'!K7:K163,TRUE)","v":64.81},{"$f":"LinInterpolate($E$53,'21'!$B7:$B163,'21'!L7:L163,TRUE)","v":64.81},{"$f":"LinInterpolate($E$53,'21'!$B7:$B163,'21'!M7:M163,TRUE)","v":64.81},{"$f":"LinInterpolate($E$53,'21'!$B7:$B163,'21'!N7:N163,TRUE)","v":64.81},{"$f":"LinInterpolate($E$53,'21'!$B7:$B163,'21'!O7:O163,TRUE)","v":64.78},{"$f":"LinInterpolate($E$53,'21'!$B7:$B163,'21'!P7:P163,TRUE)","v":64.66},64.81,{"$f":"IF(E53<'19'!B163,Y53-AA53,0)","v":0},{"$f":"IF(E53=0,0,IF(E53<'21'!B163, LinInterpolate($G$169,$R$23:$X$23,R53:X53,TRUE),Y53))","v":64.81}]
[null,22,"W.B. 2 PS","SW",{"$f":"INDEX!E55","v":7.8},{"$f":"IF(G54<'22'!M163,LinInterpolate(G54,'22'!M7:M163,'22'!I7:I163,TRUE),100)","v":100},{"$f":"'INDEX (Corrected trim 1)'!AA54","v":86.037999999999997},{"$f":"LinInterpolate(F54,'22'!I7:I163,'22'!H7:H163,TRUE)","v":88.188949999999991},{"$f":"LinInterpolate(F54,'22'!I7:I163,'22'!C7:C163,TRUE)","v":39.74},{"$f":"LinInterpolate(F54,'22'!I7:I163,'22'!D7:D163,TRUE)","v":6.82},{"$f":"LinInterpolate(F54,'22'!I7:I163,'22'!E7:E163,TRUE)","v":4.4800000000000004},null,3504.6288729999997,601.44863899999996,395.08649600000001,{"$f":"IF(LinInterpolate(F54,'22'!I7:I163,'22'!F7:F163,TRUE)>0,LinInterpolate(F54,'22'!I7:I163,'22'!F7:F163,TRUE),0)","v":0},null,{"$f":"LinInterpolate(E54,'22'!$B7:$B163,'22'!J7:J163,TRUE)","v":85.09},{"$f":"LinInterpolate(E54,'22'!$B7:$B163,'22'!K7:K163,TRUE)","v":85.85},{"$f":"LinInterpolate(E54,'22'!$B7:$B163,'22'!L7:L163,TRUE)","v":86.03},{"$f":"LinInterpolate(E54,'22'!$B7:$B163,'22'!M7:M163,TRUE)","v":86.037999999999997},{"$f":"LinInterpolate(E54,'22'!$B7:$B163,'22'!N7:N163,TRUE)","v":86.03},{"$f":"LinInterpolate(E54,'22'!$B7:$B163,'22'!O7:O163,TRUE)","v":86.03},{"$f":"LinInterpolate(E54,'22'!$B7:$B163,'22'!P7:P163,TRUE)","v":86.03},86.037999999999997,{"$f":"IF(E54<'19'!B163,Y54-AA54,0)","v":0},{"$f":"IF(E54=0,0,IF(E54<'22'!B163, LinInterpolate($G$169,$R$23:$X$23,R54:X54,TRUE),Y54))","v":86.037999999999997}]
[null,23,"W.B. 2 SB","SW",{"$f":"INDEX!E56","v":7.8},{"$f":"IF(G55<'23'!M163,LinInterpolate(G55,'23'!M7:M163,'23'!I7:I163,TRUE),100)","v":100},{"$f":"'INDEX (Corrected trim 1)'!AA55","v":87.665999999999997},{"$f":"LinInterpolate(F55,'23'!I7:I163,'23'!H7:H163,TRUE)","v":89.857649999999992},{"$f":"LinInterpolate(F55,'23'!I7:I163,'23'!C7:C163,TRUE)","v":39.83},{"$f":"LinInterpolate(F55,'23'!I7:I163,'23'!D7:D163,TRUE)","v":-6.78},{"$f":"LinInterpolate(F55,'23'!I7:I163,'23'!E7:E163,TRUE)","v":4.42},null,3579.0301994999995,-609.23486700000001,397.17081299999995,{"$f":"IF(LinInterpolate(F55,'23'!I7:I163,'23'!F7:F163,TRUE)>0,LinInterpolate(F55,'23'!I7:I163,'23'!F7:F163,TRUE),0)","v":0},null,{"$f":"LinInterpolate(E55,'23'!$B7:$B163,'23'!J7:J163,TRUE)","v":86.72},{"$f":"LinInterpolate(E55,'23'!$B7:$B163,'23'!K7:K163,TRUE)","v":87.48},{"$f":"LinInterpolate(E55,'23'!$B7:$B163,'23'!L7:L163,TRUE)","v":87.66},{"$f":"LinInterpolate(E55,'23'!$B7:$B163,'23'!M7:M163,TRUE)","v":87.665999999999997},{"$f":"LinInterpolate(E55,'23'!$B7:$B163,'23'!N7:N163,TRUE)","v":87.66},{"$f":"LinInterpolate(E55,'23'!$B7:$B163,'23'!O7:O163,TRUE)","v":87.66},{"$f":"LinInterpolate(E55,'23'!$B7:$B163,'23'!P7:P163,TRUE)","v":87.66},87.665999999999997,{"$f":"IF(E55<'19'!B163,Y55-AA55,0)","v":0},{"$f":"IF(E55=0,0,IF(E55<'23'!B163, LinInterpolate($G$169,$R$23:$X$23,R55:X55,TRUE),Y55))","v":87.665999999999997}]
[null,24,"W.B. 3 PS","SW",{"$f":"INDEX!E57","v":5.48},{"$f":"IF(G56<'24'!M117,LinInterpolate(G56,'24'!M7:M117,'24'!I7:I117,TRUE),100)","v":100},{"$f":"'INDEX (Corrected trim 1)'!AA56","v":28.05},{"$f":"LinInterpolate(F56,'24'!I7:I117,'24'!H7:H117,TRUE)","v":28.751249999999999},{"$f":"LinInterpolate(F56,'24'!I7:I117,'24'!C7:C117,TRUE)","v":31.59},{"$f":"LinInterpolate(F56,'24'!I7:I117,'24'!D7:D117,TRUE)","v":7.77},{"$f":"LinInterpolate(F56,'24'!I7:I117,'24'!E7:E117,TRUE)","v":3.95},null,908.25198749999993,223.39721249999997,113.5674375,{"$f":"IF(LinInterpolate(F56,'24'!I7:I117,'24'!F7:F117,TRUE)>0,LinInterpolate(F56,'24'!I7:I117,'24'!F7:F117,TRUE),0)","v":0},null,{"$f":"LinInterpolate(E56,'24'!$B7:$B117,'24'!J7:J117,TRUE)","v":27.91},{"$f":"LinInterpolate(E56,'24'!$B7:$B117,'24'!K7:K117,TRUE)","v":27.95},{"$f":"LinInterpolate(E56,'24'!$B7:$B117,'24'!L7:L117,TRUE)","v":28},{"$f":"LinInterpolate(E56,'24'!$B7:$B117,'24'!M7:M117,TRUE)","v":28.05},{"$f":"LinInterpolate(E56,'24'!$B7:$B117,'24'!N7:N117,TRUE)","v":28.03},{"$f":"LinInterpolate(E56,'24'!$B7:$B117,'24'!O7:O117,TRUE)","v":28.01},{"$f":"LinInterpolate(E56,'24'!$B7:$B117,'24'!P7:P117,TRUE)","v":28},28.05,{"$f":"IF(E56<'19'!B117,Y56-AA56,0)","v":0},{"$f":"IF(E56=0,0,IF(E56<'24'!B117,LinInterpolate($G$169,$R$23:$X$23,R56:X56,TRUE),Y56))","v":28.05}]
[null,25,"W.B. 3 SB","SW",{"$f":"INDEX!E58","v":5.48},{"$f":"IF(G57<'25'!M117,LinInterpolate(G57,'25'!M7:M117,'25'!I7:I117,TRUE),100)","v":100},{"$f":"'INDEX (Corrected trim 1)'!AA57","v":28.05},{"$f":"LinInterpolate(F57,'25'!I7:I117,'25'!H7:H117,TRUE)","v":28.751249999999999},{"$f":"LinInterpolate(F57,'25'!I7:I117,'25'!C7:C117,TRUE)","v":31.59},{"$f":"LinInterpolate(F57,'25'!I7:I117,'25'!D7:D117,TRUE)","v":-7.77},{"$f":"LinInterpolate(F57,'25'!I7:I117,'25'!E7:E117,TRUE)","v":3.95},null,908.25198749999993,-223.39721249999997,113.5674375,{"$f":"IF(LinInterpolate(F57,'25'!I7:I117,'25'!F7:F117,TRUE)>0,LinInterpolate(F57,'25'!I7:I117,'25'!F7:F117,TRUE),0)","v":0},null,{"$f":"LinInterpolate(E57,'25'!$B7:$B117,'25'!J7:J117,TRUE)","v":28.03},{"$f":"LinInterpolate(E57,'25'!$B7:$B117,'25'!K7:K117,TRUE)","v":28.04},{"$f":"LinInterpolate(E57,'25'!$B7:$B117,'25'!L7:L117,TRUE)","v":28.04},{"$f":"LinInterpolate(E57,'25'!$B7:$B117,'25'!M7:M117,TRUE)","v":28.05},{"$f":"LinInterpolate(E57,'25'!$B7:$B117,'25'!N7:N117,TRUE)","v":27.98},{"$f":"LinInterpolate(E57,'25'!$B7:$B117,'25'!O7:O117,TRUE)","v":27.91},{"$f":"LinInterpolate(E57,'25'!$B7:$B117,'25'!P7:P117,TRUE)","v":27.84},28.05,{"$f":"IF(E57<'19'!B117,Y57-AA57,0)","v":0},{"$f":"IF(E57=0,0,IF(E57<'25'!B117, LinInterpolate($G$169,$R$23:$X$23,R57:X57,TRUE),Y57))","v":28.05}]
[null,26,"W.B. 3 PS DB","SW",{"$f":"INDEX!E59","v":1.35},{"$f":"IF(G58<'26'!M34,LinInterpolate(G58,'26'!M7:M34,'26'!I7:I34,TRUE),100)","v":100},{"$f":"'INDEX (Corrected trim 1)'!AA58","v":24.36},{"$f":"LinInterpolate(F58,'26'!I7:I34,'26'!H7:H34,TRUE)","v":24.968999999999998},{"$f":"LinInterpolate(F58,'26'!I7:I34,'26'!C7:C34,TRUE)","v":31.46},{"$f":"LinInterpolate(F58,'26'!I7:I34,'26'!D7:D34,TRUE)","v":5.71},{"$f":"LinInterpolate(F58,'26'!I7:I34,'26'!E7:E34,TRUE)","v":0.63},null,785.52473999999995,142.57298999999998,15.730469999999999,{"$f":"IF(LinInterpolate(F58,'26'!I7:I34,'26'!F7:F34,TRUE)>0,LinInterpolate(F58,'26'!I7:I34,'26'!F7:F34,TRUE),0)","v":0},null,{"$f":"LinInterpolate(E58,'26'!$B7:$B34,'26'!J7:J34,TRUE)","v":24.36},{"$f":"LinInterpolate(E58,'26'!$B7:$B34,'26'!K7:K34,TRUE)","v":24.36},{"$f":"LinInterpolate(E58,'26'!$B7:$B34,'26'!L7:L34,TRUE)","v":24.36},{"$f":"LinInterpolate(E58,'26'!$B7:$B34,'26'!M7:M34,TRUE)","v":24.36},{"$f":"LinInterpolate(E58,'26'!$B7:$B34,'26'!N7:N34,TRUE)","v":24.36},{"$f":"LinInterpolate(E58,'26'!$B7:$B34,'26'!O7:O34,TRUE)","v":24.36},{"$f":"LinInterpolate(E58,'26'!$B7:$B34,'26'!P7:P34,TRUE)","v":24.33},24.36,{"$f":"IF(E58<'19'!B34,Y58-AA58,0)","v":0},{"$f":"IF(E58=0,0,IF(E58<'26'!B34,LinInterpolate($G$169,$R$23:$X$23,R58:X58,TRUE),Y58))","v":24.36}]
[null,27,"W.B. 3 SB DB","SW",{"$f":"INDEX!E60","v":1.35},{"$f":"IF(G59<'27'!M34,LinInterpolate(G59,'27'!M7:M34,'27'!I7:I34,TRUE),100)","v":100},{"$f":"'INDEX (Corrected trim 1)'!AA59","v":24.36},{"$f":"LinInterpolate(F59,'27'!I7:I34,'27'!H7:H34,TRUE)","v":24.968999999999998},{"$f":"LinInterpolate(F59,'27'!I7:I34,'27'!C7:C34,TRUE)","v":31.46},{"$f":"LinInterpolate(F59,'27'!I7:I34,'27'!D7:D34,TRUE)","v":-5.71},{"$f":"LinInterpolate(F59,'27'!I7:I34,'27'!E7:E34,TRUE)","v":0.63},null,785.52473999999995,-142.57298999999998,15.730469999999999,{"$f":"IF(LinInterpolate(F59,'27'!I7:I34,'27'!F7:F34,TRUE)>0,LinInterpolate(F59,'27'!I7:I34,'27'!F7:F34,TRUE),0)","v":0},null,{"$f":"LinInterpolate(E59,'27'!$B7:$B34,'27'!J7:J34,TRUE)","v":24.36},{"$f":"LinInterpolate(E59,'27'!$B7:$B34,'27'!K7:K34,TRUE)","v":24.36},{"$f":"LinInterpolate(E59,'27'!$B7:$B34,'27'!L7:L34,TRUE)","v":24.36},{"$f":"LinInterpolate(E59,'27'!$B7:$B34,'27'!M7:M34,TRUE)","v":24.36},{"$f":"LinInterpolate(E59,'27'!$B7:$B34,'27'!N7:N34,TRUE)","v":24.36},{"$f":"LinInterpolate(E59,'27'!$B7:$B34,'27'!O7:O34,TRUE)","v":24.36},{"$f":"LinInterpolate(E59,'27'!$B7:$B34,'27'!P7:P34,TRUE)","v":24.33},24.36,{"$f":"IF(E59<'19'!B34,Y59-AA59,0)","v":0},{"$f":"IF(E59=0,0,IF(E59<'27'!B34, LinInterpolate($G$169,$R$23:$X$23,R59:X59,TRUE),Y59))","v":24.36}]
[null,28,"W.B. 4 PS","SW",{"$f":"INDEX!E61","v":5.52},{"$f":"IF(G60<'28'!M118,LinInterpolate(G60,'28'!M7:M118,'28'!I7:I118,TRUE),100)","v":100},{"$f":"'INDEX (Corrected trim 1)'!AA60","v":26.7},{"$f":"LinInterpolate(F60,'28'!I7:I118,'28'!H7:H118,TRUE)","v":27.367499999999996},{"$f":"LinInterpolate(F60,'28'!I7:I118,'28'!C7:C118,TRUE)","v":26.1},{"$f":"LinInterpolate(F60,'28'!I7:I118,'28'!D7:D118,TRUE)","v":7.8},{"$f":"LinInterpolate(F60,'28'!I7:I118,'28'!E7:E118,TRUE)","v":4.04},null,714.29174999999998,213.46649999999997,110.56469999999999,{"$f":"IF(LinInterpolate(F60,'28'!I7:I118,'28'!F7:F118,TRUE)>0,LinInterpolate(F60,'28'!I7:I118,'28'!F7:F118,TRUE),0)","v":0},null,{"$f":"LinInterpolate(E60,'28'!$B7:$B118,'28'!J7:J118,TRUE)","v":26.35},{"$f":"LinInterpolate(E60,'28'!$B7:$B118,'28'!K7:K118,TRUE)","v":26.47},{"$f":"LinInterpolate(E60,'28'!$B7:$B118,'28'!L7:L118,TRUE)","v":26.58},{"$f":"LinInterpolate(E60,'28'!$B7:$B118,'28'!M7:M118,TRUE)","v":26.7},{"$f":"LinInterpolate(E60,'28'!$B7:$B118,'28'!N7:N118,TRUE)","v":26.7},{"$f":"LinInterpolate(E60,'28'!$B7:$B118,'28'!O7:O118,TRUE)","v":26.7},{"$f":"LinInterpolate(E60,'28'!$B7:$B118,'28'!P7:P118,TRUE)","v":26.7},26.7,{"$f":"IF(E60<'19'!B118,Y60-AA60,0)","v":0},{"$f":"IF(E60=0,0,IF(E60<'28'!B118,LinInterpolate($G$169,$R$23:$X$23,R60:X60,TRUE),Y60))","v":26.7}]
[null,29,"W.B. 4 SB","SW",{"$f":"INDEX!E62","v":5.52},{"$f":"IF(G61<'29'!M118,LinInterpolate(G61,'29'!M7:M118,'29'!I7:I118,TRUE),100)","v":100},{"$f":"'INDEX (Corrected trim 1)'!AA61","v":26.7},{"$f":"LinInterpolate(F61,'29'!I7:I118,'29'!H7:H118,TRUE)","v":27.367499999999996},{"$f":"LinInterpolate(F61,'29'!I7:I118,'29'!C7:C118,TRUE)","v":26.1},{"$f":"LinInterpolate(F61,'29'!I7:I118,'29'!D7:D118,TRUE)","v":-7.8},{"$f":"LinInterpolate(F61,'29'!I7:I118,'29'!E7:E118,TRUE)","v":4.04},null,714.29174999999998,-213.46649999999997,110.56469999999999,{"$f":"IF(LinInterpolate(F61,'29'!I7:I118,'29'!F7:F118,TRUE)>0,LinInterpolate(F61,'29'!I7:I118,'29'!F7:F118,TRUE),0)","v":0},null,{"$f":"LinInterpolate(E61,'29'!$B7:$B118,'29'!J7:J118,TRUE)","v":26.35},{"$f":"LinInterpolate(E61,'29'!$B7:$B118,'29'!K7:K118,TRUE)","v":26.47},{"$f":"LinInterpolate(E61,'29'!$B7:$B118,'29'!L7:L118,TRUE)","v":26.58},{"$f":"LinInterpolate(E61,'29'!$B7:$B118,'29'!M7:M118,TRUE)","v":26.7},{"$f":"LinInterpolate(E61,'29'!$B7:$B118,'29'!N7:N118,TRUE)","v":26.7},{"$f":"LinInterpolate(E61,'29'!$B7:$B118,'29'!O7:O118,TRUE)","v":26.7},{"$f":"LinInterpolate(E61,'29'!$B7:$B118,'29'!P7:P118,TRUE)","v":26.7},26.7,{"$f":"IF(E61<'19'!B118,Y61-AA61,0)","v":0},{"$f":"IF(E61=0,0,IF(E61<'29'!B118,LinInterpolate($G$169,$R$23:$X$23,R61:X61,TRUE),Y61))","v":26.7}]
[null,30,"W.B. 4 PS DB","SW",{"$f":"INDEX!E63","v":1.3},{"$f":"IF(G62<'30'!M34,LinInterpolate(G62,'30'!M7:M34,'30'!I7:I34,TRUE),100)","v":100},{"$f":"'INDEX (Corrected trim 1)'!AA62","v":45.49},{"$f":"LinInterpolate(F62,'30'!I7:I34,'30'!H7:H34,TRUE)","v":46.627249999999997},{"$f":"LinInterpolate(F62,'30'!I7:I34,'30'!C7:C34,TRUE)","v":26.09},{"$f":"LinInterpolate(F62,'30'!I7:I34,'30'!D7:D34,TRUE)","v":4.0999999999999996},{"$f":"LinInterpolate(F62,'30'!I7:I34,'30'!E7:E34,TRUE)","v":0.56000000000000005},null,1216.5049524999999,191.17172499999998,26.111260000000001,{"$f":"IF(LinInterpolate(F62,'30'!I7:I34,'30'!F7:F34,TRUE)>0,LinInterpolate(F62,'30'!I7:I34,'30'!F7:F34,TRUE),0)","v":0},null,{"$f":"LinInterpolate(E62,'30'!$B7:$B34,'30'!J7:J34,TRUE)","v":45.38},{"$f":"LinInterpolate(E62,'30'!$B7:$B34,'30'!K7:K34,TRUE)","v":45.46},{"$f":"LinInterpolate(E62,'30'!$B7:$B34,'30'!L7:L34,TRUE)","v":45.49},{"$f":"LinInterpolate(E62,'30'!$B7:$B34,'30'!M7:M34,TRUE)","v":45.49},{"$f":"LinInterpolate(E62,'30'!$B7:$B34,'30'!N7:N34,TRUE)","v":45.49},{"$f":"LinInterpolate(E62,'30'!$B7:$B34,'30'!O7:O34,TRUE)","v":45.49},{"$f":"LinInterpolate(E62,'30'!$B7:$B34,'30'!P7:P34,TRUE)","v":45.49},45.49,{"$f":"IF(E62<'19'!B34,Y62-AA62,0)","v":0},{"$f":"IF(E62=0,0,IF(E62<'30'!B34, LinInterpolate($G$169,$R$23:$X$23,S62:X62,TRUE),Y62))","v":45.49}]
[null,31,"W.B. 4 SB DB","SW",{"$f":"INDEX!E64","v":5.52},{"$f":"IF(G63<'31'!M34,LinInterpolate(G63,'31'!M7:M34,'31'!I7:I34,TRUE),100)","v":100},{"$f":"'INDEX (Corrected trim 1)'!AA63","v":45.49},{"$f":"LinInterpolate(F63,'31'!I7:I34,'31'!H7:H34,TRUE)","v":46.627249999999997},{"$f":"LinInterpolate(F63,'31'!I7:I34,'31'!C7:C34,TRUE)","v":26.09},{"$f":"LinInterpolate(F63,'31'!I7:I34,'31'!D7:D34,TRUE)","v":-4.0999999999999996},{"$f":"LinInterpolate(F63,'31'!I7:I34,'31'!E7:E34,TRUE)","v":0.56000000000000005},null,1216.5049524999999,-191.17172499999998,26.111260000000001,{"$f":"IF(LinInterpolate(F63,'31'!I7:I34,'31'!F7:F34,TRUE)>0,LinInterpolate(F63,'31'!I7:I34,'31'!F7:F34,TRUE),0)","v":0},null,{"$f":"LinInterpolate(E63,'31'!$B7:$B34,'31'!J7:J34,TRUE)","v":53.810000000000109},{"$f":"LinInterpolate(E63,'31'!$B7:$B34,'31'!K7:K34,TRUE)","v":48.825999999999929},{"$f":"LinInterpolate(E63,'31'!$B7:$B34,'31'!L7:L34,TRUE)","v":45.49},{"$f":"LinInterpolate(E63,'31'!$B7:$B34,'31'!M7:M34,TRUE)","v":45.49},{"$f":"LinInterpolate(E63,'31'!$B7:$B34,'31'!N7:N34,TRUE)","v":45.49},{"$f":"LinInterpolate(E63,'31'!$B7:$B34,'31'!O7:O34,TRUE)","v":45.49},{"$f":"LinInterpolate(E63,'31'!$B7:$B34,'31'!P7:P34,TRUE)","v":45.49},45.49,{"$f":"IF(E63<'19'!B34,Y63-AA63,0)","v":0},{"$f":"IF(E63=0,0,IF(E63<'31'!B34,LinInterpolate($G$169,$R$23:$X$23,R63:X63,TRUE),Y63))","v":45.49}]
[null,32,"W.B. 5 PS","SW",{"$f":"INDEX!E65","v":5.52},{"$f":"IF(G64<'32'!M118,LinInterpolate(G64,'32'!M7:M118,'32'!I7:I118,TRUE),100)","v":100},{"$f":"'INDEX (Corrected trim 1)'!AA64","v":23.67},{"$f":"LinInterpolate(F64,'32'!I7:I118,'32'!H7:H118,TRUE)","v":24.261749999999999},{"$f":"LinInterpolate(F64,'32'!I7:I118,'32'!C7:C118,TRUE)","v":21},{"$f":"LinInterpolate(F64,'32'!I7:I118,'32'!D7:D118,TRUE)","v":7.8},{"$f":"LinInterpolate(F64,'32'!I7:I118,'32'!E7:E118,TRUE)","v":4.04},null,509.49674999999996,189.24164999999999,98.017470000000003,{"$f":"IF(LinInterpolate(F64,'32'!I7:I118,'32'!F7:F118,TRUE)>0,LinInterpolate(F64,'32'!I7:I118,'32'!F7:F118,TRUE),0)","v":0},null,{"$f":"LinInterpolate(E64,'32'!$B7:$B118,'32'!J7:J118,TRUE)","v":23.41},{"$f":"LinInterpolate(E64,'32'!$B7:$B118,'32'!K7:K118,TRUE)","v":23.5},{"$f":"LinInterpolate(E64,'32'!$B7:$B118,'32'!L7:L118,TRUE)","v":23.58},{"$f":"LinInterpolate(E64,'32'!$B7:$B118,'32'!M7:M118,TRUE)","v":23.67},{"$f":"LinInterpolate(E64,'32'!$B7:$B118,'32'!N7:N118,TRUE)","v":23.67},{"$f":"LinInterpolate(E64,'32'!$B7:$B118,'32'!O7:O118,TRUE)","v":23.67},{"$f":"LinInterpolate(E64,'32'!$B7:$B118,'32'!P7:P118,TRUE)","v":23.67},23.67,{"$f":"IF(E64<'19'!B118,Y64-AA64,0)","v":0},{"$f":"IF(E64=0,0,IF(E64<'32'!B118,LinInterpolate($G$169,$R$23:$X$23,R64:X64,TRUE),Y64))","v":23.67}]
[null,33,"W.B. 5 SB","SW",{"$f":"INDEX!E66","v":5.52},{"$f":"IF(G65<'33'!M118,LinInterpolate(G65,'33'!M7:M118,'33'!I7:I118,TRUE),100)","v":100},{"$f":"'INDEX (Corrected trim 1)'!AA65","v":23.67},{"$f":"LinInterpolate(F65,'33'!I7:I118,'33'!H7:H118,TRUE)","v":24.261749999999999},{"$f":"LinInterpolate(F65,'33'!I7:I118,'33'!C7:C118,TRUE)","v":21},{"$f":"LinInterpolate(F65,'33'!I7:I118,'33'!D7:D118,TRUE)","v":-7.8},{"$f":"LinInterpolate(F65,'33'!I7:I118,'33'!E7:E118,TRUE)","v":4.04},null,509.49674999999996,-189.24164999999999,98.017470000000003,{"$f":"IF(LinInterpolate(F65,'33'!I7:I118,'33'!F7:F118,TRUE)>0,LinInterpolate(F65,'33'!I7:I118,'33'!F7:F118,TRUE),0)","v":0},null,{"$f":"LinInterpolate(E65,'33'!$B7:$B118,'33'!J7:J118,TRUE)","v":23.41},{"$f":"LinInterpolate(E65,'33'!$B7:$B118,'33'!K7:K118,TRUE)","v":23.5},{"$f":"LinInterpolate(E65,'33'!$B7:$B118,'33'!L7:L118,TRUE)","v":23.58},{"$f":"LinInterpolate(E65,'33'!$B7:$B118,'33'!M7:M118,TRUE)","v":23.67},{"$f":"LinInterpolate(E65,'33'!$B7:$B118,'33'!N7:N118,TRUE)","v":23.67},{"$f":"LinInterpolate(E65,'33'!$B7:$B118,'33'!O7:O118,TRUE)","v":23.67},{"$f":"LinInterpolate(E65,'33'!$B7:$B118,'33'!P7:P118,TRUE)","v":23.67},23.67,{"$f":"IF(E65<'19'!B118,Y65-AA65,0)","v":0},{"$f":"IF(E65=0,0,IF(E65<'33'!B118, LinInterpolate($G$169,$R$23:$X$23,R65:X65,TRUE),Y65))","v":23.67}]
[null,34,"W.B. 5 PS DB","SW",{"$f":"INDEX!E67","v":1.35},{"$f":"IF(G66<'34'!M34,LinInterpolate(G66,'34'!M7:M34,'34'!I7:I34,TRUE),100)","v":100},{"$f":"'INDEX (Corrected trim 1)'!AA66","v":40.159999999999997},{"$f":"LinInterpolate(F66,'34'!I7:I34,'34'!H7:H34,TRUE)","v":41.163999999999994},{"$f":"LinInterpolate(F66,'34'!I7:I34,'34'!C7:C34,TRUE)","v":21},{"$f":"LinInterpolate(F66,'34'!I7:I34,'34'!D7:D34,TRUE)","v":4.1500000000000004},{"$f":"LinInterpolate(F66,'34'!I7:I34,'34'!E7:E34,TRUE)","v":0.56000000000000005},null,864.44399999999985,170.8306,23.051839999999999,{"$f":"IF(LinInterpolate(F66,'34'!I7:I34,'34'!F7:F34,TRUE)>0,LinInterpolate(F66,'34'!I7:I34,'34'!F7:F34,TRUE),0)","v":0},null,{"$f":"LinInterpolate(E66,'34'!$B7:$B34,'34'!J7:J34,TRUE)","v":40.14},{"$f":"LinInterpolate(E66,'34'!$B7:$B34,'34'!K7:K34,TRUE)","v":40.159999999999997},{"$f":"LinInterpolate(E66,'34'!$B7:$B34,'34'!L7:L34,TRUE)","v":40.159999999999997},{"$f":"LinInterpolate(E66,'34'!$B7:$B34,'34'!M7:M34,TRUE)","v":40.159999999999997},{"$f":"LinInterpolate(E66,'34'!$B7:$B34,'34'!N7:N34,TRUE)","v":40.159999999999997},{"$f":"LinInterpolate(E66,'34'!$B7:$B34,'34'!O7:O34,TRUE)","v":40.159999999999997},{"$f":"LinInterpolate(E66,'34'!$B7:$B34,'34'!P7:P34,TRUE)","v":40.159999999999997},40.159999999999997,{"$f":"IF(E66<'19'!B34,Y66-AA66,0)","v":0},{"$f":"IF(E66=0,0,IF(E66<'34'!B34,LinInterpolate($G$169,$R$23:$X$23,R66:X66,TRUE),Y66))","v":40.159999999999997}]
[null,35,"W.B. 5 SB DB","SW",{"$f":"INDEX!E68","v":1.35},{"$f":"IF(G67<'35'!M34,LinInterpolate(G67,'35'!M7:M34,'35'!I7:I34,TRUE),100)","v":100},{"$f":"'INDEX (Corrected trim 1)'!AA67","v":40.159999999999997},{"$f":"LinInterpolate(F67,'35'!I7:I34,'35'!H7:H34,TRUE)","v":41.163999999999994},{"$f":"LinInterpolate(F67,'35'!I7:I34,'35'!C7:C34,TRUE)","v":21},{"$f":"LinInterpolate(F67,'35'!I7:I34,'35'!D7:D34,TRUE)","v":-4.1500000000000004},{"$f":"LinInterpolate(F67,'35'!I7:I34,'35'!E7:E34,TRUE)","v":0.56000000000000005},null,{"$f":"$H67*I67","v":864.44399999999985},-170.8306,23.051839999999999,{"$f":"IF(LinInterpolate(F67,'35'!I7:I34,'35'!F7:F34,TRUE)>0,LinInterpolate(F67,'35'!I7:I34,'35'!F7:F34,TRUE),0)","v":0},null,{"$f":"LinInterpolate(E67,'35'!$B7:$B34,'35'!J7:J34,TRUE)","v":40.14},{"$f":"LinInterpolate(E67,'35'!$B7:$B34,'35'!K7:K34,TRUE)","v":40.159999999999997},{"$f":"LinInterpolate(E67,'35'!$B7:$B34,'35'!L7:L34,TRUE)","v":40.159999999999997},{"$f":"LinInterpolate(E67,'35'!$B7:$B34,'35'!M7:M34,TRUE)","v":40.159999999999997},{"$f":"LinInterpolate(E67,'35'!$B7:$B34,'35'!N7:N34,TRUE)","v":40.159999999999997},{"$f":"LinInterpolate(E67,'35'!$B7:$B34,'35'!O7:O34,TRUE)","v":40.159999999999997},{"$f":"LinInterpolate(E67,'35'!$B7:$B34,'35'!P7:P34,TRUE)","v":40.159999999999997},40.159999999999997,{"$f":"IF(E67<'19'!B34,Y67-AA67,0)","v":0},{"$f":"IF(E67=0,0,IF(E67<'35'!B34,LinInterpolate($G$169,$R$23:$X$23,R67:X67,TRUE),Y67))","v":40.159999999999997}]
[null,36,"W.B. 6 PS","SW",{"$f":"INDEX!E69","v":5.51},{"$f":"IF(G68<'36'!M118,LinInterpolate(G68,'36'!M7:M118,'36'!I7:I118,TRUE),100)","v":100},{"$f":"'INDEX (Corrected trim 1)'!AA68","v":22.31},{"$f":"LinInterpolate(F68,'36'!I7:I118,'36'!H7:H118,TRUE)","v":22.857499999999998},{"$f":"LinInterpolate(F68,'36'!I7:I118,'36'!C7:C118,TRUE)","v":16.260000000000002},{"$f":"LinInterpolate(F68,'36'!I7:I118,'36'!D7:D118,TRUE)","v":7.79},{"$f":"LinInterpolate(F68,'36'!I7:I118,'36'!E7:E118,TRUE)","v":4.21},null,371.66295000000002,178.05992499999999,96.230074999999985,{"$f":"IF(LinInterpolate(F68,'36'!I7:I118,'36'!F7:F118,TRUE)>0,LinInterpolate(F68,'36'!I7:I118,'36'!F7:F118,TRUE),0)","v":0},null,{"$f":"LinInterpolate(E68,'36'!$B21:$B118,'36'!J21:J118,TRUE)","v":22.3},{"$f":"LinInterpolate(E68,'36'!$B21:$B118,'36'!K21:K118,TRUE)","v":22.3},{"$f":"LinInterpolate(E68,'36'!$B21:$B118,'36'!L21:L118,TRUE)","v":22.31},{"$f":"LinInterpolate(E68,'36'!$B21:$B118,'36'!M21:M118,TRUE)","v":22.31},{"$f":"LinInterpolate(E68,'36'!$B21:$B118,'36'!N21:N118,TRUE)","v":22.24},{"$f":"LinInterpolate(E68,'36'!$B21:$B118,'36'!O21:O118,TRUE)","v":22.17},{"$f":"LinInterpolate(E68,'36'!$B21:$B118,'36'!P21:P118,TRUE)","v":22.1},22.31,{"$f":"IF(E68<'19'!B118,Y68-AA68,0)","v":0},{"$f":"IF(E68=0,0,IF(E68<'36'!B118,LinInterpolate($G$169,$R$23:$X$23,R68:X68,TRUE),Y68))","v":22.31}]
[null,37,"W.B. 6 SB","SW",{"$f":"INDEX!E70","v":5.51},{"$f":"IF(G69<'37'!M118,LinInterpolate(G69,'37'!M7:M118,'37'!I7:I118,TRUE),100)","v":100},{"$f":"'INDEX (Corrected trim 1)'!AA69","v":22.31},{"$f":"LinInterpolate(F69,'37'!I7:I118,'37'!H7:H118,TRUE)","v":22.857499999999998},{"$f":"LinInterpolate(F69,'37'!I7:I118,'37'!C7:C118,TRUE)","v":16.260000000000002},{"$f":"LinInterpolate(F69,'37'!I7:I118,'37'!D7:D118,TRUE)","v":-7.79},{"$f":"LinInterpolate(F69,'37'!I7:I118,'37'!E7:E118,TRUE)","v":4.21},null,371.66295000000002,-178.05992499999999,96.230074999999985,{"$f":"IF(LinInterpolate(F69,'37'!I7:I118,'37'!F7:F118,TRUE)>0,LinInterpolate(F69,'37'!I7:I118,'37'!F7:F118,TRUE),0)","v":0},null,{"$f":"LinInterpolate(E69,'37'!$B7:$B118,'37'!J7:J118,TRUE)","v":22.3},{"$f":"LinInterpolate(E69,'37'!$B7:$B118,'37'!K7:K118,TRUE)","v":22.3},{"$f":"LinInterpolate(E69,'37'!$B7:$B118,'37'!L7:L118,TRUE)","v":22.3},{"$f":"LinInterpolate(E69,'37'!$B7:$B118,'37'!M7:M118,TRUE)","v":22.31},{"$f":"LinInterpolate(E69,'37'!$B7:$B118,'37'!N7:N118,TRUE)","v":22.24},{"$f":"LinInterpolate(E69,'37'!$B7:$B118,'37'!O7:O118,TRUE)","v":22.18},{"$f":"LinInterpolate(E69,'37'!$B7:$B118,'37'!P7:P118,TRUE)","v":22.11},22.31,{"$f":"IF(E69<'19'!B118,Y69-AA69,0)","v":0},{"$f":"IF(E69=0,0,IF(E69<'37'!B118,LinInterpolate($G$169,$R$23:$X$23,R69:X69,TRUE),Y69))","v":22.31}]
[null,38,"W.B. 6 PS DB","SW",{"$f":"INDEX!E71","v":2.2000000000000002},{"$f":"IF(G70<'38'!M51,LinInterpolate(G70,'38'!M7:M51,'38'!I7:I51,TRUE),100)","v":100},{"$f":"'INDEX (Corrected trim 1)'!AA70","v":39.67},{"$f":"LinInterpolate(F70,'38'!I7:I51,'38'!H7:H51,TRUE)","v":40.661749999999998},{"$f":"LinInterpolate(F70,'38'!I7:I51,'38'!C7:C51,TRUE)","v":16.2},{"$f":"LinInterpolate(F70,'38'!I7:I51,'38'!D7:D51,TRUE)","v":4.16},{"$f":"LinInterpolate(F70,'38'!I7:I51,'38'!E7:E51,TRUE)","v":0.63},null,658.72034999999994,169.15288000000001,25.616902499999998,{"$f":"IF(LinInterpolate(F70,'38'!I7:I51,'38'!F7:F51,TRUE)>0,LinInterpolate(F70,'38'!I7:I51,'38'!F7:F51,TRUE),0)","v":0},null,{"$f":"LinInterpolate(E70,'38'!$B7:$B51,'38'!J7:J51,TRUE)","v":39.67},{"$f":"LinInterpolate(E70,'38'!$B7:$B51,'38'!K7:K51,TRUE)","v":39.67},{"$f":"LinInterpolate(E70,'38'!$B7:$B51,'38'!L7:L51,TRUE)","v":39.67},{"$f":"LinInterpolate(E70,'38'!$B7:$B51,'38'!M7:M51,TRUE)","v":39.67},{"$f":"LinInterpolate(E70,'38'!$B7:$B51,'38'!N7:N51,TRUE)","v":39.659999999999997},{"$f":"LinInterpolate(E70,'38'!$B7:$B51,'38'!O7:O51,TRUE)","v":39.659999999999997},{"$f":"LinInterpolate(E70,'38'!$B7:$B51,'38'!P7:P51,TRUE)","v":39.65},39.67,{"$f":"IF(E70<'19'!B51,Y70-AA70,0)","v":0},{"$f":"IF(E70=0,0,IF(E70<'38'!B51, LinInterpolate($G$169,$R$23:$X$23,R70:X70,TRUE),Y70))","v":39.67}]
[null,39,"W.B. 6 SB DB","SW",{"$f":"INDEX!E72","v":2.2000000000000002},{"$f":"IF(G71<'39'!M51,LinInterpolate(G71,'39'!M7:M51,'39'!I7:I51,TRUE),100)","v":100},{"$f":"'INDEX (Corrected trim 1)'!AA71","v":39.67},{"$f":"LinInterpolate(F71,'39'!I7:I51,'39'!H7:H51,TRUE)","v":40.661749999999998},{"$f":"LinInterpolate(F71,'39'!I7:I51,'39'!C7:C51,TRUE)","v":16.2},{"$f":"LinInterpolate(F71,'39'!I7:I51,'39'!D7:D51,TRUE)","v":-4.16},{"$f":"LinInterpolate(F71,'39'!I7:I51,'39'!E7:E51,TRUE)","v":0.63},null,658.72034999999994,-169.15288000000001,25.616902499999998,{"$f":"IF(LinInterpolate(F71,'39'!I7:I51,'39'!F7:F51,TRUE)>0,LinInterpolate(F71,'39'!I7:I51,'39'!F7:F51,TRUE),0)","v":0},null,{"$f":"LinInterpolate(E71,'39'!$B7:$B51,'39'!J7:J51,TRUE)","v":39.67},{"$f":"LinInterpolate(E71,'39'!$B7:$B51,'39'!K7:K51,TRUE)","v":39.67},{"$f":"LinInterpolate(E71,'39'!$B7:$B51,'39'!L7:L51,TRUE)","v":39.67},{"$f":"LinInterpolate(E71,'39'!$B7:$B51,'39'!M7:M51,TRUE)","v":39.67},{"$f":"LinInterpolate(E71,'39'!$B7:$B51,'39'!N7:N51,TRUE)","v":39.659999999999997},{"$f":"LinInterpolate(E71,'39'!$B7:$B51,'39'!O7:O51,TRUE)","v":39.659999999999997},{"$f":"LinInterpolate(E71,'39'!$B7:$B51,'39'!P7:P51,TRUE)","v":39.659999999999997},39.67,{"$f":"IF(E71<'19'!B51,Y71-AA71,0)","v":0},{"$f":"IF(E71=0,0,IF(E71<'39'!B51, LinInterpolate($G$169,$R$23:$X$23,R71:X71,TRUE),Y71))","v":39.67}]
[null,40,"W.B. 7 PS","SW",{"$f":"INDEX!E73","v":4.6399999999999997},{"$f":"IF(G72<'40'!M100,LinInterpolate(G72,'40'!M7:M100,'40'!I7:I100,TRUE),100)","v":100},{"$f":"'INDEX (Corrected trim 1)'!AA72","v":17.48},{"$f":"LinInterpolate(F72,'40'!I7:I100,'40'!H7:H100,TRUE)","v":17.916999999999998},{"$f":"LinInterpolate(F72,'40'!I7:I100,'40'!C7:C100,TRUE)","v":11.34},{"$f":"LinInterpolate(F72,'40'!I7:I100,'40'!D7:D100,TRUE)","v":7.79},{"$f":"LinInterpolate(F72,'40'!I7:I100,'40'!E7:E100,TRUE)","v":4.92},null,203.17877999999999,139.57342999999997,88.151639999999986,{"$f":"IF(LinInterpolate(F72,'40'!I7:I100,'40'!F7:F100,TRUE)>0,LinInterpolate(F72,'40'!I7:I100,'40'!F7:F100,TRUE),0)","v":0},null,{"$f":"LinInterpolate(E72,'40'!$B7:$B100,'40'!J7:J100,TRUE)","v":17.48},{"$f":"LinInterpolate(E72,'40'!$B7:$B100,'40'!K7:K100,TRUE)","v":17.48},{"$f":"LinInterpolate(E72,'40'!$B7:$B100,'40'!L7:L100,TRUE)","v":17.48},{"$f":"LinInterpolate(E72,'40'!$B7:$B100,'40'!M7:M100,TRUE)","v":17.48},{"$f":"LinInterpolate(E72,'40'!$B7:$B100,'40'!N7:N100,TRUE)","v":17.37},{"$f":"LinInterpolate(E72,'40'!$B7:$B100,'40'!O7:O100,TRUE)","v":17.260000000000002},{"$f":"LinInterpolate(E72,'40'!$B7:$B100,'40'!P7:P100,TRUE)","v":17.149999999999999},17.48,{"$f":"IF(E72<'19'!B100,Y72-AA72,0)","v":0},{"$f":"IF(E72=0,0,IF(E72<'40'!B100,LinInterpolate($G$169,$R$23:$X$23,R72:X72,TRUE),Y72))","v":17.48}]
[null,41,"W.B. 7 SB","SW",{"$f":"INDEX!E74","v":4.6399999999999997},{"$f":"IF(G73<'41'!M100,LinInterpolate(G73,'41'!M7:M100,'41'!I7:I100,TRUE),100)","v":100},{"$f":"'INDEX (Corrected trim 1)'!AA73","v":17.48},{"$f":"LinInterpolate(F73,'41'!I7:I100,'41'!H7:H100,TRUE)","v":17.916999999999998},{"$f":"LinInterpolate(F73,'41'!I7:I100,'41'!C7:C100,TRUE)","v":11.34},{"$f":"LinInterpolate(F73,'41'!I7:I100,'41'!D7:D100,TRUE)","v":-7.79},{"$f":"LinInterpolate(F73,'41'!I7:I100,'41'!E7:E100,TRUE)","v":4.92},null,203.17877999999999,-139.57342999999997,88.151639999999986,{"$f":"IF(LinInterpolate(F73,'41'!I7:I100,'41'!F7:F100,TRUE)>0,LinInterpolate(F73,'41'!I7:I100,'41'!F7:F100,TRUE),0)","v":0},null,{"$f":"LinInterpolate(E73,'41'!$B7:$B100,'41'!J7:J100,TRUE)","v":17.48},{"$f":"LinInterpolate(E73,'41'!$B7:$B100,'41'!K7:K100,TRUE)","v":17.48},{"$f":"LinInterpolate(E73,'41'!$B7:$B100,'41'!L7:L100,TRUE)","v":17.48},{"$f":"LinInterpolate(E73,'41'!$B7:$B100,'41'!M7:M100,TRUE)","v":17.48},{"$f":"LinInterpolate(E73,'41'!$B7:$B100,'41'!N7:N100,TRUE)","v":17.37},{"$f":"LinInterpolate(E73,'41'!$B7:$B100,'41'!O7:O100,TRUE)","v":17.260000000000002},{"$f":"LinInterpolate(E73,'41'!$B7:$B100,'41'!P7:P100,TRUE)","v":17.149999999999999},17.48,{"$f":"IF(E73<'19'!B100,Y73-AA73,0)","v":0},{"$f":"IF(E73=0,0,IF(E73<'41'!B100, LinInterpolate($G$169,$R$23:$X$23,R73:X73,TRUE),Y73))","v":17.48}]
[null,42,"W.B. 7 PS DB","SW",{"$f":"INDEX!E75","v":4.55},{"$f":"IF(G74<'42'!M98,LinInterpolate(G74,'42'!M7:M98,'42'!I7:I98,TRUE),100)","v":100},{"$f":"'INDEX (Corrected trim 1)'!AA74","v":35.4},{"$f":"LinInterpolate(F74,'42'!I7:I98,'42'!H7:H98,TRUE)","v":36.284999999999997},{"$f":"LinInterpolate(F74,'42'!I7:I98,'42'!C7:C98,TRUE)","v":10.63},{"$f":"LinInterpolate(F74,'42'!I7:I98,'42'!D7:D98,TRUE)","v":5.9},{"$f":"LinInterpolate(F74,'42'!I7:I98,'42'!E7:E98,TRUE)","v":1.98},null,385.70954999999998,214.08150000000001,71.84429999999999,{"$f":"IF(LinInterpolate(F74,'42'!I7:I98,'42'!F7:F98,TRUE)>0,LinInterpolate(F74,'42'!I7:I98,'42'!F7:F98,TRUE),0)","v":0},null,{"$f":"LinInterpolate(E74,'42'!$B7:$B98,'42'!J7:J98,TRUE)","v":35.4},{"$f":"LinInterpolate(E74,'42'!$B7:$B98,'42'!K7:K98,TRUE)","v":35.4},{"$f":"LinInterpolate(E74,'42'!$B7:$B98,'42'!L7:L98,TRUE)","v":35.4},{"$f":"LinInterpolate(E74,'42'!$B7:$B98,'42'!M7:M98,TRUE)","v":35.4},{"$f":"LinInterpolate(E74,'42'!$B7:$B98,'42'!N7:N98,TRUE)","v":35.39},{"$f":"LinInterpolate(E74,'42'!$B7:$B98,'42'!O7:O98,TRUE)","v":35.39},{"$f":"LinInterpolate(E74,'42'!$B7:$B98,'42'!P7:P98,TRUE)","v":35.380000000000003},35.4,{"$f":"IF(E74<'19'!B98,Y74-AA74,0)","v":0},{"$f":"IF(E74=0,0,IF(E74<'42'!B98,LinInterpolate($G$169,$R$23:$X$23,R74:X74,TRUE),Y74))","v":35.4}]
[null,43,"W.B. 7 SB DB","SW",{"$f":"INDEX!E76","v":4.55},{"$f":"IF(G75<'43'!M98,LinInterpolate(G75,'43'!M7:M98,'43'!I7:I98,TRUE),100)","v":100},{"$f":"'INDEX (Corrected trim 1)'!AA75","v":35.4},{"$f":"LinInterpolate(F75,'43'!I7:I98,'43'!H7:H98,TRUE)","v":36.284999999999997},{"$f":"LinInterpolate(F75,'43'!I7:I98,'43'!C7:C98,TRUE)","v":10.63},{"$f":"LinInterpolate(F75,'43'!I7:I98,'43'!D7:D98,TRUE)","v":-5.9},{"$f":"LinInterpolate(F75,'43'!I7:I98,'43'!E7:E98,TRUE)","v":1.98},null,385.70954999999998,-214.08150000000001,71.84429999999999,{"$f":"IF(LinInterpolate(F75,'43'!I7:I98,'43'!F7:F98,TRUE)>0,LinInterpolate(F75,'43'!I7:I98,'43'!F7:F98,TRUE),0)","v":0},null,{"$f":"LinInterpolate(E75,'43'!$B7:$B98,'43'!J7:J98,TRUE)","v":35.4},{"$f":"LinInterpolate(E75,'43'!$B7:$B98,'43'!K7:K98,TRUE)","v":35.4},{"$f":"LinInterpolate(E75,'43'!$B7:$B98,'43'!L7:L98,TRUE)","v":35.4},{"$f":"LinInterpolate(E75,'43'!$B7:$B98,'43'!M7:M98,TRUE)","v":35.4},{"$f":"LinInterpolate(E75,'43'!$B7:$B98,'43'!N7:N98,TRUE)","v":35.39},{"$f":"LinInterpolate(E75,'43'!$B7:$B98,'43'!O7:O98,TRUE)","v":35.39},{"$f":"LinInterpolate(E75,'43'!$B7:$B98,'43'!P7:P98,TRUE)","v":35.380000000000003},35.4,{"$f":"IF(E75<'19'!B98,Y75-AA75,0)","v":0},{"$f":"IF(E75=0,0,IF(E75<'43'!B98,LinInterpolate($G$169,$R$23:$X$23,R75:X75,TRUE),Y75))","v":35.4}]
[null,44,"W.B. 8 PS DB","SW",{"$f":"INDEX!E77","v":2.7},{"$f":"IF(G76<'44'!M61,LinInterpolate(G76,'44'!M7:M61,'44'!I7:I61,TRUE),100)","v":100},{"$f":"'INDEX (Corrected trim 1)'!AA76","v":29.71},{"$f":"LinInterpolate(F76,'44'!I7:I61,'44'!H7:H61,TRUE)","v":30.452749999999998},{"$f":"LinInterpolate(F76,'44'!I7:I61,'44'!C7:C61,TRUE)","v":10.53},{"$f":"LinInterpolate(F76,'44'!I7:I61,'44'!D7:D61,TRUE)","v":1.47},{"$f":"LinInterpolate(F76,'44'!I7:I61,'44'!E7:E61,TRUE)","v":1.1100000000000001},null,320.66745749999995,44.765542499999995,33.802552500000004,{"$f":"IF(LinInterpolate(F76,'44'!I7:I61,'44'!F7:F61,TRUE)>0,LinInterpolate(F76,'44'!I7:I61,'44'!F7:F61,TRUE),0)","v":0},null,{"$f":"LinInterpolate(E76,'44'!$B7:$B61,'44'!J7:J61,TRUE)","v":29.71},{"$f":"LinInterpolate(E76,'44'!$B7:$B61,'44'!K7:K61,TRUE)","v":29.71},{"$f":"LinInterpolate(E76,'44'!$B7:$B61,'44'!L7:L61,TRUE)","v":29.71},{"$f":"LinInterpolate(E76,'44'!$B7:$B61,'44'!M7:M61,TRUE)","v":29.71},{"$f":"LinInterpolate(E76,'44'!$B7:$B61,'44'!N7:N61,TRUE)","v":29.7},{"$f":"LinInterpolate(E76,'44'!$B7:$B61,'44'!O7:O61,TRUE)","v":29.67},{"$f":"LinInterpolate(E76,'44'!$B7:$B61,'44'!P7:P61,TRUE)","v":29.59},29.71,{"$f":"IF(E76<'19'!B61,Y76-AA76,0)","v":0},{"$f":"IF(E76=0,0,IF(E76<'44'!B61,LinInterpolate($G$169,$R$23:$X$23,R76:X76,TRUE),Y76))","v":29.71}]
[null,45,"W.B. 8 SB DB","SW",{"$f":"INDEX!E78","v":2.7},{"$f":"IF(G77<'45'!M61,LinInterpolate(G77,'45'!M7:M61,'45'!I7:I61,TRUE),100)","v":100},{"$f":"'INDEX (Corrected trim 1)'!AA77","v":29.71},{"$f":"LinInterpolate(F77,'45'!I7:I61,'45'!H7:H61,TRUE)","v":30.452749999999998},{"$f":"LinInterpolate(F77,'45'!I7:I61,'45'!C7:C61,TRUE)","v":10.53},{"$f":"LinInterpolate(F77,'45'!I7:I61,'45'!D7:D61,TRUE)","v":-1.47},{"$f":"LinInterpolate(F77,'45'!I7:I61,'45'!E7:E61,TRUE)","v":1.1100000000000001},null,320.66745749999995,-44.765542499999995,33.802552500000004,{"$f":"IF(LinInterpolate(F77,'45'!I7:I61,'45'!F7:F61,TRUE)>0,LinInterpolate(F77,'45'!I7:I61,'45'!F7:F61,TRUE),0)","v":0},null,{"$f":"LinInterpolate(E77,'45'!$B7:$B61,'45'!J7:J61,TRUE)","v":29.71},{"$f":"LinInterpolate(E77,'45'!$B7:$B61,'45'!K7:K61,TRUE)","v":29.71},{"$f":"LinInterpolate(E77,'45'!$B7:$B61,'45'!L7:L61,TRUE)","v":29.71},{"$f":"LinInterpolate(E77,'45'!$B7:$B61,'45'!M7:M61,TRUE)","v":29.71},{"$f":"LinInterpolate(E77,'45'!$B7:$B61,'45'!N7:N61,TRUE)","v":29.7},{"$f":"LinInterpolate(E77,'45'!$B7:$B61,'45'!O7:O61,TRUE)","v":29.67},{"$f":"LinInterpolate(E77,'45'!$B7:$B61,'45'!P7:P61,TRUE)","v":29.59},29.71,{"$f":"IF(E77<'19'!B61,Y77-AA77,0)","v":0},{"$f":"IF(E77=0,0,IF(E77<'45'!B61, LinInterpolate($G$169,$R$23:$X$23,R77:X77,TRUE),Y77))","v":29.71}]
[null,null,"Total BW",null,null,{"$f":"(G78/1032.2)*100","v":99.98391784537877},{"$f":"SUM((G51:G77))","v":1032.0339999999997},{"$f":"SUM((H51:H77))","v":1057.8143499999999},{"$f":"M78/H78","v":22.744108122564228},{"$f":"N78/H78","v":-7.3606753396756736E-3},{"$f":"O78/H78","v":3.0813733728418415},null,{"$f":"SUM((M51:M77))","v":24059.043949999996},{"$f":"SUM((N51:N77))","v":-7.786228000000051},{"$f":"SUM((O51:O77))","v":3259.5209715000001},{"$f":"SUM((P51:P77))","v":0},null,null,null,null,null,null,null,null,null,{"$f":"SUM((Z51:Z77))","v":0},{"$f":"SUM((AA51:AA77))","v":1032.0339999999997}]
[]
[null,null,"FW (S.G. 1.000)",null,null,null,null,null,null,null,null,null,null,null,null,null,null,-1.5,-1,-0.5,0,0.5,1,1.5,"Volume","∆Volume","Volume2"]
[null,46,"F.W. 1 PS","FW",{"$f":"INDEX!E82","v":7.77},{"$f":"IF(G81<'46'!M163,LinInterpolate(G81,'46'!M7:M163,'46'!I7:I163,TRUE),100)","v":100},{"$f":"'INDEX (Corrected trim 1)'!AA81","v":73.349999999999994},{"$f":"LinInterpolate(F81,'46'!I7:I163,'46'!H7:H163,TRUE)","v":73.349999999999994},{"$f":"LinInterpolate(F81,'46'!I7:I163,'46'!C7:C163,TRUE)","v":47.04},{"$f":"LinInterpolate(F81,'46'!I7:I163,'46'!D7:D163,TRUE)","v":2.93},{"$f":"LinInterpolate(F81,'46'!I7:I163,'46'!E7:E163,TRUE)","v":4.93},null,{"$f":"$H81*I81","v":3450.3839999999996},214.91550000000001,361.61549999999994,{"$f":"IF(LinInterpolate(F81,'46'!I7:I163,'46'!F7:F163,TRUE)>0,LinInterpolate(F81,'46'!I7:I163,'46'!F7:F163,TRUE),0)","v":0},null,{"$f":"LinInterpolate(E81,'46'!$B7:$B163,'46'!J7:J163,TRUE)","v":72.150000000000006},{"$f":"LinInterpolate(E81,'46'!$B7:$B163,'46'!K7:K163,TRUE)","v":72.55},{"$f":"LinInterpolate(E81,'46'!$B7:$B163,'46'!L7:L163,TRUE)","v":72.95},{"$f":"LinInterpolate(E81,'46'!$B7:$B163,'46'!M7:M163,TRUE)","v":73.349999999999994},{"$f":"LinInterpolate(E81,'46'!$B7:$B163,'46'!N7:N163,TRUE)","v":73.349999999999994},{"$f":"LinInterpolate(E81,'46'!$B7:$B163,'46'!O7:O163,TRUE)","v":73.349999999999994},{"$f":"LinInterpolate(E81,'46'!$B7:$B163,'46'!P7:P163,TRUE)","v":73.349999999999994},{"$f":"G81","v":73.349999999999994},{"$f":"IF(E81<'19'!B163,Y81-AA81,0)","v":0},{"$f":"IF(E81=0,0,IF(E81<'46'!B163,LinInterpolate($G$169,$R$23:$X$23,R81:X81,TRUE),Y81))","v":73.349999999999994}]
[null,47,"F.W. 1 SB","FW",{"$f":"INDEX!E83","v":7.77},{"$f":"IF(G82<'47'!M163,LinInterpolate(G82,'47'!M7:M163,'47'!I7:I163,TRUE),100)","v":100},{"$f":"'INDEX (Corrected trim 1)'!AA82","v":73.349999999999994},{"$f":"LinInterpolate(F82,'47'!I7:I163,'47'!H7:H163,TRUE)","v":73.349999999999994},{"$f":"LinInterpolate(F82,'47'!I7:I163,'47'!C7:C163,TRUE)","v":47.05},{"$f":"LinInterpolate(F82,'47'!I7:I163,'47'!D7:D163,TRUE)","v":-2.93},{"$f":"LinInterpolate(F82,'47'!I7:I163,'47'!E7:E163,TRUE)","v":4.93},null,3451.1174999999994,-214.91550000000001,361.61549999999994,{"$f":"IF(LinInterpolate(F82,'47'!I7:I163,'47'!F7:F163,TRUE)>0,LinInterpolate(F82,'47'!I7:I163,'47'!F7:F163,TRUE),0)","v":0},null,{"$f":"LinInterpolate(E82,'47'!$B7:$B163,'47'!J7:J163,TRUE)","v":72.150000000000006},{"$f":"LinInterpolate(E82,'47'!$B7:$B163,'47'!K7:K163,TRUE)","v":72.55},{"$f":"LinInterpolate(E82,'47'!$B7:$B163,'47'!L7:L163,TRUE)","v":72.95},{"$f":"LinInterpolate(E82,'47'!$B7:$B163,'47'!M7:M163,TRUE)","v":73.349999999999994},{"$f":"LinInterpolate(E82,'47'!$B7:$B163,'47'!N7:N163,TRUE)","v":73.349999999999994},{"$f":"LinInterpolate(E82,'47'!$B7:$B163,'47'!O7:O163,TRUE)","v":73.349999999999994},{"$f":"LinInterpolate(E82,'47'!$B7:$B163,'47'!P7:P163,TRUE)","v":73.349999999999994},{"$f":"G82","v":73.349999999999994},{"$f":"IF(E82<'19'!B163,Y82-AA82,0)","v":0},{"$f":"IF(E82=0,0,IF(E82<'47'!B163, LinInterpolate($G$169,$R$23:$X$23,R82:X82,TRUE),Y82))","v":73.349999999999994}]
[null,48,"F.W. 1 C","FW",{"$f":"INDEX!E84","v":5.77},{"$f":"IF(G83<'48'!M123,LinInterpolate(G83,'48'!M7:M123,'48'!I7:I123,TRUE),100)","v":100},{"$f":"'INDEX (Corrected trim 1)'!AA83","v":103.64},{"$f":"LinInterpolate(F83,'48'!I7:I123,'48'!H7:H123,TRUE)","v":103.64},{"$f":"LinInterpolate(F83,'48'!I7:I123,'48'!C7:C123,TRUE)","v":15.61},{"$f":"LinInterpolate(F83,'48'!I7:I123,'48'!D7:D123,TRUE)","v":0},{"$f":"LinInterpolate(F83,'48'!I7:I123,'48'!E7:E123,TRUE)","v":3.91},null,1617.8204000000001,0,405.23240000000004,{"$f":"IF(LinInterpolate(F83,'48'!I7:I123,'48'!F7:F123,TRUE)>0,LinInterpolate(F83,'48'!I7:I123,'48'!F7:F123,TRUE),0)","v":0},null,{"$f":"LinInterpolate(E83,'48'!$B7:$B123,'48'!J7:J123,TRUE)","v":103.63},{"$f":"LinInterpolate(E83,'48'!$B7:$B123,'48'!K7:K123,TRUE)","v":103.64},{"$f":"LinInterpolate(E83,'48'!$B7:$B123,'48'!L7:L123,TRUE)","v":103.64},{"$f":"LinInterpolate(E83,'48'!$B7:$B123,'48'!M7:M123,TRUE)","v":103.64},{"$f":"LinInterpolate(E83,'48'!$B7:$B123,'48'!N7:N123,TRUE)","v":103.28},{"$f":"LinInterpolate(E83,'48'!$B7:$B123,'48'!O7:O123,TRUE)","v":102.93},{"$f":"LinInterpolate(E83,'48'!$B7:$B123,'48'!P7:P123,TRUE)","v":102.58},{"$f":"G83","v":103.64},{"$f":"IF(E83<'19'!B123,Y83-AA83,0)","v":0},{"$f":"IF(E83=0,0,IF(E83<'48'!B123, LinInterpolate($G$169,$R$23:$X$23,R83:X83,TRUE),Y83))","v":103.64}]
[null,49,"F.W. 2 PS","FW",{"$f":"INDEX!E85","v":5.8},{"$f":"IF(G84<'49'!M123,LinInterpolate(G84,'49'!M7:M123,'49'!I7:I123,TRUE),100)","v":100},{"$f":"'INDEX (Corrected trim 1)'!AA84","v":116.59},{"$f":"LinInterpolate(F84,'49'!I7:I123,'49'!H7:H123,TRUE)","v":116.59},{"$f":"LinInterpolate(F84,'49'!I7:I123,'49'!C7:C123,TRUE)","v":5.23},{"$f":"LinInterpolate(F84,'49'!I7:I123,'49'!D7:D123,TRUE)","v":4.01},{"$f":"LinInterpolate(F84,'49'!I7:I123,'49'!E7:E123,TRUE)","v":4.93},null,609.76570000000004,467.52589999999998,574.78869999999995,{"$f":"IF(LinInterpolate(F84,'49'!I7:I123,'49'!F7:F123,TRUE)>0,LinInterpolate(F84,'49'!I7:I123,'49'!F7:F123,TRUE),0)","v":0},null,{"$f":"LinInterpolate(E84,'49'!$B7:$B123,'49'!J7:J123,TRUE)","v":116.59},{"$f":"LinInterpolate(E84,'49'!$B7:$B123,'49'!K7:K123,TRUE)","v":116.59},{"$f":"LinInterpolate(E84,'49'!$B7:$B123,'49'!L7:L123,TRUE)","v":116.59},{"$f":"LinInterpolate(E84,'49'!$B7:$B123,'49'!M7:M123,TRUE)","v":116.59},{"$f":"LinInterpolate(E84,'49'!$B7:$B123,'49'!N7:N123,TRUE)","v":115.95},{"$f":"LinInterpolate(E84,'49'!$B7:$B123,'49'!O7:O123,TRUE)","v":115.32},{"$f":"LinInterpolate(E84,'49'!$B7:$B123,'49'!P7:P123,TRUE)","v":114.68},{"$f":"G84","v":116.59},{"$f":"IF(E84<'19'!B123,Y84-AA84,0)","v":0},{"$f":"IF(E84=0,0,IF(E84<'49'!B123,LinInterpolate($G$169,$R$23:$X$23,R84:X84,TRUE),Y84))","v":116.59}]
[null,50,"F.W. 2 SB","FW",{"$f":"INDEX!E86","v":5.8},{"$f":"IF(G85<'50'!M123,LinInterpolate(G85,'50'!M7:M123,'50'!I7:I123,TRUE),100)","v":100},{"$f":"'INDEX (Corrected trim 1)'!AA85","v":116.59},{"$f":"LinInterpolate(F85,'50'!I7:I123,'50'!H7:H123,TRUE)","v":116.59},{"$f":"LinInterpolate(F85,'50'!I7:I123,'50'!C7:C123,TRUE)","v":5.23},{"$f":"LinInterpolate(F85,'50'!I7:I123,'50'!D7:D123,TRUE)","v":-4.01},{"$f":"LinInterpolate(F85,'50'!I7:I123,'50'!E7:E123,TRUE)","v":4.93},null,609.76570000000004,-467.52589999999998,574.78869999999995,{"$f":"IF(LinInterpolate(F85,'50'!I7:I123,'50'!F7:F123,TRUE)>0,LinInterpolate(F85,'50'!I7:I123,'50'!F7:F123,TRUE),0)","v":0},null,{"$f":"LinInterpolate(E85,'50'!$B7:$B123,'50'!J7:J123,TRUE)","v":116.59},{"$f":"LinInterpolate(E85,'50'!$B7:$B123,'50'!K7:K123,TRUE)","v":116.59},{"$f":"LinInterpolate(E85,'50'!$B7:$B123,'50'!L7:L123,TRUE)","v":116.59},{"$f":"LinInterpolate(E85,'50'!$B7:$B123,'50'!M7:M123,TRUE)","v":116.59},{"$f":"LinInterpolate(E85,'50'!$B7:$B123,'50'!N7:N123,TRUE)","v":115.95},{"$f":"LinInterpolate(E85,'50'!$B7:$B123,'50'!O7:O123,TRUE)","v":115.32},{"$f":"LinInterpolate(E85,'50'!$B7:$B123,'50'!P7:P123,TRUE)","v":114.68},{"$f":"G85","v":116.59},{"$f":"IF(E85<'19'!B123,Y85-AA85,0)","v":0},{"$f":"IF(E85=0,0,IF(E85<'50'!B123,LinInterpolate($G$169,$R$23:$X$23,R85:X85,TRUE),Y85))","v":116.59}]
[null,null,"TOTAL FW ",null,null,{"$f":"(G86/483.6)*100","v":99.983457402812235},{"$f":"SUM((G81:G85))","v":483.52},{"$f":"SUM((H81:H85))","v":483.52},{"$f":"M86/H86","v":20.141572840833884},{"$f":"N86/H86","v":0},{"$f":"O86/H86","v":4.7113682991396422},null,{"$f":"SUM((M81:M85))","v":9738.8532999999989},{"$f":"SUM((N81:N85))","v":0},{"$f":"SUM((O81:O85))","v":2278.0407999999998},{"$f":"SUM((P81:P85))","v":0},null,null,null,null,null,null,null,null,null,{"$f":"SUM((Z81:Z85))","v":0},{"$f":"SUM((AA81:AA85))","v":483.52}]
[]
[null,"Sheet No.","Name","Sort of Fluid","Sounding Height","% Full","Volume","Weight","LCG","TCG","VCG",null,"Longitudinal","Transverse","Vertical","FSMt"]
[null,null,null,null,null," "," "," ","Fwd of AP","PS:+","Above BL",null,"Moment","Moment","Moment"," "]
[null,null,null,null,null,"%","m³","t","m","m","m",null,"t·m","t·m","t·m","t·m"]
[null,null,"MISC (S.G. Various)",null,null,null,null,null,null,null,null,null,null,null,null,null,null,-1.5,-1,-0.5,0,0.5,1,1.5,"Volume","∆Volume","Volume2"]
[null,51,"DIRTY OIL ","DIRTY",{"$f":"INDEX!E93","v":2},{"$f":"IF(G92<'51'!M27,LinInterpolate(G92,'51'!M7:M27,'51'!I7:I27,TRUE),100)","v":100},{"$f":"'INDEX (Corrected trim 1)'!AA92","v":13.43},{"$f":"LinInterpolate(F92,'51'!I7:I27,'51'!H7:H27,TRUE)","v":13.161399999999999},{"$f":"LinInterpolate(F92,'51'!I7:I27,'51'!C7:C27,TRUE)","v":36.93},{"$f":"LinInterpolate(F92,'51'!I7:I27,'51'!D7:D27,TRUE)","v":0},{"$f":"LinInterpolate(F92,'51'!I7:I27,'51'!E7:E27,TRUE)","v":0.5},null,{"$f":"$H92*I92","v":486.05050199999994},0,6.5806999999999993,{"$f":"IF(LinInterpolate(F92,'51'!I7:I27,'51'!F7:F27,TRUE)>0,LinInterpolate(F92,'51'!I7:I27,'51'!F7:F27,TRUE),0)","v":0},null,{"$f":"LinInterpolate(E92,'51'!$B7:$B27,'51'!J7:J27,TRUE)","v":24.639999999999997},{"$f":"LinInterpolate(E92,'51'!$B7:$B27,'51'!K7:K27,TRUE)","v":24.169999999999973},{"$f":"LinInterpolate(E92,'51'!$B7:$B27,'51'!L7:L27,TRUE)","v":22.029999999999987},{"$f":"LinInterpolate(E92,'51'!$B7:$B27,'51'!M7:M27,TRUE)","v":18.829999999999988},{"$f":"LinInterpolate(E92,'51'!$B7:$B27,'51'!N7:N27,TRUE)","v":15.829999999999982},{"$f":"LinInterpolate(E92,'51'!$B7:$B27,'51'!O7:O27,TRUE)","v":14.830000000000004},{"$f":"LinInterpolate(E92,'51'!$B7:$B27,'51'!P7:P27,TRUE)","v":14.630000000000008},{"$f":"G92","v":13.43},{"$f":"IF(E92<'19'!B27,Y92-AA92,0)","v":0},{"$f":"IF(E92=0,0,IF(E92<'51'!B27,LinInterpolate($G$169,$R$23:$X$23,R92:X92,TRUE),Y92))","v":13.43}]
[null,52,"OILY WATER ","OILY",{"$f":"INDEX!E94","v":2},{"$f":"IF(G93<'52'!M31,LinInterpolate(G93,'52'!M7:M31,'52'!I7:I31,TRUE),100)","v":100},{"$f":"'INDEX (Corrected trim 1)'!AA93","v":30.2},{"$f":"LinInterpolate(F93,'52'!I7:I31,'52'!H7:H31,TRUE)","v":29.596},{"$f":"LinInterpolate(F93,'52'!I7:I31,'52'!C7:C31,TRUE)","v":37.85},{"$f":"LinInterpolate(F93,'52'!I7:I31,'52'!D7:D31,TRUE)","v":-4.3},{"$f":"LinInterpolate(F93,'52'!I7:I31,'52'!E7:E31,TRUE)","v":0.56999999999999995},null,1120.2085999999999,-127.2628,16.869719999999997,{"$f":"IF(LinInterpolate(F93,'52'!I7:I31,'52'!F7:F31,TRUE)>0,LinInterpolate(F93,'52'!I7:I31,'52'!F7:F31,TRUE),0)","v":0},null,{"$f":"LinInterpolate(E93,'52'!$B7:$B31,'52'!J7:J31,TRUE)","v":38.539999999999978},{"$f":"LinInterpolate(E93,'52'!$B7:$B31,'52'!K7:K31,TRUE)","v":34.799999999999983},{"$f":"LinInterpolate(E93,'52'!$B7:$B31,'52'!L7:L31,TRUE)","v":31.479999999999972},{"$f":"LinInterpolate(E93,'52'!$B7:$B31,'52'!M7:M31,TRUE)","v":30.519999999999992},{"$f":"LinInterpolate(E93,'52'!$B7:$B31,'52'!N7:N31,TRUE)","v":30.2},{"$f":"LinInterpolate(E93,'52'!$B7:$B31,'52'!O7:O31,TRUE)","v":30.2},{"$f":"LinInterpolate(E93,'52'!$B7:$B31,'52'!P7:P31,TRUE)","v":30.2},30.2,{"$f":"IF(E93<'19'!B31,Y93-AA93,0)","v":0},{"$f":"IF(E93=0,0,IF(E93<'52'!B31, LinInterpolate($G$169,$R$23:$X$23,R93:X93,TRUE),Y93))","v":30.2}]
[null,53,"GREY WATER ","GREY",{"$f":"INDEX!E95","v":2},{"$f":"IF(G94<'53'!M27,LinInterpolate(G94,'53'!M7:M27,'53'!I7:I27,TRUE),100)","v":100},{"$f":"'INDEX (Corrected trim 1)'!AA94","v":31.1},{"$f":"LinInterpolate(F94,'53'!I7:I27,'53'!H7:H27,TRUE)","v":30.478000000000002},{"$f":"LinInterpolate(F94,'53'!I7:I27,'53'!C7:C27,TRUE)","v":41.56},{"$f":"LinInterpolate(F94,'53'!I7:I27,'53'!D7:D27,TRUE)","v":0},{"$f":"LinInterpolate(F94,'53'!I7:I27,'53'!E7:E27,TRUE)","v":0.5},null,1266.6656800000001,0,15.239000000000001,{"$f":"IF(LinInterpolate(F94,'53'!I7:I27,'53'!F7:F27,TRUE)>0,LinInterpolate(F94,'53'!I7:I27,'53'!F7:F27,TRUE),0)","v":0},null,{"$f":"LinInterpolate(E94,'53'!$B7:$B27,'53'!J7:J27,TRUE)","v":44.620000000000012},{"$f":"LinInterpolate(E94,'53'!$B7:$B27,'53'!K7:K27,TRUE)","v":44.389999999999951},{"$f":"LinInterpolate(E94,'53'!$B7:$B27,'53'!L7:L27,TRUE)","v":43.300000000000047},{"$f":"LinInterpolate(E94,'53'!$B7:$B27,'53'!M7:M27,TRUE)","v":43.500000000000007},{"$f":"LinInterpolate(E94,'53'!$B7:$B27,'53'!N7:N27,TRUE)","v":44.900000000000013},{"$f":"LinInterpolate(E94,'53'!$B7:$B27,'53'!O7:O27,TRUE)","v":45.959999999999987},{"$f":"LinInterpolate(E94,'53'!$B7:$B27,'53'!P7:P27,TRUE)","v":46.139999999999979},31.1,{"$f":"IF(E94<'19'!B27,Y94-AA94,0)","v":0},{"$f":"IF(E94=0,0,IF(E94<'53'!B27, LinInterpolate($G$169,$R$23:$X$23,R94:X94,TRUE),Y94))","v":31.1}]
[null,54,"SEWAGE ","SEWAGE",{"$f":"INDEX!E96","v":2},{"$f":"IF(G95<'54'!M31,LinInterpolate(G95,'54'!M7:M31,'54'!I7:I31,TRUE),100)","v":100},{"$f":"'INDEX (Corrected trim 1)'!AA95","v":30.2},{"$f":"LinInterpolate(F95,'54'!I7:I31,'54'!H7:H31,TRUE)","v":29.596},{"$f":"LinInterpolate(F95,'54'!I7:I31,'54'!C7:C31,TRUE)","v":37.85},{"$f":"LinInterpolate(F95,'54'!I7:I31,'54'!D7:D31,TRUE)","v":4.3},{"$f":"LinInterpolate(F95,'54'!I7:I31,'54'!E7:E31,TRUE)","v":0.56999999999999995},null,1120.2085999999999,127.2628,16.869719999999997,{"$f":"IF(LinInterpolate(F95,'54'!I7:I31,'54'!F7:F31,TRUE)>0,LinInterpolate(F95,'54'!I7:I31,'54'!F7:F31,TRUE),0)","v":0},null,{"$f":"LinInterpolate(E95,'54'!$B7:$B31,'54'!J7:J31,TRUE)","v":38.539999999999978},{"$f":"LinInterpolate(E95,'54'!$B7:$B31,'54'!K7:K31,TRUE)","v":34.799999999999983},{"$f":"LinInterpolate(E95,'54'!$B7:$B31,'54'!L7:L31,TRUE)","v":31.479999999999972},{"$f":"LinInterpolate(E95,'54'!$B7:$B31,'54'!M7:M31,TRUE)","v":30.519999999999992},{"$f":"LinInterpolate(E95,'54'!$B7:$B31,'54'!N7:N31,TRUE)","v":30.2},{"$f":"LinInterpolate(E95,'54'!$B7:$B31,'54'!O7:O31,TRUE)","v":30.2},{"$f":"LinInterpolate(E95,'54'!$B7:$B31,'54'!P7:P31,TRUE)","v":30.2},30.2,{"$f":"IF(E95<'19'!B31,Y95-AA95,0)","v":0},{"$f":"IF(E95=0,0,IF(E95<'54'!B31,LinInterpolate($G$169,$R$23:$X$23,R95:X95,TRUE),Y95))","v":30.2}]
[null,55,"SLUDGE ","SLUDGE",{"$f":"INDEX!E97","v":2},{"$f":"IF(G96<'55'!M27,LinInterpolate(G96,'55'!M7:M27,'55'!I7:I27,TRUE),100)","v":100},{"$f":"'INDEX (Corrected trim 1)'!AA96","v":19.05},{"$f":"LinInterpolate(F96,'55'!I7:I27,'55'!H7:H27,TRUE)","v":18.669},{"$f":"LinInterpolate(F96,'55'!I7:I27,'55'!C7:C27,TRUE)","v":31.5},{"$f":"LinInterpolate(F96,'55'!I7:I27,'55'!D7:D27,TRUE)","v":-1.8},{"$f":"LinInterpolate(F96,'55'!I7:I27,'55'!E7:E27,TRUE)","v":0.5},null,588.07349999999997,-33.604199999999999,9.3345000000000002,{"$f":"IF(LinInterpolate(F96,'55'!I7:I27,'55'!F7:F27,TRUE)>0,LinInterpolate(F96,'55'!I7:I27,'55'!F7:F27,TRUE),0)","v":0},null,{"$f":"LinInterpolate(E96,'55'!$B7:$B27,'55'!J7:J27,TRUE)","v":35.590000000000003},{"$f":"LinInterpolate(E96,'55'!$B7:$B27,'55'!K7:K27,TRUE)","v":35.409999999999982},{"$f":"LinInterpolate(E96,'55'!$B7:$B27,'55'!L7:L27,TRUE)","v":34.180000000000021},{"$f":"LinInterpolate(E96,'55'!$B7:$B27,'55'!M7:M27,TRUE)","v":26.649999999999974},{"$f":"LinInterpolate(E96,'55'!$B7:$B27,'55'!N7:N27,TRUE)","v":20.849999999999998},{"$f":"LinInterpolate(E96,'55'!$B7:$B27,'55'!O7:O27,TRUE)","v":20.050000000000015},{"$f":"LinInterpolate(E96,'55'!$B7:$B27,'55'!P7:P27,TRUE)","v":19.849999999999984},19.05,{"$f":"IF(E96<'19'!B27,Y96-AA96,0)","v":0},{"$f":"IF(E96=0,0,IF(E96<'55'!B27,LinInterpolate($G$169,$R$23:$X$23,R96:X96,TRUE),Y96))","v":19.05}]
[null,56,"LUBRICATION OIL PS","OIL",{"$f":"INDEX!E98","v":2},{"$f":"IF(G97<'56'!M47,LinInterpolate(G97,'56'!M7:M47,'56'!I7:I47,TRUE),100)","v":100},{"$f":"'INDEX (Corrected trim 1)'!AA97","v":10.58},{"$f":"LinInterpolate(F97,'56'!I7:I47,'56'!H7:H47,TRUE)","v":9.5220000000000002},{"$f":"LinInterpolate(F97,'56'!I7:I47,'56'!C7:C47,TRUE)","v":30.3},{"$f":"LinInterpolate(F97,'56'!I7:I47,'56'!D7:D47,TRUE)","v":-0.9},{"$f":"LinInterpolate(F97,'56'!I7:I47,'56'!E7:E47,TRUE)","v":5.8},null,288.51660000000004,-8.5698000000000008,55.227600000000002,{"$f":"IF(LinInterpolate(F97,'56'!I7:I47,'56'!F7:F47,TRUE)>0,LinInterpolate(F97,'56'!I7:I47,'56'!F7:F47,TRUE),0)","v":0},null,{"$f":"LinInterpolate(E97,'56'!$B7:$B47,'56'!J7:J47,TRUE)","v":10.594999999999999},{"$f":"LinInterpolate(E97,'56'!$B7:$B47,'56'!K7:K47,TRUE)","v":10.61},{"$f":"LinInterpolate(E97,'56'!$B7:$B47,'56'!L7:L47,TRUE)","v":10.64},{"$f":"LinInterpolate(E97,'56'!$B7:$B47,'56'!M7:M47,TRUE)","v":10.73},{"$f":"LinInterpolate(E97,'56'!$B7:$B47,'56'!N7:N47,TRUE)","v":10.684999999999999},{"$f":"LinInterpolate(E97,'56'!$B7:$B47,'56'!O7:O47,TRUE)","v":10.614999999999998},{"$f":"LinInterpolate(E97,'56'!$B7:$B47,'56'!P7:P47,TRUE)","v":10.530000000000003},10.58,{"$f":"IF(E97<'19'!B47,Y97-AA97,0)","v":0},{"$f":"IF(E97=0,0,IF(E97<'56'!B47, LinInterpolate($G$169,$R$23:$X$23,R97:X97,TRUE),Y97))","v":10.58}]
[null,57,"LUBRICATION OIL SB","OIL",{"$f":"INDEX!E99","v":2},{"$f":"IF(G98<'57'!M47,LinInterpolate(G98,'57'!M7:M47,'57'!I7:I47,TRUE),100)","v":100},{"$f":"'INDEX (Corrected trim 1)'!AA98","v":10.58},{"$f":"LinInterpolate(F98,'57'!I7:I47,'57'!H7:H47,TRUE)","v":9.5220000000000002},{"$f":"LinInterpolate(F98,'57'!I7:I47,'57'!C7:C47,TRUE)","v":30.3},{"$f":"LinInterpolate(F98,'57'!I7:I47,'57'!D7:D47,TRUE)","v":-2.7},{"$f":"LinInterpolate(F98,'57'!I7:I47,'57'!E7:E47,TRUE)","v":5.8},null,288.51660000000004,-25.709400000000002,55.227600000000002,{"$f":"IF(LinInterpolate(F98,'57'!I7:I47,'57'!F7:F47,TRUE)>0,LinInterpolate(F98,'57'!I7:I47,'57'!F7:F47,TRUE),0)","v":0},null,{"$f":"LinInterpolate(E98,'57'!$B7:$B47,'57'!J7:J47,TRUE)","v":10.594999999999999},{"$f":"LinInterpolate(E98,'57'!$B7:$B47,'57'!K7:K47,TRUE)","v":10.61},{"$f":"LinInterpolate(E98,'57'!$B7:$B47,'57'!L7:L47,TRUE)","v":10.64},{"$f":"LinInterpolate(E98,'57'!$B7:$B47,'57'!M7:M47,TRUE)","v":10.73},{"$f":"LinInterpolate(E98,'57'!$B7:$B47,'57'!N7:N47,TRUE)","v":10.684999999999999},{"$f":"LinInterpolate(E98,'57'!$B7:$B47,'57'!O7:O47,TRUE)","v":10.614999999999998},{"$f":"LinInterpolate(E98,'57'!$B7:$B47,'57'!P7:P47,TRUE)","v":10.530000000000003},10.58,{"$f":"IF(E98<'19'!B47,Y98-AA98,0)","v":0},{"$f":"IF(E98=0,0,IF(E98<'57'!B47,LinInterpolate($G$169,$R$23:$X$23,R98:X98,TRUE),Y98))","v":10.58}]
[null,58,"THERMAL OIL","OIL",{"$f":"INDEX!E100","v":2},{"$f":"IF(G99<'58'!M47,LinInterpolate(G99,'58'!M7:M47,'58'!I7:I47,TRUE),100)","v":100},{"$f":"'INDEX (Corrected trim 1)'!AA99","v":10.58},{"$f":"LinInterpolate(F99,'58'!I7:I47,'58'!H7:H47,TRUE)","v":10.368399999999999},{"$f":"LinInterpolate(F99,'58'!I7:I47,'58'!C7:C47,TRUE)","v":30.3},{"$f":"LinInterpolate(F99,'58'!I7:I47,'58'!D7:D47,TRUE)","v":0.9},{"$f":"LinInterpolate(F99,'58'!I7:I47,'58'!E7:E47,TRUE)","v":5.78},null,314.16251999999997,9.3315599999999996,59.929352000000002,{"$f":"IF(LinInterpolate(F99,'58'!I7:I47,'58'!F7:F47,TRUE)>0,LinInterpolate(F99,'58'!I7:I47,'58'!F7:F47,TRUE),0)","v":0},null,{"$f":"LinInterpolate(E99,'58'!$B7:$B47,'58'!J7:J47,TRUE)","v":10.58},{"$f":"LinInterpolate(E99,'58'!$B7:$B47,'58'!K7:K47,TRUE)","v":10.58},{"$f":"LinInterpolate(E99,'58'!$B7:$B47,'58'!L7:L47,TRUE)","v":10.58},{"$f":"LinInterpolate(E99,'58'!$B7:$B47,'58'!M7:M47,TRUE)","v":10.58},{"$f":"LinInterpolate(E99,'58'!$B7:$B47,'58'!N7:N47,TRUE)","v":10.58},{"$f":"LinInterpolate(E99,'58'!$B7:$B47,'58'!O7:O47,TRUE)","v":10.58},{"$f":"LinInterpolate(E99,'58'!$B7:$B47,'58'!P7:P47,TRUE)","v":10.58},10.58,{"$f":"IF(E99<'19'!B47,Y99-AA99,0)","v":0},{"$f":"IF(E99=0,0,IF(E99<'58'!B47, LinInterpolate($G$169,$R$23:$X$23,R99:X99,TRUE),Y99))","v":10.58}]
[null,null,"Total MISC",null,null,{"$f":"(G100/147.7)*100","v":105.42992552471229},{"$f":"SUM((G92:G99))","v":155.72000000000003},{"$f":"SUM((H92:H99))","v":150.9128},{"$f":"M100/H100","v":36.262017549207222},{"$f":"N100/H100","v":-0.38798458447527312},{"$f":"O100/H100","v":1.5590340381995429},null,{"$f":"SUM((M92:M99))","v":5472.4026020000001},{"$f":"SUM((N92:N99))","v":-58.551839999999999},{"$f":"SUM((O92:O99))","v":235.27819199999999},{"$f":"SUM((P92:P99))","v":0},null,null,null,null,null,null,null,null,null,{"$f":"SUM((Z92:Z99))","v":0},{"$f":"SUM((AA92:AA99))","v":155.72000000000003}]
[]
[null,null,"Total in all tanks",null,null,{"$f":"(G102/3086.976667)*100","v":97.529191355799654},{"$f":"G100+G86+G78+G45+G32","v":3010.7033806673162},{"$f":"H100+H86+H78+H45+H32","v":2963.6476173738924},{"$f":"M102/H102","v":22.294652881350018},{"$f":"N102/H102","v":-1.2433552418304E-2},{"$f":"O102/H102","v":3.6697937980142825},null,{"$f":"M100+M86+M78+M45+M32","v":66073.494891990966},{"$f":"N100+N86+N78+N45+N32","v":-36.848668000000046},{"$f":"O100+O86+O78+O45+O32","v":10875.975645738516},{"$f":"P100+P86+P78+P45+P32","v":13.984407371296962},null,null,null,null,null,null,null,null,null,{"$f":"Z100+Z86+Z78+Z45+Z32","v":0},{"$f":"AA100+AA86+AA78+AA45+AA32","v":3010.7033806673162}]
[]
[null,null,"Name",null,null,null,null,"Weight","LCG","TCG","VCG",null,"Longitudinal","Transverse","Vertical","FSMt"]
[null,null,null,null,null,null,null," ","Fwd of AP","PS:+","Above BL",null,"Moment","Moment","Moment"," "]
[null,null,null,null,null,null,null,"t","m","m","m",null,"t·m","t·m","t·m","t·m"]
[]
[null,null,"(DECK) LOADS"]
[null,null,"Name",null,null,null,null,"Weight","LCG","TCG","VCG",null,"Longitudinal","Transverse","Vertical","FSMt"]
[null,null,null,null,null,null,null," ","Fwd of AP","PS:+","Above BL",null,"Moment","Moment","Moment"," "]
[null,null,null,null,null,null,null,"t","m","m","m",null,"t·m","t·m","t·m","t·m"]
[null,null,{"$f":"INDEX!C113","v":"Deck load 1"},{"$f":"INDEX!#REF!","v":{"$error":"#REF!"}},{"$f":"INDEX!#REF!","v":{"$error":"#REF!"}},{"$f":"INDEX!#REF!","v":{"$error":"#REF!"}},{"$f":"INDEX!#REF!","v":{"$error":"#REF!"}},{"$f":"INDEX!H113","v":5},{"$f":"INDEX!I113","v":5},{"$f":"INDEX!J113","v":1},{"$f":"INDEX!K113","v":7},null,{"$f":"$H112*I112","v":25},{"$f":"$H112*J112","v":5},{"$f":"$H112*K112","v":35}]
[null,null,{"$f":"INDEX!C114","v":"Deck load 2"},{"$f":"INDEX!#REF!","v":{"$error":"#REF!"}},{"$f":"INDEX!#REF!","v":{"$error":"#REF!"}},{"$f":"INDEX!#REF!","v":{"$error":"#REF!"}},{"$f":"INDEX!#REF!","v":{"$error":"#REF!"}},{"$f":"INDEX!H114","v":5},{"$f":"INDEX!I114","v":5},{"$f":"INDEX!J114","v":-1},{"$f":"INDEX!K114","v":7},null,{"$f":"$H113*I113","v":25},{"$f":"$H113*J113","v":-5},{"$f":"$H113*K113","v":35}]
[null,null,{"$f":"INDEX!C115","v":"Deck load 3"},{"$f":"INDEX!#REF!","v":{"$error":"#REF!"}},{"$f":"INDEX!#REF!","v":{"$error":"#REF!"}},{"$f":"INDEX!#REF!","v":{"$error":"#REF!"}},{"$f":"INDEX!#REF!","v":{"$error":"#REF!"}},{"$f":"INDEX!H115","v":10},{"$f":"INDEX!I115","v":6},{"$f":"INDEX!J115","v":1},{"$f":"INDEX!K115","v":7},null,{"$f":"$H114*I114","v":60},{"$f":"$H114*J114","v":10},{"$f":"$H114*K114","v":70}]
[null,null,{"$f":"INDEX!C116","v":"Deck load 4"},{"$f":"INDEX!#REF!","v":{"$error":"#REF!"}},{"$f":"INDEX!#REF!","v":{"$error":"#REF!"}},{"$f":"INDEX!#REF!","v":{"$error":"#REF!"}},{"$f":"INDEX!#REF!","v":{"$error":"#REF!"}},{"$f":"INDEX!H116","v":10},{"$f":"INDEX!I116","v":6},{"$f":"INDEX!J116","v":-1},{"$f":"INDEX!K116","v":7},null,{"$f":"$H115*I115","v":60},{"$f":"$H115*J115","v":-10},{"$f":"$H115*K115","v":70}]
[null,null,{"$f":"INDEX!C117","v":"Deck load 5"},{"$f":"INDEX!#REF!","v":{"$error":"#REF!"}},{"$f":"INDEX!#REF!","v":{"$error":"#REF!"}},{"$f":"INDEX!#REF!","v":{"$error":"#REF!"}},{"$f":"INDEX!#REF!","v":{"$error":"#REF!"}},{"$f":"INDEX!H117","v":15},{"$f":"INDEX!I117","v":7},{"$f":"INDEX!J117","v":1},{"$f":"INDEX!K117","v":7},null,{"$f":"$H116*I116","v":105},{"$f":"$H116*J116","v":15},{"$f":"$H116*K116","v":105}]
[null,null,{"$f":"INDEX!C118","v":"Deck load 6"},{"$f":"INDEX!#REF!","v":{"$error":"#REF!"}},{"$f":"INDEX!#REF!","v":{"$error":"#REF!"}},{"$f":"INDEX!#REF!","v":{"$error":"#REF!"}},{"$f":"INDEX!#REF!","v":{"$error":"#REF!"}},{"$f":"INDEX!H118","v":15},{"$f":"INDEX!I118","v":7},{"$f":"INDEX!J118","v":-1},{"$f":"INDEX!K118","v":7},null,{"$f":"$H117*I117","v":105},{"$f":"$H117*J117","v":-15},{"$f":"$H117*K117","v":105}]
[null,null,{"$f":"INDEX!C119","v":"Deck load 7"},{"$f":"INDEX!#REF!","v":{"$error":"#REF!"}},{"$f":"INDEX!#REF!","v":{"$error":"#REF!"}},{"$f":"INDEX!#REF!","v":{"$error":"#REF!"}},{"$f":"INDEX!#REF!","v":{"$error":"#REF!"}},{"$f":"INDEX!H119","v":5},{"$f":"INDEX!I119","v":8},{"$f":"INDEX!J119","v":1},{"$f":"INDEX!K119","v":7},null,{"$f":"$H118*I118","v":40},{"$f":"$H118*J118","v":5},{"$f":"$H118*K118","v":35}]
[null,null,{"$f":"INDEX!C120","v":"Deck load 8"},{"$f":"INDEX!#REF!","v":{"$error":"#REF!"}},{"$f":"INDEX!#REF!","v":{"$error":"#REF!"}},{"$f":"INDEX!#REF!","v":{"$error":"#REF!"}},{"$f":"INDEX!#REF!","v":{"$error":"#REF!"}},{"$f":"INDEX!H120","v":5},{"$f":"INDEX!I120","v":8},{"$f":"INDEX!J120","v":-1},{"$f":"INDEX!K120","v":7},null,{"$f":"$H119*I119","v":40},{"$f":"$H119*J119","v":-5},{"$f":"$H119*K119","v":35}]
[]
[null,null,"Total Remaining",null,null,null,null,{"$f":"SUM(H112:H120)","v":70},{"$f":"M121/H121","v":6.5714285714285712},{"$f":"N121/H121","v":0},{"$f":"O121/H121","v":7},null,{"$f":"SUM(M112:M120)","v":460},{"$f":"SUM(N112:N120)","v":0},{"$f":"SUM(O112:O120)","v":490}]
[]
[]
[null,null,"Calculation Results"]
[null,null,null,null,null,null,"  "]
[null,null,"Ship weight",null,null,null,null,null,"LCG","TCG","VCG","Total Moments",null,null,null,"FSMt / ∆"]
[null,null,null,null,null,null,null,"t","m","m","m","t·m",null,"t·m","t·m","m"]
[null,null,"Displacement",null,null,null,null,{"$f":"H129+H21","v":4733.647617373892},{"$f":"L128/H128","v":24.829371426087601},{"$f":"N128/H128","v":-7.7844129894152868E-3},{"$f":"O128/H128","v":4.9150206196898729},{"$f":"L129+M21","v":117533.49489199097},null,{"$f":"N129+N21","v":-36.848668000000046},{"$f":"O129+O21","v":23265.975645738516},{"$f":"P102/H128","v":2.9542561047362368E-3}]
[null,null,"Total Deadweight",null,null,null,null,{"$f":"H121+H102","v":3033.6476173738924},{"$f":"L129/H129","v":21.931846833808059},{"$f":"N129/H129","v":-1.2146654011153236E-2},{"$f":"O129/H129","v":3.7466367486602108},{"$f":"M121+M102","v":66533.494891990966},null,{"$f":"N121+N102","v":-36.848668000000046},{"$f":"O121+O102","v":11365.975645738516}]
[]
[null,null,"Longitudinal Stability"]
[null,null,"Sheet used for calculation data:","Hydrostatics"]
[]
[null,null,"Trim","Draft","Displ.","LCB","VCB","ϕ","LCG'","LCB'","LCG'-LCB'",null,"LCF","KM"]
[null,null,null,"Moulded"," ","Fwd of AP",null,null,"LCG + tanϕ * VCG","LCB + tanϕ * VCB",null,null,"Fwd of AP"]
[null,null,"m","m","t","m","m","rad","m","m","m",null,"m","m"]
[null,null,-1.5,{"$f":"LinInterpolate(E137,Hydrostatics!D6:D86,Hydrostatics!C6:C86,TRUE)","v":6.6481864199444516},{"$f":"$H$128","v":4733.647617373892},{"$f":"LinInterpolate($E137,Hydrostatics!$D6:$D86,Hydrostatics!I6:I86,TRUE)","v":23.428186419944449},{"$f":"LinInterpolate($E137,Hydrostatics!$D6:$D86,Hydrostatics!J6:J86,TRUE)","v":3.6292745679777805},{"$f":"ATAN(C137/($G$172))","v":-2.8401451838560528E-2},{"$f":"$I$128+((TAN(H137))*$K$128)","v":24.689740158482774},{"$f":"F137+((TAN(H137))*G137)","v":23.325082028808716},{"$f":"I137-J137","v":1.3646581296740585},null,{"$f":"LinInterpolate($E137,Hydrostatics!$D6:$D86,Hydrostatics!K6:K86,TRUE)","v":33.981345435122321},{"$f":"LinInterpolate($E137,Hydrostatics!$D6:$D86,Hydrostatics!E6:E86,TRUE)","v":5.5743525921333177}]
[null,null,-1.4,{"$f":"LinInterpolate(E138,Hydrostatics!D88:D168,Hydrostatics!C88:C168,TRUE)","v":6.6344092413679743},4733.647617373892,{"$f":"LinInterpolate($E138,Hydrostatics!$D88:$D168,Hydrostatics!I88:I168,TRUE)","v":23.444409241367975},{"$f":"LinInterpolate($E138,Hydrostatics!$D88:$D168,Hydrostatics!J88:J168,TRUE)","v":3.6268818482735949},-2.6508940280468775E-2,24.69904890965643,23.348241919633448,1.3508069900229813,null,{"$f":"LinInterpolate($E138,Hydrostatics!$D88:$D168,Hydrostatics!K88:K168,TRUE)","v":33.576784165340399},{"$f":"LinInterpolate($E138,Hydrostatics!$D88:$D168,Hydrostatics!E88:E168,TRUE)","v":5.6442996689904561}]
[null,null,-1.3,{"$f":"LinInterpolate(E139,Hydrostatics!D170:D250,Hydrostatics!C170:C250,TRUE)","v":6.6211727631691986},4733.647617373892,{"$f":"LinInterpolate($E139,Hydrostatics!$D170:$D250,Hydrostatics!I170:I250,TRUE)","v":23.461172763169198},{"$f":"LinInterpolate($E139,Hydrostatics!$D170:$D250,Hydrostatics!J170:J250,TRUE)","v":3.6284691052676794},-2.4616238770206935E-2,24.708357660830085,23.371835455653137,1.3365222051769479,null,{"$f":"LinInterpolate($E139,Hydrostatics!$D170:$D250,Hydrostatics!K170:K250,TRUE)","v":33.24381339494709},{"$f":"LinInterpolate($E139,Hydrostatics!$D170:$D250,Hydrostatics!E170:E250,TRUE)","v":5.7049508157600837}]
[null,null,-1.2,{"$f":"LinInterpolate(E140,Hydrostatics!D252:D332,Hydrostatics!C252:C332,TRUE)","v":6.6085984157366235},4733.647617373892,{"$f":"LinInterpolate($E140,Hydrostatics!$D252:$D332,Hydrostatics!I252:I332,TRUE)","v":23.468598415736626},{"$f":"LinInterpolate($E140,Hydrostatics!$D252:$D332,Hydrostatics!J252:J332,TRUE)","v":3.6234393662946496},-2.2723360841641067E-2,24.717666412003741,23.386247521048112,1.3314188909556286,null,{"$f":"LinInterpolate($E140,Hydrostatics!$D252:$D332,Hydrostatics!K252:K332,TRUE)","v":32.828210849553884},{"$f":"LinInterpolate($E140,Hydrostatics!$D252:$D332,Hydrostatics!E252:E332,TRUE)","v":5.7776441190847772}]
[null,null,-1.1000000000000001,{"$f":"LinInterpolate(E141,Hydrostatics!D334:D414,Hydrostatics!C334:C414,TRUE)","v":6.5969400321738734},4733.647617373892,{"$f":"LinInterpolate($E141,Hydrostatics!$D334:$D414,Hydrostatics!I334:I414,TRUE)","v":23.487552025739099},{"$f":"LinInterpolate($E141,Hydrostatics!$D334:$D414,Hydrostatics!J334:J414,TRUE)","v":3.6287760128695492},-2.0830320036217088E-2,24.726975163177396,23.411952525470983,1.3150226377064129,null,{"$f":"LinInterpolate($E141,Hydrostatics!$D334:$D414,Hydrostatics!K334:K414,TRUE)","v":32.22900874643387},{"$f":"LinInterpolate($E141,Hydrostatics!$D334:$D414,Hydrostatics!E334:E414,TRUE)","v":5.8704038906088298},null," "]
[null,null,-1,{"$f":"LinInterpolate(E142,Hydrostatics!D416:D496,Hydrostatics!C416:C496,TRUE)","v":6.5868236870499848},4733.647617373892,{"$f":"LinInterpolate($E142,Hydrostatics!$D416:$D496,Hydrostatics!I416:I496,TRUE)","v":23.509458949639988},{"$f":"LinInterpolate($E142,Hydrostatics!$D416:$D496,Hydrostatics!J416:J496,TRUE)","v":3.6247294748199939},-1.8937129902380841E-2,24.736283914351048,23.440808770192639,1.2954751441584094,null,{"$f":"LinInterpolate($E142,Hydrostatics!$D416:$D496,Hydrostatics!K416:K496,TRUE)","v":31.525862701429645},{"$f":"LinInterpolate($E142,Hydrostatics!$D416:$D496,Hydrostatics!E416:E496,TRUE)","v":5.9874347266200525}]
[null,null,-0.89999999999999902,{"$f":"LinInterpolate(E143,Hydrostatics!D498:D578,Hydrostatics!C498:C578,TRUE)","v":6.5780886896458624},4733.647617373892,{"$f":"LinInterpolate($E143,Hydrostatics!$D498:$D578,Hydrostatics!I498:I578,TRUE)","v":23.532470951716693},{"$f":"LinInterpolate($E143,Hydrostatics!$D498:$D578,Hydrostatics!J498:J578,TRUE)","v":3.6256177379291725},-1.7043803994997404E-2,24.745592665524704,23.470670649365626,1.2749220161590777,null,{"$f":"LinInterpolate($E143,Hydrostatics!$D498:$D578,Hydrostatics!K498:K578,TRUE)","v":30.668278427305054},{"$f":"LinInterpolate($E143,Hydrostatics!$D498:$D578,Hydrostatics!E498:E578,TRUE)","v":6.1307920276290311}]
[null,null,-0.79999999999999905,{"$f":"LinInterpolate(E144,Hydrostatics!D580:D660,Hydrostatics!C580:C660,TRUE)","v":6.5710616678260516},4733.647617373892,{"$f":"LinInterpolate($E144,Hydrostatics!$D580:$D660,Hydrostatics!I580:I660,TRUE)","v":23.556849334260839},{"$f":"LinInterpolate($E144,Hydrostatics!$D580:$D660,Hydrostatics!J580:J660,TRUE)","v":3.628424667130421},-1.5150355874769794E-2,24.75490141669836,23.501873202940683,1.2530282137576769,null,{"$f":"LinInterpolate($E144,Hydrostatics!$D580:$D660,Hydrostatics!K580:K660,TRUE)","v":29.627706376694352},{"$f":"LinInterpolate($E144,Hydrostatics!$D580:$D660,Hydrostatics!E580:E660,TRUE)","v":6.3078423266088972}]
[null,null,-0.69999999999999896,{"$f":"LinInterpolate(E145,Hydrostatics!D662:D742,Hydrostatics!C662:C742,TRUE)","v":6.5660179835509158},4733.647617373892,{"$f":"LinInterpolate($E145,Hydrostatics!$D662:$D742,Hydrostatics!I662:I742,TRUE)","v":23.58961079013055},{"$f":"LinInterpolate($E145,Hydrostatics!$D662:$D742,Hydrostatics!J662:J742,TRUE)","v":3.6264071934203663},-1.3256799107656836E-2,24.764210167872015,23.541533422035961,1.2226767458360541,null,{"$f":"LinInterpolate($E145,Hydrostatics!$D662:$D742,Hydrostatics!K662:K742,TRUE)","v":28.391108551906093},{"$f":"LinInterpolate($E145,Hydrostatics!$D662:$D742,Hydrostatics!E662:E742,TRUE)","v":6.5106885019843208}]
[null,null,-0.59999999999999898,{"$f":"LinInterpolate(E146,Hydrostatics!D744:D824,Hydrostatics!C744:C824,TRUE)","v":6.5637178410544417},4733.647617373892,{"$f":"LinInterpolate($E146,Hydrostatics!$D744:$D824,Hydrostatics!I744:I824,TRUE)","v":23.628230704632667},{"$f":"LinInterpolate($E146,Hydrostatics!$D744:$D824,Hydrostatics!J744:J824,TRUE)","v":3.6254871364217771},-1.136314726429071E-2,24.773518919045671,23.587031987173329,1.1864869318723414,null,{"$f":"LinInterpolate($E146,Hydrostatics!$D744:$D824,Hydrostatics!K744:K824,TRUE)","v":26.754559279239015},{"$f":"LinInterpolate($E146,Hydrostatics!$D744:$D824,Hydrostatics!E744:E824,TRUE)","v":6.7839751126189043}]
[null,null,-0.5,{"$f":"LinInterpolate(E147,Hydrostatics!D826:D906,Hydrostatics!C826:C906,TRUE)","v":6.5648529023218476},4733.647617373892,{"$f":"LinInterpolate($E147,Hydrostatics!$D826:$D906,Hydrostatics!I826:I906,TRUE)","v":23.682970580464371},{"$f":"LinInterpolate($E147,Hydrostatics!$D826:$D906,Hydrostatics!J826:J906,TRUE)","v":3.6259411609287393},-9.4694139193938574E-3,24.782827670219326,23.648634016440425,1.134193653778901,null,{"$f":"LinInterpolate($E147,Hydrostatics!$D826:$D906,Hydrostatics!K826:K906,TRUE)","v":24.798791949559117},{"$f":"LinInterpolate($E147,Hydrostatics!$D826:$D906,Hydrostatics!E826:E906,TRUE)","v":7.1092944595677379}]
[null,null,-0.4,{"$f":"LinInterpolate(E148,Hydrostatics!D908:D988,Hydrostatics!C908:C988,TRUE)","v":6.5704042062487114},4733.647617373892,{"$f":"LinInterpolate($E148,Hydrostatics!$D908:$D988,Hydrostatics!I908:I988,TRUE)","v":23.751838317500514},{"$f":"LinInterpolate($E148,Hydrostatics!$D908:$D988,Hydrostatics!J908:J988,TRUE)","v":3.6222425237492266},-7.575612651195416E-3,24.792136421392982,23.724397086259991,1.0677393351329911,null,{"$f":"LinInterpolate($E148,Hydrostatics!$D908:$D988,Hydrostatics!K908:K988,TRUE)","v":22.672674328690459},{"$f":"LinInterpolate($E148,Hydrostatics!$D908:$D988,Hydrostatics!E908:E988,TRUE)","v":7.4530897150092796}]
[null,null,-0.3,{"$f":"LinInterpolate(E149,Hydrostatics!D990:D1070,Hydrostatics!C990:C1070,TRUE)","v":6.5785446141597879},4733.647617373892,{"$f":"LinInterpolate($E149,Hydrostatics!$D990:$D1070,Hydrostatics!I990:I1070,TRUE)","v":23.828582154336086},{"$f":"LinInterpolate($E149,Hydrostatics!$D990:$D1070,Hydrostatics!J990:J1070,TRUE)","v":3.621417845663915},-5.6817570408474469E-3,24.801445172566634,23.808005916576633,0.99343925599000116,null,{"$f":"LinInterpolate($E149,Hydrostatics!$D990:$D1070,Hydrostatics!K990:K1070,TRUE)","v":21.782835691327833},{"$f":"LinInterpolate($E149,Hydrostatics!$D990:$D1070,Hydrostatics!E990:E1070,TRUE)","v":7.61}]
[null,null,-0.2,{"$f":"LinInterpolate(E150,Hydrostatics!D1072:D1152,Hydrostatics!C1072:C1152,TRUE)","v":6.5872445139032489},4733.647617373892,{"$f":"LinInterpolate($E150,Hydrostatics!$D1072:$D1152,Hydrostatics!I1072:I1152,TRUE)","v":23.915102194438699},{"$f":"LinInterpolate($E150,Hydrostatics!$D1072:$D1152,Hydrostatics!J1072:J1152,TRUE)","v":3.6223467083419494},-3.7878606718406652E-3,24.81075392374029,23.901381184179829,0.90937273956046027,null,{"$f":"LinInterpolate($E150,Hydrostatics!$D1072:$D1152,Hydrostatics!K1072:K1152,TRUE)","v":21.819795611122597},{"$f":"LinInterpolate($E150,Hydrostatics!$D1072:$D1152,Hydrostatics!E1072:E1152,TRUE)","v":7.61}]
[null,null,-0.1,{"$f":"LinInterpolate(E151,Hydrostatics!D1154:D1234,Hydrostatics!C1154:C1234,TRUE)","v":6.5958961992965071},4733.647617373892,{"$f":"LinInterpolate($E151,Hydrostatics!$D1154:$D1234,Hydrostatics!I1154:I1234,TRUE)","v":24.001641520281396},{"$f":"LinInterpolate($E151,Hydrostatics!$D1154:$D1234,Hydrostatics!J1154:J1234,TRUE)","v":3.6183584797186032},-1.893937129420008E-3,24.820062674913945,23.994788568615263,0.82527410629868214,null,{"$f":"LinInterpolate($E151,Hydrostatics!$D1154:$D1234,Hydrostatics!K1154:K1234,TRUE)","v":21.856716959437204},{"$f":"LinInterpolate($E151,Hydrostatics!$D1154:$D1234,Hydrostatics!E1154:E1234,TRUE)","v":7.62}]
[null,null,0,{"$f":"LinInterpolate(E152,Hydrostatics!D1236:D1316,Hydrostatics!C1236:C1316,TRUE)","v":6.6044255800155742},4733.647617373892,{"$f":"LinInterpolate($E152,Hydrostatics!$D1236:$D1316,Hydrostatics!I1236:I1316,TRUE)","v":24.08822976799377},{"$f":"LinInterpolate($E152,Hydrostatics!$D1236:$D1316,Hydrostatics!J1236:J1316,TRUE)","v":3.6226553480093444},0,24.829371426087601,24.08822976799377,0.74114165809383081,null,{"$f":"LinInterpolate($E152,Hydrostatics!$D1236:$D1316,Hydrostatics!K1236:K1316,TRUE)","v":21.89354046401246},{"$f":"LinInterpolate($E152,Hydrostatics!$D1236:$D1316,Hydrostatics!E1236:E1316,TRUE)","v":7.62}]
[null,null,0.1,{"$f":"LinInterpolate(E153,Hydrostatics!D1318:D1398,Hydrostatics!C1318:C1398,TRUE)","v":6.6129167979573733},4733.647617373892,{"$f":"LinInterpolate($E153,Hydrostatics!$D1318:$D1398,Hydrostatics!I1318:I1398,TRUE)","v":24.174833280817051},{"$f":"LinInterpolate($E153,Hydrostatics!$D1318:$D1398,Hydrostatics!J1318:J1398,TRUE)","v":3.6177500787744239},1.893937129420008E-3,24.838680177261256,24.18168508020867,0.65699509705258663,null,{"$f":"LinInterpolate($E153,Hydrostatics!$D1318:$D1398,Hydrostatics!K1318:K1398,TRUE)","v":21.930333438365899},{"$f":"LinInterpolate($E153,Hydrostatics!$D1318:$D1398,Hydrostatics!E1318:E1398,TRUE)","v":7.6274166404085255}]
[null,null,0.2,{"$f":"LinInterpolate(E154,Hydrostatics!D1400:D1480,Hydrostatics!C1400:C1480,TRUE)","v":6.6213701086762189},4733.647617373892,{"$f":"LinInterpolate($E154,Hydrostatics!$D1400:$D1480,Hydrostatics!I1400:I1480,TRUE)","v":24.261451956529513},{"$f":"LinInterpolate($E154,Hydrostatics!$D1400:$D1480,Hydrostatics!J1400:J1480,TRUE)","v":3.6228220652057312},3.7878606718406652E-3,24.847988928434912,24.275174767382566,0.57281416105234584,null,{"$f":"LinInterpolate($E154,Hydrostatics!$D1400:$D1480,Hydrostatics!K1400:K1480,TRUE)","v":21.967096086940973},{"$f":"LinInterpolate($E154,Hydrostatics!$D1400:$D1480,Hydrostatics!E1400:E1480,TRUE)","v":7.63}]
[null,null,0.3,{"$f":"LinInterpolate(E155,Hydrostatics!D1482:D1562,Hydrostatics!C1482:C1562,TRUE)","v":6.6297406443905045},4733.647617373892,{"$f":"LinInterpolate($E155,Hydrostatics!$D1482:$D1562,Hydrostatics!I1482:I1562,TRUE)","v":24.348103742243797},{"$f":"LinInterpolate($E155,Hydrostatics!$D1482:$D1562,Hydrostatics!J1482:J1562,TRUE)","v":3.6218962577562017},5.6817570408474469E-3,24.857297679608568,24.368682698253775,0.48861498135479309,null,{"$f":"LinInterpolate($E155,Hydrostatics!$D1482:$D1562,Hydrostatics!K1482:K1562,TRUE)","v":22.0078443866343},{"$f":"LinInterpolate($E155,Hydrostatics!$D1482:$D1562,Hydrostatics!E1482:E1562,TRUE)","v":7.64}]
[null,null,0.4,{"$f":"LinInterpolate(E156,Hydrostatics!D1564:D1644,Hydrostatics!C1564:C1644,TRUE)","v":6.6379995729619337},4733.647617373892,{"$f":"LinInterpolate($E156,Hydrostatics!$D1564:$D1644,Hydrostatics!I1564:I1644,TRUE)","v":24.434800170815226},{"$f":"LinInterpolate($E156,Hydrostatics!$D1564:$D1644,Hydrostatics!J1564:J1644,TRUE)","v":3.62279974377716},7.575612651195416E-3,24.86660643078222,24.462245623419598,0.4043608073626217,null,{"$f":"LinInterpolate($E156,Hydrostatics!$D1564:$D1644,Hydrostatics!K1564:K1644,TRUE)","v":22.042799743777159},{"$f":"LinInterpolate($E156,Hydrostatics!$D1564:$D1644,Hydrostatics!E1564:E1644,TRUE)","v":7.6424000854076128}]
[null,null,0.5,{"$f":"LinInterpolate(E157,Hydrostatics!D1646:D1726,Hydrostatics!C1646:C1726,TRUE)","v":6.646266834492085},4733.647617373892,{"$f":"LinInterpolate($E157,Hydrostatics!$D1646:$D1726,Hydrostatics!I1646:I1726,TRUE)","v":24.521493266203166},{"$f":"LinInterpolate($E157,Hydrostatics!$D1646:$D1726,Hydrostatics!J1646:J1726,TRUE)","v":3.6277601006952507},9.4694139193938574E-3,24.875915181955875,24.555847055035507,0.32006812692036846,null,{"$f":"LinInterpolate($E157,Hydrostatics!$D1646:$D1726,Hydrostatics!K1646:K1726,TRUE)","v":22.077760100695251},{"$f":"LinInterpolate($E157,Hydrostatics!$D1646:$D1726,Hydrostatics!E1646:E1726,TRUE)","v":7.65}]
[null,null,0.6,{"$f":"LinInterpolate(E158,Hydrostatics!D1728:D1808,Hydrostatics!C1728:C1808,TRUE)","v":6.6543862415265469},4733.647617373892,{"$f":"LinInterpolate($E158,Hydrostatics!$D1728:$D1808,Hydrostatics!I1728:I1808,TRUE)","v":24.607368255084072},{"$f":"LinInterpolate($E158,Hydrostatics!$D1728:$D1808,Hydrostatics!J1728:J1808,TRUE)","v":3.6226317449159282},1.1363147264290729E-2,24.885223933129531,24.648534524912662,0.23668940821686846,null,{"$f":"LinInterpolate($E158,Hydrostatics!$D1728:$D1808,Hydrostatics!K1728:K1808,TRUE)","v":22.112631744915927},{"$f":"LinInterpolate($E158,Hydrostatics!$D1728:$D1808,Hydrostatics!E1728:E1808,TRUE)","v":7.65}]
[null,null,0.7,{"$f":"LinInterpolate(E159,Hydrostatics!D1810:D1890,Hydrostatics!C1810:C1890,TRUE)","v":6.6624973526376587},4733.647617373892,{"$f":"LinInterpolate($E159,Hydrostatics!$D1810:$D1890,Hydrostatics!I1810:I1890,TRUE)","v":24.692501588417404},{"$f":"LinInterpolate($E159,Hydrostatics!$D1810:$D1890,Hydrostatics!J1810:J1890,TRUE)","v":3.6274984115825948},1.3256799107656855E-2,24.894532684303186,24.740593423419444,0.15393926088374243,null,{"$f":"LinInterpolate($E159,Hydrostatics!$D1810:$D1890,Hydrostatics!K1810:K1890,TRUE)","v":22.144998941055064},{"$f":"LinInterpolate($E159,Hydrostatics!$D1810:$D1890,Hydrostatics!E1810:E1890,TRUE)","v":7.6575005294724683}]
[null,null,0.8,{"$f":"LinInterpolate(E160,Hydrostatics!D1892:D1972,Hydrostatics!C1892:C1972,TRUE)","v":6.6705430037571185},4733.647617373892,{"$f":"LinInterpolate($E160,Hydrostatics!$D1892:$D1972,Hydrostatics!I1892:I1972,TRUE)","v":24.777674197745728},{"$f":"LinInterpolate($E160,Hydrostatics!$D1892:$D1972,Hydrostatics!J1892:J1972,TRUE)","v":3.6282172015028471},1.5150355874769813E-2,24.903841435476842,24.832647185647286,7.1194249829556355E-2,null,{"$f":"LinInterpolate($E160,Hydrostatics!$D1892:$D1972,Hydrostatics!K1892:K1972,TRUE)","v":22.096045186474374},{"$f":"LinInterpolate($E160,Hydrostatics!$D1892:$D1972,Hydrostatics!E1892:E1972,TRUE)","v":7.6412397947400343}]
[null,null,0.9,{"$f":"LinInterpolate(E161,Hydrostatics!D1974:D2054,Hydrostatics!C1974:C2054,TRUE)","v":6.6787529342756633},4733.647617373892,{"$f":"LinInterpolate($E161,Hydrostatics!$D1974:$D2054,Hydrostatics!I1974:I2054,TRUE)","v":24.868498826289734},{"$f":"LinInterpolate($E161,Hydrostatics!$D1974:$D2054,Hydrostatics!J1974:J2054,TRUE)","v":3.627251760565398},1.7043803994997424E-2,24.913150186650498,24.930326981299373,-1.7176794648875671E-2,null,{"$f":"LinInterpolate($E161,Hydrostatics!$D1974:$D2054,Hydrostatics!K1974:K2054,TRUE)","v":22.004480046925487},{"$f":"LinInterpolate($E161,Hydrostatics!$D1974:$D2054,Hydrostatics!E1974:E2054,TRUE)","v":7.6067435445935399}]
[null,null,1,{"$f":"LinInterpolate(E162,Hydrostatics!D2056:D2136,Hydrostatics!C2056:C2136,TRUE)","v":6.6870740602414127},4733.647617373892,{"$f":"LinInterpolate($E162,Hydrostatics!$D2056:$D2136,Hydrostatics!I2056:I2136,TRUE)","v":24.955170375903435},{"$f":"LinInterpolate($E162,Hydrostatics!$D2056:$D2136,Hydrostatics!J2056:J2136,TRUE)","v":3.6322444361448478},1.8937129902380841E-2,24.922458937824153,25.023962884163755,-0.10150394633960147,null,{"$f":"LinInterpolate($E162,Hydrostatics!$D2056:$D2136,Hydrostatics!K2056:K2136,TRUE)","v":21.906333457827284},{"$f":"LinInterpolate($E162,Hydrostatics!$D2056:$D2136,Hydrostatics!E2056:E2136,TRUE)","v":7.5613630072274791}]
[null,null,1.1000000000000001,{"$f":"LinInterpolate(E163,Hydrostatics!D2138:D2218,Hydrostatics!C2138:C2218,TRUE)","v":6.6954984252550025},4733.647617373892,{"$f":"LinInterpolate($E163,Hydrostatics!$D2138:$D2218,Hydrostatics!I2138:I2218,TRUE)","v":25.042700944846999},{"$f":"LinInterpolate($E163,Hydrostatics!$D2138:$D2218,Hydrostatics!J2138:J2218,TRUE)","v":3.6281993701020006},2.0830320036217088E-2,24.931767688997805,25.118288431724125,-0.18652074272631936,null,{"$f":"LinInterpolate($E163,Hydrostatics!$D2138:$D2218,Hydrostatics!K2138:K2218,TRUE)","v":21.840610708265984},{"$f":"LinInterpolate($E163,Hydrostatics!$D2138:$D2218,Hydrostatics!E2138:E2218,TRUE)","v":7.5408037793879954}]
[null,null,1.2,{"$f":"LinInterpolate(E164,Hydrostatics!D2220:D2300,Hydrostatics!C2220:C2300,TRUE)","v":6.7042233540165377},4733.647617373892,{"$f":"LinInterpolate($E164,Hydrostatics!$D2220:$D2300,Hydrostatics!I2220:I2300,TRUE)","v":25.127465987590078},{"$f":"LinInterpolate($E164,Hydrostatics!$D2220:$D2300,Hydrostatics!J2220:J2300,TRUE)","v":3.6325340124099226},2.2723360841641067E-2,24.941076440171461,25.210023578781211,-0.26894713860975017,null,{"$f":"LinInterpolate($E164,Hydrostatics!$D2220:$D2300,Hydrostatics!K2220:K2300,TRUE)","v":21.736349217507392},{"$f":"LinInterpolate($E164,Hydrostatics!$D2220:$D2300,Hydrostatics!E2220:E2300,TRUE)","v":7.4998639503603091}]
[null,null,1.3,{"$f":"LinInterpolate(E165,Hydrostatics!D2302:D2382,Hydrostatics!C2302:C2382,TRUE)","v":6.7133026460308978},4733.647617373892,{"$f":"LinInterpolate($E165,Hydrostatics!$D2302:$D2382,Hydrostatics!I2302:I2382,TRUE)","v":25.212018412381461},{"$f":"LinInterpolate($E165,Hydrostatics!$D2302:$D2382,Hydrostatics!J2302:J2382,TRUE)","v":3.6353210584123588},2.4616238770206935E-2,24.950385191345116,25.30152442328934,-0.3511392319442237,null,{"$f":"LinInterpolate($E165,Hydrostatics!$D2302:$D2382,Hydrostatics!K2302:K2382,TRUE)","v":21.660826240639334},{"$f":"LinInterpolate($E165,Hydrostatics!$D2302:$D2382,Hydrostatics!E2302:E2382,TRUE)","v":7.4580736495258462}]
[null,null,1.4,{"$f":"LinInterpolate(E166,Hydrostatics!D2328:D2464,Hydrostatics!C2328:C2464,TRUE)","v":6.7223057624089613},4733.647617373892,{"$f":"LinInterpolate($E166,Hydrostatics!$D2328:$D2464,Hydrostatics!I2328:I2464,TRUE)","v":25.30215539007283},{"$f":"LinInterpolate($E166,Hydrostatics!$D2328:$D2464,Hydrostatics!J2328:J2464,TRUE)","v":3.6389223049635846},2.6508940280468775E-2,24.959693942518772,25.398641966340804,-0.43894802382203224,null,{"$f":"LinInterpolate($E166,Hydrostatics!$D2328:$D2464,Hydrostatics!K2328:K2464,TRUE)","v":21.638471187955194},{"$f":"LinInterpolate($E166,Hydrostatics!$D2328:$D2464,Hydrostatics!E2328:E2464,TRUE)","v":7.4464661702184918}]
[null,null,1.5,{"$f":"LinInterpolate(E167,Hydrostatics!D2466:D2546,Hydrostatics!C2466:C2546,TRUE)","v":6.7313520592013099},4733.647617373892,{"$f":"LinInterpolate($E167,Hydrostatics!$D2466:$D2546,Hydrostatics!I2466:I2546,TRUE)","v":25.391188764479214},{"$f":"LinInterpolate($E167,Hydrostatics!$D2466:$D2546,Hydrostatics!J2466:J2546,TRUE)","v":3.6388112355207856},2.8401451838560528E-2,24.969002693692428,25.494564083670145,-0.5255613899777174,null,{"$f":"LinInterpolate($E167,Hydrostatics!$D2466:$D2546,Hydrostatics!K2466:K2546,TRUE)","v":21.59459176319476},{"$f":"LinInterpolate($E167,Hydrostatics!$D2466:$D2546,Hydrostatics!E2466:E2546,TRUE)","v":7.4072958815973813}]
[]
[null,null,"Total trim",null,null,null,{"$f":"LinInterpolate(0,(K137:K167),(C137:C167),FALSE)","v":0.88056287016833001},"m"]
[null,null,"Mean Draft","From Hydro Table",null,null,{"$f":"LinInterpolate(0,(K137:K167),(D137:D167),FALSE)","v":6.6771571594216841},"m"]
[null,null,"LBP/2","From Hydro Table",null,null,{"$f":"G172/2","v":26.4},"m"]
[null,null,"LBP","Ship Data",null,null,52.8,"m"]
[]
[null,null,"Draft aft",null,null,null,{"$f":"G170-(G169/2)","v":6.2368757243375192},"m"]
[null,null,"Draft forward",null,null,null,{"$f":"G170+G169/2","v":7.1174385945058489},"m"]
[null,null,"Draft midships",null,null,null,{"$f":"(G174+G175)/2","v":6.6771571594216841},"m"]
[]
[null,null,"Transverse Stability"]
[null,null,"KMt","From Hydro Table",null,null,{"$f":"LinInterpolate(G169,(C137:C167),(N137:N167),FALSE)","v":7.6134486255215714},"m"]
[null,null,"KGsolid",null,null,null,{"$f":"K128","v":4.9150206196898729},"m"]
[null,null,"KGfluid","KMt-GMtfluid",null,null,{"$f":"G179-G183","v":4.9179748757946093},"m"]
[null,null,"GMtsolid","KMt-KGsolid",null,null,{"$f":"G179-G180","v":2.6984280058316985},"m"]
[null,null,"GMtfluid","GMtsolid-FSMt",null,null,{"$f":"G182-P128","v":2.6954737497269621},"m"]

{"sheet":"INDEX (Corrected trim 1)","index":4,"n_rows":183,"n_cols":27,"rows_kept":183,"cut":false,"hidden":false,"merged":[[20,17,20,23],[20,24,20,26],[117,2,117,6],[116,2,116,6],[115,2,115,6],[114,2,114,6],[113,2,113,6],[112,2,112,6],[111,2,111,6],[179,3,179,5],[126,11,126,12],[127,11,127,12],[128,11,128,12],[173,3,173,4],[174,3,174,4],[175,3,175,4],[118,2,118,6],[125,11,125,12],[16,1,18,1],[46,1,48,1],[87,1,89,1],[103,1,105,1],[103,2,105,6],[108,2,110,6],[14,8,14,11],[2,5,2,12],[3,5,3,12],[4,5,4,12],[7,1,8,7],[7,8,7,15],[8,10,8,11],[9,10,9,11],[10,10,10,11],[11,10,11,11],[12,10,12,11],[13,10,13,11]]}
[]
[null,null,null,"Stability Calculation ",null,null,null,null,null,null,null,null,null,null,null,null,null,"Explanation of worksheet:"]
[null,null,null,"Project :",null,null,null,null,null,null,null,null,null,"Originator :",null,null,null,"Changing tank filling"]
[null,null,null,"Doc. No :",null,null,null,null,null,null,null,null,null,"Checked :",null,null,null,"Fill in all sounding heights of tanks in following cells:"]
[null,null,null,"Subject/Remarks :",null,null,null,null,null,null,null,null,null,"Revision :",null,null,null,"The following data will be calculated automatically, with help of tank tables:",null,null,null,null,null,null,"Volume","m³"]
[null,null,null,null,null,null,null,null,null,null,null,null,null,"Date :",null,null,null,null,null,null,null,null,null,null,"Weight","t"]
[null,null,null,null,null,null,null,null,null,null,null,null,null,null,null,null,null,null,null,null,null,null,null,null,"LCG","m"]
[null,"Summary Stability Results",null,null,null,null,null,null,"Summary Loading condition",null,null,null,null,null,null,null,null,null,null,null,null,null,null,null,"TCG ","m"]
[null,null,null,null,null,null,null,null,"Item","% Full","Volume",null,"Weight","LCG","TCG","VCG",null,null,null,null,null,null,null,null,"VCG","m"]
[null,"Displ.",{"$f":"H128","v":4733.647617373892},"t","Draft mid.",null,{"$f":"G176","v":6.6771571594216841},"m","F.O. ",{"$f":"F32","v":99.932940002127552},{"$f":"G32","v":343.66938066731666},null,{"$f":"H32","v":295.55566737389228},{"$f":"I32","v":29.877028190497114},{"$f":"J32","v":9.9776127664960246E-2},{"$f":"K32","v":3.7666983080726206},null,null,null,null,null,null,null,null,"FSM","m"]
[null,"DW",{"$f":"H129","v":3033.6476173738924},"t","Draft aft",null,{"$f":"G174","v":6.2368757243375192},"m","HFO ",{"$f":"F45","v":100.0060259114191},{"$f":"G45","v":995.76},null,{"$f":"H45","v":975.84479999999996},{"$f":"I45","v":18.417754579416727},{"$f":"J45","v":0},{"$f":"K45","v":4.0886282839238373},null,"Add or remove deckloads"]
[null,"LCG",{"$f":"I128","v":24.829371426087601},"m","Draft fw",null,{"$f":"G175","v":7.1174385945058489},"m","WB",{"$f":"F78","v":99.98391784537877},{"$f":"G78","v":1032.0339999999997},null,{"$f":"H78","v":1057.8143499999999},{"$f":"I78","v":22.744108122564228},{"$f":"J78","v":-7.3606753396756736E-3},{"$f":"K78","v":3.0813733728418415},null,"Add or remove deckloads and fill the required data in the following cells:"]
[null,"TCG",{"$f":"J128","v":-7.7844129894152868E-3},"m","KMt",null,{"$f":"G179","v":7.6134486255215714},"m","FW",{"$f":"F86","v":99.983457402812235},{"$f":"G86","v":483.52},null,{"$f":"H86","v":483.52},{"$f":"I86","v":20.141572840833884},{"$f":"J86","v":0},{"$f":"K86","v":4.7113682991396422},null,"The following input data is required to calculated the stability results:",null,null,null,null,null,null,"Weight","t"]
[null,"VCG",{"$f":"K128","v":4.9150206196898729},"m","KGfluid",null,{"$f":"G181","v":4.9179748757946093},"m","MISC",{"$f":"F100","v":105.42992552471229},{"$f":"G100","v":155.72000000000003},null,{"$f":"H100","v":150.9128},{"$f":"I100","v":36.262017549207222},{"$f":"J100","v":-0.38798458447527312},{"$f":"K100","v":1.5590340381995429},null,"Attention! ",null,null,null,null,null,null,"LCG","m"]
[null,"Trim tot.",{"$f":"G169","v":0.88056287016833001},"m","GMtfluid",null,{"$f":"G183","v":2.6954737497269621},"m","(DECK) LOADS",null,null,null,{"$f":"H121","v":70},{"$f":"I121","v":6.5714285714285712},{"$f":"J121","v":0},{"$f":"K121","v":7},null,"This worksheet is only valid when the heel of the vessel is equal to 0°",null,null,null,null,null,null,"TCG ","m"]
[null,null,null,null,null,null,null,null,null,null,null,null,null,null,null,null,null,"The results of this worksheet are not checked to any stability criteria!",null,null,null,null,null,null,"VCG","m"]
[null,"Sheet No.","Name","Sort of Fluid","Sounding Height","% Full","Volume","Weight","LCG","TCG","VCG",null,"Longitudinal","Transverse","Vertical","FSMt",null,"To print the loading conditon press the button:"]
[null,null,null,null,null," "," "," ","Fwd of AP","PS:+","Above BL",null,"Moment","Moment","Moment"," "]
[null,null,null,null,null,"%","m³","t","m","m","m",null,"t·m","t·m","t·m","t·m"]
[null,null,"SHIP DATA"]
[null,null,"Lightship",null,null,null,null,{"$f":"INDEX!H22","v":1700},{"$f":"INDEX!I22","v":30},{"$f":"INDEX!J22","v":0},{"$f":"INDEX!K22","v":7},null,{"$f":"INDEX!M22","v":51000},{"$f":"INDEX!N22","v":0},{"$f":"INDEX!O22","v":11900},null,null,"Volume at each Trim",null,null,null,null,null,null,"Volume Interpolation"]
[]
[null,null,"F.O. (SG 0.860)",null,null,null,null,null,null,null,null,null,null,null,null,null,null,-1.5,-1,-0.5,0,0.5,1,1.5,"Volume","∆Volume","Volume2"]
[null,1,"F.O. 1 PS","MGO",{"$f":"INDEX!E25","v":3.8},{"$f":"IF(G24<'1'!M83,LinInterpolate(G24,'1'!M7:M83,'1'!I7:I83,TRUE),100)","v":100},{"$f":"'INDEX (Uncorrected trim )'!AA24","v":31.019690333658328},{"$f":"LinInterpolate(F24,'1'!I7:I83,'1'!H7:H83,TRUE)","v":26.67693368694616},{"$f":"LinInterpolate(F24,'1'!I7:I83,'1'!C7:C83,TRUE)","v":32.979999999999997},{"$f":"LinInterpolate(F24,'1'!I7:I82,'1'!D7:D83,TRUE)","v":5.38},{"$f":"LinInterpolate(F24,'1'!I7:I83,'1'!E7:E83,TRUE)","v":2.9999827963143515},null,{"$f":"$H24*I24","v":879.8052729954843},143.52190323577034,80.03034211925727,{"$f":"IF(LinInterpolate(F24,'1'!I7:I83,'1'!F7:F83,TRUE)>0,LinInterpolate(F24,'1'!I7:I83,'1'!F7:F83,TRUE),0)","v":1.720368564848139E-2},null,{"$f":"LinInterpolate($E$24,'1'!$B7:$B83,'1'!J7:J83,TRUE)","v":31.02},{"$f":"LinInterpolate($E$24,'1'!$B7:$B83,'1'!K7:K83,TRUE)","v":31.02},{"$f":"LinInterpolate($E$24,'1'!$B7:$B83,'1'!L7:L83,TRUE)","v":31.02},{"$f":"LinInterpolate($E$24,'1'!$B7:$B83,'1'!M7:M83,TRUE)","v":31.02},{"$f":"LinInterpolate($E$24,'1'!$B7:$B83,'1'!N7:N83,TRUE)","v":31.02},{"$f":"LinInterpolate($E$24,'1'!$B7:$B83,'1'!O7:O83,TRUE)","v":31.01},{"$f":"LinInterpolate($E$24,'1'!$B7:$B83,'1'!P7:P83,TRUE)","v":30.96},{"$f":"G24","v":31.019690333658328},{"$f":"IF(E24<'1'!B83,Y24-AA24,0)","v":0},{"$f":"IF(E24=0,0,IF(E24<'1'!B83,LinInterpolate($G$169,$R$23:$X$23,R24:X24,TRUE),Y24))","v":31.019690333658328}]
[null,2,"F.O. 1 SB","MGO",{"$f":"INDEX!E26","v":3.8},{"$f":"IF(G25<'2'!M83,LinInterpolate(G25,'2'!M7:M83,'2'!I7:I83,TRUE),100)","v":100},{"$f":"'INDEX (Uncorrected trim )'!AA25","v":31.019690333658328},{"$f":"LinInterpolate(F25,'2'!I7:I83,'2'!H7:H83,TRUE)","v":26.67693368694616},{"$f":"LinInterpolate(F25,'2'!I7:I83,'2'!C7:C83,TRUE)","v":32.979999999999997},{"$f":"LinInterpolate(F25,'2'!I7:I83,'2'!D7:D83,TRUE)","v":-5.38},{"$f":"LinInterpolate(F25,'2'!I7:I83,'2'!E7:E83,TRUE)","v":2.9999827963143515},null,879.8052729954843,-143.52190323577034,80.03034211925727,{"$f":"IF(LinInterpolate(F25,'2'!I7:I83,'2'!F7:F83,TRUE)>0,LinInterpolate(F25,'2'!I7:I83,'2'!F7:F83,TRUE),0)","v":1.720368564848139E-2},null,{"$f":"LinInterpolate($E$25,'2'!$B7:$B83,'2'!J7:J83,TRUE)","v":31.02},{"$f":"LinInterpolate($E$25,'2'!$B7:$B83,'2'!K7:K83,TRUE)","v":31.02},{"$f":"LinInterpolate($E$25,'2'!$B7:$B83,'2'!L7:L83,TRUE)","v":31.02},{"$f":"LinInterpolate($E$25,'2'!$B7:$B83,'2'!M7:M83,TRUE)","v":31.02},{"$f":"LinInterpolate($E$25,'2'!$B7:$B83,'2'!N7:N83,TRUE)","v":31.02},{"$f":"LinInterpolate($E$25,'2'!$B7:$B83,'2'!O7:O83,TRUE)","v":31.01},{"$f":"LinInterpolate($E$25,'2'!$B7:$B83,'2'!P7:P83,TRUE)","v":30.96},31.019690333658328,{"$f":"IF(E25<'2'!B83,Y25-AA25,0)","v":0},{"$f":"IF(E25=0,0,IF(E25<'2'!B83, LinInterpolate($G$169,$R$23:$X$23,R25:X25,TRUE),Y25))","v":31.019690333658328}]
[null,3,"F.O.1 C","MGO",{"$f":"INDEX!E27","v":5.77},{"$f":"IF(G26<'3'!M123,LinInterpolate(G26,'3'!M7:M123,'3'!I7:I123,TRUE),100)","v":100},{"$f":"'INDEX (Uncorrected trim )'!AA26","v":102.32},{"$f":"LinInterpolate(F26,'3'!I7:I123,'3'!H7:H123,TRUE)","v":87.995199999999997},{"$f":"LinInterpolate(F26,'3'!I7:I123,'3'!C7:C123,TRUE)","v":26.1},{"$f":"LinInterpolate(F26,'3'!I7:I123,'3'!D7:D123,TRUE)","v":0},{"$f":"LinInterpolate(F26,'3'!I7:I123,'3'!E7:E123,TRUE)","v":3.9},null,2296.67472,0,343.18127999999996,{"$f":"IF(LinInterpolate(F26,'3'!I7:I123,'3'!F7:F123,TRUE)>0,LinInterpolate(F26,'3'!I7:I123,'3'!F7:F123,TRUE),0)","v":0},null,{"$f":"LinInterpolate($E$26,'3'!$B7:$B123,'3'!J7:J123,TRUE)","v":102.32},{"$f":"LinInterpolate($E$26,'3'!$B7:$B123,'3'!K7:K123,TRUE)","v":102.32},{"$f":"LinInterpolate($E$26,'3'!$B7:$B123,'3'!L7:L123,TRUE)","v":102.32},{"$f":"LinInterpolate($E$26,'3'!$B7:$B123,'3'!M7:M123,TRUE)","v":102.32},{"$f":"LinInterpolate($E$26,'3'!$B7:$B123,'3'!N7:N123,TRUE)","v":101.93},{"$f":"LinInterpolate($E$26,'3'!$B7:$B123,'3'!O7:O123,TRUE)","v":101.55},{"$f":"LinInterpolate($E$26,'3'!$B7:$B123,'3'!P7:P123,TRUE)","v":101.17},102.32,{"$f":"IF(E26<'3'!B123,Y26-AA26,0)","v":0},{"$f":"IF(E26=0,0,IF(E26<'3'!B123, LinInterpolate($G$169,$R$23:$X$23,R26:X26,TRUE),Y26))","v":102.32}]
[null,4,"F.O. 2 PS","MGO",{"$f":"INDEX!E28","v":2},{"$f":"IF(G27<'4'!M47,LinInterpolate(G27,'4'!M7:M47,'4'!I7:I47,TRUE),100)","v":100},{"$f":"'INDEX (Uncorrected trim )'!AA27","v":39.69},{"$f":"LinInterpolate(F27,'4'!I7:I47,'4'!H7:H47,TRUE)","v":34.133399999999995},{"$f":"LinInterpolate(F27,'4'!I7:I47,'4'!C7:C47,TRUE)","v":31.5},{"$f":"LinInterpolate(F27,'4'!I7:I47,'4'!D7:D47,TRUE)","v":5.47},{"$f":"LinInterpolate(F27,'4'!I7:I47,'4'!E7:E47,TRUE)","v":5.8},null,1075.2020999999997,186.70969799999997,197.97371999999996,{"$f":"IF(LinInterpolate(F27,'4'!I7:I47,'4'!F7:F47,TRUE)>0,LinInterpolate(F27,'4'!I7:I47,'4'!F7:F47,TRUE),0)","v":0},null,{"$f":"LinInterpolate($E$27,'4'!$B7:$B47,'4'!J7:J47,TRUE)","v":39.69},{"$f":"LinInterpolate($E$27,'4'!$B7:$B47,'4'!K7:K47,TRUE)","v":39.69},{"$f":"LinInterpolate($E$27,'4'!$B7:$B47,'4'!L7:L47,TRUE)","v":39.69},{"$f":"LinInterpolate($E$27,'4'!$B7:$B47,'4'!M7:M47,TRUE)","v":39.69},{"$f":"LinInterpolate($E$27,'4'!$B7:$B47,'4'!N7:N47,TRUE)","v":39.69},{"$f":"LinInterpolate($E$27,'4'!$B7:$B47,'4'!O7:O47,TRUE)","v":39.69},{"$f":"LinInterpolate($E$27,'4'!$B7:$B47,'4'!P7:P47,TRUE)","v":39.69},39.69,{"$f":"IF(E27<'4'!B47,Y27-AA27,0)","v":0},{"$f":"IF(E27=0,0,IF(E27<'4'!B47, LinInterpolate($G$169,$R$23:$X$23,R27:X27,TRUE),Y27))","v":39.69}]
[null,5,"F.O. 2 SB","MGO",{"$f":"INDEX!E29","v":2},{"$f":"IF(G28<'5'!M47,LinInterpolate(G28,'5'!M7:M47,'5'!I7:I47,TRUE),100)","v":100},{"$f":"'INDEX (Uncorrected trim )'!AA28","v":39.69},{"$f":"LinInterpolate(F28,'5'!I7:I47,'5'!H7:H47,TRUE)","v":34.133399999999995},{"$f":"LinInterpolate(F28,'5'!I7:I47,'5'!C7:C47,TRUE)","v":31.5},{"$f":"LinInterpolate(F28,'5'!I7:I47,'5'!D7:D47,TRUE)","v":-5.47},{"$f":"LinInterpolate(F28,'5'!I7:I47,'5'!E7:E47,TRUE)","v":5.8},null,1075.2020999999997,-186.70969799999997,197.97371999999996,{"$f":"IF(LinInterpolate(F28,'5'!I7:I47,'5'!F7:F47,TRUE)>0,LinInterpolate(F28,'5'!I7:I47,'5'!F7:F47,TRUE),0)","v":0},null,{"$f":"LinInterpolate($E$28,'5'!$B7:$B47,'5'!J7:J47,TRUE)","v":39.69},{"$f":"LinInterpolate($E$28,'5'!$B7:$B47,'5'!K7:K47,TRUE)","v":39.69},{"$f":"LinInterpolate($E$28,'5'!$B7:$B47,'5'!L7:L47,TRUE)","v":39.69},{"$f":"LinInterpolate($E$28,'5'!$B7:$B47,'5'!M7:M47,TRUE)","v":39.69},{"$f":"LinInterpolate($E$28,'5'!$B7:$B47,'5'!N7:N47,TRUE)","v":39.69},{"$f":"LinInterpolate($E$28,'5'!$B7:$B47,'5'!O7:O47,TRUE)","v":39.69},{"$f":"LinInterpolate($E$28,'5'!$B7:$B47,'5'!P7:P47,TRUE)","v":39.69},39.69,{"$f":"IF(E28<'5'!B47,Y28-AA28,0)","v":0},{"$f":"IF(E28=0,0,IF(E28<'5'!B47, LinInterpolate($G$169,$R$23:$X$23,R28:X28,TRUE),Y28))","v":39.69}]
[null,6,"F.O. 3 PS","MGO",{"$f":"INDEX!E30","v":3.8},{"$f":"IF(G29<'6'!M83,LinInterpolate(G29,'6'!M7:M83,'6'!I7:I83,TRUE),100)","v":100},{"$f":"'INDEX (Uncorrected trim )'!AA29","v":40.44},{"$f":"LinInterpolate(F29,'6'!I7:I83,'6'!H7:H83,TRUE)","v":34.778399999999998},{"$f":"LinInterpolate(F29,'6'!I7:I83,'6'!C7:C83,TRUE)","v":30.3},{"$f":"LinInterpolate(F29,'6'!I7:I83,'6'!D7:D83,TRUE)","v":5.45},{"$f":"LinInterpolate(F29,'6'!I7:I83,'6'!E7:E83,TRUE)","v":2.96},null,1053.7855199999999,189.54228000000001,102.944064,{"$f":"IF(LinInterpolate(F29,'6'!I7:I83,'6'!F7:F83,TRUE)>0,LinInterpolate(F29,'6'!I7:I83,'6'!F7:F83,TRUE),0)","v":0.85},null,{"$f":"LinInterpolate($E$29,'6'!$B7:$B83,'6'!J7:J83,TRUE)","v":40.44},{"$f":"LinInterpolate($E$29,'6'!$B7:$B83,'6'!K7:K83,TRUE)","v":40.44},{"$f":"LinInterpolate($E$29,'6'!$B7:$B83,'6'!L7:L83,TRUE)","v":40.44},{"$f":"LinInterpolate($E$29,'6'!$B7:$B83,'6'!M7:M83,TRUE)","v":40.44},{"$f":"LinInterpolate($E$29,'6'!$B7:$B83,'6'!N7:N83,TRUE)","v":40.44},{"$f":"LinInterpolate($E$29,'6'!$B7:$B83,'6'!O7:O83,TRUE)","v":40.44},{"$f":"LinInterpolate($E$29,'6'!$B7:$B83,'6'!P7:P83,TRUE)","v":40.44},40.44,{"$f":"IF(E29<'6'!B83,Y29-AA29,0)","v":0},{"$f":"IF(E29=0,0,IF(E29<'6'!B83, LinInterpolate($G$169,$R$23:$X$23,R29:X29,TRUE),Y29))","v":40.44}]
[null,7,"F.O. 3 SB","MGO",{"$f":"INDEX!E31","v":3.8},{"$f":"IF(G30<'7'!M83,LinInterpolate(G30,'7'!M7:M83,'7'!I7:I83,TRUE),100)","v":100},{"$f":"'INDEX (Uncorrected trim )'!AA30","v":40.44},{"$f":"LinInterpolate(F30,'7'!I7:I83,'7'!H7:H83,TRUE)","v":34.778399999999998},{"$f":"LinInterpolate(F30,'7'!I7:I83,'7'!C7:C83,TRUE)","v":30.3},{"$f":"LinInterpolate(F30,'7'!I7:I83,'7'!D7:D83,TRUE)","v":-5.45},{"$f":"LinInterpolate(F30,'7'!I7:I83,'7'!E7:E83,TRUE)","v":2.96},null,1053.7855199999999,-189.54228000000001,102.944064,{"$f":"IF(LinInterpolate(F30,'7'!I7:I83,'7'!F7:F83,TRUE)>0,LinInterpolate(F30,'7'!I7:I83,'7'!F7:F83,TRUE),0)","v":11.1},null,{"$f":"LinInterpolate($E$30,'7'!$B7:$B83,'7'!J7:J83,TRUE)","v":40.44},{"$f":"LinInterpolate($E$30,'7'!$B7:$B83,'7'!K7:K83,TRUE)","v":40.44},{"$f":"LinInterpolate($E$30,'7'!$B7:$B83,'7'!L7:L83,TRUE)","v":40.44},{"$f":"LinInterpolate($E$30,'7'!$B7:$B83,'7'!M7:M83,TRUE)","v":40.44},{"$f":"LinInterpolate($E$30,'7'!$B7:$B83,'7'!N7:N83,TRUE)","v":40.44},{"$f":"LinInterpolate($E$30,'7'!$B7:$B83,'7'!O7:O83,TRUE)","v":40.44},{"$f":"LinInterpolate($E$30,'7'!$B7:$B83,'7'!P7:P83,TRUE)","v":40.44},40.44,{"$f":"IF(E30<'6'!B83,Y30-AA30,0)","v":0},{"$f":"IF(E30=0,0,IF(E30<'7'!B83, LinInterpolate($G$169,$R$23:$X$23,R30:X30,TRUE),Y30))","v":40.44}]
[null,8,"F.O. 4 PS","MGO",{"$f":"INDEX!E32","v":1},{"$f":"IF(G31<'8'!M28,LinInterpolate(G31,'8'!M10:M28,'8'!I10:I28,TRUE),100)","v":100},{"$f":"'INDEX (Uncorrected trim )'!AA31","v":19.05},{"$f":"LinInterpolate(F31,'8'!I7:I28,'8'!H7:H28,TRUE)","v":16.382999999999999},{"$f":"LinInterpolate(F31,'8'!I7:I28,'8'!C7:C28,TRUE)","v":31.5},{"$f":"LinInterpolate(F31,'8'!I7:I28,'8'!D7:D28,TRUE)","v":1.8},{"$f":"LinInterpolate(F31,'8'!I7:I28,'8'!E7:E28,TRUE)","v":0.5},null,516.06449999999995,29.4894,8.1914999999999996,{"$f":"IF(LinInterpolate(F31,'8'!I7:I28,'8'!F7:F28,TRUE)>0,LinInterpolate(F31,'8'!I7:I28,'8'!F7:F28,TRUE),0)","v":2},null,{"$f":"LinInterpolate($E$31,'8'!$B7:$B28,'8'!J7:J28,TRUE)","v":19.05},{"$f":"LinInterpolate($E$31,'8'!$B7:$B28,'8'!K7:K28,TRUE)","v":19.05},{"$f":"LinInterpolate($E$31,'8'!$B7:$B28,'8'!L7:L28,TRUE)","v":19.05},{"$f":"LinInterpolate($E$31,'8'!$B7:$B28,'8'!M7:M28,TRUE)","v":19.05},{"$f":"LinInterpolate($E$31,'8'!$B7:$B28,'8'!N7:N28,TRUE)","v":19.05},{"$f":"LinInterpolate($E$31,'8'!$B7:$B28,'8'!O7:O28,TRUE)","v":19.05},{"$f":"LinInterpolate($E$31,'8'!$B7:$B28,'8'!P7:P28,TRUE)","v":19.05},19.05,{"$f":"IF(E31<'8'!B28,Y31-AA31,0)","v":0},{"$f":"IF(E31=0,0,IF(E31<'8'!B28, LinInterpolate($G$169,$R$23:$X$23,R31:X31,TRUE),Y31))","v":19.05}]
[null,null,"Total F.O.",null,null,{"$f":"(G32/343.9)*100","v":99.932940002127552},{"$f":"SUM((G24:G31))","v":343.66938066731666},{"$f":"SUM((H24:H31))","v":295.55566737389228},{"$f":"M32/H32","v":29.877028190497114},{"$f":"N32/H32","v":9.9776127664960246E-2},{"$f":"O32/H32","v":3.7666983080726206},null,{"$f":"SUM((M24:M31))","v":8830.3250059909678},{"$f":"SUM((N24:N31))","v":29.4894},{"$f":"SUM((O24:O31))","v":1113.2690322385142},{"$f":"SUM((P24:P31))","v":13.984407371296962},null,null,null,null,null,null,null,null,null,{"$f":"SUM((Z24:Z31))","v":0},{"$f":"SUM((AA24:AA31))","v":343.66938066731666}]
[]
[null,null,"HFO (SG 0.980)",null,null,null,null,null,null,null,null,null,null,null,null,null,null,-1.5,-1,-0.5,0,0.5,1,1.5,"Volume","∆Volume","Volume2"]
[null,9,"H.F.O 1 PS","HFO",{"$f":"INDEX!E36","v":5.75},{"$f":"IF(G35<'9'!M122,LinInterpolate(G35,'9'!M7:M122,'9'!I7:I122,TRUE),100)","v":100},{"$f":"'INDEX (Uncorrected trim )'!AA35","v":112.74},{"$f":"LinInterpolate(F35,'9'!I7:I122,'9'!H7:H122,TRUE)","v":110.48519999999999},{"$f":"LinInterpolate(F35,'9'!I7:I122,'9'!C7:C122,TRUE)","v":26.02},{"$f":"LinInterpolate(F35,'9'!I7:I122,'9'!D7:D122,TRUE)","v":5.46},{"$f":"LinInterpolate(F35,'9'!I7:I122,'9'!E7:E122,TRUE)","v":3.96},null,{"$f":"$H35*I35","v":2874.8249039999996},603.24919199999999,437.52139199999999,{"$f":"IF(LinInterpolate(F35,'9'!I7:I122,'9'!F7:F122,TRUE)>0,LinInterpolate(F35,'9'!I7:I122,'9'!F7:F122,TRUE),0)","v":0},null,{"$f":"LinInterpolate($E$35,'9'!$B7:$B122,'9'!J7:J122,TRUE)","v":111.41},{"$f":"LinInterpolate($E$35,'9'!$B7:$B122,'9'!K7:K122,TRUE)","v":111.85},{"$f":"LinInterpolate($E$35,'9'!$B7:$B122,'9'!L7:L122,TRUE)","v":112.29},{"$f":"LinInterpolate($E$35,'9'!$B7:$B122,'9'!M7:M122,TRUE)","v":112.74},{"$f":"LinInterpolate($E$35,'9'!$B7:$B122,'9'!N7:N122,TRUE)","v":112.73},{"$f":"LinInterpolate($E$35,'9'!$B7:$B122,'9'!O7:O122,TRUE)","v":112.73},{"$f":"LinInterpolate($E$35,'9'!$B7:$B122,'9'!P7:P122,TRUE)","v":112.72},{"$f":"G35","v":112.74},{"$f":"IF(E35<'9'!AB122,Y35-AA35,0)","v":0},{"$f":"IF(E35=0,0,IF(E35<'9'!B122, LinInterpolate($G$169,$R$23:$X$23,R35:X35,TRUE),Y35))","v":112.74}]
[null,10,"H.F.O 1 SB","HFO",{"$f":"INDEX!E37","v":5.75},{"$f":"IF(G36<'10'!M122,LinInterpolate(G36,'10'!M7:M122,'10'!I7:I122,TRUE),100)","v":100},{"$f":"'INDEX (Uncorrected trim )'!AA36","v":112.74},{"$f":"LinInterpolate(F36,'10'!I7:I122,'10'!H7:H122,TRUE)","v":110.48519999999999},{"$f":"LinInterpolate(F36,'10'!I7:I122,'10'!C7:C122,TRUE)","v":26.02},{"$f":"LinInterpolate(F36,'10'!I7:I122,'10'!D7:D122,TRUE)","v":-5.46},{"$f":"LinInterpolate(F36,'10'!I7:I122,'10'!E7:E122,TRUE)","v":3.96},null,2874.8249039999996,-603.24919199999999,437.52139199999999,{"$f":"LinInterpolate(F36,'10'!I7:I122,'10'!F7:F122,TRUE)","v":0},null,{"$f":"LinInterpolate($E$36,'10'!$B7:$B122,'10'!J7:J122,TRUE)","v":111.41},{"$f":"LinInterpolate($E$36,'10'!$B7:$B122,'10'!K7:K122,TRUE)","v":111.85},{"$f":"LinInterpolate($E$36,'10'!$B7:$B122,'10'!L7:L122,TRUE)","v":112.29},{"$f":"LinInterpolate($E$36,'10'!$B7:$B122,'10'!M7:M122,TRUE)","v":112.74},{"$f":"LinInterpolate($E$36,'10'!$B7:$B122,'10'!N7:N122,TRUE)","v":112.73},{"$f":"LinInterpolate($E$36,'10'!$B7:$B122,'10'!O7:O122,TRUE)","v":112.73},{"$f":"LinInterpolate($E$36,'10'!$B7:$B122,'10'!P7:P122,TRUE)","v":112.72},112.74,{"$f":"IF(E36<'10'!AB122,AA36-Y36,0)","v":0},{"$f":"IF(E36=0,0,IF(E36<'10'!B122, LinInterpolate($G$169,$R$23:$X$23,R36:X36,TRUE),Y36))","v":112.74}]
[null,11,"H.F.O 2 PS","HFO",{"$f":"INDEX!E38","v":5.75},{"$f":"IF(G37<'11'!M122,LinInterpolate(G37,'11'!M7:M122,'11'!I7:I122,TRUE),100)","v":100},{"$f":"'INDEX (Uncorrected trim )'!AA37","v":100.05},{"$f":"LinInterpolate(F37,'11'!I7:I122,'11'!H7:H122,TRUE)","v":98.048999999999992},{"$f":"LinInterpolate(F37,'11'!I7:I122,'11'!C7:C122,TRUE)","v":20.85},{"$f":"LinInterpolate(F37,'11'!I7:I122,'11'!D7:D122,TRUE)","v":5.46},{"$f":"LinInterpolate(F37,'11'!I7:I122,'11'!E7:E122,TRUE)","v":3.96},null,2044.3216500000001,535.34753999999998,388.27403999999996,{"$f":"IF(LinInterpolate(F37,'11'!I7:I122,'11'!F7:F122,TRUE)>0,LinInterpolate(F37,'11'!I7:I122,'11'!F7:F122,TRUE),0)","v":0},null,{"$f":"LinInterpolate($E$37,'11'!$B7:$B122,'11'!J7:J122,TRUE)","v":99.06},{"$f":"LinInterpolate($E$37,'11'!$B7:$B122,'11'!K7:K122,TRUE)","v":99.39},{"$f":"LinInterpolate($E$37,'11'!$B7:$B122,'11'!L7:L122,TRUE)","v":99.72},{"$f":"LinInterpolate($E$37,'11'!$B7:$B122,'11'!M7:M122,TRUE)","v":100.05},{"$f":"LinInterpolate($E$37,'11'!$B7:$B122,'11'!N7:N122,TRUE)","v":100.05},{"$f":"LinInterpolate($E$37,'11'!$B7:$B122,'11'!O7:O122,TRUE)","v":100.05},{"$f":"LinInterpolate($E$37,'11'!$B7:$B122,'11'!P7:P122,TRUE)","v":100.04},100.05,{"$f":"IF(F37<'11'!AB122,Y37-AA37,0)","v":0},{"$f":"IF(E37=0,0,IF(E37<'11'!B122, LinInterpolate($G$169,$R$23:$X$23,R37:X37,TRUE),Y37))","v":100.05}]
[null,12,"H.F.O 2 SB","HFO",{"$f":"INDEX!E39","v":5.75},{"$f":"IF(G38<'12'!M122,LinInterpolate(G38,'12'!M7:M122,'12'!I7:I122,TRUE),100)","v":100},{"$f":"'INDEX (Uncorrected trim )'!AA38","v":100.05},{"$f":"LinInterpolate(F38,'12'!I7:I122,'12'!H7:H122,TRUE)","v":98.048999999999992},{"$f":"LinInterpolate(F38,'12'!I7:I122,'12'!C7:C122,TRUE)","v":20.85},{"$f":"LinInterpolate(F38,'12'!I7:I122,'12'!D7:D122,TRUE)","v":-5.46},{"$f":"LinInterpolate(F38,'12'!I7:I122,'12'!E7:E122,TRUE)","v":3.96},null,2044.3216500000001,-535.34753999999998,388.27403999999996,{"$f":"IF(LinInterpolate(F38,'12'!I7:I122,'12'!F7:F122,TRUE)>0,LinInterpolate(F38,'12'!I7:I122,'12'!F7:F122,TRUE),0)","v":0},null,{"$f":"LinInterpolate($E$38,'12'!$B7:$B122,'12'!J7:J122,TRUE)","v":99.06},{"$f":"LinInterpolate($E$38,'12'!$B7:$B122,'12'!K7:K122,TRUE)","v":99.39},{"$f":"LinInterpolate($E$38,'12'!$B7:$B122,'12'!L7:L122,TRUE)","v":99.72},{"$f":"LinInterpolate($E$38,'12'!$B7:$B122,'12'!M7:M122,TRUE)","v":100.05},{"$f":"LinInterpolate($E$38,'12'!$B7:$B122,'12'!N7:N122,TRUE)","v":100.05},{"$f":"LinInterpolate($E$38,'12'!$B7:$B122,'12'!O7:O122,TRUE)","v":100.04},{"$f":"LinInterpolate($E$38,'12'!$B7:$B122,'12'!P7:P122,TRUE)","v":100.04},100.05,{"$f":"IF(F38<'12'!AB122,Y38-AA38,0)","v":0},{"$f":"IF(E38=0,0,IF(E38<'12'!B122, LinInterpolate($G$169,$R$23:$X$23,R38:X38,TRUE),Y38))","v":100.05}]
[null,13,"H.F.O 2 C","HFO",{"$f":"INDEX!E40","v":5.77},{"$f":"IF(G39<'13'!M123,LinInterpolate(G39,'13'!M7:M123,'13'!I7:I123,TRUE),100)","v":100},{"$f":"'INDEX (Uncorrected trim )'!AA39","v":102.33},{"$f":"LinInterpolate(F39,'13'!I7:I123,'13'!H7:H123,TRUE)","v":100.2834},{"$f":"LinInterpolate(F39,'13'!I7:I123,'13'!C7:C123,TRUE)","v":21},{"$f":"LinInterpolate(F39,'13'!I7:I123,'13'!D7:D123,TRUE)","v":0},{"$f":"LinInterpolate(F39,'13'!I7:I123,'13'!E7:E123,TRUE)","v":3.9},null,2105.9513999999999,0,391.10525999999999,{"$f":"IF(LinInterpolate(F39,'13'!I7:I123,'13'!F7:F123,TRUE)>0,LinInterpolate(F39,'13'!I7:I123,'13'!F7:F123,TRUE),0)","v":0},null,{"$f":"LinInterpolate($E$39,'13'!$B7:$B123,'13'!J7:J123,TRUE)","v":102.33},{"$f":"LinInterpolate($E$39,'13'!$B7:$B123,'13'!K7:K123,TRUE)","v":102.33},{"$f":"LinInterpolate($E$39,'13'!$B7:$B123,'13'!L7:L123,TRUE)","v":102.33},{"$f":"LinInterpolate($E$39,'13'!$B7:$B123,'13'!M7:M123,TRUE)","v":102.33},{"$f":"LinInterpolate($E$39,'13'!$B7:$B123,'13'!N7:N123,TRUE)","v":101.95},{"$f":"LinInterpolate($E$39,'13'!$B7:$B123,'13'!O7:O123,TRUE)","v":101.58},{"$f":"LinInterpolate($E$39,'13'!$B7:$B123,'13'!P7:P123,TRUE)","v":101.2},102.33,{"$f":"IF(E39<'13'!AB123,Y39-AA39,0)","v":0},{"$f":"IF(E39=0,0,IF(E39<'13'!B123, LinInterpolate($G$169,$R$23:$X$23,R39:X39,TRUE),Y39))","v":102.33}]
[null,14,"H.F.O 3 PS","HFO",{"$f":"INDEX!E41","v":5.76},{"$f":"IF(G40<'14'!M123,LinInterpolate(G40,'14'!M7:M123,'14'!I7:I123,TRUE),100)","v":100},{"$f":"'INDEX (Uncorrected trim )'!AA40","v":99.48},{"$f":"LinInterpolate(F40,'14'!I7:I123,'14'!H7:H123,TRUE)","v":97.490400000000008},{"$f":"LinInterpolate(F40,'14'!I7:I123,'14'!C7:C123,TRUE)","v":16.059999999999999},{"$f":"LinInterpolate(F40,'14'!I7:I123,'14'!D7:D123,TRUE)","v":5.45},{"$f":"LinInterpolate(F40,'14'!I7:I123,'14'!E7:E123,TRUE)","v":3.98},null,1565.6958239999999,531.3226800000001,388.01179200000001,{"$f":"IF(LinInterpolate(F40,'14'!I7:I123,'14'!F7:F123,TRUE)>0,LinInterpolate(F40,'14'!I7:I123,'14'!F7:F123,TRUE),0)","v":0},null,{"$f":"LinInterpolate($E$40,'14'!$B7:$B123,'14'!J7:J123,TRUE)","v":99.48},{"$f":"LinInterpolate($E$40,'14'!$B7:$B123,'14'!K7:K123,TRUE)","v":99.48},{"$f":"LinInterpolate($E$40,'14'!$B7:$B123,'14'!L7:L123,TRUE)","v":99.48},{"$f":"LinInterpolate($E$40,'14'!$B7:$B123,'14'!M7:M123,TRUE)","v":99.48},{"$f":"LinInterpolate($E$40,'14'!$B7:$B123,'14'!N7:N123,TRUE)","v":99.09},{"$f":"LinInterpolate($E$40,'14'!$B7:$B123,'14'!O7:O123,TRUE)","v":98.7},{"$f":"LinInterpolate($E$40,'14'!$B7:$B123,'14'!P7:P123,TRUE)","v":98.31},99.48,{"$f":"IF(E40<'14'!AB123,Y40-AA40,0)","v":0},{"$f":"IF(E40=0,0,IF(E40<'14'!B123, LinInterpolate($G$169,$R$23:$X$23,R40:X40,TRUE),Y40))","v":99.48}]
[null,15,"H.F.O 3 SB","HFO",{"$f":"INDEX!E42","v":5.76},{"$f":"IF(G41<'15'!M123,LinInterpolate(G41,'15'!M7:M123,'15'!I7:I123,TRUE),100)","v":100},{"$f":"'INDEX (Uncorrected trim )'!AA41","v":99.48},{"$f":"LinInterpolate(F41,'15'!I7:I123,'15'!H7:H123,TRUE)","v":97.490400000000008},{"$f":"LinInterpolate(F41,'15'!I7:I123,'15'!C7:C123,TRUE)","v":16.059999999999999},{"$f":"LinInterpolate(F41,'15'!I7:I123,'15'!D7:D123,TRUE)","v":-5.45},{"$f":"LinInterpolate(F41,'15'!I7:I123,'15'!E7:E123,TRUE)","v":3.98},null,1565.6958239999999,-531.3226800000001,388.01179200000001,{"$f":"IF(LinInterpolate(F41,'15'!I7:I123,'15'!F7:F123,TRUE)>0,LinInterpolate(F41,'15'!I7:I123,'15'!F7:F123,TRUE),0)","v":0},null,{"$f":"LinInterpolate($E$41,'15'!$B7:$B123,'15'!J7:J123,TRUE)","v":99.48},{"$f":"LinInterpolate($E$41,'15'!$B7:$B123,'15'!K7:K123,TRUE)","v":99.48},{"$f":"LinInterpolate($E$41,'15'!$B7:$B123,'15'!L7:L123,TRUE)","v":99.48},{"$f":"LinInterpolate($E$41,'15'!$B7:$B123,'15'!M7:M123,TRUE)","v":99.48},{"$f":"LinInterpolate($E$41,'15'!$B7:$B123,'15'!N7:N123,TRUE)","v":99.09},{"$f":"LinInterpolate($E$41,'15'!$B7:$B123,'15'!O7:O123,TRUE)","v":98.7},{"$f":"LinInterpolate($E$41,'15'!$B7:$B123,'15'!P7:P123,TRUE)","v":98.31},99.48,{"$f":"IF(E41<'15'!AB123,Y41-AA41,0)","v":0},{"$f":"IF(E41=0,0,IF(E41<'15'!B123, LinInterpolate($G$169,$R$23:$X$23,R41:X41,TRUE),Y41))","v":99.48}]
[null,16,"H.F.O 4 PS","HFO",{"$f":"INDEX!E43","v":5.46},{"$f":"IF(G42<'16'!M117,LinInterpolate(G42,'16'!M7:M117,'16'!I7:I117,TRUE),100)","v":100},{"$f":"'INDEX (Uncorrected trim )'!AA42","v":90.63},{"$f":"LinInterpolate(F42,'16'!I7:I117,'16'!H7:H117,TRUE)","v":88.817399999999992},{"$f":"LinInterpolate(F42,'16'!I7:I117,'16'!C7:C117,TRUE)","v":11.2},{"$f":"LinInterpolate(F42,'16'!I7:I117,'16'!D7:D117,TRUE)","v":5.39},{"$f":"LinInterpolate(F42,'16'!I7:I117,'16'!E7:E117,TRUE)","v":4.49},null,994.75487999999984,478.72578599999991,398.79012599999999,{"$f":"IF(LinInterpolate(F42,'16'!I7:I117,'16'!F7:F117,TRUE)>0,LinInterpolate(F42,'16'!I7:I117,'16'!F7:F117,TRUE),0)","v":0},null,{"$f":"LinInterpolate($E$42,'16'!$B7:$B117,'16'!J7:J117,TRUE)","v":90.63},{"$f":"LinInterpolate($E$42,'16'!$B7:$B117,'16'!K7:K117,TRUE)","v":90.63},{"$f":"LinInterpolate($E$42,'16'!$B7:$B117,'16'!L7:L117,TRUE)","v":90.63},{"$f":"LinInterpolate($E$42,'16'!$B7:$B117,'16'!M7:M117,TRUE)","v":90.63},{"$f":"LinInterpolate($E$42,'16'!$B7:$B117,'16'!N7:N117,TRUE)","v":90.19},{"$f":"LinInterpolate($E$42,'16'!$B7:$B117,'16'!O7:O117,TRUE)","v":89.75},{"$f":"LinInterpolate($E$42,'16'!$B7:$B117,'16'!P7:P117,TRUE)","v":89.31},90.63,{"$f":"IF(E42<'16'!AB117,Y42-AA42,0)","v":0},{"$f":"IF(E42=0,0,IF(E42<'16'!B117, LinInterpolate($G$169,$R$23:$X$23,R42:X42,TRUE),Y42))","v":90.63}]
[null,17,"H.F.O 4 SB","HFO",{"$f":"INDEX!E44","v":5.46},{"$f":"IF(G43<'17'!M115,LinInterpolate(G43,'17'!M7:M115,'17'!I7:I115,TRUE),100)","v":100},{"$f":"'INDEX (Uncorrected trim )'!AA43","v":90.63},{"$f":"LinInterpolate(F43,'17'!I7:I115,'17'!H7:H115,TRUE)","v":88.817399999999992},{"$f":"LinInterpolate(F43,'17'!I7:I115,'17'!C7:C115,TRUE)","v":11.2},{"$f":"LinInterpolate(F43,'17'!I7:I115,'17'!D7:D115,TRUE)","v":-5.39},{"$f":"LinInterpolate(F43,'17'!I7:I115,'17'!E7:E115,TRUE)","v":4.49},null,994.75487999999984,-478.72578599999991,398.79012599999999,{"$f":"IF(LinInterpolate(F43,'17'!I7:I115,'17'!F7:F115,TRUE)>0,LinInterpolate(F43,'17'!I7:I115,'17'!F7:F115,TRUE),0)","v":0},null,{"$f":"LinInterpolate($E$43,'17'!$B7:$B115,'17'!J7:J115,TRUE)","v":90.976666666666645},{"$f":"LinInterpolate($E$43,'17'!$B7:$B115,'17'!K7:K115,TRUE)","v":91.056666666666644},{"$f":"LinInterpolate($E$43,'17'!$B7:$B115,'17'!L7:L115,TRUE)","v":91.403333333333308},{"$f":"LinInterpolate($E$43,'17'!$B7:$B115,'17'!M7:M115,TRUE)","v":92.496666666666613},{"$f":"LinInterpolate($E$43,'17'!$B7:$B115,'17'!N7:N115,TRUE)","v":92.056666666666658},{"$f":"LinInterpolate($E$43,'17'!$B7:$B115,'17'!O7:O115,TRUE)","v":91.61666666666666},{"$f":"LinInterpolate($E$43,'17'!$B7:$B115,'17'!P7:P115,TRUE)","v":91.176666666666662},90.63,{"$f":"IF(E43<'17'!AB115,Y43-AA43,0)","v":0},{"$f":"IF(E43=0,0,IF(E43<'17'!B115, LinInterpolate($G$169,$R$23:$X$23,R43:X43,TRUE),Y43))","v":90.63}]
[null,18,"H.F.O 4 C","HFO",{"$f":"INDEX!E45","v":5.38},{"$f":"IF(G44<'18'!M115,LinInterpolate(G44,'18'!M7:M115,'18'!I7:I115,TRUE),100)","v":100},{"$f":"'INDEX (Uncorrected trim )'!AA44","v":87.63},{"$f":"LinInterpolate(F44,'18'!I7:I115,'18'!H7:H115,TRUE)","v":85.877399999999994},{"$f":"LinInterpolate(F44,'18'!I7:I115,'18'!C7:C115,TRUE)","v":10.57},{"$f":"LinInterpolate(F44,'18'!I7:I115,'18'!D7:D115,TRUE)","v":0},{"$f":"LinInterpolate(F44,'18'!I7:I115,'18'!E7:E115,TRUE)","v":4.3499999999999996},null,907.72411799999998,0,373.56668999999994,{"$f":"IF(LinInterpolate(F44,'18'!I7:I115,'18'!F7:F115,TRUE)>0,LinInterpolate(F44,'18'!I7:I115,'18'!F7:F115,TRUE),0)","v":0},null,{"$f":"LinInterpolate($E$44,'18'!$B7:$B115,'18'!J7:J115,TRUE)","v":87.649999999999977},{"$f":"LinInterpolate($E$44,'18'!$B7:$B115,'18'!K7:K115,TRUE)","v":87.649999999999977},{"$f":"LinInterpolate($E$44,'18'!$B7:$B115,'18'!L7:L115,TRUE)","v":87.669999999999987},{"$f":"LinInterpolate($E$44,'18'!$B7:$B115,'18'!M7:M115,TRUE)","v":87.989999999999952},{"$f":"LinInterpolate($E$44,'18'!$B7:$B115,'18'!N7:N115,TRUE)","v":87.629999999999953},{"$f":"LinInterpolate($E$44,'18'!$B7:$B115,'18'!O7:O115,TRUE)","v":87.259999999999991},{"$f":"LinInterpolate($E$44,'18'!$B7:$B115,'18'!P7:P115,TRUE)","v":86.899999999999991},87.63,{"$f":"IF(E44<'18'!AB115,Y44-AA44,0)","v":0},{"$f":"IF(E44=0,0,IF(E44<'18'!B115, LinInterpolate($G$169,$R$23:$X$23,R44:X44,TRUE),Y44))","v":87.63}]
[null,null,"Total H.F.O",null,null,{"$f":"G45/995.7*100","v":100.0060259114191},{"$f":"SUM((G35:G44))","v":995.76},{"$f":"SUM((H35:H44))","v":975.84479999999996},{"$f":"M45/H45","v":18.417754579416727},{"$f":"N45/H45","v":0},{"$f":"O45/H45","v":4.0886282839238373},null,{"$f":"SUM((M35:M44))","v":17972.870034},{"$f":"SUM((N35:N44))","v":0},{"$f":"SUM((O35:O44))","v":3989.8666500000004},{"$f":"SUM((P35:P44))","v":0},null,null,null,null,null,null,null,null,null,{"$f":"SUM((Z35:Z44))","v":0},{"$f":"SUM((AA35:AA44))","v":995.76}]
[]
[null,"Sheet No.","Name","Sort of Fluid","Sounding Height","% Full","Volume","Weight","LCG","TCG","VCG",null,"Longitudinal","Transverse","Vertical","FSMt"]
[null,null,null,null,null," "," "," ","Fwd of AP","PS:+","Above BL",null,"Moment","Moment","Moment"," "]
[null,null,null,null,null,"%","m³","t","m","m","m",null,"t·m","t·m","t·m","t·m"]
[null,null,"WB (S.G. 1.025)",null,null,null,null,null,null,null,null,null,null,null,null,null,null,-1.5,-1,-0.5,0,0.5,1,1.5,"Volume","∆Volume","Volume2"]
[null,19,"W.B 1 PS ","FW",{"$f":"INDEX!E52","v":3.25},{"$f":"IF(G51<'19'!M72,LinInterpolate(G51,'19'!M7:M72,'19'!I7:I72,TRUE),100)","v":100},{"$f":"'INDEX (Uncorrected trim )'!AA51","v":63.76},{"$f":"LinInterpolate(F51,'19'!I7:I72,'19'!H7:H72,TRUE)","v":65.353999999999999},{"$f":"LinInterpolate(F51,'19'!I7:I72,'19'!C7:C72,TRUE)","v":-2.2400000000000002},{"$f":"LinInterpolate(F51,'19'!I7:I72,'19'!D7:D72,TRUE)","v":4.49},{"$f":"LinInterpolate(F51,'19'!I7:I72,'19'!E7:E72,TRUE)","v":5.71},null,{"$f":"$H51*I51","v":-146.39296000000002},293.43946,373.17133999999999,{"$f":"IF(LinInterpolate(F51,'19'!I7:I72,'19'!F7:F72,TRUE)>0,LinInterpolate(F51,'19'!I7:I72,'19'!F7:F72,TRUE),0)","v":0},null,{"$f":"LinInterpolate($E$51,'19'!$B7:$B72,'19'!J7:J72,TRUE)","v":63.626666666666679},{"$f":"LinInterpolate($E$51,'19'!$B7:$B72,'19'!K7:K72,TRUE)","v":63.813333333333333},{"$f":"LinInterpolate($E$51,'19'!$B7:$B72,'19'!L7:L72,TRUE)","v":64.073333333333338},{"$f":"LinInterpolate($E$51,'19'!$B7:$B72,'19'!M7:M72,TRUE)","v":64.38},{"$f":"LinInterpolate($E$51,'19'!$B7:$B72,'19'!N7:N72,TRUE)","v":64.036666666666662},{"$f":"LinInterpolate($E$51,'19'!$B7:$B72,'19'!O7:O72,TRUE)","v":63.74},{"$f":"LinInterpolate($E$51,'19'!$B7:$B72,'19'!P7:P72,TRUE)","v":63.493333333333339},{"$f":"G51","v":63.76},{"$f":"IF(E51<'19'!B72,Y51-AA51,0)","v":0},{"$f":"IF(E51=0,0,IF(E51<'19'!B72, LinInterpolate($G$169,$R$23:$X$23,R51:X51,TRUE),Y51))","v":63.76}]
[null,20,"W.B 1 SB ","FW",{"$f":"INDEX!E53","v":3.25},{"$f":"IF(G52<'20'!M72,LinInterpolate(G52,'20'!M7:M72,'20'!I7:I72,TRUE),100)","v":100},{"$f":"'INDEX (Uncorrected trim )'!AA52","v":63.76},{"$f":"LinInterpolate(F52,'20'!I7:I72,'20'!H7:H72,TRUE)","v":65.353999999999999},{"$f":"LinInterpolate(F52,'20'!I7:I72,'20'!C7:C72,TRUE)","v":-2.2400000000000002},{"$f":"LinInterpolate(F52,'20'!I7:I72,'20'!D7:D72,TRUE)","v":-4.49},{"$f":"LinInterpolate(F52,'20'!I7:I72,'20'!E7:E72,TRUE)","v":5.71},null,-146.39296000000002,-293.43946,373.17133999999999,{"$f":"IF(LinInterpolate(F52,'20'!I7:I72,'20'!F7:F72,TRUE)>0,LinInterpolate(F52,'20'!I7:I72,'20'!F7:F72,TRUE),0)","v":0},null,{"$f":"LinInterpolate($E$52,'20'!$B7:$B72,'20'!J7:J72,TRUE)","v":63.34},{"$f":"LinInterpolate($E$52,'20'!$B7:$B72,'20'!K7:K72,TRUE)","v":63.48},{"$f":"LinInterpolate($E$52,'20'!$B7:$B72,'20'!L7:L72,TRUE)","v":63.62},{"$f":"LinInterpolate($E$52,'20'!$B7:$B72,'20'!M7:M72,TRUE)","v":63.76},{"$f":"LinInterpolate($E$52,'20'!$B7:$B72,'20'!N7:N72,TRUE)","v":63.51},{"$f":"LinInterpolate($E$52,'20'!$B7:$B72,'20'!O7:O72,TRUE)","v":63.26},{"$f":"LinInterpolate($E$52,'20'!$B7:$B72,'20'!P7:P72,TRUE)","v":63.02},63.76,{"$f":"IF(E52<'19'!B72,Y52-AA52,0)","v":0},{"$f":"IF(E52=0,0,IF(E52<'20'!B72, LinInterpolate($G$169,$R$23:$X$23,R52:X52,TRUE),Y52))","v":63.76}]
[null,21,{"$f":"'INDEX (Corrected trim 4)'!C52","v":"W.B 1 SB "},"SW",{"$f":"INDEX!E54","v":7.8},{"$f":"IF(G53<'21'!M163,LinInterpolate(G53,'21'!M7:M163,'21'!I7:I163,TRUE),100)","v":100},{"$f":"'INDEX (Uncorrected trim )'!AA53","v":64.81},{"$f":"LinInterpolate(F53,'21'!I7:I163,'21'!H7:H163,TRUE)","v":66.430250000000001},{"$f":"LinInterpolate(F53,'21'!I7:I163,'21'!C7:C163,TRUE)","v":51.05},{"$f":"LinInterpolate(F53,'21'!I7:I163,'21'!D7:D163,TRUE)","v":0},{"$f":"LinInterpolate(F53,'21'!I7:I163,'21'!E7:E163,TRUE)","v":4.75},null,3391.2642624999999,0,315.54368750000003,{"$f":"IF(LinInterpolate(F53,'21'!I7:I163,'21'!F7:F163,TRUE)>0,LinInterpolate(F53,'21'!I7:I163,'21'!F7:F163,TRUE),0)","v":0},null,{"$f":"LinInterpolate($E$53,'21'!$B7:$B163,'21'!J7:J163,TRUE)","v":64.8},{"$f":"LinInterpolate($E$53,'21'!$B7:$B163,'21'!K7:K163,TRUE)","v":64.81},{"$f":"LinInterpolate($E$53,'21'!$B7:$B163,'21'!L7:L163,TRUE)","v":64.81},{"$f":"LinInterpolate($E$53,'21'!$B7:$B163,'21'!M7:M163,TRUE)","v":64.81},{"$f":"LinInterpolate($E$53,'21'!$B7:$B163,'21'!N7:N163,TRUE)","v":64.81},{"$f":"LinInterpolate($E$53,'21'!$B7:$B163,'21'!O7:O163,TRUE)","v":64.78},{"$f":"LinInterpolate($E$53,'21'!$B7:$B163,'21'!P7:P163,TRUE)","v":64.66},64.81,{"$f":"IF(E53<'19'!B163,Y53-AA53,0)","v":0},{"$f":"IF(E53=0,0,IF(E53<'21'!B163, LinInterpolate($G$169,$R$23:$X$23,R53:X53,TRUE),Y53))","v":64.81}]
[null,22,"W.B. 2 PS","SW",{"$f":"INDEX!E55","v":7.8},{"$f":"IF(G54<'22'!M163,LinInterpolate(G54,'22'!M7:M163,'22'!I7:I163,TRUE),100)","v":100},{"$f":"'INDEX (Uncorrected trim )'!AA54","v":86.037999999999997},{"$f":"LinInterpolate(F54,'22'!I7:I163,'22'!H7:H163,TRUE)","v":88.188949999999991},{"$f":"LinInterpolate(F54,'22'!I7:I163,'22'!C7:C163,TRUE)","v":39.74},{"$f":"LinInterpolate(F54,'22'!I7:I163,'22'!D7:D163,TRUE)","v":6.82},{"$f":"LinInterpolate(F54,'22'!I7:I163,'22'!E7:E163,TRUE)","v":4.4800000000000004},null,3504.6288729999997,601.44863899999996,395.08649600000001,{"$f":"IF(LinInterpolate(F54,'22'!I7:I163,'22'!F7:F163,TRUE)>0,LinInterpolate(F54,'22'!I7:I163,'22'!F7:F163,TRUE),0)","v":0},null,{"$f":"LinInterpolate(E54,'22'!$B7:$B163,'22'!J7:J163,TRUE)","v":85.09},{"$f":"LinInterpolate(E54,'22'!$B7:$B163,'22'!K7:K163,TRUE)","v":85.85},{"$f":"LinInterpolate(E54,'22'!$B7:$B163,'22'!L7:L163,TRUE)","v":86.03},{"$f":"LinInterpolate(E54,'22'!$B7:$B163,'22'!M7:M163,TRUE)","v":86.037999999999997},{"$f":"LinInterpolate(E54,'22'!$B7:$B163,'22'!N7:N163,TRUE)","v":86.03},{"$f":"LinInterpolate(E54,'22'!$B7:$B163,'22'!O7:O163,TRUE)","v":86.03},{"$f":"LinInterpolate(E54,'22'!$B7:$B163,'22'!P7:P163,TRUE)","v":86.03},86.037999999999997,{"$f":"IF(E54<'19'!B163,Y54-AA54,0)","v":0},{"$f":"IF(E54=0,0,IF(E54<'22'!B163, LinInterpolate($G$169,$R$23:$X$23,R54:X54,TRUE),Y54))","v":86.037999999999997}]
[null,23,"W.B. 2 SB","SW",{"$f":"INDEX!E56","v":7.8},{"$f":"IF(G55<'23'!M163,LinInterpolate(G55,'23'!M7:M163,'23'!I7:I163,TRUE),100)","v":100},{"$f":"'INDEX (Uncorrected trim )'!AA55","v":87.665999999999997},{"$f":"LinInterpolate(F55,'23'!I7:I163,'23'!H7:H163,TRUE)","v":89.857649999999992},{"$f":"LinInterpolate(F55,'23'!I7:I163,'23'!C7:C163,TRUE)","v":39.83},{"$f":"LinInterpolate(F55,'23'!I7:I163,'23'!D7:D163,TRUE)","v":-6.78},{"$f":"LinInterpolate(F55,'23'!I7:I163,'23'!E7:E163,TRUE)","v":4.42},null,3579.0301994999995,-609.23486700000001,397.17081299999995,{"$f":"IF(LinInterpolate(F55,'23'!I7:I163,'23'!F7:F163,TRUE)>0,LinInterpolate(F55,'23'!I7:I163,'23'!F7:F163,TRUE),0)","v":0},null,{"$f":"LinInterpolate(E55,'23'!$B7:$B163,'23'!J7:J163,TRUE)","v":86.72},{"$f":"LinInterpolate(E55,'23'!$B7:$B163,'23'!K7:K163,TRUE)","v":87.48},{"$f":"LinInterpolate(E55,'23'!$B7:$B163,'23'!L7:L163,TRUE)","v":87.66},{"$f":"LinInterpolate(E55,'23'!$B7:$B163,'23'!M7:M163,TRUE)","v":87.665999999999997},{"$f":"LinInterpolate(E55,'23'!$B7:$B163,'23'!N7:N163,TRUE)","v":87.66},{"$f":"LinInterpolate(E55,'23'!$B7:$B163,'23'!O7:O163,TRUE)","v":87.66},{"$f":"LinInterpolate(E55,'23'!$B7:$B163,'23'!P7:P163,TRUE)","v":87.66},87.665999999999997,{"$f":"IF(E55<'19'!B163,Y55-AA55,0)","v":0},{"$f":"IF(E55=0,0,IF(E55<'23'!B163, LinInterpolate($G$169,$R$23:$X$23,R55:X55,TRUE),Y55))","v":87.665999999999997}]
[null,24,"W.B. 3 PS","SW",{"$f":"INDEX!E57","v":5.48},{"$f":"IF(G56<'24'!M117,LinInterpolate(G56,'24'!M7:M117,'24'!I7:I117,TRUE),100)","v":100},{"$f":"'INDEX (Uncorrected trim )'!AA56","v":28.05},{"$f":"LinInterpolate(F56,'24'!I7:I117,'24'!H7:H117,TRUE)","v":28.751249999999999},{"$f":"LinInterpolate(F56,'24'!I7:I117,'24'!C7:C117,TRUE)","v":31.59},{"$f":"LinInterpolate(F56,'24'!I7:I117,'24'!D7:D117,TRUE)","v":7.77},{"$f":"LinInterpolate(F56,'24'!I7:I117,'24'!E7:E117,TRUE)","v":3.95},null,908.25198749999993,223.39721249999997,113.5674375,{"$f":"IF(LinInterpolate(F56,'24'!I7:I117,'24'!F7:F117,TRUE)>0,LinInterpolate(F56,'24'!I7:I117,'24'!F7:F117,TRUE),0)","v":0},null,{"$f":"LinInterpolate(E56,'24'!$B7:$B117,'24'!J7:J117,TRUE)","v":27.91},{"$f":"LinInterpolate(E56,'24'!$B7:$B117,'24'!K7:K117,TRUE)","v":27.95},{"$f":"LinInterpolate(E56,'24'!$B7:$B117,'24'!L7:L117,TRUE)","v":28},{"$f":"LinInterpolate(E56,'24'!$B7:$B117,'24'!M7:M117,TRUE)","v":28.05},{"$f":"LinInterpolate(E56,'24'!$B7:$B117,'24'!N7:N117,TRUE)","v":28.03},{"$f":"LinInterpolate(E56,'24'!$B7:$B117,'24'!O7:O117,TRUE)","v":28.01},{"$f":"LinInterpolate(E56,'24'!$B7:$B117,'24'!P7:P117,TRUE)","v":28},28.05,{"$f":"IF(E56<'19'!B117,Y56-AA56,0)","v":0},{"$f":"IF(E56=0,0,IF(E56<'24'!B117,LinInterpolate($G$169,$R$23:$X$23,R56:X56,TRUE),Y56))","v":28.05}]
[null,25,"W.B. 3 SB","SW",{"$f":"INDEX!E58","v":5.48},{"$f":"IF(G57<'25'!M117,LinInterpolate(G57,'25'!M7:M117,'25'!I7:I117,TRUE),100)","v":100},{"$f":"'INDEX (Uncorrected trim )'!AA57","v":28.05},{"$f":"LinInterpolate(F57,'25'!I7:I117,'25'!H7:H117,TRUE)","v":28.751249999999999},{"$f":"LinInterpolate(F57,'25'!I7:I117,'25'!C7:C117,TRUE)","v":31.59},{"$f":"LinInterpolate(F57,'25'!I7:I117,'25'!D7:D117,TRUE)","v":-7.77},{"$f":"LinInterpolate(F57,'25'!I7:I117,'25'!E7:E117,TRUE)","v":3.95},null,908.25198749999993,-223.39721249999997,113.5674375,{"$f":"IF(LinInterpolate(F57,'25'!I7:I117,'25'!F7:F117,TRUE)>0,LinInterpolate(F57,'25'!I7:I117,'25'!F7:F117,TRUE),0)","v":0},null,{"$f":"LinInterpolate(E57,'25'!$B7:$B117,'25'!J7:J117,TRUE)","v":28.03},{"$f":"LinInterpolate(E57,'25'!$B7:$B117,'25'!K7:K117,TRUE)","v":28.04},{"$f":"LinInterpolate(E57,'25'!$B7:$B117,'25'!L7:L117,TRUE)","v":28.04},{"$f":"LinInterpolate(E57,'25'!$B7:$B117,'25'!M7:M117,TRUE)","v":28.05},{"$f":"LinInterpolate(E57,'25'!$B7:$B117,'25'!N7:N117,TRUE)","v":27.98},{"$f":"LinInterpolate(E57,'25'!$B7:$B117,'25'!O7:O117,TRUE)","v":27.91},{"$f":"LinInterpolate(E57,'25'!$B7:$B117,'25'!P7:P117,TRUE)","v":27.84},28.05,{"$f":"IF(E57<'19'!B117,Y57-AA57,0)","v":0},{"$f":"IF(E57=0,0,IF(E57<'25'!B117, LinInterpolate($G$169,$R$23:$X$23,R57:X57,TRUE),Y57))","v":28.05}]
[null,26,"W.B. 3 PS DB","SW",{"$f":"INDEX!E59","v":1.35},{"$f":"IF(G58<'26'!M34,LinInterpolate(G58,'26'!M7:M34,'26'!I7:I34,TRUE),100)","v":100},{"$f":"'INDEX (Uncorrected trim )'!AA58","v":24.36},{"$f":"LinInterpolate(F58,'26'!I7:I34,'26'!H7:H34,TRUE)","v":24.968999999999998},{"$f":"LinInterpolate(F58,'26'!I7:I34,'26'!C7:C34,TRUE)","v":31.46},{"$f":"LinInterpolate(F58,'26'!I7:I34,'26'!D7:D34,TRUE)","v":5.71},{"$f":"LinInterpolate(F58,'26'!I7:I34,'26'!E7:E34,TRUE)","v":0.63},null,785.52473999999995,142.57298999999998,15.730469999999999,{"$f":"IF(LinInterpolate(F58,'26'!I7:I34,'26'!F7:F34,TRUE)>0,LinInterpolate(F58,'26'!I7:I34,'26'!F7:F34,TRUE),0)","v":0},null,{"$f":"LinInterpolate(E58,'26'!$B7:$B34,'26'!J7:J34,TRUE)","v":24.36},{"$f":"LinInterpolate(E58,'26'!$B7:$B34,'26'!K7:K34,TRUE)","v":24.36},{"$f":"LinInterpolate(E58,'26'!$B7:$B34,'26'!L7:L34,TRUE)","v":24.36},{"$f":"LinInterpolate(E58,'26'!$B7:$B34,'26'!M7:M34,TRUE)","v":24.36},{"$f":"LinInterpolate(E58,'26'!$B7:$B34,'26'!N7:N34,TRUE)","v":24.36},{"$f":"LinInterpolate(E58,'26'!$B7:$B34,'26'!O7:O34,TRUE)","v":24.36},{"$f":"LinInterpolate(E58,'26'!$B7:$B34,'26'!P7:P34,TRUE)","v":24.33},24.36,{"$f":"IF(E58<'19'!B34,Y58-AA58,0)","v":0},{"$f":"IF(E58=0,0,IF(E58<'26'!B34,LinInterpolate($G$169,$R$23:$X$23,R58:X58,TRUE),Y58))","v":24.36}]
[null,27,"W.B. 3 SB DB","SW",{"$f":"INDEX!E60","v":1.35},{"$f":"IF(G59<'27'!M34,LinInterpolate(G59,'27'!M7:M34,'27'!I7:I34,TRUE),100)","v":100},{"$f":"'INDEX (Uncorrected trim )'!AA59","v":24.36},{"$f":"LinInterpolate(F59,'27'!I7:I34,'27'!H7:H34,TRUE)","v":24.968999999999998},{"$f":"LinInterpolate(F59,'27'!I7:I34,'27'!C7:C34,TRUE)","v":31.46},{"$f":"LinInterpolate(F59,'27'!I7:I34,'27'!D7:D34,TRUE)","v":-5.71},{"$f":"LinInterpolate(F59,'27'!I7:I34,'27'!E7:E34,TRUE)","v":0.63},null,785.52473999999995,-142.57298999999998,15.730469999999999,{"$f":"IF(LinInterpolate(F59,'27'!I7:I34,'27'!F7:F34,TRUE)>0,LinInterpolate(F59,'27'!I7:I34,'27'!F7:F34,TRUE),0)","v":0},null,{"$f":"LinInterpolate(E59,'27'!$B7:$B34,'27'!J7:J34,TRUE)","v":24.36},{"$f":"LinInterpolate(E59,'27'!$B7:$B34,'27'!K7:K34,TRUE)","v":24.36},{"$f":"LinInterpolate(E59,'27'!$B7:$B34,'27'!L7:L34,TRUE)","v":24.36},{"$f":"LinInterpolate(E59,'27'!$B7:$B34,'27'!M7:M34,TRUE)","v":24.36},{"$f":"LinInterpolate(E59,'27'!$B7:$B34,'27'!N7:N34,TRUE)","v":24.36},{"$f":"LinInterpolate(E59,'27'!$B7:$B34,'27'!O7:O34,TRUE)","v":24.36},{"$f":"LinInterpolate(E59,'27'!$B7:$B34,'27'!P7:P34,TRUE)","v":24.33},24.36,{"$f":"IF(E59<'19'!B34,Y59-AA59,0)","v":0},{"$f":"IF(E59=0,0,IF(E59<'27'!B34, LinInterpolate($G$169,$R$23:$X$23,R59:X59,TRUE),Y59))","v":24.36}]
[null,28,"W.B. 4 PS","SW",{"$f":"INDEX!E61","v":5.52},{"$f":"IF(G60<'28'!M118,LinInterpolate(G60,'28'!M7:M118,'28'!I7:I118,TRUE),100)","v":100},{"$f":"'INDEX (Uncorrected trim )'!AA60","v":26.7},{"$f":"LinInterpolate(F60,'28'!I7:I118,'28'!H7:H118,TRUE)","v":27.367499999999996},{"$f":"LinInterpolate(F60,'28'!I7:I118,'28'!C7:C118,TRUE)","v":26.1},{"$f":"LinInterpolate(F60,'28'!I7:I118,'28'!D7:D118,TRUE)","v":7.8},{"$f":"LinInterpolate(F60,'28'!I7:I118,'28'!E7:E118,TRUE)","v":4.04},null,714.29174999999998,213.46649999999997,110.56469999999999,{"$f":"IF(LinInterpolate(F60,'28'!I7:I118,'28'!F7:F118,TRUE)>0,LinInterpolate(F60,'28'!I7:I118,'28'!F7:F118,TRUE),0)","v":0},null,{"$f":"LinInterpolate(E60,'28'!$B7:$B118,'28'!J7:J118,TRUE)","v":26.35},{"$f":"LinInterpolate(E60,'28'!$B7:$B118,'28'!K7:K118,TRUE)","v":26.47},{"$f":"LinInterpolate(E60,'28'!$B7:$B118,'28'!L7:L118,TRUE)","v":26.58},{"$f":"LinInterpolate(E60,'28'!$B7:$B118,'28'!M7:M118,TRUE)","v":26.7},{"$f":"LinInterpolate(E60,'28'!$B7:$B118,'28'!N7:N118,TRUE)","v":26.7},{"$f":"LinInterpolate(E60,'28'!$B7:$B118,'28'!O7:O118,TRUE)","v":26.7},{"$f":"LinInterpolate(E60,'28'!$B7:$B118,'28'!P7:P118,TRUE)","v":26.7},26.7,{"$f":"IF(E60<'19'!B118,Y60-AA60,0)","v":0},{"$f":"IF(E60=0,0,IF(E60<'28'!B118,LinInterpolate($G$169,$R$23:$X$23,R60:X60,TRUE),Y60))","v":26.7}]
[null,29,"W.B. 4 SB","SW",{"$f":"INDEX!E62","v":5.52},{"$f":"IF(G61<'29'!M118,LinInterpolate(G61,'29'!M7:M118,'29'!I7:I118,TRUE),100)","v":100},{"$f":"'INDEX (Uncorrected trim )'!AA61","v":26.7},{"$f":"LinInterpolate(F61,'29'!I7:I118,'29'!H7:H118,TRUE)","v":27.367499999999996},{"$f":"LinInterpolate(F61,'29'!I7:I118,'29'!C7:C118,TRUE)","v":26.1},{"$f":"LinInterpolate(F61,'29'!I7:I118,'29'!D7:D118,TRUE)","v":-7.8},{"$f":"LinInterpolate(F61,'29'!I7:I118,'29'!E7:E118,TRUE)","v":4.04},null,714.29174999999998,-213.46649999999997,110.56469999999999,{"$f":"IF(LinInterpolate(F61,'29'!I7:I118,'29'!F7:F118,TRUE)>0,LinInterpolate(F61,'29'!I7:I118,'29'!F7:F118,TRUE),0)","v":0},null,{"$f":"LinInterpolate(E61,'29'!$B7:$B118,'29'!J7:J118,TRUE)","v":26.35},{"$f":"LinInterpolate(E61,'29'!$B7:$B118,'29'!K7:K118,TRUE)","v":26.47},{"$f":"LinInterpolate(E61,'29'!$B7:$B118,'29'!L7:L118,TRUE)","v":26.58},{"$f":"LinInterpolate(E61,'29'!$B7:$B118,'29'!M7:M118,TRUE)","v":26.7},{"$f":"LinInterpolate(E61,'29'!$B7:$B118,'29'!N7:N118,TRUE)","v":26.7},{"$f":"LinInterpolate(E61,'29'!$B7:$B118,'29'!O7:O118,TRUE)","v":26.7},{"$f":"LinInterpolate(E61,'29'!$B7:$B118,'29'!P7:P118,TRUE)","v":26.7},26.7,{"$f":"IF(E61<'19'!B118,Y61-AA61,0)","v":0},{"$f":"IF(E61=0,0,IF(E61<'29'!B118,LinInterpolate($G$169,$R$23:$X$23,R61:X61,TRUE),Y61))","v":26.7}]
[null,30,"W.B. 4 PS DB","SW",{"$f":"INDEX!E63","v":1.3},{"$f":"IF(G62<'30'!M34,LinInterpolate(G62,'30'!M7:M34,'30'!I7:I34,TRUE),100)","v":100},{"$f":"'INDEX (Uncorrected trim )'!AA62","v":45.49},{"$f":"LinInterpolate(F62,'30'!I7:I34,'30'!H7:H34,TRUE)","v":46.627249999999997},{"$f":"LinInterpolate(F62,'30'!I7:I34,'30'!C7:C34,TRUE)","v":26.09},{"$f":"LinInterpolate(F62,'30'!I7:I34,'30'!D7:D34,TRUE)","v":4.0999999999999996},{"$f":"LinInterpolate(F62,'30'!I7:I34,'30'!E7:E34,TRUE)","v":0.56000000000000005},null,1216.5049524999999,191.17172499999998,26.111260000000001,{"$f":"IF(LinInterpolate(F62,'30'!I7:I34,'30'!F7:F34,TRUE)>0,LinInterpolate(F62,'30'!I7:I34,'30'!F7:F34,TRUE),0)","v":0},null,{"$f":"LinInterpolate(E62,'30'!$B7:$B34,'30'!J7:J34,TRUE)","v":45.38},{"$f":"LinInterpolate(E62,'30'!$B7:$B34,'30'!K7:K34,TRUE)","v":45.46},{"$f":"LinInterpolate(E62,'30'!$B7:$B34,'30'!L7:L34,TRUE)","v":45.49},{"$f":"LinInterpolate(E62,'30'!$B7:$B34,'30'!M7:M34,TRUE)","v":45.49},{"$f":"LinInterpolate(E62,'30'!$B7:$B34,'30'!N7:N34,TRUE)","v":45.49},{"$f":"LinInterpolate(E62,'30'!$B7:$B34,'30'!O7:O34,TRUE)","v":45.49},{"$f":"LinInterpolate(E62,'30'!$B7:$B34,'30'!P7:P34,TRUE)","v":45.49},45.49,{"$f":"IF(E62<'19'!B34,Y62-AA62,0)","v":0},{"$f":"IF(E62=0,0,IF(E62<'30'!B34, LinInterpolate($G$169,$R$23:$X$23,S62:X62,TRUE),Y62))","v":45.49}]
[null,31,"W.B. 4 SB DB","SW",{"$f":"INDEX!E64","v":5.52},{"$f":"IF(G63<'31'!M34,LinInterpolate(G63,'31'!M7:M34,'31'!I7:I34,TRUE),100)","v":100},{"$f":"'INDEX (Uncorrected trim )'!AA63","v":45.49},{"$f":"LinInterpolate(F63,'31'!I7:I34,'31'!H7:H34,TRUE)","v":46.627249999999997},{"$f":"LinInterpolate(F63,'31'!I7:I34,'31'!C7:C34,TRUE)","v":26.09},{"$f":"LinInterpolate(F63,'31'!I7:I34,'31'!D7:D34,TRUE)","v":-4.0999999999999996},{"$f":"LinInterpolate(F63,'31'!I7:I34,'31'!E7:E34,TRUE)","v":0.56000000000000005},null,1216.5049524999999,-191.17172499999998,26.111260000000001,{"$f":"IF(LinInterpolate(F63,'31'!I7:I34,'31'!F7:F34,TRUE)>0,LinInterpolate(F63,'31'!I7:I34,'31'!F7:F34,TRUE),0)","v":0},null,{"$f":"LinInterpolate(E63,'31'!$B7:$B34,'31'!J7:J34,TRUE)","v":53.810000000000109},{"$f":"LinInterpolate(E63,'31'!$B7:$B34,'31'!K7:K34,TRUE)","v":48.825999999999929},{"$f":"LinInterpolate(E63,'31'!$B7:$B34,'31'!L7:L34,TRUE)","v":45.49},{"$f":"LinInterpolate(E63,'31'!$B7:$B34,'31'!M7:M34,TRUE)","v":45.49},{"$f":"LinInterpolate(E63,'31'!$B7:$B34,'31'!N7:N34,TRUE)","v":45.49},{"$f":"LinInterpolate(E63,'31'!$B7:$B34,'31'!O7:O34,TRUE)","v":45.49},{"$f":"LinInterpolate(E63,'31'!$B7:$B34,'31'!P7:P34,TRUE)","v":45.49},45.49,{"$f":"IF(E63<'19'!B34,Y63-AA63,0)","v":0},{"$f":"IF(E63=0,0,IF(E63<'31'!B34,LinInterpolate($G$169,$R$23:$X$23,R63:X63,TRUE),Y63))","v":45.49}]
[null,32,"W.B. 5 PS","SW",{"$f":"INDEX!E65","v":5.52},{"$f":"IF(G64<'32'!M118,LinInterpolate(G64,'32'!M7:M118,'32'!I7:I118,TRUE),100)","v":100},{"$f":"'INDEX (Uncorrected trim )'!AA64","v":23.67},{"$f":"LinInterpolate(F64,'32'!I7:I118,'32'!H7:H118,TRUE)","v":24.261749999999999},{"$f":"LinInterpolate(F64,'32'!I7:I118,'32'!C7:C118,TRUE)","v":21},{"$f":"LinInterpolate(F64,'32'!I7:I118,'32'!D7:D118,TRUE)","v":7.8},{"$f":"LinInterpolate(F64,'32'!I7:I118,'32'!E7:E118,TRUE)","v":4.04},null,509.49674999999996,189.24164999999999,98.017470000000003,{"$f":"IF(LinInterpolate(F64,'32'!I7:I118,'32'!F7:F118,TRUE)>0,LinInterpolate(F64,'32'!I7:I118,'32'!F7:F118,TRUE),0)","v":0},null,{"$f":"LinInterpolate(E64,'32'!$B7:$B118,'32'!J7:J118,TRUE)","v":23.41},{"$f":"LinInterpolate(E64,'32'!$B7:$B118,'32'!K7:K118,TRUE)","v":23.5},{"$f":"LinInterpolate(E64,'32'!$B7:$B118,'32'!L7:L118,TRUE)","v":23.58},{"$f":"LinInterpolate(E64,'32'!$B7:$B118,'32'!M7:M118,TRUE)","v":23.67},{"$f":"LinInterpolate(E64,'32'!$B7:$B118,'32'!N7:N118,TRUE)","v":23.67},{"$f":"LinInterpolate(E64,'32'!$B7:$B118,'32'!O7:O118,TRUE)","v":23.67},{"$f":"LinInterpolate(E64,'32'!$B7:$B118,'32'!P7:P118,TRUE)","v":23.67},23.67,{"$f":"IF(E64<'19'!B118,Y64-AA64,0)","v":0},{"$f":"IF(E64=0,0,IF(E64<'32'!B118,LinInterpolate($G$169,$R$23:$X$23,R64:X64,TRUE),Y64))","v":23.67}]
[null,33,"W.B. 5 SB","SW",{"$f":"INDEX!E66","v":5.52},{"$f":"IF(G65<'33'!M118,LinInterpolate(G65,'33'!M7:M118,'33'!I7:I118,TRUE),100)","v":100},{"$f":"'INDEX (Uncorrected trim )'!AA65","v":23.67},{"$f":"LinInterpolate(F65,'33'!I7:I118,'33'!H7:H118,TRUE)","v":24.261749999999999},{"$f":"LinInterpolate(F65,'33'!I7:I118,'33'!C7:C118,TRUE)","v":21},{"$f":"LinInterpolate(F65,'33'!I7:I118,'33'!D7:D118,TRUE)","v":-7.8},{"$f":"LinInterpolate(F65,'33'!I7:I118,'33'!E7:E118,TRUE)","v":4.04},null,509.49674999999996,-189.24164999999999,98.017470000000003,{"$f":"IF(LinInterpolate(F65,'33'!I7:I118,'33'!F7:F118,TRUE)>0,LinInterpolate(F65,'33'!I7:I118,'33'!F7:F118,TRUE),0)","v":0},null,{"$f":"LinInterpolate(E65,'33'!$B7:$B118,'33'!J7:J118,TRUE)","v":23.41},{"$f":"LinInterpolate(E65,'33'!$B7:$B118,'33'!K7:K118,TRUE)","v":23.5},{"$f":"LinInterpolate(E65,'33'!$B7:$B118,'33'!L7:L118,TRUE)","v":23.58},{"$f":"LinInterpolate(E65,'33'!$B7:$B118,'33'!M7:M118,TRUE)","v":23.67},{"$f":"LinInterpolate(E65,'33'!$B7:$B118,'33'!N7:N118,TRUE)","v":23.67},{"$f":"LinInterpolate(E65,'33'!$B7:$B118,'33'!O7:O118,TRUE)","v":23.67},{"$f":"LinInterpolate(E65,'33'!$B7:$B118,'33'!P7:P118,TRUE)","v":23.67},23.67,{"$f":"IF(E65<'19'!B118,Y65-AA65,0)","v":0},{"$f":"IF(E65=0,0,IF(E65<'33'!B118, LinInterpolate($G$169,$R$23:$X$23,R65:X65,TRUE),Y65))","v":23.67}]
[null,34,"W.B. 5 PS DB","SW",{"$f":"INDEX!E67","v":1.35},{"$f":"IF(G66<'34'!M34,LinInterpolate(G66,'34'!M7:M34,'34'!I7:I34,TRUE),100)","v":100},{"$f":"'INDEX (Uncorrected trim )'!AA66","v":40.159999999999997},{"$f":"LinInterpolate(F66,'34'!I7:I34,'34'!H7:H34,TRUE)","v":41.163999999999994},{"$f":"LinInterpolate(F66,'34'!I7:I34,'34'!C7:C34,TRUE)","v":21},{"$f":"LinInterpolate(F66,'34'!I7:I34,'34'!D7:D34,TRUE)","v":4.1500000000000004},{"$f":"LinInterpolate(F66,'34'!I7:I34,'34'!E7:E34,TRUE)","v":0.56000000000000005},null,864.44399999999985,170.8306,23.051839999999999,{"$f":"IF(LinInterpolate(F66,'34'!I7:I34,'34'!F7:F34,TRUE)>0,LinInterpolate(F66,'34'!I7:I34,'34'!F7:F34,TRUE),0)","v":0},null,{"$f":"LinInterpolate(E66,'34'!$B7:$B34,'34'!J7:J34,TRUE)","v":40.14},{"$f":"LinInterpolate(E66,'34'!$B7:$B34,'34'!K7:K34,TRUE)","v":40.159999999999997},{"$f":"LinInterpolate(E66,'34'!$B7:$B34,'34'!L7:L34,TRUE)","v":40.159999999999997},{"$f":"LinInterpolate(E66,'34'!$B7:$B34,'34'!M7:M34,TRUE)","v":40.159999999999997},{"$f":"LinInterpolate(E66,'34'!$B7:$B34,'34'!N7:N34,TRUE)","v":40.159999999999997},{"$f":"LinInterpolate(E66,'34'!$B7:$B34,'34'!O7:O34,TRUE)","v":40.159999999999997},{"$f":"LinInterpolate(E66,'34'!$B7:$B34,'34'!P7:P34,TRUE)","v":40.159999999999997},40.159999999999997,{"$f":"IF(E66<'19'!B34,Y66-AA66,0)","v":0},{"$f":"IF(E66=0,0,IF(E66<'34'!B34,LinInterpolate($G$169,$R$23:$X$23,R66:X66,TRUE),Y66))","v":40.159999999999997}]
[null,35,"W.B. 5 SB DB","SW",{"$f":"INDEX!E68","v":1.35},{"$f":"IF(G67<'35'!M34,LinInterpolate(G67,'35'!M7:M34,'35'!I7:I34,TRUE),100)","v":100},{"$f":"'INDEX (Uncorrected trim )'!AA67","v":40.159999999999997},{"$f":"LinInterpolate(F67,'35'!I7:I34,'35'!H7:H34,TRUE)","v":41.163999999999994},{"$f":"LinInterpolate(F67,'35'!I7:I34,'35'!C7:C34,TRUE)","v":21},{"$f":"LinInterpolate(F67,'35'!I7:I34,'35'!D7:D34,TRUE)","v":-4.1500000000000004},{"$f":"LinInterpolate(F67,'35'!I7:I34,'35'!E7:E34,TRUE)","v":0.56000000000000005},null,{"$f":"$H67*I67","v":864.44399999999985},-170.8306,23.051839999999999,{"$f":"IF(LinInterpolate(F67,'35'!I7:I34,'35'!F7:F34,TRUE)>0,LinInterpolate(F67,'35'!I7:I34,'35'!F7:F34,TRUE),0)","v":0},null,{"$f":"LinInterpolate(E67,'35'!$B7:$B34,'35'!J7:J34,TRUE)","v":40.14},{"$f":"LinInterpolate(E67,'35'!$B7:$B34,'35'!K7:K34,TRUE)","v":40.159999999999997},{"$f":"LinInterpolate(E67,'35'!$B7:$B34,'35'!L7:L34,TRUE)","v":40.159999999999997},{"$f":"LinInterpolate(E67,'35'!$B7:$B34,'35'!M7:M34,TRUE)","v":40.159999999999997},{"$f":"LinInterpolate(E67,'35'!$B7:$B34,'35'!N7:N34,TRUE)","v":40.159999999999997},{"$f":"LinInterpolate(E67,'35'!$B7:$B34,'35'!O7:O34,TRUE)","v":40.159999999999997},{"$f":"LinInterpolate(E67,'35'!$B7:$B34,'35'!P7:P34,TRUE)","v":40.159999999999997},40.159999999999997,{"$f":"IF(E67<'19'!B34,Y67-AA67,0)","v":0},{"$f":"IF(E67=0,0,IF(E67<'35'!B34,LinInterpolate($G$169,$R$23:$X$23,R67:X67,TRUE),Y67))","v":40.159999999999997}]
[null,36,"W.B. 6 PS","SW",{"$f":"INDEX!E69","v":5.51},{"$f":"IF(G68<'36'!M118,LinInterpolate(G68,'36'!M7:M118,'36'!I7:I118,TRUE),100)","v":100},{"$f":"'INDEX (Uncorrected trim )'!AA68","v":22.31},{"$f":"LinInterpolate(F68,'36'!I7:I118,'36'!H7:H118,TRUE)","v":22.857499999999998},{"$f":"LinInterpolate(F68,'36'!I7:I118,'36'!C7:C118,TRUE)","v":16.260000000000002},{"$f":"LinInterpolate(F68,'36'!I7:I118,'36'!D7:D118,TRUE)","v":7.79},{"$f":"LinInterpolate(F68,'36'!I7:I118,'36'!E7:E118,TRUE)","v":4.21},null,371.66295000000002,178.05992499999999,96.230074999999985,{"$f":"IF(LinInterpolate(F68,'36'!I7:I118,'36'!F7:F118,TRUE)>0,LinInterpolate(F68,'36'!I7:I118,'36'!F7:F118,TRUE),0)","v":0},null,{"$f":"LinInterpolate(E68,'36'!$B21:$B118,'36'!J21:J118,TRUE)","v":22.3},{"$f":"LinInterpolate(E68,'36'!$B21:$B118,'36'!K21:K118,TRUE)","v":22.3},{"$f":"LinInterpolate(E68,'36'!$B21:$B118,'36'!L21:L118,TRUE)","v":22.31},{"$f":"LinInterpolate(E68,'36'!$B21:$B118,'36'!M21:M118,TRUE)","v":22.31},{"$f":"LinInterpolate(E68,'36'!$B21:$B118,'36'!N21:N118,TRUE)","v":22.24},{"$f":"LinInterpolate(E68,'36'!$B21:$B118,'36'!O21:O118,TRUE)","v":22.17},{"$f":"LinInterpolate(E68,'36'!$B21:$B118,'36'!P21:P118,TRUE)","v":22.1},22.31,{"$f":"IF(E68<'19'!B118,Y68-AA68,0)","v":0},{"$f":"IF(E68=0,0,IF(E68<'36'!B118,LinInterpolate($G$169,$R$23:$X$23,R68:X68,TRUE),Y68))","v":22.31}]
[null,37,"W.B. 6 SB","SW",{"$f":"INDEX!E70","v":5.51},{"$f":"IF(G69<'37'!M118,LinInterpolate(G69,'37'!M7:M118,'37'!I7:I118,TRUE),100)","v":100},{"$f":"'INDEX (Uncorrected trim )'!AA69","v":22.31},{"$f":"LinInterpolate(F69,'37'!I7:I118,'37'!H7:H118,TRUE)","v":22.857499999999998},{"$f":"LinInterpolate(F69,'37'!I7:I118,'37'!C7:C118,TRUE)","v":16.260000000000002},{"$f":"LinInterpolate(F69,'37'!I7:I118,'37'!D7:D118,TRUE)","v":-7.79},{"$f":"LinInterpolate(F69,'37'!I7:I118,'37'!E7:E118,TRUE)","v":4.21},null,371.66295000000002,-178.05992499999999,96.230074999999985,{"$f":"IF(LinInterpolate(F69,'37'!I7:I118,'37'!F7:F118,TRUE)>0,LinInterpolate(F69,'37'!I7:I118,'37'!F7:F118,TRUE),0)","v":0},null,{"$f":"LinInterpolate(E69,'37'!$B7:$B118,'37'!J7:J118,TRUE)","v":22.3},{"$f":"LinInterpolate(E69,'37'!$B7:$B118,'37'!K7:K118,TRUE)","v":22.3},{"$f":"LinInterpolate(E69,'37'!$B7:$B118,'37'!L7:L118,TRUE)","v":22.3},{"$f":"LinInterpolate(E69,'37'!$B7:$B118,'37'!M7:M118,TRUE)","v":22.31},{"$f":"LinInterpolate(E69,'37'!$B7:$B118,'37'!N7:N118,TRUE)","v":22.24},{"$f":"LinInterpolate(E69,'37'!$B7:$B118,'37'!O7:O118,TRUE)","v":22.18},{"$f":"LinInterpolate(E69,'37'!$B7:$B118,'37'!P7:P118,TRUE)","v":22.11},22.31,{"$f":"IF(E69<'19'!B118,Y69-AA69,0)","v":0},{"$f":"IF(E69=0,0,IF(E69<'37'!B118,LinInterpolate($G$169,$R$23:$X$23,R69:X69,TRUE),Y69))","v":22.31}]
[null,38,"W.B. 6 PS DB","SW",{"$f":"INDEX!E71","v":2.2000000000000002},{"$f":"IF(G70<'38'!M51,LinInterpolate(G70,'38'!M7:M51,'38'!I7:I51,TRUE),100)","v":100},{"$f":"'INDEX (Uncorrected trim )'!AA70","v":39.67},{"$f":"LinInterpolate(F70,'38'!I7:I51,'38'!H7:H51,TRUE)","v":40.661749999999998},{"$f":"LinInterpolate(F70,'38'!I7:I51,'38'!C7:C51,TRUE)","v":16.2},{"$f":"LinInterpolate(F70,'38'!I7:I51,'38'!D7:D51,TRUE)","v":4.16},{"$f":"LinInterpolate(F70,'38'!I7:I51,'38'!E7:E51,TRUE)","v":0.63},null,658.72034999999994,169.15288000000001,25.616902499999998,{"$f":"IF(LinInterpolate(F70,'38'!I7:I51,'38'!F7:F51,TRUE)>0,LinInterpolate(F70,'38'!I7:I51,'38'!F7:F51,TRUE),0)","v":0},null,{"$f":"LinInterpolate(E70,'38'!$B7:$B51,'38'!J7:J51,TRUE)","v":39.67},{"$f":"LinInterpolate(E70,'38'!$B7:$B51,'38'!K7:K51,TRUE)","v":39.67},{"$f":"LinInterpolate(E70,'38'!$B7:$B51,'38'!L7:L51,TRUE)","v":39.67},{"$f":"LinInterpolate(E70,'38'!$B7:$B51,'38'!M7:M51,TRUE)","v":39.67},{"$f":"LinInterpolate(E70,'38'!$B7:$B51,'38'!N7:N51,TRUE)","v":39.659999999999997},{"$f":"LinInterpolate(E70,'38'!$B7:$B51,'38'!O7:O51,TRUE)","v":39.659999999999997},{"$f":"LinInterpolate(E70,'38'!$B7:$B51,'38'!P7:P51,TRUE)","v":39.65},39.67,{"$f":"IF(E70<'19'!B51,Y70-AA70,0)","v":0},{"$f":"IF(E70=0,0,IF(E70<'38'!B51, LinInterpolate($G$169,$R$23:$X$23,R70:X70,TRUE),Y70))","v":39.67}]
[null,39,"W.B. 6 SB DB","SW",{"$f":"INDEX!E72","v":2.2000000000000002},{"$f":"IF(G71<'39'!M51,LinInterpolate(G71,'39'!M7:M51,'39'!I7:I51,TRUE),100)","v":100},{"$f":"'INDEX (Uncorrected trim )'!AA71","v":39.67},{"$f":"LinInterpolate(F71,'39'!I7:I51,'39'!H7:H51,TRUE)","v":40.661749999999998},{"$f":"LinInterpolate(F71,'39'!I7:I51,'39'!C7:C51,TRUE)","v":16.2},{"$f":"LinInterpolate(F71,'39'!I7:I51,'39'!D7:D51,TRUE)","v":-4.16},{"$f":"LinInterpolate(F71,'39'!I7:I51,'39'!E7:E51,TRUE)","v":0.63},null,658.72034999999994,-169.15288000000001,25.616902499999998,{"$f":"IF(LinInterpolate(F71,'39'!I7:I51,'39'!F7:F51,TRUE)>0,LinInterpolate(F71,'39'!I7:I51,'39'!F7:F51,TRUE),0)","v":0},null,{"$f":"LinInterpolate(E71,'39'!$B7:$B51,'39'!J7:J51,TRUE)","v":39.67},{"$f":"LinInterpolate(E71,'39'!$B7:$B51,'39'!K7:K51,TRUE)","v":39.67},{"$f":"LinInterpolate(E71,'39'!$B7:$B51,'39'!L7:L51,TRUE)","v":39.67},{"$f":"LinInterpolate(E71,'39'!$B7:$B51,'39'!M7:M51,TRUE)","v":39.67},{"$f":"LinInterpolate(E71,'39'!$B7:$B51,'39'!N7:N51,TRUE)","v":39.659999999999997},{"$f":"LinInterpolate(E71,'39'!$B7:$B51,'39'!O7:O51,TRUE)","v":39.659999999999997},{"$f":"LinInterpolate(E71,'39'!$B7:$B51,'39'!P7:P51,TRUE)","v":39.659999999999997},39.67,{"$f":"IF(E71<'19'!B51,Y71-AA71,0)","v":0},{"$f":"IF(E71=0,0,IF(E71<'39'!B51, LinInterpolate($G$169,$R$23:$X$23,R71:X71,TRUE),Y71))","v":39.67}]
[null,40,"W.B. 7 PS","SW",{"$f":"INDEX!E73","v":4.6399999999999997},{"$f":"IF(G72<'40'!M100,LinInterpolate(G72,'40'!M7:M100,'40'!I7:I100,TRUE),100)","v":100},{"$f":"'INDEX (Uncorrected trim )'!AA72","v":17.48},{"$f":"LinInterpolate(F72,'40'!I7:I100,'40'!H7:H100,TRUE)","v":17.916999999999998},{"$f":"LinInterpolate(F72,'40'!I7:I100,'40'!C7:C100,TRUE)","v":11.34},{"$f":"LinInterpolate(F72,'40'!I7:I100,'40'!D7:D100,TRUE)","v":7.79},{"$f":"LinInterpolate(F72,'40'!I7:I100,'40'!E7:E100,TRUE)","v":4.92},null,203.17877999999999,139.57342999999997,88.151639999999986,{"$f":"IF(LinInterpolate(F72,'40'!I7:I100,'40'!F7:F100,TRUE)>0,LinInterpolate(F72,'40'!I7:I100,'40'!F7:F100,TRUE),0)","v":0},null,{"$f":"LinInterpolate(E72,'40'!$B7:$B100,'40'!J7:J100,TRUE)","v":17.48},{"$f":"LinInterpolate(E72,'40'!$B7:$B100,'40'!K7:K100,TRUE)","v":17.48},{"$f":"LinInterpolate(E72,'40'!$B7:$B100,'40'!L7:L100,TRUE)","v":17.48},{"$f":"LinInterpolate(E72,'40'!$B7:$B100,'40'!M7:M100,TRUE)","v":17.48},{"$f":"LinInterpolate(E72,'40'!$B7:$B100,'40'!N7:N100,TRUE)","v":17.37},{"$f":"LinInterpolate(E72,'40'!$B7:$B100,'40'!O7:O100,TRUE)","v":17.260000000000002},{"$f":"LinInterpolate(E72,'40'!$B7:$B100,'40'!P7:P100,TRUE)","v":17.149999999999999},17.48,{"$f":"IF(E72<'19'!B100,Y72-AA72,0)","v":0},{"$f":"IF(E72=0,0,IF(E72<'40'!B100,LinInterpolate($G$169,$R$23:$X$23,R72:X72,TRUE),Y72))","v":17.48}]
[null,41,"W.B. 7 SB","SW",{"$f":"INDEX!E74","v":4.6399999999999997},{"$f":"IF(G73<'41'!M100,LinInterpolate(G73,'41'!M7:M100,'41'!I7:I100,TRUE),100)","v":100},{"$f":"'INDEX (Uncorrected trim )'!AA73","v":17.48},{"$f":"LinInterpolate(F73,'41'!I7:I100,'41'!H7:H100,TRUE)","v":17.916999999999998},{"$f":"LinInterpolate(F73,'41'!I7:I100,'41'!C7:C100,TRUE)","v":11.34},{"$f":"LinInterpolate(F73,'41'!I7:I100,'41'!D7:D100,TRUE)","v":-7.79},{"$f":"LinInterpolate(F73,'41'!I7:I100,'41'!E7:E100,TRUE)","v":4.92},null,203.17877999999999,-139.57342999999997,88.151639999999986,{"$f":"IF(LinInterpolate(F73,'41'!I7:I100,'41'!F7:F100,TRUE)>0,LinInterpolate(F73,'41'!I7:I100,'41'!F7:F100,TRUE),0)","v":0},null,{"$f":"LinInterpolate(E73,'41'!$B7:$B100,'41'!J7:J100,TRUE)","v":17.48},{"$f":"LinInterpolate(E73,'41'!$B7:$B100,'41'!K7:K100,TRUE)","v":17.48},{"$f":"LinInterpolate(E73,'41'!$B7:$B100,'41'!L7:L100,TRUE)","v":17.48},{"$f":"LinInterpolate(E73,'41'!$B7:$B100,'41'!M7:M100,TRUE)","v":17.48},{"$f":"LinInterpolate(E73,'41'!$B7:$B100,'41'!N7:N100,TRUE)","v":17.37},{"$f":"LinInterpolate(E73,'41'!$B7:$B100,'41'!O7:O100,TRUE)","v":17.260000000000002},{"$f":"LinInterpolate(E73,'41'!$B7:$B100,'41'!P7:P100,TRUE)","v":17.149999999999999},17.48,{"$f":"IF(E73<'19'!B100,Y73-AA73,0)","v":0},{"$f":"IF(E73=0,0,IF(E73<'41'!B100, LinInterpolate($G$169,$R$23:$X$23,R73:X73,TRUE),Y73))","v":17.48}]
[null,42,"W.B. 7 PS DB","SW",{"$f":"INDEX!E75","v":4.55},{"$f":"IF(G74<'42'!M98,LinInterpolate(G74,'42'!M7:M98,'42'!I7:I98,TRUE),100)","v":100},{"$f":"'INDEX (Uncorrected trim )'!AA74","v":35.4},{"$f":"LinInterpolate(F74,'42'!I7:I98,'42'!H7:H98,TRUE)","v":36.284999999999997},{"$f":"LinInterpolate(F74,'42'!I7:I98,'42'!C7:C98,TRUE)","v":10.63},{"$f":"LinInterpolate(F74,'42'!I7:I98,'42'!D7:D98,TRUE)","v":5.9},{"$f":"LinInterpolate(F74,'42'!I7:I98,'42'!E7:E98,TRUE)","v":1.98},null,385.70954999999998,214.08150000000001,71.84429999999999,{"$f":"IF(LinInterpolate(F74,'42'!I7:I98,'42'!F7:F98,TRUE)>0,LinInterpolate(F74,'42'!I7:I98,'42'!F7:F98,TRUE),0)","v":0},null,{"$f":"LinInterpolate(E74,'42'!$B7:$B98,'42'!J7:J98,TRUE)","v":35.4},{"$f":"LinInterpolate(E74,'42'!$B7:$B98,'42'!K7:K98,TRUE)","v":35.4},{"$f":"LinInterpolate(E74,'42'!$B7:$B98,'42'!L7:L98,TRUE)","v":35.4},{"$f":"LinInterpolate(E74,'42'!$B7:$B98,'42'!M7:M98,TRUE)","v":35.4},{"$f":"LinInterpolate(E74,'42'!$B7:$B98,'42'!N7:N98,TRUE)","v":35.39},{"$f":"LinInterpolate(E74,'42'!$B7:$B98,'42'!O7:O98,TRUE)","v":35.39},{"$f":"LinInterpolate(E74,'42'!$B7:$B98,'42'!P7:P98,TRUE)","v":35.380000000000003},35.4,{"$f":"IF(E74<'19'!B98,Y74-AA74,0)","v":0},{"$f":"IF(E74=0,0,IF(E74<'42'!B98,LinInterpolate($G$169,$R$23:$X$23,R74:X74,TRUE),Y74))","v":35.4}]
[null,43,"W.B. 7 SB DB","SW",{"$f":"INDEX!E76","v":4.55},{"$f":"IF(G75<'43'!M98,LinInterpolate(G75,'43'!M7:M98,'43'!I7:I98,TRUE),100)","v":100},{"$f":"'INDEX (Uncorrected trim )'!AA75","v":35.4},{"$f":"LinInterpolate(F75,'43'!I7:I98,'43'!H7:H98,TRUE)","v":36.284999999999997},{"$f":"LinInterpolate(F75,'43'!I7:I98,'43'!C7:C98,TRUE)","v":10.63},{"$f":"LinInterpolate(F75,'43'!I7:I98,'43'!D7:D98,TRUE)","v":-5.9},{"$f":"LinInterpolate(F75,'43'!I7:I98,'43'!E7:E98,TRUE)","v":1.98},null,385.70954999999998,-214.08150000000001,71.84429999999999,{"$f":"IF(LinInterpolate(F75,'43'!I7:I98,'43'!F7:F98,TRUE)>0,LinInterpolate(F75,'43'!I7:I98,'43'!F7:F98,TRUE),0)","v":0},null,{"$f":"LinInterpolate(E75,'43'!$B7:$B98,'43'!J7:J98,TRUE)","v":35.4},{"$f":"LinInterpolate(E75,'43'!$B7:$B98,'43'!K7:K98,TRUE)","v":35.4},{"$f":"LinInterpolate(E75,'43'!$B7:$B98,'43'!L7:L98,TRUE)","v":35.4},{"$f":"LinInterpolate(E75,'43'!$B7:$B98,'43'!M7:M98,TRUE)","v":35.4},{"$f":"LinInterpolate(E75,'43'!$B7:$B98,'43'!N7:N98,TRUE)","v":35.39},{"$f":"LinInterpolate(E75,'43'!$B7:$B98,'43'!O7:O98,TRUE)","v":35.39},{"$f":"LinInterpolate(E75,'43'!$B7:$B98,'43'!P7:P98,TRUE)","v":35.380000000000003},35.4,{"$f":"IF(E75<'19'!B98,Y75-AA75,0)","v":0},{"$f":"IF(E75=0,0,IF(E75<'43'!B98,LinInterpolate($G$169,$R$23:$X$23,R75:X75,TRUE),Y75))","v":35.4}]
[null,44,"W.B. 8 PS DB","SW",{"$f":"INDEX!E77","v":2.7},{"$f":"IF(G76<'44'!M61,LinInterpolate(G76,'44'!M7:M61,'44'!I7:I61,TRUE),100)","v":100},{"$f":"'INDEX (Uncorrected trim )'!AA76","v":29.71},{"$f":"LinInterpolate(F76,'44'!I7:I61,'44'!H7:H61,TRUE)","v":30.452749999999998},{"$f":"LinInterpolate(F76,'44'!I7:I61,'44'!C7:C61,TRUE)","v":10.53},{"$f":"LinInterpolate(F76,'44'!I7:I61,'44'!D7:D61,TRUE)","v":1.47},{"$f":"LinInterpolate(F76,'44'!I7:I61,'44'!E7:E61,TRUE)","v":1.1100000000000001},null,320.66745749999995,44.765542499999995,33.802552500000004,{"$f":"IF(LinInterpolate(F76,'44'!I7:I61,'44'!F7:F61,TRUE)>0,LinInterpolate(F76,'44'!I7:I61,'44'!F7:F61,TRUE),0)","v":0},null,{"$f":"LinInterpolate(E76,'44'!$B7:$B61,'44'!J7:J61,TRUE)","v":29.71},{"$f":"LinInterpolate(E76,'44'!$B7:$B61,'44'!K7:K61,TRUE)","v":29.71},{"$f":"LinInterpolate(E76,'44'!$B7:$B61,'44'!L7:L61,TRUE)","v":29.71},{"$f":"LinInterpolate(E76,'44'!$B7:$B61,'44'!M7:M61,TRUE)","v":29.71},{"$f":"LinInterpolate(E76,'44'!$B7:$B61,'44'!N7:N61,TRUE)","v":29.7},{"$f":"LinInterpolate(E76,'44'!$B7:$B61,'44'!O7:O61,TRUE)","v":29.67},{"$f":"LinInterpolate(E76,'44'!$B7:$B61,'44'!P7:P61,TRUE)","v":29.59},29.71,{"$f":"IF(E76<'19'!B61,Y76-AA76,0)","v":0},{"$f":"IF(E76=0,0,IF(E76<'44'!B61,LinInterpolate($G$169,$R$23:$X$23,R76:X76,TRUE),Y76))","v":29.71}]
[null,45,"W.B. 8 SB DB","SW",{"$f":"INDEX!E78","v":2.7},{"$f":"IF(G77<'45'!M61,LinInterpolate(G77,'45'!M7:M61,'45'!I7:I61,TRUE),100)","v":100},{"$f":"'INDEX (Uncorrected trim )'!AA77","v":29.71},{"$f":"LinInterpolate(F77,'45'!I7:I61,'45'!H7:H61,TRUE)","v":30.452749999999998},{"$f":"LinInterpolate(F77,'45'!I7:I61,'45'!C7:C61,TRUE)","v":10.53},{"$f":"LinInterpolate(F77,'45'!I7:I61,'45'!D7:D61,TRUE)","v":-1.47},{"$f":"LinInterpolate(F77,'45'!I7:I61,'45'!E7:E61,TRUE)","v":1.1100000000000001},null,320.66745749999995,-44.765542499999995,33.802552500000004,{"$f":"IF(LinInterpolate(F77,'45'!I7:I61,'45'!F7:F61,TRUE)>0,LinInterpolate(F77,'45'!I7:I61,'45'!F7:F61,TRUE),0)","v":0},null,{"$f":"LinInterpolate(E77,'45'!$B7:$B61,'45'!J7:J61,TRUE)","v":29.71},{"$f":"LinInterpolate(E77,'45'!$B7:$B61,'45'!K7:K61,TRUE)","v":29.71},{"$f":"LinInterpolate(E77,'45'!$B7:$B61,'45'!L7:L61,TRUE)","v":29.71},{"$f":"LinInterpolate(E77,'45'!$B7:$B61,'45'!M7:M61,TRUE)","v":29.71},{"$f":"LinInterpolate(E77,'45'!$B7:$B61,'45'!N7:N61,TRUE)","v":29.7},{"$f":"LinInterpolate(E77,'45'!$B7:$B61,'45'!O7:O61,TRUE)","v":29.67},{"$f":"LinInterpolate(E77,'45'!$B7:$B61,'45'!P7:P61,TRUE)","v":29.59},29.71,{"$f":"IF(E77<'19'!B61,Y77-AA77,0)","v":0},{"$f":"IF(E77=0,0,IF(E77<'45'!B61, LinInterpolate($G$169,$R$23:$X$23,R77:X77,TRUE),Y77))","v":29.71}]
[null,null,"Total BW",null,null,{"$f":"(G78/1032.2)*100","v":99.98391784537877},{"$f":"SUM((G51:G77))","v":1032.0339999999997},{"$f":"SUM((H51:H77))","v":1057.8143499999999},{"$f":"M78/H78","v":22.744108122564228},{"$f":"N78/H78","v":-7.3606753396756736E-3},{"$f":"O78/H78","v":3.0813733728418415},null,{"$f":"SUM((M51:M77))","v":24059.043949999996},{"$f":"SUM((N51:N77))","v":-7.786228000000051},{"$f":"SUM((O51:O77))","v":3259.5209715000001},{"$f":"SUM((P51:P77))","v":0},null,null,null,null,null,null,null,null,null,{"$f":"SUM((Z51:Z77))","v":0},{"$f":"SUM((AA51:AA77))","v":1032.0339999999997}]
[]
[null,null,"FW (S.G. 1.000)",null,null,null,null,null,null,null,null,null,null,null,null,null,null,-1.5,-1,-0.5,0,0.5,1,1.5,"Volume","∆Volume","Volume2"]
[null,46,"F.W. 1 PS","FW",{"$f":"INDEX!E82","v":7.77},{"$f":"IF(G81<'46'!M163,LinInterpolate(G81,'46'!M7:M163,'46'!I7:I163,TRUE),100)","v":100},{"$f":"'INDEX (Uncorrected trim )'!AA81","v":73.349999999999994},{"$f":"LinInterpolate(F81,'46'!I7:I163,'46'!H7:H163,TRUE)","v":73.349999999999994},{"$f":"LinInterpolate(F81,'46'!I7:I163,'46'!C7:C163,TRUE)","v":47.04},{"$f":"LinInterpolate(F81,'46'!I7:I163,'46'!D7:D163,TRUE)","v":2.93},{"$f":"LinInterpolate(F81,'46'!I7:I163,'46'!E7:E163,TRUE)","v":4.93},null,{"$f":"$H81*I81","v":3450.3839999999996},214.91550000000001,361.61549999999994,{"$f":"IF(LinInterpolate(F81,'46'!I7:I163,'46'!F7:F163,TRUE)>0,LinInterpolate(F81,'46'!I7:I163,'46'!F7:F163,TRUE),0)","v":0},null,{"$f":"LinInterpolate(E81,'46'!$B7:$B163,'46'!J7:J163,TRUE)","v":72.150000000000006},{"$f":"LinInterpolate(E81,'46'!$B7:$B163,'46'!K7:K163,TRUE)","v":72.55},{"$f":"LinInterpolate(E81,'46'!$B7:$B163,'46'!L7:L163,TRUE)","v":72.95},{"$f":"LinInterpolate(E81,'46'!$B7:$B163,'46'!M7:M163,TRUE)","v":73.349999999999994},{"$f":"LinInterpolate(E81,'46'!$B7:$B163,'46'!N7:N163,TRUE)","v":73.349999999999994},{"$f":"LinInterpolate(E81,'46'!$B7:$B163,'46'!O7:O163,TRUE)","v":73.349999999999994},{"$f":"LinInterpolate(E81,'46'!$B7:$B163,'46'!P7:P163,TRUE)","v":73.349999999999994},{"$f":"G81","v":73.349999999999994},{"$f":"IF(E81<'19'!B163,Y81-AA81,0)","v":0},{"$f":"IF(E81=0,0,IF(E81<'46'!B163,LinInterpolate($G$169,$R$23:$X$23,R81:X81,TRUE),Y81))","v":73.349999999999994}]
[null,47,"F.W. 1 SB","FW",{"$f":"INDEX!E83","v":7.77},{"$f":"IF(G82<'47'!M163,LinInterpolate(G82,'47'!M7:M163,'47'!I7:I163,TRUE),100)","v":100},{"$f":"'INDEX (Uncorrected trim )'!AA82","v":73.349999999999994},{"$f":"LinInterpolate(F82,'47'!I7:I163,'47'!H7:H163,TRUE)","v":73.349999999999994},{"$f":"LinInterpolate(F82,'47'!I7:I163,'47'!C7:C163,TRUE)","v":47.05},{"$f":"LinInterpolate(F82,'47'!I7:I163,'47'!D7:D163,TRUE)","v":-2.93},{"$f":"LinInterpolate(F82,'47'!I7:I163,'47'!E7:E163,TRUE)","v":4.93},null,3451.1174999999994,-214.91550000000001,361.61549999999994,{"$f":"IF(LinInterpolate(F82,'47'!I7:I163,'47'!F7:F163,TRUE)>0,LinInterpolate(F82,'47'!I7:I163,'47'!F7:F163,TRUE),0)","v":0},null,{"$f":"LinInterpolate(E82,'47'!$B7:$B163,'47'!J7:J163,TRUE)","v":72.150000000000006},{"$f":"LinInterpolate(E82,'47'!$B7:$B163,'47'!K7:K163,TRUE)","v":72.55},{"$f":"LinInterpolate(E82,'47'!$B7:$B163,'47'!L7:L163,TRUE)","v":72.95},{"$f":"LinInterpolate(E82,'47'!$B7:$B163,'47'!M7:M163,TRUE)","v":73.349999999999994},{"$f":"LinInterpolate(E82,'47'!$B7:$B163,'47'!N7:N163,TRUE)","v":73.349999999999994},{"$f":"LinInterpolate(E82,'47'!$B7:$B163,'47'!O7:O163,TRUE)","v":73.349999999999994},{"$f":"LinInterpolate(E82,'47'!$B7:$B163,'47'!P7:P163,TRUE)","v":73.349999999999994},{"$f":"G82","v":73.349999999999994},{"$f":"IF(E82<'19'!B163,Y82-AA82,0)","v":0},{"$f":"IF(E82=0,0,IF(E82<'47'!B163, LinInterpolate($G$169,$R$23:$X$23,R82:X82,TRUE),Y82))","v":73.349999999999994}]
[null,48,"F.W. 1 C","FW",{"$f":"INDEX!E84","v":5.77},{"$f":"IF(G83<'48'!M123,LinInterpolate(G83,'48'!M7:M123,'48'!I7:I123,TRUE),100)","v":100},{"$f":"'INDEX (Uncorrected trim )'!AA83","v":103.64},{"$f":"LinInterpolate(F83,'48'!I7:I123,'48'!H7:H123,TRUE)","v":103.64},{"$f":"LinInterpolate(F83,'48'!I7:I123,'48'!C7:C123,TRUE)","v":15.61},{"$f":"LinInterpolate(F83,'48'!I7:I123,'48'!D7:D123,TRUE)","v":0},{"$f":"LinInterpolate(F83,'48'!I7:I123,'48'!E7:E123,TRUE)","v":3.91},null,1617.8204000000001,0,405.23240000000004,{"$f":"IF(LinInterpolate(F83,'48'!I7:I123,'48'!F7:F123,TRUE)>0,LinInterpolate(F83,'48'!I7:I123,'48'!F7:F123,TRUE),0)","v":0},null,{"$f":"LinInterpolate(E83,'48'!$B7:$B123,'48'!J7:J123,TRUE)","v":103.63},{"$f":"LinInterpolate(E83,'48'!$B7:$B123,'48'!K7:K123,TRUE)","v":103.64},{"$f":"LinInterpolate(E83,'48'!$B7:$B123,'48'!L7:L123,TRUE)","v":103.64},{"$f":"LinInterpolate(E83,'48'!$B7:$B123,'48'!M7:M123,TRUE)","v":103.64},{"$f":"LinInterpolate(E83,'48'!$B7:$B123,'48'!N7:N123,TRUE)","v":103.28},{"$f":"LinInterpolate(E83,'48'!$B7:$B123,'48'!O7:O123,TRUE)","v":102.93},{"$f":"LinInterpolate(E83,'48'!$B7:$B123,'48'!P7:P123,TRUE)","v":102.58},{"$f":"G83","v":103.64},{"$f":"IF(E83<'19'!B123,Y83-AA83,0)","v":0},{"$f":"IF(E83=0,0,IF(E83<'48'!B123, LinInterpolate($G$169,$R$23:$X$23,R83:X83,TRUE),Y83))","v":103.64}]
[null,49,"F.W. 2 PS","FW",{"$f":"INDEX!E85","v":5.8},{"$f":"IF(G84<'49'!M123,LinInterpolate(G84,'49'!M7:M123,'49'!I7:I123,TRUE),100)","v":100},{"$f":"'INDEX (Uncorrected trim )'!AA84","v":116.59},{"$f":"LinInterpolate(F84,'49'!I7:I123,'49'!H7:H123,TRUE)","v":116.59},{"$f":"LinInterpolate(F84,'49'!I7:I123,'49'!C7:C123,TRUE)","v":5.23},{"$f":"LinInterpolate(F84,'49'!I7:I123,'49'!D7:D123,TRUE)","v":4.01},{"$f":"LinInterpolate(F84,'49'!I7:I123,'49'!E7:E123,TRUE)","v":4.93},null,609.76570000000004,467.52589999999998,574.78869999999995,{"$f":"IF(LinInterpolate(F84,'49'!I7:I123,'49'!F7:F123,TRUE)>0,LinInterpolate(F84,'49'!I7:I123,'49'!F7:F123,TRUE),0)","v":0},null,{"$f":"LinInterpolate(E84,'49'!$B7:$B123,'49'!J7:J123,TRUE)","v":116.59},{"$f":"LinInterpolate(E84,'49'!$B7:$B123,'49'!K7:K123,TRUE)","v":116.59},{"$f":"LinInterpolate(E84,'49'!$B7:$B123,'49'!L7:L123,TRUE)","v":116.59},{"$f":"LinInterpolate(E84,'49'!$B7:$B123,'49'!M7:M123,TRUE)","v":116.59},{"$f":"LinInterpolate(E84,'49'!$B7:$B123,'49'!N7:N123,TRUE)","v":115.95},{"$f":"LinInterpolate(E84,'49'!$B7:$B123,'49'!O7:O123,TRUE)","v":115.32},{"$f":"LinInterpolate(E84,'49'!$B7:$B123,'49'!P7:P123,TRUE)","v":114.68},{"$f":"G84","v":116.59},{"$f":"IF(E84<'19'!B123,Y84-AA84,0)","v":0},{"$f":"IF(E84=0,0,IF(E84<'49'!B123,LinInterpolate($G$169,$R$23:$X$23,R84:X84,TRUE),Y84))","v":116.59}]
[null,50,"F.W. 2 SB","FW",{"$f":"INDEX!E86","v":5.8},{"$f":"IF(G85<'50'!M123,LinInterpolate(G85,'50'!M7:M123,'50'!I7:I123,TRUE),100)","v":100},{"$f":"'INDEX (Uncorrected trim )'!AA85","v":116.59},{"$f":"LinInterpolate(F85,'50'!I7:I123,'50'!H7:H123,TRUE)","v":116.59},{"$f":"LinInterpolate(F85,'50'!I7:I123,'50'!C7:C123,TRUE)","v":5.23},{"$f":"LinInterpolate(F85,'50'!I7:I123,'50'!D7:D123,TRUE)","v":-4.01},{"$f":"LinInterpolate(F85,'50'!I7:I123,'50'!E7:E123,TRUE)","v":4.93},null,609.76570000000004,-467.52589999999998,574.78869999999995,{"$f":"IF(LinInterpolate(F85,'50'!I7:I123,'50'!F7:F123,TRUE)>0,LinInterpolate(F85,'50'!I7:I123,'50'!F7:F123,TRUE),0)","v":0},null,{"$f":"LinInterpolate(E85,'50'!$B7:$B123,'50'!J7:J123,TRUE)","v":116.59},{"$f":"LinInterpolate(E85,'50'!$B7:$B123,'50'!K7:K123,TRUE)","v":116.59},{"$f":"LinInterpolate(E85,'50'!$B7:$B123,'50'!L7:L123,TRUE)","v":116.59},{"$f":"LinInterpolate(E85,'50'!$B7:$B123,'50'!M7:M123,TRUE)","v":116.59},{"$f":"LinInterpolate(E85,'50'!$B7:$B123,'50'!N7:N123,TRUE)","v":115.95},{"$f":"LinInterpolate(E85,'50'!$B7:$B123,'50'!O7:O123,TRUE)","v":115.32},{"$f":"LinInterpolate(E85,'50'!$B7:$B123,'50'!P7:P123,TRUE)","v":114.68},{"$f":"G85","v":116.59},{"$f":"IF(E85<'19'!B123,Y85-AA85,0)","v":0},{"$f":"IF(E85=0,0,IF(E85<'50'!B123,LinInterpolate($G$169,$R$23:$X$23,R85:X85,TRUE),Y85))","v":116.59}]
[null,null,"TOTAL FW ",null,null,{"$f":"(G86/483.6)*100","v":99.983457402812235},{"$f":"SUM((G81:G85))","v":483.52},{"$f":"SUM((H81:H85))","v":483.52},{"$f":"M86/H86","v":20.141572840833884},{"$f":"N86/H86","v":0},{"$f":"O86/H86","v":4.7113682991396422},null,{"$f":"SUM((M81:M85))","v":9738.8532999999989},{"$f":"SUM((N81:N85))","v":0},{"$f":"SUM((O81:O85))","v":2278.0407999999998},{"$f":"SUM((P81:P85))","v":0},null,null,null,null,null,null,null,null,null,{"$f":"SUM((Z81:Z85))","v":0},{"$f":"SUM((AA81:AA85))","v":483.52}]
[]
[null,"Sheet No.","Name","Sort of Fluid","Sounding Height","% Full","Volume","Weight","LCG","TCG","VCG",null,"Longitudinal","Transverse","Vertical","FSMt"]
[null,null,null,null,null," "," "," ","Fwd of AP","PS:+","Above BL",null,"Moment","Moment","Moment"," "]
[null,null,null,null,null,"%","m³","t","m","m","m",null,"t·m","t·m","t·m","t·m"]
[null,null,"MISC (S.G. Various)",null,null,null,null,null,null,null,null,null,null,null,null,null,null,-1.5,-1,-0.5,0,0.5,1,1.5,"Volume","∆Volume","Volume2"]
[null,51,"DIRTY OIL ","DIRTY",{"$f":"INDEX!E93","v":2},{"$f":"IF(G92<'51'!M27,LinInterpolate(G92,'51'!M7:M27,'51'!I7:I27,TRUE),100)","v":100},{"$f":"'INDEX (Uncorrected trim )'!AA92","v":13.43},{"$f":"LinInterpolate(F92,'51'!I7:I27,'51'!H7:H27,TRUE)","v":13.161399999999999},{"$f":"LinInterpolate(F92,'51'!I7:I27,'51'!C7:C27,TRUE)","v":36.93},{"$f":"LinInterpolate(F92,'51'!I7:I27,'51'!D7:D27,TRUE)","v":0},{"$f":"LinInterpolate(F92,'51'!I7:I27,'51'!E7:E27,TRUE)","v":0.5},null,{"$f":"$H92*I92","v":486.05050199999994},0,6.5806999999999993,{"$f":"IF(LinInterpolate(F92,'51'!I7:I27,'51'!F7:F27,TRUE)>0,LinInterpolate(F92,'51'!I7:I27,'51'!F7:F27,TRUE),0)","v":0},null,{"$f":"LinInterpolate(E92,'51'!$B7:$B27,'51'!J7:J27,TRUE)","v":24.639999999999997},{"$f":"LinInterpolate(E92,'51'!$B7:$B27,'51'!K7:K27,TRUE)","v":24.169999999999973},{"$f":"LinInterpolate(E92,'51'!$B7:$B27,'51'!L7:L27,TRUE)","v":22.029999999999987},{"$f":"LinInterpolate(E92,'51'!$B7:$B27,'51'!M7:M27,TRUE)","v":18.829999999999988},{"$f":"LinInterpolate(E92,'51'!$B7:$B27,'51'!N7:N27,TRUE)","v":15.829999999999982},{"$f":"LinInterpolate(E92,'51'!$B7:$B27,'51'!O7:O27,TRUE)","v":14.830000000000004},{"$f":"LinInterpolate(E92,'51'!$B7:$B27,'51'!P7:P27,TRUE)","v":14.630000000000008},{"$f":"G92","v":13.43},{"$f":"IF(E92<'19'!B27,Y92-AA92,0)","v":0},{"$f":"IF(E92=0,0,IF(E92<'51'!B27,LinInterpolate($G$169,$R$23:$X$23,R92:X92,TRUE),Y92))","v":13.43}]
[null,52,"OILY WATER ","OILY",{"$f":"INDEX!E94","v":2},{"$f":"IF(G93<'52'!L31,LinInterpolate(G93,'52'!L7:L31,'52'!I7:I31,TRUE),100)","v":100},{"$f":"'INDEX (Uncorrected trim )'!AA93","v":30.2},{"$f":"LinInterpolate(F93,'52'!I7:I31,'52'!H7:H31,TRUE)","v":29.596},{"$f":"LinInterpolate(F93,'52'!I7:I31,'52'!C7:C31,TRUE)","v":37.85},{"$f":"LinInterpolate(F93,'52'!I7:I31,'52'!D7:D31,TRUE)","v":-4.3},{"$f":"LinInterpolate(F93,'52'!I7:I31,'52'!E7:E31,TRUE)","v":0.56999999999999995},null,1120.2085999999999,-127.2628,16.869719999999997,{"$f":"IF(LinInterpolate(F93,'52'!I7:I31,'52'!F7:F31,TRUE)>0,LinInterpolate(F93,'52'!I7:I31,'52'!F7:F31,TRUE),0)","v":0},null,{"$f":"LinInterpolate(E93,'52'!$B7:$B31,'52'!J7:J31,TRUE)","v":38.539999999999978},{"$f":"LinInterpolate(E93,'52'!$B7:$B31,'52'!K7:K31,TRUE)","v":34.799999999999983},{"$f":"LinInterpolate(E93,'52'!$B7:$B31,'52'!L7:L31,TRUE)","v":31.479999999999972},{"$f":"LinInterpolate(E93,'52'!$B7:$B31,'52'!M7:M31,TRUE)","v":30.519999999999992},{"$f":"LinInterpolate(E93,'52'!$B7:$B31,'52'!N7:N31,TRUE)","v":30.2},{"$f":"LinInterpolate(E93,'52'!$B7:$B31,'52'!O7:O31,TRUE)","v":30.2},{"$f":"LinInterpolate(E93,'52'!$B7:$B31,'52'!P7:P31,TRUE)","v":30.2},30.2,{"$f":"IF(E93<'19'!B31,Y93-AA93,0)","v":0},{"$f":"IF(E93=0,0,IF(E93<'52'!B31, LinInterpolate($G$169,$R$23:$X$23,R93:X93,TRUE),Y93))","v":30.2}]
[null,53,"GREY WATER ","GREY",{"$f":"INDEX!E95","v":2},{"$f":"IF(G94<'53'!M27,LinInterpolate(G94,'53'!M7:M27,'53'!I7:I27,TRUE),100)","v":100},{"$f":"'INDEX (Uncorrected trim )'!AA94","v":31.1},{"$f":"LinInterpolate(F94,'53'!I7:I27,'53'!H7:H27,TRUE)","v":30.478000000000002},{"$f":"LinInterpolate(F94,'53'!I7:I27,'53'!C7:C27,TRUE)","v":41.56},{"$f":"LinInterpolate(F94,'53'!I7:I27,'53'!D7:D27,TRUE)","v":0},{"$f":"LinInterpolate(F94,'53'!I7:I27,'53'!E7:E27,TRUE)","v":0.5},null,1266.6656800000001,0,15.239000000000001,{"$f":"IF(LinInterpolate(F94,'53'!I7:I27,'53'!F7:F27,TRUE)>0,LinInterpolate(F94,'53'!I7:I27,'53'!F7:F27,TRUE),0)","v":0},null,{"$f":"LinInterpolate(E94,'53'!$B7:$B27,'53'!J7:J27,TRUE)","v":44.620000000000012},{"$f":"LinInterpolate(E94,'53'!$B7:$B27,'53'!K7:K27,TRUE)","v":44.389999999999951},{"$f":"LinInterpolate(E94,'53'!$B7:$B27,'53'!L7:L27,TRUE)","v":43.300000000000047},{"$f":"LinInterpolate(E94,'53'!$B7:$B27,'53'!M7:M27,TRUE)","v":43.500000000000007},{"$f":"LinInterpolate(E94,'53'!$B7:$B27,'53'!N7:N27,TRUE)","v":44.900000000000013},{"$f":"LinInterpolate(E94,'53'!$B7:$B27,'53'!O7:O27,TRUE)","v":45.959999999999987},{"$f":"LinInterpolate(E94,'53'!$B7:$B27,'53'!P7:P27,TRUE)","v":46.139999999999979},31.1,{"$f":"IF(E94<'19'!B27,Y94-AA94,0)","v":0},{"$f":"IF(E94=0,0,IF(E94<'53'!B27, LinInterpolate($G$169,$R$23:$X$23,R94:X94,TRUE),Y94))","v":31.1}]
[null,54,"SEWAGE ","SEWAGE",{"$f":"INDEX!E96","v":2},{"$f":"IF(G95<'54'!M31,LinInterpolate(G95,'54'!M7:M31,'54'!I7:I31,TRUE),100)","v":100},{"$f":"'INDEX (Uncorrected trim )'!AA95","v":30.2},{"$f":"LinInterpolate(F95,'54'!I7:I31,'54'!H7:H31,TRUE)","v":29.596},{"$f":"LinInterpolate(F95,'54'!I7:I31,'54'!C7:C31,TRUE)","v":37.85},{"$f":"LinInterpolate(F95,'54'!I7:I31,'54'!D7:D31,TRUE)","v":4.3},{"$f":"LinInterpolate(F95,'54'!I7:I31,'54'!E7:E31,TRUE)","v":0.56999999999999995},null,1120.2085999999999,127.2628,16.869719999999997,{"$f":"IF(LinInterpolate(F95,'54'!I7:I31,'54'!F7:F31,TRUE)>0,LinInterpolate(F95,'54'!I7:I31,'54'!F7:F31,TRUE),0)","v":0},null,{"$f":"LinInterpolate(E95,'54'!$B7:$B31,'54'!J7:J31,TRUE)","v":38.539999999999978},{"$f":"LinInterpolate(E95,'54'!$B7:$B31,'54'!K7:K31,TRUE)","v":34.799999999999983},{"$f":"LinInterpolate(E95,'54'!$B7:$B31,'54'!L7:L31,TRUE)","v":31.479999999999972},{"$f":"LinInterpolate(E95,'54'!$B7:$B31,'54'!M7:M31,TRUE)","v":30.519999999999992},{"$f":"LinInterpolate(E95,'54'!$B7:$B31,'54'!N7:N31,TRUE)","v":30.2},{"$f":"LinInterpolate(E95,'54'!$B7:$B31,'54'!O7:O31,TRUE)","v":30.2},{"$f":"LinInterpolate(E95,'54'!$B7:$B31,'54'!P7:P31,TRUE)","v":30.2},30.2,{"$f":"IF(E95<'19'!B31,Y95-AA95,0)","v":0},{"$f":"IF(E95=0,0,IF(E95<'54'!B31,LinInterpolate($G$169,$R$23:$X$23,R95:X95,TRUE),Y95))","v":30.2}]
[null,55,"SLUDGE ","SLUDGE",{"$f":"INDEX!E97","v":2},{"$f":"IF(G96<'55'!M27,LinInterpolate(G96,'55'!M7:M27,'55'!I7:I27,TRUE),100)","v":100},{"$f":"'INDEX (Uncorrected trim )'!AA96","v":19.05},{"$f":"LinInterpolate(F96,'55'!I7:I27,'55'!H7:H27,TRUE)","v":18.669},{"$f":"LinInterpolate(F96,'55'!I7:I27,'55'!C7:C27,TRUE)","v":31.5},{"$f":"LinInterpolate(F96,'55'!I7:I27,'55'!D7:D27,TRUE)","v":-1.8},{"$f":"LinInterpolate(F96,'55'!I7:I27,'55'!E7:E27,TRUE)","v":0.5},null,588.07349999999997,-33.604199999999999,9.3345000000000002,{"$f":"IF(LinInterpolate(F96,'55'!I7:I27,'55'!F7:F27,TRUE)>0,LinInterpolate(F96,'55'!I7:I27,'55'!F7:F27,TRUE),0)","v":0},null,{"$f":"LinInterpolate(E96,'55'!$B7:$B27,'55'!J7:J27,TRUE)","v":35.590000000000003},{"$f":"LinInterpolate(E96,'55'!$B7:$B27,'55'!K7:K27,TRUE)","v":35.409999999999982},{"$f":"LinInterpolate(E96,'55'!$B7:$B27,'55'!L7:L27,TRUE)","v":34.180000000000021},{"$f":"LinInterpolate(E96,'55'!$B7:$B27,'55'!M7:M27,TRUE)","v":26.649999999999974},{"$f":"LinInterpolate(E96,'55'!$B7:$B27,'55'!N7:N27,TRUE)","v":20.849999999999998},{"$f":"LinInterpolate(E96,'55'!$B7:$B27,'55'!O7:O27,TRUE)","v":20.050000000000015},{"$f":"LinInterpolate(E96,'55'!$B7:$B27,'55'!P7:P27,TRUE)","v":19.849999999999984},19.05,{"$f":"IF(E96<'19'!B27,Y96-AA96,0)","v":0},{"$f":"IF(E96=0,0,IF(E96<'55'!B27,LinInterpolate($G$169,$R$23:$X$23,R96:X96,TRUE),Y96))","v":19.05}]
[null,56,"LUBRICATION OIL PS","OIL",{"$f":"INDEX!E98","v":2},{"$f":"IF(G97<'56'!M47,LinInterpolate(G97,'56'!M7:M47,'56'!I7:I47,TRUE),100)","v":100},{"$f":"'INDEX (Uncorrected trim )'!AA97","v":10.58},{"$f":"LinInterpolate(F97,'56'!I7:I47,'56'!H7:H47,TRUE)","v":9.5220000000000002},{"$f":"LinInterpolate(F97,'56'!I7:I47,'56'!C7:C47,TRUE)","v":30.3},{"$f":"LinInterpolate(F97,'56'!I7:I47,'56'!D7:D47,TRUE)","v":-0.9},{"$f":"LinInterpolate(F97,'56'!I7:I47,'56'!E7:E47,TRUE)","v":5.8},null,288.51660000000004,-8.5698000000000008,55.227600000000002,{"$f":"IF(LinInterpolate(F97,'56'!I7:I47,'56'!F7:F47,TRUE)>0,LinInterpolate(F97,'56'!I7:I47,'56'!F7:F47,TRUE),0)","v":0},null,{"$f":"LinInterpolate(E97,'56'!$B7:$B47,'56'!J7:J47,TRUE)","v":10.594999999999999},{"$f":"LinInterpolate(E97,'56'!$B7:$B47,'56'!K7:K47,TRUE)","v":10.61},{"$f":"LinInterpolate(E97,'56'!$B7:$B47,'56'!L7:L47,TRUE)","v":10.64},{"$f":"LinInterpolate(E97,'56'!$B7:$B47,'56'!M7:M47,TRUE)","v":10.73},{"$f":"LinInterpolate(E97,'56'!$B7:$B47,'56'!N7:N47,TRUE)","v":10.684999999999999},{"$f":"LinInterpolate(E97,'56'!$B7:$B47,'56'!O7:O47,TRUE)","v":10.614999999999998},{"$f":"LinInterpolate(E97,'56'!$B7:$B47,'56'!P7:P47,TRUE)","v":10.530000000000003},10.58,{"$f":"IF(E97<'19'!B47,Y97-AA97,0)","v":0},{"$f":"IF(E97=0,0,IF(E97<'56'!B47, LinInterpolate($G$169,$R$23:$X$23,R97:X97,TRUE),Y97))","v":10.58}]
[null,57,"LUBRICATION OIL SB","OIL",{"$f":"INDEX!E99","v":2},{"$f":"IF(G98<'57'!M47,LinInterpolate(G98,'57'!M7:M47,'57'!I7:I47,TRUE),100)","v":100},{"$f":"'INDEX (Uncorrected trim )'!AA98","v":10.58},{"$f":"LinInterpolate(F98,'57'!I7:I47,'57'!H7:H47,TRUE)","v":9.5220000000000002},{"$f":"LinInterpolate(F98,'57'!I7:I47,'57'!C7:C47,TRUE)","v":30.3},{"$f":"LinInterpolate(F98,'57'!I7:I47,'57'!D7:D47,TRUE)","v":-2.7},{"$f":"LinInterpolate(F98,'57'!I7:I47,'57'!E7:E47,TRUE)","v":5.8},null,288.51660000000004,-25.709400000000002,55.227600000000002,{"$f":"IF(LinInterpolate(F98,'57'!I7:I47,'57'!F7:F47,TRUE)>0,LinInterpolate(F98,'57'!I7:I47,'57'!F7:F47,TRUE),0)","v":0},null,{"$f":"LinInterpolate(E98,'57'!$B7:$B47,'57'!J7:J47,TRUE)","v":10.594999999999999},{"$f":"LinInterpolate(E98,'57'!$B7:$B47,'57'!K7:K47,TRUE)","v":10.61},{"$f":"LinInterpolate(E98,'57'!$B7:$B47,'57'!L7:L47,TRUE)","v":10.64},{"$f":"LinInterpolate(E98,'57'!$B7:$B47,'57'!M7:M47,TRUE)","v":10.73},{"$f":"LinInterpolate(E98,'57'!$B7:$B47,'57'!N7:N47,TRUE)","v":10.684999999999999},{"$f":"LinInterpolate(E98,'57'!$B7:$B47,'57'!O7:O47,TRUE)","v":10.614999999999998},{"$f":"LinInterpolate(E98,'57'!$B7:$B47,'57'!P7:P47,TRUE)","v":10.530000000000003},10.58,{"$f":"IF(E98<'19'!B47,Y98-AA98,0)","v":0},{"$f":"IF(E98=0,0,IF(E98<'57'!B47,LinInterpolate($G$169,$R$23:$X$23,R98:X98,TRUE),Y98))","v":10.58}]
[null,58,"THERMAL OIL","OIL",{"$f":"INDEX!E100","v":2},{"$f":"IF(G99<'58'!M47,LinInterpolate(G99,'58'!M7:M47,'58'!I7:I47,TRUE),100)","v":100},{"$f":"'INDEX (Uncorrected trim )'!AA99","v":10.58},{"$f":"LinInterpolate(F99,'58'!I7:I47,'58'!H7:H47,TRUE)","v":10.368399999999999},{"$f":"LinInterpolate(F99,'58'!I7:I47,'58'!C7:C47,TRUE)","v":30.3},{"$f":"LinInterpolate(F99,'58'!I7:I47,'58'!D7:D47,TRUE)","v":0.9},{"$f":"LinInterpolate(F99,'58'!I7:I47,'58'!E7:E47,TRUE)","v":5.78},null,314.16251999999997,9.3315599999999996,59.929352000000002,{"$f":"IF(LinInterpolate(F99,'58'!I7:I47,'58'!F7:F47,TRUE)>0,LinInterpolate(F99,'58'!I7:I47,'58'!F7:F47,TRUE),0)","v":0},null,{"$f":"LinInterpolate(E99,'58'!$B7:$B47,'58'!J7:J47,TRUE)","v":10.58},{"$f":"LinInterpolate(E99,'58'!$B7:$B47,'58'!K7:K47,TRUE)","v":10.58},{"$f":"LinInterpolate(E99,'58'!$B7:$B47,'58'!L7:L47,TRUE)","v":10.58},{"$f":"LinInterpolate(E99,'58'!$B7:$B47,'58'!M7:M47,TRUE)","v":10.58},{"$f":"LinInterpolate(E99,'58'!$B7:$B47,'58'!N7:N47,TRUE)","v":10.58},{"$f":"LinInterpolate(E99,'58'!$B7:$B47,'58'!O7:O47,TRUE)","v":10.58},{"$f":"LinInterpolate(E99,'58'!$B7:$B47,'58'!P7:P47,TRUE)","v":10.58},10.58,{"$f":"IF(E99<'19'!B47,Y99-AA99,0)","v":0},{"$f":"IF(E99=0,0,IF(E99<'58'!B47, LinInterpolate($G$169,$R$23:$X$23,R99:X99,TRUE),Y99))","v":10.58}]
[null,null,"Total MISC",null,null,{"$f":"(G100/147.7)*100","v":105.42992552471229},{"$f":"SUM((G92:G99))","v":155.72000000000003},{"$f":"SUM((H92:H99))","v":150.9128},{"$f":"M100/H100","v":36.262017549207222},{"$f":"N100/H100","v":-0.38798458447527312},{"$f":"O100/H100","v":1.5590340381995429},null,{"$f":"SUM((M92:M99))","v":5472.4026020000001},{"$f":"SUM((N92:N99))","v":-58.551839999999999},{"$f":"SUM((O92:O99))","v":235.27819199999999},{"$f":"SUM((P92:P99))","v":0},null,null,null,null,null,null,null,null,null,{"$f":"SUM((Z92:Z99))","v":0},{"$f":"SUM((AA92:AA99))","v":155.72000000000003}]
[]
[null,null,"Total in all tanks",null,null,{"$f":"(G102/3086.976667)*100","v":97.529191355799654},{"$f":"G100+G86+G78+G45+G32","v":3010.7033806673162},{"$f":"H100+H86+H78+H45+H32","v":2963.6476173738924},{"$f":"M102/H102","v":22.294652881350018},{"$f":"N102/H102","v":-1.2433552418304E-2},{"$f":"O102/H102","v":3.6697937980142825},null,{"$f":"M100+M86+M78+M45+M32","v":66073.494891990966},{"$f":"N100+N86+N78+N45+N32","v":-36.848668000000046},{"$f":"O100+O86+O78+O45+O32","v":10875.975645738516},{"$f":"P100+P86+P78+P45+P32","v":13.984407371296962},null,null,null,null,null,null,null,null,null,{"$f":"Z100+Z86+Z78+Z45+Z32","v":0},{"$f":"AA100+AA86+AA78+AA45+AA32","v":3010.7033806673162}]
[]
[null,null,"Name",null,null,null,null,"Weight","LCG","TCG","VCG",null,"Longitudinal","Transverse","Vertical","FSMt"]
[null,null,null,null,null,null,null," ","Fwd of AP","PS:+","Above BL",null,"Moment","Moment","Moment"," "]
[null,null,null,null,null,null,null,"t","m","m","m",null,"t·m","t·m","t·m","t·m"]
[]
[null,null,"(DECK) LOADS"]
[null,null,"Name",null,null,null,null,"Weight","LCG","TCG","VCG",null,"Longitudinal","Transverse","Vertical","FSMt"]
[null,null,null,null,null,null,null," ","Fwd of AP","PS:+","Above BL",null,"Moment","Moment","Moment"," "]
[null,null,null,null,null,null,null,"t","m","m","m",null,"t·m","t·m","t·m","t·m"]
[null,null,{"$f":"INDEX!C113","v":"Deck load 1"},{"$f":"INDEX!#REF!","v":{"$error":"#REF!"}},{"$f":"INDEX!#REF!","v":{"$error":"#REF!"}},{"$f":"INDEX!#REF!","v":{"$error":"#REF!"}},{"$f":"INDEX!#REF!","v":{"$error":"#REF!"}},{"$f":"INDEX!H113","v":5},{"$f":"INDEX!I113","v":5},{"$f":"INDEX!J113","v":1},{"$f":"INDEX!K113","v":7},null,{"$f":"$H112*I112","v":25},{"$f":"$H112*J112","v":5},{"$f":"$H112*K112","v":35}]
[null,null,{"$f":"INDEX!C114","v":"Deck load 2"},{"$f":"INDEX!#REF!","v":{"$error":"#REF!"}},{"$f":"INDEX!#REF!","v":{"$error":"#REF!"}},{"$f":"INDEX!#REF!","v":{"$error":"#REF!"}},{"$f":"INDEX!#REF!","v":{"$error":"#REF!"}},{"$f":"INDEX!H114","v":5},{"$f":"INDEX!I114","v":5},{"$f":"INDEX!J114","v":-1},{"$f":"INDEX!K114","v":7},null,{"$f":"$H113*I113","v":25},{"$f":"$H113*J113","v":-5},{"$f":"$H113*K113","v":35}]
[null,null,{"$f":"INDEX!C115","v":"Deck load 3"},{"$f":"INDEX!#REF!","v":{"$error":"#REF!"}},{"$f":"INDEX!#REF!","v":{"$error":"#REF!"}},{"$f":"INDEX!#REF!","v":{"$error":"#REF!"}},{"$f":"INDEX!#REF!","v":{"$error":"#REF!"}},{"$f":"INDEX!H115","v":10},{"$f":"INDEX!I115","v":6},{"$f":"INDEX!J115","v":1},{"$f":"INDEX!K115","v":7},null,{"$f":"$H114*I114","v":60},{"$f":"$H114*J114","v":10},{"$f":"$H114*K114","v":70}]
[null,null,{"$f":"INDEX!C116","v":"Deck load 4"},{"$f":"INDEX!#REF!","v":{"$error":"#REF!"}},{"$f":"INDEX!#REF!","v":{"$error":"#REF!"}},{"$f":"INDEX!#REF!","v":{"$error":"#REF!"}},{"$f":"INDEX!#REF!","v":{"$error":"#REF!"}},{"$f":"INDEX!H116","v":10},{"$f":"INDEX!I116","v":6},{"$f":"INDEX!J116","v":-1},{"$f":"INDEX!K116","v":7},null,{"$f":"$H115*I115","v":60},{"$f":"$H115*J115","v":-10},{"$f":"$H115*K115","v":70}]
[null,null,{"$f":"INDEX!C117","v":"Deck load 5"},{"$f":"INDEX!#REF!","v":{"$error":"#REF!"}},{"$f":"INDEX!#REF!","v":{"$error":"#REF!"}},{"$f":"INDEX!#REF!","v":{"$error":"#REF!"}},{"$f":"INDEX!#REF!","v":{"$error":"#REF!"}},{"$f":"INDEX!H117","v":15},{"$f":"INDEX!I117","v":7},{"$f":"INDEX!J117","v":1},{"$f":"INDEX!K117","v":7},null,{"$f":"$H116*I116","v":105},{"$f":"$H116*J116","v":15},{"$f":"$H116*K116","v":105}]
[null,null,{"$f":"INDEX!C118","v":"Deck load 6"},{"$f":"INDEX!#REF!","v":{"$error":"#REF!"}},{"$f":"INDEX!#REF!","v":{"$error":"#REF!"}},{"$f":"INDEX!#REF!","v":{"$error":"#REF!"}},{"$f":"INDEX!#REF!","v":{"$error":"#REF!"}},{"$f":"INDEX!H118","v":15},{"$f":"INDEX!I118","v":7},{"$f":"INDEX!J118","v":-1},{"$f":"INDEX!K118","v":7},null,{"$f":"$H117*I117","v":105},{"$f":"$H117*J117","v":-15},{"$f":"$H117*K117","v":105}]
[null,null,{"$f":"INDEX!C119","v":"Deck load 7"},{"$f":"INDEX!#REF!","v":{"$error":"#REF!"}},{"$f":"INDEX!#REF!","v":{"$error":"#REF!"}},{"$f":"INDEX!#REF!","v":{"$error":"#REF!"}},{"$f":"INDEX!#REF!","v":{"$error":"#REF!"}},{"$f":"INDEX!H119","v":5},{"$f":"INDEX!I119","v":8},{"$f":"INDEX!J119","v":1},{"$f":"INDEX!K119","v":7},null,{"$f":"$H118*I118","v":40},{"$f":"$H118*J118","v":5},{"$f":"$H118*K118","v":35}]
[null,null,{"$f":"INDEX!C120","v":"Deck load 8"},{"$f":"INDEX!#REF!","v":{"$error":"#REF!"}},{"$f":"INDEX!#REF!","v":{"$error":"#REF!"}},{"$f":"INDEX!#REF!","v":{"$error":"#REF!"}},{"$f":"INDEX!#REF!","v":{"$error":"#REF!"}},{"$f":"INDEX!H120","v":5},{"$f":"INDEX!I120","v":8},{"$f":"INDEX!J120","v":-1},{"$f":"INDEX!K120","v":7},null,{"$f":"$H119*I119","v":40},{"$f":"$H119*J119","v":-5},{"$f":"$H119*K119","v":35}]
[]
[null,null,"Total Remaining",null,null,null,null,{"$f":"SUM(H112:H120)","v":70},{"$f":"M121/H121","v":6.5714285714285712},{"$f":"N121/H121","v":0},{"$f":"O121/H121","v":7},null,{"$f":"SUM(M112:M120)","v":460},{"$f":"SUM(N112:N120)","v":0},{"$f":"SUM(O112:O120)","v":490}]
[]
[]
[null,null,"Calculation Results"]
[null,null,null,null,null,null,"  "]
[null,null,"Ship weight",null,null,null,null,null,"LCG","TCG","VCG","Total Moments",null,null,null,"FSMt / ∆"]
[null,null,null,null,null,null,null,"t","m","m","m","t·m",null,"t·m","t·m","m"]
[null,null,"Displacement",null,null,null,null,{"$f":"H129+H21","v":4733.647617373892},{"$f":"L128/H128","v":24.829371426087601},{"$f":"N128/H128","v":-7.7844129894152868E-3},{"$f":"O128/H128","v":4.9150206196898729},{"$f":"L129+M21","v":117533.49489199097},null,{"$f":"N129+N21","v":-36.848668000000046},{"$f":"O129+O21","v":23265.975645738516},{"$f":"P102/H128","v":2.9542561047362368E-3}]
[null,null,"Total Deadweight",null,null,null,null,{"$f":"H121+H102","v":3033.6476173738924},{"$f":"L129/H129","v":21.931846833808059},{"$f":"N129/H129","v":-1.2146654011153236E-2},{"$f":"O129/H129","v":3.7466367486602108},{"$f":"M121+M102","v":66533.494891990966},null,{"$f":"N121+N102","v":-36.848668000000046},{"$f":"O121+O102","v":11365.975645738516}]
[]
[null,null,"Longitudinal Stability"]
[null,null,"Sheet used for calculation data:","Hydrostatics"]
[]
[null,null,"Trim","Draft","Displ.","LCB","VCB","ϕ","LCG'","LCB'","LCG'-LCB'",null,"LCF","KM"]
[null,null,null,"Moulded"," ","Fwd of AP",null,null,"LCG + tanϕ * VCG","LCB + tanϕ * VCB",null,null,"Fwd of AP"]
[null,null,"m","m","t","m","m","rad","m","m","m",null,"m","m"]
[null,null,-1.5,{"$f":"LinInterpolate(E137,Hydrostatics!D6:D86,Hydrostatics!C6:C86,TRUE)","v":6.6481864199444516},{"$f":"$H$128","v":4733.647617373892},{"$f":"LinInterpolate($E137,Hydrostatics!$D6:$D86,Hydrostatics!I6:I86,TRUE)","v":23.428186419944449},{"$f":"LinInterpolate($E137,Hydrostatics!$D6:$D86,Hydrostatics!J6:J86,TRUE)","v":3.6292745679777805},{"$f":"ATAN(C137/($G$172))","v":-2.8401451838560528E-2},{"$f":"$I$128+((TAN(H137))*$K$128)","v":24.689740158482774},{"$f":"F137+((TAN(H137))*G137)","v":23.325082028808716},{"$f":"I137-J137","v":1.3646581296740585},null,{"$f":"LinInterpolate($E137,Hydrostatics!$D6:$D86,Hydrostatics!K6:K86,TRUE)","v":33.981345435122321},{"$f":"LinInterpolate($E137,Hydrostatics!$D6:$D86,Hydrostatics!E6:E86,TRUE)","v":5.5743525921333177}]
[null,null,-1.4,{"$f":"LinInterpolate(E138,Hydrostatics!D88:D168,Hydrostatics!C88:C168,TRUE)","v":6.6344092413679743},4733.647617373892,{"$f":"LinInterpolate($E138,Hydrostatics!$D88:$D168,Hydrostatics!I88:I168,TRUE)","v":23.444409241367975},{"$f":"LinInterpolate($E138,Hydrostatics!$D88:$D168,Hydrostatics!J88:J168,TRUE)","v":3.6268818482735949},-2.6508940280468775E-2,24.69904890965643,23.348241919633448,1.3508069900229813,null,{"$f":"LinInterpolate($E138,Hydrostatics!$D88:$D168,Hydrostatics!K88:K168,TRUE)","v":33.576784165340399},{"$f":"LinInterpolate($E138,Hydrostatics!$D88:$D168,Hydrostatics!E88:E168,TRUE)","v":5.6442996689904561}]
[null,null,-1.3,{"$f":"LinInterpolate(E139,Hydrostatics!D170:D250,Hydrostatics!C170:C250,TRUE)","v":6.6211727631691986},4733.647617373892,{"$f":"LinInterpolate($E139,Hydrostatics!$D170:$D250,Hydrostatics!I170:I250,TRUE)","v":23.461172763169198},{"$f":"LinInterpolate($E139,Hydrostatics!$D170:$D250,Hydrostatics!J170:J250,TRUE)","v":3.6284691052676794},-2.4616238770206935E-2,24.708357660830085,23.371835455653137,1.3365222051769479,null,{"$f":"LinInterpolate($E139,Hydrostatics!$D170:$D250,Hydrostatics!K170:K250,TRUE)","v":33.24381339494709},{"$f":"LinInterpolate($E139,Hydrostatics!$D170:$D250,Hydrostatics!E170:E250,TRUE)","v":5.7049508157600837}]
[null,null,-1.2,{"$f":"LinInterpolate(E140,Hydrostatics!D252:D332,Hydrostatics!C252:C332,TRUE)","v":6.6085984157366235},4733.647617373892,{"$f":"LinInterpolate($E140,Hydrostatics!$D252:$D332,Hydrostatics!I252:I332,TRUE)","v":23.468598415736626},{"$f":"LinInterpolate($E140,Hydrostatics!$D252:$D332,Hydrostatics!J252:J332,TRUE)","v":3.6234393662946496},-2.2723360841641067E-2,24.717666412003741,23.386247521048112,1.3314188909556286,null,{"$f":"LinInterpolate($E140,Hydrostatics!$D252:$D332,Hydrostatics!K252:K332,TRUE)","v":32.828210849553884},{"$f":"LinInterpolate($E140,Hydrostatics!$D252:$D332,Hydrostatics!E252:E332,TRUE)","v":5.7776441190847772}]
[null,null,-1.1000000000000001,{"$f":"LinInterpolate(E141,Hydrostatics!D334:D414,Hydrostatics!C334:C414,TRUE)","v":6.5969400321738734},4733.647617373892,{"$f":"LinInterpolate($E141,Hydrostatics!$D334:$D414,Hydrostatics!I334:I414,TRUE)","v":23.487552025739099},{"$f":"LinInterpolate($E141,Hydrostatics!$D334:$D414,Hydrostatics!J334:J414,TRUE)","v":3.6287760128695492},-2.0830320036217088E-2,24.726975163177396,23.411952525470983,1.3150226377064129,null,{"$f":"LinInterpolate($E141,Hydrostatics!$D334:$D414,Hydrostatics!K334:K414,TRUE)","v":32.22900874643387},{"$f":"LinInterpolate($E141,Hydrostatics!$D334:$D414,Hydrostatics!E334:E414,TRUE)","v":5.8704038906088298},null," "]
[null,null,-1,{"$f":"LinInterpolate(E142,Hydrostatics!D416:D496,Hydrostatics!C416:C496,TRUE)","v":6.5868236870499848},4733.647617373892,{"$f":"LinInterpolate($E142,Hydrostatics!$D416:$D496,Hydrostatics!I416:I496,TRUE)","v":23.509458949639988},{"$f":"LinInterpolate($E142,Hydrostatics!$D416:$D496,Hydrostatics!J416:J496,TRUE)","v":3.6247294748199939},-1.8937129902380841E-2,24.736283914351048,23.440808770192639,1.2954751441584094,null,{"$f":"LinInterpolate($E142,Hydrostatics!$D416:$D496,Hydrostatics!K416:K496,TRUE)","v":31.525862701429645},{"$f":"LinInterpolate($E142,Hydrostatics!$D416:$D496,Hydrostatics!E416:E496,TRUE)","v":5.9874347266200525}]
[null,null,-0.89999999999999902,{"$f":"LinInterpolate(E143,Hydrostatics!D498:D578,Hydrostatics!C498:C578,TRUE)","v":6.5780886896458624},4733.647617373892,{"$f":"LinInterpolate($E143,Hydrostatics!$D498:$D578,Hydrostatics!I498:I578,TRUE)","v":23.532470951716693},{"$f":"LinInterpolate($E143,Hydrostatics!$D498:$D578,Hydrostatics!J498:J578,TRUE)","v":3.6256177379291725},-1.7043803994997404E-2,24.745592665524704,23.470670649365626,1.2749220161590777,null,{"$f":"LinInterpolate($E143,Hydrostatics!$D498:$D578,Hydrostatics!K498:K578,TRUE)","v":30.668278427305054},{"$f":"LinInterpolate($E143,Hydrostatics!$D498:$D578,Hydrostatics!E498:E578,TRUE)","v":6.1307920276290311}]
[null,null,-0.79999999999999905,{"$f":"LinInterpolate(E144,Hydrostatics!D580:D660,Hydrostatics!C580:C660,TRUE)","v":6.5710616678260516},4733.647617373892,{"$f":"LinInterpolate($E144,Hydrostatics!$D580:$D660,Hydrostatics!I580:I660,TRUE)","v":23.556849334260839},{"$f":"LinInterpolate($E144,Hydrostatics!$D580:$D660,Hydrostatics!J580:J660,TRUE)","v":3.628424667130421},-1.5150355874769794E-2,24.75490141669836,23.501873202940683,1.2530282137576769,null,{"$f":"LinInterpolate($E144,Hydrostatics!$D580:$D660,Hydrostatics!K580:K660,TRUE)","v":29.627706376694352},{"$f":"LinInterpolate($E144,Hydrostatics!$D580:$D660,Hydrostatics!E580:E660,TRUE)","v":6.3078423266088972}]
[null,null,-0.69999999999999896,{"$f":"LinInterpolate(E145,Hydrostatics!D662:D742,Hydrostatics!C662:C742,TRUE)","v":6.5660179835509158},4733.647617373892,{"$f":"LinInterpolate($E145,Hydrostatics!$D662:$D742,Hydrostatics!I662:I742,TRUE)","v":23.58961079013055},{"$f":"LinInterpolate($E145,Hydrostatics!$D662:$D742,Hydrostatics!J662:J742,TRUE)","v":3.6264071934203663},-1.3256799107656836E-2,24.764210167872015,23.541533422035961,1.2226767458360541,null,{"$f":"LinInterpolate($E145,Hydrostatics!$D662:$D742,Hydrostatics!K662:K742,TRUE)","v":28.391108551906093},{"$f":"LinInterpolate($E145,Hydrostatics!$D662:$D742,Hydrostatics!E662:E742,TRUE)","v":6.5106885019843208}]
[null,null,-0.59999999999999898,{"$f":"LinInterpolate(E146,Hydrostatics!D744:D824,Hydrostatics!C744:C824,TRUE)","v":6.5637178410544417},4733.647617373892,{"$f":"LinInterpolate($E146,Hydrostatics!$D744:$D824,Hydrostatics!I744:I824,TRUE)","v":23.628230704632667},{"$f":"LinInterpolate($E146,Hydrostatics!$D744:$D824,Hydrostatics!J744:J824,TRUE)","v":3.6254871364217771},-1.136314726429071E-2,24.773518919045671,23.587031987173329,1.1864869318723414,null,{"$f":"LinInterpolate($E146,Hydrostatics!$D744:$D824,Hydrostatics!K744:K824,TRUE)","v":26.754559279239015},{"$f":"LinInterpolate($E146,Hydrostatics!$D744:$D824,Hydrostatics!E744:E824,TRUE)","v":6.7839751126189043}]
[null,null,-0.5,{"$f":"LinInterpolate(E147,Hydrostatics!D826:D906,Hydrostatics!C826:C906,TRUE)","v":6.5648529023218476},4733.647617373892,{"$f":"LinInterpolate($E147,Hydrostatics!$D826:$D906,Hydrostatics!I826:I906,TRUE)","v":23.682970580464371},{"$f":"LinInterpolate($E147,Hydrostatics!$D826:$D906,Hydrostatics!J826:J906,TRUE)","v":3.6259411609287393},-9.4694139193938574E-3,24.782827670219326,23.648634016440425,1.134193653778901,null,{"$f":"LinInterpolate($E147,Hydrostatics!$D826:$D906,Hydrostatics!K826:K906,TRUE)","v":24.798791949559117},{"$f":"LinInterpolate($E147,Hydrostatics!$D826:$D906,Hydrostatics!E826:E906,TRUE)","v":7.1092944595677379}]
[null,null,-0.4,{"$f":"LinInterpolate(E148,Hydrostatics!D908:D988,Hydrostatics!C908:C988,TRUE)","v":6.5704042062487114},4733.647617373892,{"$f":"LinInterpolate($E148,Hydrostatics!$D908:$D988,Hydrostatics!I908:I988,TRUE)","v":23.751838317500514},{"$f":"LinInterpolate($E148,Hydrostatics!$D908:$D988,Hydrostatics!J908:J988,TRUE)","v":3.6222425237492266},-7.575612651195416E-3,24.792136421392982,23.724397086259991,1.0677393351329911,null,{"$f":"LinInterpolate($E148,Hydrostatics!$D908:$D988,Hydrostatics!K908:K988,TRUE)","v":22.672674328690459},{"$f":"LinInterpolate($E148,Hydrostatics!$D908:$D988,Hydrostatics!E908:E988,TRUE)","v":7.4530897150092796}]
[null,null,-0.3,{"$f":"LinInterpolate(E149,Hydrostatics!D990:D1070,Hydrostatics!C990:C1070,TRUE)","v":6.5785446141597879},4733.647617373892,{"$f":"LinInterpolate($E149,Hydrostatics!$D990:$D1070,Hydrostatics!I990:I1070,TRUE)","v":23.828582154336086},{"$f":"LinInterpolate($E149,Hydrostatics!$D990:$D1070,Hydrostatics!J990:J1070,TRUE)","v":3.621417845663915},-5.6817570408474469E-3,24.801445172566634,23.808005916576633,0.99343925599000116,null,{"$f":"LinInterpolate($E149,Hydrostatics!$D990:$D1070,Hydrostatics!K990:K1070,TRUE)","v":21.782835691327833},{"$f":"LinInterpolate($E149,Hydrostatics!$D990:$D1070,Hydrostatics!E990:E1070,TRUE)","v":7.61}]
[null,null,-0.2,{"$f":"LinInterpolate(E150,Hydrostatics!D1072:D1152,Hydrostatics!C1072:C1152,TRUE)","v":6.5872445139032489},4733.647617373892,{"$f":"LinInterpolate($E150,Hydrostatics!$D1072:$D1152,Hydrostatics!I1072:I1152,TRUE)","v":23.915102194438699},{"$f":"LinInterpolate($E150,Hydrostatics!$D1072:$D1152,Hydrostatics!J1072:J1152,TRUE)","v":3.6223467083419494},-3.7878606718406652E-3,24.81075392374029,23.901381184179829,0.90937273956046027,null,{"$f":"LinInterpolate($E150,Hydrostatics!$D1072:$D1152,Hydrostatics!K1072:K1152,TRUE)","v":21.819795611122597},{"$f":"LinInterpolate($E150,Hydrostatics!$D1072:$D1152,Hydrostatics!E1072:E1152,TRUE)","v":7.61}]
[null,null,-0.1,{"$f":"LinInterpolate(E151,Hydrostatics!D1154:D1234,Hydrostatics!C1154:C1234,TRUE)","v":6.5958961992965071},4733.647617373892,{"$f":"LinInterpolate($E151,Hydrostatics!$D1154:$D1234,Hydrostatics!I1154:I1234,TRUE)","v":24.001641520281396},{"$f":"LinInterpolate($E151,Hydrostatics!$D1154:$D1234,Hydrostatics!J1154:J1234,TRUE)","v":3.6183584797186032},-1.893937129420008E-3,24.820062674913945,23.994788568615263,0.82527410629868214,null,{"$f":"LinInterpolate($E151,Hydrostatics!$D1154:$D1234,Hydrostatics!K1154:K1234,TRUE)","v":21.856716959437204},{"$f":"LinInterpolate($E151,Hydrostatics!$D1154:$D1234,Hydrostatics!E1154:E1234,TRUE)","v":7.62}]
[null,null,0,{"$f":"LinInterpolate(E152,Hydrostatics!D1236:D1316,Hydrostatics!C1236:C1316,TRUE)","v":6.6044255800155742},4733.647617373892,{"$f":"LinInterpolate($E152,Hydrostatics!$D1236:$D1316,Hydrostatics!I1236:I1316,TRUE)","v":24.08822976799377},{"$f":"LinInterpolate($E152,Hydrostatics!$D1236:$D1316,Hydrostatics!J1236:J1316,TRUE)","v":3.6226553480093444},0,24.829371426087601,24.08822976799377,0.74114165809383081,null,{"$f":"LinInterpolate($E152,Hydrostatics!$D1236:$D1316,Hydrostatics!K1236:K1316,TRUE)","v":21.89354046401246},{"$f":"LinInterpolate($E152,Hydrostatics!$D1236:$D1316,Hydrostatics!E1236:E1316,TRUE)","v":7.62}]
[null,null,0.1,{"$f":"LinInterpolate(E153,Hydrostatics!D1318:D1398,Hydrostatics!C1318:C1398,TRUE)","v":6.6129167979573733},4733.647617373892,{"$f":"LinInterpolate($E153,Hydrostatics!$D1318:$D1398,Hydrostatics!I1318:I1398,TRUE)","v":24.174833280817051},{"$f":"LinInterpolate($E153,Hydrostatics!$D1318:$D1398,Hydrostatics!J1318:J1398,TRUE)","v":3.6177500787744239},1.893937129420008E-3,24.838680177261256,24.18168508020867,0.65699509705258663,null,{"$f":"LinInterpolate($E153,Hydrostatics!$D1318:$D1398,Hydrostatics!K1318:K1398,TRUE)","v":21.930333438365899},{"$f":"LinInterpolate($E153,Hydrostatics!$D1318:$D1398,Hydrostatics!E1318:E1398,TRUE)","v":7.6274166404085255}]
[null,null,0.2,{"$f":"LinInterpolate(E154,Hydrostatics!D1400:D1480,Hydrostatics!C1400:C1480,TRUE)","v":6.6213701086762189},4733.647617373892,{"$f":"LinInterpolate($E154,Hydrostatics!$D1400:$D1480,Hydrostatics!I1400:I1480,TRUE)","v":24.261451956529513},{"$f":"LinInterpolate($E154,Hydrostatics!$D1400:$D1480,Hydrostatics!J1400:J1480,TRUE)","v":3.6228220652057312},3.7878606718406652E-3,24.847988928434912,24.275174767382566,0.57281416105234584,null,{"$f":"LinInterpolate($E154,Hydrostatics!$D1400:$D1480,Hydrostatics!K1400:K1480,TRUE)","v":21.967096086940973},{"$f":"LinInterpolate($E154,Hydrostatics!$D1400:$D1480,Hydrostatics!E1400:E1480,TRUE)","v":7.63}]
[null,null,0.3,{"$f":"LinInterpolate(E155,Hydrostatics!D1482:D1562,Hydrostatics!C1482:C1562,TRUE)","v":6.6297406443905045},4733.647617373892,{"$f":"LinInterpolate($E155,Hydrostatics!$D1482:$D1562,Hydrostatics!I1482:I1562,TRUE)","v":24.348103742243797},{"$f":"LinInterpolate($E155,Hydrostatics!$D1482:$D1562,Hydrostatics!J1482:J1562,TRUE)","v":3.6218962577562017},5.6817570408474469E-3,24.857297679608568,24.368682698253775,0.48861498135479309,null,{"$f":"LinInterpolate($E155,Hydrostatics!$D1482:$D1562,Hydrostatics!K1482:K1562,TRUE)","v":22.0078443866343},{"$f":"LinInterpolate($E155,Hydrostatics!$D1482:$D1562,Hydrostatics!E1482:E1562,TRUE)","v":7.64}]
[null,null,0.4,{"$f":"LinInterpolate(E156,Hydrostatics!D1564:D1644,Hydrostatics!C1564:C1644,TRUE)","v":6.6379995729619337},4733.647617373892,{"$f":"LinInterpolate($E156,Hydrostatics!$D1564:$D1644,Hydrostatics!I1564:I1644,TRUE)","v":24.434800170815226},{"$f":"LinInterpolate($E156,Hydrostatics!$D1564:$D1644,Hydrostatics!J1564:J1644,TRUE)","v":3.62279974377716},7.575612651195416E-3,24.86660643078222,24.462245623419598,0.4043608073626217,null,{"$f":"LinInterpolate($E156,Hydrostatics!$D1564:$D1644,Hydrostatics!K1564:K1644,TRUE)","v":22.042799743777159},{"$f":"LinInterpolate($E156,Hydrostatics!$D1564:$D1644,Hydrostatics!E1564:E1644,TRUE)","v":7.6424000854076128}]
[null,null,0.5,{"$f":"LinInterpolate(E157,Hydrostatics!D1646:D1726,Hydrostatics!C1646:C1726,TRUE)","v":6.646266834492085},4733.647617373892,{"$f":"LinInterpolate($E157,Hydrostatics!$D1646:$D1726,Hydrostatics!I1646:I1726,TRUE)","v":24.521493266203166},{"$f":"LinInterpolate($E157,Hydrostatics!$D1646:$D1726,Hydrostatics!J1646:J1726,TRUE)","v":3.6277601006952507},9.4694139193938574E-3,24.875915181955875,24.555847055035507,0.32006812692036846,null,{"$f":"LinInterpolate($E157,Hydrostatics!$D1646:$D1726,Hydrostatics!K1646:K1726,TRUE)","v":22.077760100695251},{"$f":"LinInterpolate($E157,Hydrostatics!$D1646:$D1726,Hydrostatics!E1646:E1726,TRUE)","v":7.65}]
[null,null,0.6,{"$f":"LinInterpolate(E158,Hydrostatics!D1728:D1808,Hydrostatics!C1728:C1808,TRUE)","v":6.6543862415265469},4733.647617373892,{"$f":"LinInterpolate($E158,Hydrostatics!$D1728:$D1808,Hydrostatics!I1728:I1808,TRUE)","v":24.607368255084072},{"$f":"LinInterpolate($E158,Hydrostatics!$D1728:$D1808,Hydrostatics!J1728:J1808,TRUE)","v":3.6226317449159282},1.1363147264290729E-2,24.885223933129531,24.648534524912662,0.23668940821686846,null,{"$f":"LinInterpolate($E158,Hydrostatics!$D1728:$D1808,Hydrostatics!K1728:K1808,TRUE)","v":22.112631744915927},{"$f":"LinInterpolate($E158,Hydrostatics!$D1728:$D1808,Hydrostatics!E1728:E1808,TRUE)","v":7.65}]
[null,null,0.7,{"$f":"LinInterpolate(E159,Hydrostatics!D1810:D1890,Hydrostatics!C1810:C1890,TRUE)","v":6.6624973526376587},4733.647617373892,{"$f":"LinInterpolate($E159,Hydrostatics!$D1810:$D1890,Hydrostatics!I1810:I1890,TRUE)","v":24.692501588417404},{"$f":"LinInterpolate($E159,Hydrostatics!$D1810:$D1890,Hydrostatics!J1810:J1890,TRUE)","v":3.6274984115825948},1.3256799107656855E-2,24.894532684303186,24.740593423419444,0.15393926088374243,null,{"$f":"LinInterpolate($E159,Hydrostatics!$D1810:$D1890,Hydrostatics!K1810:K1890,TRUE)","v":22.144998941055064},{"$f":"LinInterpolate($E159,Hydrostatics!$D1810:$D1890,Hydrostatics!E1810:E1890,TRUE)","v":7.6575005294724683}]
[null,null,0.8,{"$f":"LinInterpolate(E160,Hydrostatics!D1892:D1972,Hydrostatics!C1892:C1972,TRUE)","v":6.6705430037571185},4733.647617373892,{"$f":"LinInterpolate($E160,Hydrostatics!$D1892:$D1972,Hydrostatics!I1892:I1972,TRUE)","v":24.777674197745728},{"$f":"LinInterpolate($E160,Hydrostatics!$D1892:$D1972,Hydrostatics!J1892:J1972,TRUE)","v":3.6282172015028471},1.5150355874769813E-2,24.903841435476842,24.832647185647286,7.1194249829556355E-2,null,{"$f":"LinInterpolate($E160,Hydrostatics!$D1892:$D1972,Hydrostatics!K1892:K1972,TRUE)","v":22.096045186474374},{"$f":"LinInterpolate($E160,Hydrostatics!$D1892:$D1972,Hydrostatics!E1892:E1972,TRUE)","v":7.6412397947400343}]
[null,null,0.9,{"$f":"LinInterpolate(E161,Hydrostatics!D1974:D2054,Hydrostatics!C1974:C2054,TRUE)","v":6.6787529342756633},4733.647617373892,{"$f":"LinInterpolate($E161,Hydrostatics!$D1974:$D2054,Hydrostatics!I1974:I2054,TRUE)","v":24.868498826289734},{"$f":"LinInterpolate($E161,Hydrostatics!$D1974:$D2054,Hydrostatics!J1974:J2054,TRUE)","v":3.627251760565398},1.7043803994997424E-2,24.913150186650498,24.930326981299373,-1.7176794648875671E-2,null,{"$f":"LinInterpolate($E161,Hydrostatics!$D1974:$D2054,Hydrostatics!K1974:K2054,TRUE)","v":22.004480046925487},{"$f":"LinInterpolate($E161,Hydrostatics!$D1974:$D2054,Hydrostatics!E1974:E2054,TRUE)","v":7.6067435445935399}]
[null,null,1,{"$f":"LinInterpolate(E162,Hydrostatics!D2056:D2136,Hydrostatics!C2056:C2136,TRUE)","v":6.6870740602414127},4733.647617373892,{"$f":"LinInterpolate($E162,Hydrostatics!$D2056:$D2136,Hydrostatics!I2056:I2136,TRUE)","v":24.955170375903435},{"$f":"LinInterpolate($E162,Hydrostatics!$D2056:$D2136,Hydrostatics!J2056:J2136,TRUE)","v":3.6322444361448478},1.8937129902380841E-2,24.922458937824153,25.023962884163755,-0.10150394633960147,null,{"$f":"LinInterpolate($E162,Hydrostatics!$D2056:$D2136,Hydrostatics!K2056:K2136,TRUE)","v":21.906333457827284},{"$f":"LinInterpolate($E162,Hydrostatics!$D2056:$D2136,Hydrostatics!E2056:E2136,TRUE)","v":7.5613630072274791}]
[null,null,1.1000000000000001,{"$f":"LinInterpolate(E163,Hydrostatics!D2138:D2218,Hydrostatics!C2138:C2218,TRUE)","v":6.6954984252550025},4733.647617373892,{"$f":"LinInterpolate($E163,Hydrostatics!$D2138:$D2218,Hydrostatics!I2138:I2218,TRUE)","v":25.042700944846999},{"$f":"LinInterpolate($E163,Hydrostatics!$D2138:$D2218,Hydrostatics!J2138:J2218,TRUE)","v":3.6281993701020006},2.0830320036217088E-2,24.931767688997805,25.118288431724125,-0.18652074272631936,null,{"$f":"LinInterpolate($E163,Hydrostatics!$D2138:$D2218,Hydrostatics!K2138:K2218,TRUE)","v":21.840610708265984},{"$f":"LinInterpolate($E163,Hydrostatics!$D2138:$D2218,Hydrostatics!E2138:E2218,TRUE)","v":7.5408037793879954}]
[null,null,1.2,{"$f":"LinInterpolate(E164,Hydrostatics!D2220:D2300,Hydrostatics!C2220:C2300,TRUE)","v":6.7042233540165377},4733.647617373892,{"$f":"LinInterpolate($E164,Hydrostatics!$D2220:$D2300,Hydrostatics!I2220:I2300,TRUE)","v":25.127465987590078},{"$f":"LinInterpolate($E164,Hydrostatics!$D2220:$D2300,Hydrostatics!J2220:J2300,TRUE)","v":3.6325340124099226},2.2723360841641067E-2,24.941076440171461,25.210023578781211,-0.26894713860975017,null,{"$f":"LinInterpolate($E164,Hydrostatics!$D2220:$D2300,Hydrostatics!K2220:K2300,TRUE)","v":21.736349217507392},{"$f":"LinInterpolate($E164,Hydrostatics!$D2220:$D2300,Hydrostatics!E2220:E2300,TRUE)","v":7.4998639503603091}]
[null,null,1.3,{"$f":"LinInterpolate(E165,Hydrostatics!D2302:D2382,Hydrostatics!C2302:C2382,TRUE)","v":6.7133026460308978},4733.647617373892,{"$f":"LinInterpolate($E165,Hydrostatics!$D2302:$D2382,Hydrostatics!I2302:I2382,TRUE)","v":25.212018412381461},{"$f":"LinInterpolate($E165,Hydrostatics!$D2302:$D2382,Hydrostatics!J2302:J2382,TRUE)","v":3.6353210584123588},2.4616238770206935E-2,24.950385191345116,25.30152442328934,-0.3511392319442237,null,{"$f":"LinInterpolate($E165,Hydrostatics!$D2302:$D2382,Hydrostatics!K2302:K2382,TRUE)","v":21.660826240639334},{"$f":"LinInterpolate($E165,Hydrostatics!$D2302:$D2382,Hydrostatics!E2302:E2382,TRUE)","v":7.4580736495258462}]
[null,null,1.4,{"$f":"LinInterpolate(E166,Hydrostatics!D2328:D2464,Hydrostatics!C2328:C2464,TRUE)","v":6.7223057624089613},4733.647617373892,{"$f":"LinInterpolate($E166,Hydrostatics!$D2328:$D2464,Hydrostatics!I2328:I2464,TRUE)","v":25.30215539007283},{"$f":"LinInterpolate($E166,Hydrostatics!$D2328:$D2464,Hydrostatics!J2328:J2464,TRUE)","v":3.6389223049635846},2.6508940280468775E-2,24.959693942518772,25.398641966340804,-0.43894802382203224,null,{"$f":"LinInterpolate($E166,Hydrostatics!$D2328:$D2464,Hydrostatics!K2328:K2464,TRUE)","v":21.638471187955194},{"$f":"LinInterpolate($E166,Hydrostatics!$D2328:$D2464,Hydrostatics!E2328:E2464,TRUE)","v":7.4464661702184918}]
[null,null,1.5,{"$f":"LinInterpolate(E167,Hydrostatics!D2466:D2546,Hydrostatics!C2466:C2546,TRUE)","v":6.7313520592013099},4733.647617373892,{"$f":"LinInterpolate($E167,Hydrostatics!$D2466:$D2546,Hydrostatics!I2466:I2546,TRUE)","v":25.391188764479214},{"$f":"LinInterpolate($E167,Hydrostatics!$D2466:$D2546,Hydrostatics!J2466:J2546,TRUE)","v":3.6388112355207856},2.8401451838560528E-2,24.969002693692428,25.494564083670145,-0.5255613899777174,null,{"$f":"LinInterpolate($E167,Hydrostatics!$D2466:$D2546,Hydrostatics!K2466:K2546,TRUE)","v":21.59459176319476},{"$f":"LinInterpolate($E167,Hydrostatics!$D2466:$D2546,Hydrostatics!E2466:E2546,TRUE)","v":7.4072958815973813}]
[]
[null,null,"Total trim",null,null,null,{"$f":"LinInterpolate(0,(K137:K167),(C137:C167),FALSE)","v":0.88056287016833001},"m"]
[null,null,"Mean Draft","From Hydro Table",null,null,{"$f":"LinInterpolate(0,(K137:K167),(D137:D167),FALSE)","v":6.6771571594216841},"m"]
[null,null,"LBP/2","From Hydro Table",null,null,{"$f":"G172/2","v":26.4},"m"]
[null,null,"LBP","Ship Data",null,null,52.8,"m"]
[]
[null,null,"Draft aft",null,null,null,{"$f":"G170-(G169/2)","v":6.2368757243375192},"m"]
[null,null,"Draft forward",null,null,null,{"$f":"G170+G169/2","v":7.1174385945058489},"m"]
[null,null,"Draft midships",null,null,null,{"$f":"(G174+G175)/2","v":6.6771571594216841},"m"]
[]
[null,null,"Transverse Stability"]
[null,null,"KMt","From Hydro Table",null,null,{"$f":"LinInterpolate(G169,(C137:C167),(N137:N167),FALSE)","v":7.6134486255215714},"m"]
[null,null,"KGsolid",null,null,null,{"$f":"K128","v":4.9150206196898729},"m"]
[null,null,"KGfluid","KMt-GMtfluid",null,null,{"$f":"G179-G183","v":4.9179748757946093},"m"]
[null,null,"GMtsolid","KMt-KGsolid",null,null,{"$f":"G179-G180","v":2.6984280058316985},"m"]
[null,null,"GMtfluid","GMtsolid-FSMt",null,null,{"$f":"G182-P128","v":2.6954737497269621},"m"]

{"sheet":"INDEX (Uncorrected trim )","index":5,"n_rows":183,"n_cols":27,"rows_kept":183,"cut":false,"hidden":false,"merged":[[20,17,20,23],[20,24,20,26],[112,2,112,6],[111,2,111,6],[117,2,117,6],[116,2,116,6],[115,2,115,6],[114,2,114,6],[113,2,113,6],[108,2,110,6],[14,8,14,11],[2,5,2,12],[3,5,3,12],[4,5,4,12],[7,1,8,7],[7,8,7,15],[8,10,8,11],[9,10,9,11],[10,10,10,11],[11,10,11,11],[12,10,12,11],[13,10,13,11],[16,1,18,1],[46,1,48,1],[87,1,89,1],[103,1,105,1],[103,2,105,6],[174,3,174,4],[118,2,118,6],[175,3,175,4],[179,3,179,5],[125,11,125,12],[126,11,126,12],[127,11,127,12],[128,11,128,12],[173,3,173,4]]}
[]
[null,null,null,"Stability Calculation ",null,null,null,null,null,null,null,null,null,null,null,null,null,"Explanation of worksheet:"]
[null,null,null,"Project :",null,null,null,null,null,null,null,null,null,"Originator :",null,null,null,"Changing tank filling"]
[null,null,null,"Doc. No :",null,null,null,null,null,null,null,null,null,"Checked :",null,null,null,"Fill in all sounding heights of tanks in following cells:"]
[null,null,null,"Subject/Remarks :",null,null,null,null,null,null,null,null,null,"Revision :",null,null,null,"The following data will be calculated automatically, with help of tank tables:",null,null,null,null,null,null,"Volume","m³"]
[null,null,null,null,null,null,null,null,null,null,null,null,null,"Date :",null,null,null,null,null,null,null,null,null,null,"Weight","t"]
[null,null,null,null,null,null,null,null,null,null,null,null,null,null,null,null,null,null,null,null,null,null,null,null,"LCG","m"]
[null,"Summary Stability Results",null,null,null,null,null,null,"Summary Loading condition",null,null,null,null,null,null,null,null,null,null,null,null,null,null,null,"TCG ","m"]
[null,null,null,null,null,null,null,null,"Item","% Full","Volume",null,"Weight","LCG","TCG","VCG",null,null,null,null,null,null,null,null,"VCG","m"]
[null,"Displ.",{"$f":"H128","v":4733.647617373892},"t","Draft mid.",null,{"$f":"G176","v":6.6771571594216841},"m","F.O. ",{"$f":"F32","v":99.932940002127552},{"$f":"G32","v":343.66938066731666},null,{"$f":"H32","v":295.55566737389228},{"$f":"I32","v":29.877028190497114},{"$f":"J32","v":9.9776127664960246E-2},{"$f":"K32","v":3.7666983080726206},null,null,null,null,null,null,null,null,"FSM","m"]
[null,"DW",{"$f":"H129","v":3033.6476173738924},"t","Draft aft",null,{"$f":"G174","v":6.2368757243375192},"m","HFO ",{"$f":"F45","v":100.0060259114191},{"$f":"G45","v":995.76},null,{"$f":"H45","v":975.84479999999996},{"$f":"I45","v":18.417754579416727},{"$f":"J45","v":0},{"$f":"K45","v":4.0886282839238373},null,"Add or remove deckloads"]
[null,"LCG",{"$f":"I128","v":24.829371426087601},"m","Draft fw",null,{"$f":"G175","v":7.1174385945058489},"m","WB",{"$f":"F78","v":99.98391784537877},{"$f":"G78","v":1032.0339999999997},null,{"$f":"H78","v":1057.8143499999999},{"$f":"I78","v":22.744108122564228},{"$f":"J78","v":-7.3606753396756736E-3},{"$f":"K78","v":3.0813733728418415},null,"Add or remove deckloads and fill the required data in the following cells:"]
[null,"TCG",{"$f":"J128","v":-7.7844129894152868E-3},"m","KMt",null,{"$f":"G179","v":7.6134486255215714},"m","FW",{"$f":"F86","v":99.983457402812235},{"$f":"G86","v":483.52},null,{"$f":"H86","v":483.52},{"$f":"I86","v":20.141572840833884},{"$f":"J86","v":0},{"$f":"K86","v":4.7113682991396422},null,"The following input data is required to calculated the stability results:",null,null,null,null,null,null,"Weight","t"]
[null,"VCG",{"$f":"K128","v":4.9150206196898729},"m","KGfluid",null,{"$f":"G181","v":4.9179748757946093},"m","MISC",{"$f":"F100","v":105.42992552471229},{"$f":"G100","v":155.72000000000003},null,{"$f":"H100","v":150.9128},{"$f":"I100","v":36.262017549207222},{"$f":"J100","v":-0.38798458447527312},{"$f":"K100","v":1.5590340381995429},null,"Attention! ",null,null,null,null,null,null,"LCG","m"]
[null,"Trim tot.",{"$f":"G169","v":0.88056287016833001},"m","GMtfluid",null,{"$f":"G183","v":2.6954737497269621},"m","(DECK) LOADS",null,null,null,{"$f":"H121","v":70},{"$f":"I121","v":6.5714285714285712},{"$f":"J121","v":0},{"$f":"K121","v":7},null,"This worksheet is only valid when the heel of the vessel is equal to 0°",null,null,null,null,null,null,"TCG ","m"]
[null,null,null,null,null,null,null,null,null,null,null,null,null,null,null,null,null,"The results of this worksheet are not checked to any stability criteria!",null,null,null,null,null,null,"VCG","m"]
[null,"Sheet No.","Name","Sort of Fluid","Sounding Height","% Full","Volume","Weight","LCG","TCG","VCG",null,"Longitudinal","Transverse","Vertical","FSMt",null,"To print the loading conditon press the button:"]
[null,null,null,null,null," "," "," ","Fwd of AP","PS:+","Above BL",null,"Moment","Moment","Moment"," "]
[null,null,null,null,null,"%","m³","t","m","m","m",null,"t·m","t·m","t·m","t·m"]
[null,null,"SHIP DATA"]
[null,null,"Lightship",null,null,null,null,{"$f":"INDEX!H22","v":1700},{"$f":"INDEX!I22","v":30},{"$f":"INDEX!J22","v":0},{"$f":"INDEX!K22","v":7},null,{"$f":"INDEX!M22","v":51000},{"$f":"INDEX!N22","v":0},{"$f":"INDEX!O22","v":11900},null,null,"Volume at each Trim",null,null,null,null,null,null,"Volume Interpolation"]
[]
[null,null,"F.O. (SG 0.860)",null,null,null,null,null,null,null,null,null,null,null,null,null,null,-1.5,-1,-0.5,0,0.5,1,1.5,"Volume","∆Volume","Volume2"]
[null,1,"F.O. 1 PS","MGO",{"$f":"INDEX!E25","v":3.8},{"$f":"IF(E24<'1'!B83,LinInterpolate(E24,'1'!B7:B83,'1'!I7:I83,TRUE),100)","v":100},{"$f":"LinInterpolate(F24,'1'!I7:I83,'1'!M7:M83,1)","v":31.019690333658328},{"$f":"LinInterpolate(F24,'1'!I7:I83,'1'!H7:H83,TRUE)","v":26.67693368694616},{"$f":"LinInterpolate(F24,'1'!I7:I83,'1'!C7:C83,TRUE)","v":32.979999999999997},{"$f":"LinInterpolate(F24,'1'!I7:I82,'1'!D7:D83,TRUE)","v":5.38},{"$f":"LinInterpolate(F24,'1'!I7:I83,'1'!E7:E83,TRUE)","v":2.9999827963143515},null,{"$f":"$H24*I24","v":879.8052729954843},143.52190323577034,80.03034211925727,{"$f":"LinInterpolate(F24,'1'!I7:I83,'1'!F7:F83,TRUE)","v":1.720368564848139E-2},null,{"$f":"LinInterpolate($E$24,'1'!$B7:$B83,'1'!J7:J83,TRUE)","v":31.02},{"$f":"LinInterpolate($E$24,'1'!$B7:$B83,'1'!K7:K83,TRUE)","v":31.02},{"$f":"LinInterpolate($E$24,'1'!$B7:$B83,'1'!L7:L83,TRUE)","v":31.02},{"$f":"LinInterpolate($E$24,'1'!$B7:$B83,'1'!M7:M83,TRUE)","v":31.02},{"$f":"LinInterpolate($E$24,'1'!$B7:$B83,'1'!N7:N83,TRUE)","v":31.02},{"$f":"LinInterpolate($E$24,'1'!$B7:$B83,'1'!O7:O83,TRUE)","v":31.01},{"$f":"LinInterpolate($E$24,'1'!$B7:$B83,'1'!P7:P83,TRUE)","v":30.96},{"$f":"G24","v":31.019690333658328},{"$f":"IF(E24<'1'!B83,Y24-AA24,0)","v":0},{"$f":"IF(E24=0,0,IF(E24<'1'!B83,LinInterpolate($G$169,$R$23:$X$23,R24:X24,TRUE),Y24))","v":31.019690333658328}]
[null,2,"F.O. 1 SB","MGO",{"$f":"INDEX!E26","v":3.8},{"$f":"IF(E25<'2'!B83,LinInterpolate(E25,'2'!B7:B83,'2'!I7:I83,TRUE),100)","v":100},{"$f":"LinInterpolate(F25,'2'!I7:I83,'2'!M7:M83,1)","v":31.019690333658328},{"$f":"LinInterpolate(F25,'2'!I7:I83,'2'!H7:H83,TRUE)","v":26.67693368694616},{"$f":"LinInterpolate(F25,'2'!I7:I83,'2'!C7:C83,TRUE)","v":32.979999999999997},{"$f":"LinInterpolate(F25,'2'!I7:I83,'2'!D7:D83,TRUE)","v":-5.38},{"$f":"LinInterpolate(F25,'2'!I7:I83,'2'!E7:E83,TRUE)","v":2.9999827963143515},null,{"$f":"$H25*I25","v":879.8052729954843},{"$f":"$H25*J25","v":-143.52190323577034},{"$f":"$H25*K25","v":80.03034211925727},{"$f":"LinInterpolate(F25,'2'!I7:I83,'2'!F7:F83,TRUE)","v":1.720368564848139E-2},null,{"$f":"LinInterpolate($E$25,'2'!$B7:$B83,'2'!J7:J83,TRUE)","v":31.02},{"$f":"LinInterpolate($E$25,'2'!$B7:$B83,'2'!K7:K83,TRUE)","v":31.02},{"$f":"LinInterpolate($E$25,'2'!$B7:$B83,'2'!L7:L83,TRUE)","v":31.02},{"$f":"LinInterpolate($E$25,'2'!$B7:$B83,'2'!M7:M83,TRUE)","v":31.02},{"$f":"LinInterpolate($E$25,'2'!$B7:$B83,'2'!N7:N83,TRUE)","v":31.02},{"$f":"LinInterpolate($E$25,'2'!$B7:$B83,'2'!O7:O83,TRUE)","v":31.01},{"$f":"LinInterpolate($E$25,'2'!$B7:$B83,'2'!P7:P83,TRUE)","v":30.96},31.019690333658328,{"$f":"IF(E25<'2'!B83,Y25-AA25,0)","v":0},{"$f":"IF(E25=0,0,IF(E25<'2'!B83, LinInterpolate($G$169,$R$23:$X$23,R25:X25,TRUE),Y25))","v":31.019690333658328}]
[null,3,"F.O.1 C","MGO",{"$f":"INDEX!E27","v":5.77},{"$f":"IF(E26<'3'!B123,LinInterpolate(E26,'3'!B7:B123,'3'!I7:I123,TRUE),100)","v":100},{"$f":"LinInterpolate(F26,'3'!I7:I123,'3'!M7:M123,1)","v":102.32},{"$f":"LinInterpolate(F26,'3'!I7:I123,'3'!H7:H123,TRUE)","v":87.995199999999997},{"$f":"LinInterpolate(F26,'3'!I7:I123,'3'!C7:C123,TRUE)","v":26.1},{"$f":"LinInterpolate(F26,'3'!I7:I123,'3'!D7:D123,TRUE)","v":0},{"$f":"LinInterpolate(F26,'3'!I7:I123,'3'!E7:E123,TRUE)","v":3.9},null,2296.67472,{"$f":"$H26*J26","v":0},{"$f":"$H26*K26","v":343.18127999999996},{"$f":"LinInterpolate(F26,'3'!I7:I123,'3'!F7:F123,TRUE)","v":0},null,{"$f":"LinInterpolate($E$26,'3'!$B7:$B123,'3'!J7:J123,TRUE)","v":102.32},{"$f":"LinInterpolate($E$26,'3'!$B7:$B123,'3'!K7:K123,TRUE)","v":102.32},{"$f":"LinInterpolate($E$26,'3'!$B7:$B123,'3'!L7:L123,TRUE)","v":102.32},{"$f":"LinInterpolate($E$26,'3'!$B7:$B123,'3'!M7:M123,TRUE)","v":102.32},{"$f":"LinInterpolate($E$26,'3'!$B7:$B123,'3'!N7:N123,TRUE)","v":101.93},{"$f":"LinInterpolate($E$26,'3'!$B7:$B123,'3'!O7:O123,TRUE)","v":101.55},{"$f":"LinInterpolate($E$26,'3'!$B7:$B123,'3'!P7:P123,TRUE)","v":101.17},102.32,{"$f":"IF(E26<'3'!B123,Y26-AA26,0)","v":0},{"$f":"IF(E26=0,0,IF(E26<'3'!B123, LinInterpolate($G$169,$R$23:$X$23,R26:X26,TRUE),Y26))","v":102.32}]
[null,4,"F.O. 2 PS","MGO",{"$f":"INDEX!E28","v":2},{"$f":"IF(E27<'4'!B47,LinInterpolate(E27,'4'!B7:B47,'4'!I7:I47,TRUE),100)","v":100},{"$f":"LinInterpolate(F27,'4'!I7:I47,'4'!M7:M47,1)","v":39.69},{"$f":"LinInterpolate(F27,'4'!I7:I47,'4'!H7:H47,TRUE)","v":34.133399999999995},{"$f":"LinInterpolate(F27,'4'!I7:I47,'4'!C7:C47,TRUE)","v":31.5},{"$f":"LinInterpolate(F27,'4'!I7:I47,'4'!D7:D47,TRUE)","v":5.47},{"$f":"LinInterpolate(F27,'4'!I7:I47,'4'!E7:E47,TRUE)","v":5.8},null,1075.2020999999997,186.70969799999997,{"$f":"$H27*K27","v":197.97371999999996},{"$f":"LinInterpolate(F27,'4'!I7:I47,'4'!F7:F47,TRUE)","v":0},null,{"$f":"LinInterpolate($E$27,'4'!$B7:$B47,'4'!J7:J47,TRUE)","v":39.69},{"$f":"LinInterpolate($E$27,'4'!$B7:$B47,'4'!K7:K47,TRUE)","v":39.69},{"$f":"LinInterpolate($E$27,'4'!$B7:$B47,'4'!L7:L47,TRUE)","v":39.69},{"$f":"LinInterpolate($E$27,'4'!$B7:$B47,'4'!M7:M47,TRUE)","v":39.69},{"$f":"LinInterpolate($E$27,'4'!$B7:$B47,'4'!N7:N47,TRUE)","v":39.69},{"$f":"LinInterpolate($E$27,'4'!$B7:$B47,'4'!O7:O47,TRUE)","v":39.69},{"$f":"LinInterpolate($E$27,'4'!$B7:$B47,'4'!P7:P47,TRUE)","v":39.69},39.69,{"$f":"IF(E27<'4'!B47,Y27-AA27,0)","v":0},{"$f":"IF(E27=0,0,IF(E27<'4'!B47, LinInterpolate($G$169,$R$23:$X$23,R27:X27,TRUE),Y27))","v":39.69}]
[null,5,"F.O. 2 SB","MGO",{"$f":"INDEX!E29","v":2},{"$f":"IF(E28<'5'!B47,LinInterpolate(E28,'5'!B7:B47,'5'!I7:I47,TRUE),100)","v":100},{"$f":"LinInterpolate(F28,'5'!I7:I47,'5'!M7:M47,1)","v":39.69},{"$f":"LinInterpolate(F28,'5'!I7:I47,'5'!H7:H47,TRUE)","v":34.133399999999995},{"$f":"LinInterpolate(F28,'5'!I7:I47,'5'!C7:C47,TRUE)","v":31.5},{"$f":"LinInterpolate(F28,'5'!I7:I47,'5'!D7:D47,TRUE)","v":-5.47},{"$f":"LinInterpolate(F28,'5'!I7:I47,'5'!E7:E47,TRUE)","v":5.8},null,1075.2020999999997,-186.70969799999997,{"$f":"$H28*K28","v":197.97371999999996},{"$f":"LinInterpolate(F28,'5'!I7:I47,'5'!F7:F47,TRUE)","v":0},null,{"$f":"LinInterpolate($E$28,'5'!$B7:$B47,'5'!J7:J47,TRUE)","v":39.69},{"$f":"LinInterpolate($E$28,'5'!$B7:$B47,'5'!K7:K47,TRUE)","v":39.69},{"$f":"LinInterpolate($E$28,'5'!$B7:$B47,'5'!L7:L47,TRUE)","v":39.69},{"$f":"LinInterpolate($E$28,'5'!$B7:$B47,'5'!M7:M47,TRUE)","v":39.69},{"$f":"LinInterpolate($E$28,'5'!$B7:$B47,'5'!N7:N47,TRUE)","v":39.69},{"$f":"LinInterpolate($E$28,'5'!$B7:$B47,'5'!O7:O47,TRUE)","v":39.69},{"$f":"LinInterpolate($E$28,'5'!$B7:$B47,'5'!P7:P47,TRUE)","v":39.69},39.69,{"$f":"IF(E28<'5'!B47,Y28-AA28,0)","v":0},{"$f":"IF(E28=0,0,IF(E28<'5'!B47, LinInterpolate($G$169,$R$23:$X$23,R28:X28,TRUE),Y28))","v":39.69}]
[null,6,"F.O. 3 PS","MGO",{"$f":"INDEX!E30","v":3.8},{"$f":"IF(E29<'6'!B83,LinInterpolate(E29,'6'!B7:B83,'6'!I7:I83,TRUE),100)","v":100},{"$f":"LinInterpolate(F29,'6'!I7:I83,'6'!M7:M83,1)","v":40.44},{"$f":"LinInterpolate(F29,'6'!I7:I83,'6'!H7:H83,TRUE)","v":34.778399999999998},{"$f":"LinInterpolate(F29,'6'!I7:I83,'6'!C7:C83,TRUE)","v":30.3},{"$f":"LinInterpolate(F29,'6'!I7:I83,'6'!D7:D83,TRUE)","v":5.45},{"$f":"LinInterpolate(F29,'6'!I7:I83,'6'!E7:E83,TRUE)","v":2.96},null,1053.7855199999999,189.54228000000001,{"$f":"$H29*K29","v":102.944064},{"$f":"LinInterpolate(F29,'6'!I7:I83,'6'!F7:F83,TRUE)","v":0.85},null,{"$f":"LinInterpolate($E$29,'6'!$B7:$B83,'6'!J7:J83,TRUE)","v":40.44},{"$f":"LinInterpolate($E$29,'6'!$B7:$B83,'6'!K7:K83,TRUE)","v":40.44},{"$f":"LinInterpolate($E$29,'6'!$B7:$B83,'6'!L7:L83,TRUE)","v":40.44},{"$f":"LinInterpolate($E$29,'6'!$B7:$B83,'6'!M7:M83,TRUE)","v":40.44},{"$f":"LinInterpolate($E$29,'6'!$B7:$B83,'6'!N7:N83,TRUE)","v":40.44},{"$f":"LinInterpolate($E$29,'6'!$B7:$B83,'6'!O7:O83,TRUE)","v":40.44},{"$f":"LinInterpolate($E$29,'6'!$B7:$B83,'6'!P7:P83,TRUE)","v":40.44},40.44,{"$f":"IF(E29<'6'!B83,Y29-AA29,0)","v":0},{"$f":"IF(E29=0,0,IF(E29<'6'!B83, LinInterpolate($G$169,$R$23:$X$23,R29:X29,TRUE),Y29))","v":40.44}]
[null,7,"F.O. 3 SB","MGO",{"$f":"INDEX!E31","v":3.8},{"$f":"IF(E30<'7'!B83,LinInterpolate(E30,'7'!B7:B83,'7'!I7:I83,TRUE),100)","v":100},{"$f":"LinInterpolate(F30,'7'!I7:I83,'7'!M7:M83,1)","v":40.44},{"$f":"LinInterpolate(F30,'7'!I7:I83,'7'!H7:H83,TRUE)","v":34.778399999999998},{"$f":"LinInterpolate(F30,'7'!I7:I83,'7'!C7:C83,TRUE)","v":30.3},{"$f":"LinInterpolate(F30,'7'!I7:I83,'7'!D7:D83,TRUE)","v":-5.45},{"$f":"LinInterpolate(F30,'7'!I7:I83,'7'!E7:E83,TRUE)","v":2.96},null,1053.7855199999999,-189.54228000000001,102.944064,{"$f":"LinInterpolate(F30,'7'!I7:I83,'7'!F7:F83,TRUE)","v":11.1},null,{"$f":"LinInterpolate($E$30,'7'!$B7:$B83,'7'!J7:J83,TRUE)","v":40.44},{"$f":"LinInterpolate($E$30,'7'!$B7:$B83,'7'!K7:K83,TRUE)","v":40.44},{"$f":"LinInterpolate($E$30,'7'!$B7:$B83,'7'!L7:L83,TRUE)","v":40.44},{"$f":"LinInterpolate($E$30,'7'!$B7:$B83,'7'!M7:M83,TRUE)","v":40.44},{"$f":"LinInterpolate($E$30,'7'!$B7:$B83,'7'!N7:N83,TRUE)","v":40.44},{"$f":"LinInterpolate($E$30,'7'!$B7:$B83,'7'!O7:O83,TRUE)","v":40.44},{"$f":"LinInterpolate($E$30,'7'!$B7:$B83,'7'!P7:P83,TRUE)","v":40.44},40.44,{"$f":"IF(E30<'6'!B83,Y30-AA30,0)","v":0},{"$f":"IF(E30=0,0,IF(E30<'7'!B83, LinInterpolate($G$169,$R$23:$X$23,R30:X30,TRUE),Y30))","v":40.44}]
[null,8,"F.O. 4 PS","MGO",{"$f":"INDEX!E32","v":1},{"$f":"IF(E31<'8'!B28,LinInterpolate(E31,'8'!B10:B28,'8'!I10:I28,TRUE),100)","v":100},{"$f":"LinInterpolate(F31,'8'!I7:I28,'8'!M7:M28,1)","v":19.05},{"$f":"LinInterpolate(F31,'8'!I7:I28,'8'!H7:H28,TRUE)","v":16.382999999999999},{"$f":"LinInterpolate(F31,'8'!I7:I28,'8'!C7:C28,TRUE)","v":31.5},{"$f":"LinInterpolate(F31,'8'!I7:I28,'8'!D7:D28,TRUE)","v":1.8},{"$f":"LinInterpolate(F31,'8'!I7:I28,'8'!E7:E28,TRUE)","v":0.5},null,516.06449999999995,29.4894,{"$f":"$H31*K31","v":8.1914999999999996},{"$f":"LinInterpolate(F31,'8'!I7:I28,'8'!F7:F28,TRUE)","v":2},null,{"$f":"LinInterpolate($E$31,'8'!$B7:$B28,'8'!J7:J28,TRUE)","v":19.05},{"$f":"LinInterpolate($E$31,'8'!$B7:$B28,'8'!K7:K28,TRUE)","v":19.05},{"$f":"LinInterpolate($E$31,'8'!$B7:$B28,'8'!L7:L28,TRUE)","v":19.05},{"$f":"LinInterpolate($E$31,'8'!$B7:$B28,'8'!M7:M28,TRUE)","v":19.05},{"$f":"LinInterpolate($E$31,'8'!$B7:$B28,'8'!N7:N28,TRUE)","v":19.05},{"$f":"LinInterpolate($E$31,'8'!$B7:$B28,'8'!O7:O28,TRUE)","v":19.05},{"$f":"LinInterpolate($E$31,'8'!$B7:$B28,'8'!P7:P28,TRUE)","v":19.05},19.05,{"$f":"IF(E31<'8'!B28,Y31-AA31,0)","v":0},{"$f":"IF(E31=0,0,IF(E31<'8'!B28, LinInterpolate($G$169,$R$23:$X$23,R31:X31,TRUE),Y31))","v":19.05}]
[null,null,"Total F.O.",null,null,{"$f":"(G32/343.9)*100","v":99.932940002127552},{"$f":"SUM((G24:G31))","v":343.66938066731666},{"$f":"SUM((H24:H31))","v":295.55566737389228},{"$f":"M32/H32","v":29.877028190497114},{"$f":"N32/H32","v":9.9776127664960246E-2},{"$f":"O32/H32","v":3.7666983080726206},null,{"$f":"SUM((M24:M31))","v":8830.3250059909678},{"$f":"SUM((N24:N31))","v":29.4894},{"$f":"SUM((O24:O31))","v":1113.2690322385142},{"$f":"SUM((P24:P31))","v":13.984407371296962},null,null,null,null,null,null,null,null,null,{"$f":"SUM((Z24:Z31))","v":0},{"$f":"SUM((AA24:AA31))","v":343.66938066731666}]
[]
[null,null,"HFO (SG 0.980)",null,null,null,null,null,null,null,null,null,null,null,null,null,null,-1.5,-1,-0.5,0,0.5,1,1.5,"Volume","∆Volume","Volume2"]
[null,9,"H.F.O 1 PS","HFO",{"$f":"INDEX!E36","v":5.75},{"$f":"IF(E35<'9'!B122,LinInterpolate(E35,'9'!B7:B122,'9'!I7:I122,TRUE),100)","v":100},{"$f":"LinInterpolate(F35,'9'!I7:I122,'9'!M7:M122,1)","v":112.74},{"$f":"LinInterpolate(F35,'9'!I7:I122,'9'!H7:H122,TRUE)","v":110.48519999999999},{"$f":"LinInterpolate(F35,'9'!I7:I122,'9'!C7:C122,TRUE)","v":26.02},{"$f":"LinInterpolate(F35,'9'!I7:I122,'9'!D7:D122,TRUE)","v":5.46},{"$f":"LinInterpolate(F35,'9'!I7:I122,'9'!E7:E122,TRUE)","v":3.96},null,{"$f":"$H35*I35","v":2874.8249039999996},{"$f":"$H35*J35","v":603.24919199999999},{"$f":"$H35*K35","v":437.52139199999999},{"$f":"LinInterpolate(F35,'9'!I7:I122,'9'!F7:F122,TRUE)","v":0},null,{"$f":"LinInterpolate($E$35,'9'!$B7:$B122,'9'!J7:J122,TRUE)","v":111.41},{"$f":"LinInterpolate($E$35,'9'!$B7:$B122,'9'!K7:K122,TRUE)","v":111.85},{"$f":"LinInterpolate($E$35,'9'!$B7:$B122,'9'!L7:L122,TRUE)","v":112.29},{"$f":"LinInterpolate($E$35,'9'!$B7:$B122,'9'!M7:M122,TRUE)","v":112.74},{"$f":"LinInterpolate($E$35,'9'!$B7:$B122,'9'!N7:N122,TRUE)","v":112.73},{"$f":"LinInterpolate($E$35,'9'!$B7:$B122,'9'!O7:O122,TRUE)","v":112.73},{"$f":"LinInterpolate($E$35,'9'!$B7:$B122,'9'!P7:P122,TRUE)","v":112.72},{"$f":"G35","v":112.74},{"$f":"IF(E35<'9'!AB122,Y35-AA35,0)","v":0},{"$f":"IF(E35=0,0,IF(E35<'9'!B122, LinInterpolate($G$169,$R$23:$X$23,R35:X35,TRUE),Y35))","v":112.74}]
[null,10,"H.F.O 1 SB","HFO",{"$f":"INDEX!E37","v":5.75},{"$f":"IF(E36<'10'!B122,LinInterpolate(E36,'10'!B7:B122,'10'!I7:I122,TRUE),100)","v":100},{"$f":"LinInterpolate(F36,'10'!I7:I122,'10'!M7:M122,1)","v":112.74},{"$f":"LinInterpolate(F36,'10'!I7:I122,'10'!H7:H122,TRUE)","v":110.48519999999999},{"$f":"LinInterpolate(F36,'10'!I7:I122,'10'!C7:C122,TRUE)","v":26.02},{"$f":"LinInterpolate(F36,'10'!I7:I122,'10'!D7:D122,TRUE)","v":-5.46},{"$f":"LinInterpolate(F36,'10'!I7:I122,'10'!E7:E122,TRUE)","v":3.96},null,2874.8249039999996,-603.24919199999999,{"$f":"$H36*K36","v":437.52139199999999},{"$f":"LinInterpolate(F36,'10'!I7:I122,'10'!F7:F122,TRUE)","v":0},null,{"$f":"LinInterpolate($E$36,'10'!$B7:$B122,'10'!J7:J122,TRUE)","v":111.41},{"$f":"LinInterpolate($E$36,'10'!$B7:$B122,'10'!K7:K122,TRUE)","v":111.85},{"$f":"LinInterpolate($E$36,'10'!$B7:$B122,'10'!L7:L122,TRUE)","v":112.29},{"$f":"LinInterpolate($E$36,'10'!$B7:$B122,'10'!M7:M122,TRUE)","v":112.74},{"$f":"LinInterpolate($E$36,'10'!$B7:$B122,'10'!N7:N122,TRUE)","v":112.73},{"$f":"LinInterpolate($E$36,'10'!$B7:$B122,'10'!O7:O122,TRUE)","v":112.73},{"$f":"LinInterpolate($E$36,'10'!$B7:$B122,'10'!P7:P122,TRUE)","v":112.72},112.74,{"$f":"IF(E36<'10'!AB122,AA36-Y36,0)","v":0},{"$f":"IF(E36=0,0,IF(E36<'10'!B122, LinInterpolate($G$169,$R$23:$X$23,R36:X36,TRUE),Y36))","v":112.74}]
[null,11,"H.F.O 2 PS","HFO",{"$f":"INDEX!E38","v":5.75},{"$f":"IF(E37<'11'!B122,LinInterpolate(E37,'11'!B7:B122,'11'!I7:I122,TRUE),100)","v":100},{"$f":"LinInterpolate(F37,'11'!I7:I122,'11'!M7:M122,1)","v":100.05},{"$f":"LinInterpolate(F37,'11'!I7:I122,'11'!H7:H122,TRUE)","v":98.048999999999992},{"$f":"LinInterpolate(F37,'11'!I7:I122,'11'!C7:C122,TRUE)","v":20.85},{"$f":"LinInterpolate(F37,'11'!I7:I122,'11'!D7:D122,TRUE)","v":5.46},{"$f":"LinInterpolate(F37,'11'!I7:I122,'11'!E7:E122,TRUE)","v":3.96},null,2044.3216500000001,535.34753999999998,{"$f":"$H37*K37","v":388.27403999999996},{"$f":"LinInterpolate(F37,'11'!I7:I122,'11'!F7:F122,TRUE)","v":0},null,{"$f":"LinInterpolate($E$37,'11'!$B7:$B122,'11'!J7:J122,TRUE)","v":99.06},{"$f":"LinInterpolate($E$37,'11'!$B7:$B122,'11'!K7:K122,TRUE)","v":99.39},{"$f":"LinInterpolate($E$37,'11'!$B7:$B122,'11'!L7:L122,TRUE)","v":99.72},{"$f":"LinInterpolate($E$37,'11'!$B7:$B122,'11'!M7:M122,TRUE)","v":100.05},{"$f":"LinInterpolate($E$37,'11'!$B7:$B122,'11'!N7:N122,TRUE)","v":100.05},{"$f":"LinInterpolate($E$37,'11'!$B7:$B122,'11'!O7:O122,TRUE)","v":100.05},{"$f":"LinInterpolate($E$37,'11'!$B7:$B122,'11'!P7:P122,TRUE)","v":100.04},100.05,{"$f":"IF(F37<'11'!AB122,Y37-AA37,0)","v":0},{"$f":"IF(E37=0,0,IF(E37<'11'!B122, LinInterpolate($G$169,$R$23:$X$23,R37:X37,TRUE),Y37))","v":100.05}]
[null,12,"H.F.O 2 SB","HFO",{"$f":"INDEX!E39","v":5.75},{"$f":"IF(E38<'12'!B122,LinInterpolate(E38,'12'!B7:B122,'12'!I7:I122,TRUE),100)","v":100},{"$f":"LinInterpolate(F38,'12'!I7:I122,'12'!M7:M122,1)","v":100.05},{"$f":"LinInterpolate(F38,'12'!I7:I122,'12'!H7:H122,TRUE)","v":98.048999999999992},{"$f":"LinInterpolate(F38,'12'!I7:I122,'12'!C7:C122,TRUE)","v":20.85},{"$f":"LinInterpolate(F38,'12'!I7:I122,'12'!D7:D122,TRUE)","v":-5.46},{"$f":"LinInterpolate(F38,'12'!I7:I122,'12'!E7:E122,TRUE)","v":3.96},null,2044.3216500000001,-535.34753999999998,388.27403999999996,{"$f":"LinInterpolate(F38,'12'!I7:I122,'12'!F7:F122,TRUE)","v":0},null,{"$f":"LinInterpolate($E$38,'12'!$B7:$B122,'12'!J7:J122,TRUE)","v":99.06},{"$f":"LinInterpolate($E$38,'12'!$B7:$B122,'12'!K7:K122,TRUE)","v":99.39},{"$f":"LinInterpolate($E$38,'12'!$B7:$B122,'12'!L7:L122,TRUE)","v":99.72},{"$f":"LinInterpolate($E$38,'12'!$B7:$B122,'12'!M7:M122,TRUE)","v":100.05},{"$f":"LinInterpolate($E$38,'12'!$B7:$B122,'12'!N7:N122,TRUE)","v":100.05},{"$f":"LinInterpolate($E$38,'12'!$B7:$B122,'12'!O7:O122,TRUE)","v":100.04},{"$f":"LinInterpolate($E$38,'12'!$B7:$B122,'12'!P7:P122,TRUE)","v":100.04},100.05,{"$f":"IF(F38<'12'!AB122,Y38-AA38,0)","v":0},{"$f":"IF(E38=0,0,IF(E38<'12'!B122, LinInterpolate($G$169,$R$23:$X$23,R38:X38,TRUE),Y38))","v":100.05}]
[null,13,"H.F.O 2 C","HFO",{"$f":"INDEX!E40","v":5.77},{"$f":"IF(E39<'13'!B123,LinInterpolate(E39,'13'!B7:B123,'13'!I7:I123,TRUE),100)","v":100},{"$f":"LinInterpolate(F39,'13'!I7:I123,'13'!M7:M123,1)","v":102.33},{"$f":"LinInterpolate(F39,'13'!I7:I123,'13'!H7:H123,TRUE)","v":100.2834},{"$f":"LinInterpolate(F39,'13'!I7:I123,'13'!C7:C123,TRUE)","v":21},{"$f":"LinInterpolate(F39,'13'!I7:I123,'13'!D7:D123,TRUE)","v":0},{"$f":"LinInterpolate(F39,'13'!I7:I123,'13'!E7:E123,TRUE)","v":3.9},null,2105.9513999999999,0,{"$f":"$H39*K39","v":391.10525999999999},{"$f":"LinInterpolate(F39,'13'!I7:I123,'13'!F7:F123,TRUE)","v":0},null,{"$f":"LinInterpolate($E$39,'13'!$B7:$B123,'13'!J7:J123,TRUE)","v":102.33},{"$f":"LinInterpolate($E$39,'13'!$B7:$B123,'13'!K7:K123,TRUE)","v":102.33},{"$f":"LinInterpolate($E$39,'13'!$B7:$B123,'13'!L7:L123,TRUE)","v":102.33},{"$f":"LinInterpolate($E$39,'13'!$B7:$B123,'13'!M7:M123,TRUE)","v":102.33},{"$f":"LinInterpolate($E$39,'13'!$B7:$B123,'13'!N7:N123,TRUE)","v":101.95},{"$f":"LinInterpolate($E$39,'13'!$B7:$B123,'13'!O7:O123,TRUE)","v":101.58},{"$f":"LinInterpolate($E$39,'13'!$B7:$B123,'13'!P7:P123,TRUE)","v":101.2},102.33,{"$f":"IF(E39<'13'!AB123,Y39-AA39,0)","v":0},{"$f":"IF(E39=0,0,IF(E39<'13'!B123, LinInterpolate($G$169,$R$23:$X$23,R39:X39,TRUE),Y39))","v":102.33}]
[null,14,"H.F.O 3 PS","HFO",{"$f":"INDEX!E41","v":5.76},{"$f":"IF(E40<'14'!B123,LinInterpolate(E40,'14'!B7:B123,'14'!I7:I123,TRUE),100)","v":100},{"$f":"LinInterpolate(F40,'14'!I7:I123,'14'!M7:M123,1)","v":99.48},{"$f":"LinInterpolate(F40,'14'!I7:I123,'14'!H7:H123,TRUE)","v":97.490400000000008},{"$f":"LinInterpolate(F40,'14'!I7:I123,'14'!C7:C123,TRUE)","v":16.059999999999999},{"$f":"LinInterpolate(F40,'14'!I7:I123,'14'!D7:D123,TRUE)","v":5.45},{"$f":"LinInterpolate(F40,'14'!I7:I123,'14'!E7:E123,TRUE)","v":3.98},null,1565.6958239999999,531.3226800000001,{"$f":"$H40*K40","v":388.01179200000001},{"$f":"LinInterpolate(F40,'14'!I7:I123,'14'!F7:F123,TRUE)","v":0},null,{"$f":"LinInterpolate($E$40,'14'!$B7:$B123,'14'!J7:J123,TRUE)","v":99.48},{"$f":"LinInterpolate($E$40,'14'!$B7:$B123,'14'!K7:K123,TRUE)","v":99.48},{"$f":"LinInterpolate($E$40,'14'!$B7:$B123,'14'!L7:L123,TRUE)","v":99.48},{"$f":"LinInterpolate($E$40,'14'!$B7:$B123,'14'!M7:M123,TRUE)","v":99.48},{"$f":"LinInterpolate($E$40,'14'!$B7:$B123,'14'!N7:N123,TRUE)","v":99.09},{"$f":"LinInterpolate($E$40,'14'!$B7:$B123,'14'!O7:O123,TRUE)","v":98.7},{"$f":"LinInterpolate($E$40,'14'!$B7:$B123,'14'!P7:P123,TRUE)","v":98.31},99.48,{"$f":"IF(E40<'14'!AB123,Y40-AA40,0)","v":0},{"$f":"IF(E40=0,0,IF(E40<'14'!B123, LinInterpolate($G$169,$R$23:$X$23,R40:X40,TRUE),Y40))","v":99.48}]
[null,15,"H.F.O 3 SB","HFO",{"$f":"INDEX!E42","v":5.76},{"$f":"IF(E41<'15'!B123,LinInterpolate(E41,'15'!B7:B123,'15'!I7:I123,TRUE),100)","v":100},{"$f":"LinInterpolate(F41,'15'!I7:I123,'15'!M7:M123,1)","v":99.48},{"$f":"LinInterpolate(F41,'15'!I7:I123,'15'!H7:H123,TRUE)","v":97.490400000000008},{"$f":"LinInterpolate(F41,'15'!I7:I123,'15'!C7:C123,TRUE)","v":16.059999999999999},{"$f":"LinInterpolate(F41,'15'!I7:I123,'15'!D7:D123,TRUE)","v":-5.45},{"$f":"LinInterpolate(F41,'15'!I7:I123,'15'!E7:E123,TRUE)","v":3.98},null,1565.6958239999999,-531.3226800000001,{"$f":"$H41*K41","v":388.01179200000001},{"$f":"LinInterpolate(F41,'15'!I7:I123,'15'!F7:F123,TRUE)","v":0},null,{"$f":"LinInterpolate($E$41,'15'!$B7:$B123,'15'!J7:J123,TRUE)","v":99.48},{"$f":"LinInterpolate($E$41,'15'!$B7:$B123,'15'!K7:K123,TRUE)","v":99.48},{"$f":"LinInterpolate($E$41,'15'!$B7:$B123,'15'!L7:L123,TRUE)","v":99.48},{"$f":"LinInterpolate($E$41,'15'!$B7:$B123,'15'!M7:M123,TRUE)","v":99.48},{"$f":"LinInterpolate($E$41,'15'!$B7:$B123,'15'!N7:N123,TRUE)","v":99.09},{"$f":"LinInterpolate($E$41,'15'!$B7:$B123,'15'!O7:O123,TRUE)","v":98.7},{"$f":"LinInterpolate($E$41,'15'!$B7:$B123,'15'!P7:P123,TRUE)","v":98.31},99.48,{"$f":"IF(E41<'15'!AB123,Y41-AA41,0)","v":0},{"$f":"IF(E41=0,0,IF(E41<'15'!B123, LinInterpolate($G$169,$R$23:$X$23,R41:X41,TRUE),Y41))","v":99.48}]
[null,16,"H.F.O 4 PS","HFO",{"$f":"INDEX!E43","v":5.46},{"$f":"IF(E42<'16'!B117,LinInterpolate(E42,'16'!B7:B117,'16'!I7:I117,TRUE),100)","v":100},{"$f":"LinInterpolate(F42,'16'!I7:I117,'16'!M7:M117,1)","v":90.63},{"$f":"LinInterpolate(F42,'16'!I7:I117,'16'!H7:H117,TRUE)","v":88.817399999999992},{"$f":"LinInterpolate(F42,'16'!I7:I117,'16'!C7:C117,TRUE)","v":11.2},{"$f":"LinInterpolate(F42,'16'!I7:I117,'16'!D7:D117,TRUE)","v":5.39},{"$f":"LinInterpolate(F42,'16'!I7:I117,'16'!E7:E117,TRUE)","v":4.49},null,994.75487999999984,478.72578599999991,{"$f":"$H42*K42","v":398.79012599999999},{"$f":"LinInterpolate(F42,'16'!I7:I117,'16'!F7:F117,TRUE)","v":0},null,{"$f":"LinInterpolate($E$42,'16'!$B7:$B117,'16'!J7:J117,TRUE)","v":90.63},{"$f":"LinInterpolate($E$42,'16'!$B7:$B117,'16'!K7:K117,TRUE)","v":90.63},{"$f":"LinInterpolate($E$42,'16'!$B7:$B117,'16'!L7:L117,TRUE)","v":90.63},{"$f":"LinInterpolate($E$42,'16'!$B7:$B117,'16'!M7:M117,TRUE)","v":90.63},{"$f":"LinInterpolate($E$42,'16'!$B7:$B117,'16'!N7:N117,TRUE)","v":90.19},{"$f":"LinInterpolate($E$42,'16'!$B7:$B117,'16'!O7:O117,TRUE)","v":89.75},{"$f":"LinInterpolate($E$42,'16'!$B7:$B117,'16'!P7:P117,TRUE)","v":89.31},90.63,{"$f":"IF(E42<'16'!AB117,Y42-AA42,0)","v":0},{"$f":"IF(E42=0,0,IF(E42<'16'!B117, LinInterpolate($G$169,$R$23:$X$23,R42:X42,TRUE),Y42))","v":90.63}]
[null,17,"H.F.O 4 SB","HFO",{"$f":"INDEX!E44","v":5.46},{"$f":"IF(E43<'17'!B115,LinInterpolate(E43,'17'!B7:B115,'17'!I7:I115,TRUE),100)","v":100},{"$f":"LinInterpolate(F43,'17'!I7:I115,'17'!M7:M115,1)","v":90.63},{"$f":"LinInterpolate(F43,'17'!I7:I115,'17'!H7:H115,TRUE)","v":88.817399999999992},{"$f":"LinInterpolate(F43,'17'!I7:I115,'17'!C7:C115,TRUE)","v":11.2},{"$f":"LinInterpolate(F43,'17'!I7:I115,'17'!D7:D115,TRUE)","v":-5.39},{"$f":"LinInterpolate(F43,'17'!I7:I115,'17'!E7:E115,TRUE)","v":4.49},null,994.75487999999984,-478.72578599999991,{"$f":"$H43*K43","v":398.79012599999999},{"$f":"LinInterpolate(F43,'17'!I7:I115,'17'!F7:F115,TRUE)","v":0},null,{"$f":"LinInterpolate($E$43,'17'!$B7:$B115,'17'!J7:J115,TRUE)","v":90.976666666666645},{"$f":"LinInterpolate($E$43,'17'!$B7:$B115,'17'!K7:K115,TRUE)","v":91.056666666666644},{"$f":"LinInterpolate($E$43,'17'!$B7:$B115,'17'!L7:L115,TRUE)","v":91.403333333333308},{"$f":"LinInterpolate($E$43,'17'!$B7:$B115,'17'!M7:M115,TRUE)","v":92.496666666666613},{"$f":"LinInterpolate($E$43,'17'!$B7:$B115,'17'!N7:N115,TRUE)","v":92.056666666666658},{"$f":"LinInterpolate($E$43,'17'!$B7:$B115,'17'!O7:O115,TRUE)","v":91.61666666666666},{"$f":"LinInterpolate($E$43,'17'!$B7:$B115,'17'!P7:P115,TRUE)","v":91.176666666666662},90.63,{"$f":"IF(E43<'17'!AB115,Y43-AA43,0)","v":0},{"$f":"IF(E43=0,0,IF(E43<'17'!B115, LinInterpolate($G$169,$R$23:$X$23,R43:X43,TRUE),Y43))","v":90.63}]
[null,18,"H.F.O 4 C","HFO",{"$f":"INDEX!E45","v":5.38},{"$f":"IF(E44<'18'!B115,LinInterpolate(E44,'18'!B7:B115,'18'!I7:I115,TRUE),100)","v":100},{"$f":"LinInterpolate(F44,'18'!I7:I115,'18'!M7:M115,1)","v":87.63},{"$f":"LinInterpolate(F44,'18'!I7:I115,'18'!H7:H115,TRUE)","v":85.877399999999994},{"$f":"LinInterpolate(F44,'18'!I7:I115,'18'!C7:C115,TRUE)","v":10.57},{"$f":"LinInterpolate(F44,'18'!I7:I115,'18'!D7:D115,TRUE)","v":0},{"$f":"LinInterpolate(F44,'18'!I7:I115,'18'!E7:E115,TRUE)","v":4.3499999999999996},null,907.72411799999998,0,{"$f":"$H44*K44","v":373.56668999999994},{"$f":"LinInterpolate(F44,'18'!I7:I115,'18'!F7:F115,TRUE)","v":0},null,{"$f":"LinInterpolate($E$44,'18'!$B7:$B115,'18'!J7:J115,TRUE)","v":87.649999999999977},{"$f":"LinInterpolate($E$44,'18'!$B7:$B115,'18'!K7:K115,TRUE)","v":87.649999999999977},{"$f":"LinInterpolate($E$44,'18'!$B7:$B115,'18'!L7:L115,TRUE)","v":87.669999999999987},{"$f":"LinInterpolate($E$44,'18'!$B7:$B115,'18'!M7:M115,TRUE)","v":87.989999999999952},{"$f":"LinInterpolate($E$44,'18'!$B7:$B115,'18'!N7:N115,TRUE)","v":87.629999999999953},{"$f":"LinInterpolate($E$44,'18'!$B7:$B115,'18'!O7:O115,TRUE)","v":87.259999999999991},{"$f":"LinInterpolate($E$44,'18'!$B7:$B115,'18'!P7:P115,TRUE)","v":86.899999999999991},87.63,{"$f":"IF(E44<'18'!AB115,Y44-AA44,0)","v":0},{"$f":"IF(E44=0,0,IF(E44<'18'!B115, LinInterpolate($G$169,$R$23:$X$23,R44:X44,TRUE),Y44))","v":87.63}]
[null,null,"Total H.F.O",null,null,{"$f":"G45/995.7*100","v":100.0060259114191},{"$f":"SUM((G35:G44))","v":995.76},{"$f":"SUM((H35:H44))","v":975.84479999999996},{"$f":"M45/H45","v":18.417754579416727},{"$f":"N45/H45","v":0},{"$f":"O45/H45","v":4.0886282839238373},null,{"$f":"SUM((M35:M44))","v":17972.870034},{"$f":"SUM((N35:N44))","v":0},{"$f":"SUM((O35:O44))","v":3989.8666500000004},{"$f":"SUM((P35:P44))","v":0},null,null,null,null,null,null,null,null,null,{"$f":"SUM((Z35:Z44))","v":0},{"$f":"SUM((AA35:AA44))","v":995.76}]
[]
[null,"Sheet No.","Name","Sort of Fluid","Sounding Height","% Full","Volume","Weight","LCG","TCG","VCG",null,"Longitudinal","Transverse","Vertical","FSMt"]
[null,null,null,null,null," "," "," ","Fwd of AP","PS:+","Above BL",null,"Moment","Moment","Moment"," "]
[null,null,null,null,null,"%","m³","t","m","m","m",null,"t·m","t·m","t·m","t·m"]
[null,null,"WB (S.G. 1.025)",null,null,null,null,null,null,null,null,null,null,null,null,null,null,-1.5,-1,-0.5,0,0.5,1,1.5,"Volume","∆Volume","Volume2"]
[null,19,"W.B 1 PS ","FW",{"$f":"INDEX!E52","v":3.25},{"$f":"IF(E51<'19'!B72,LinInterpolate(E51,'19'!B7:B72,'19'!I7:I72,TRUE),100)","v":100},{"$f":"LinInterpolate(F51,'19'!I7:I72,'19'!M7:M72,1)","v":63.76},{"$f":"LinInterpolate(F51,'19'!I7:I72,'19'!H7:H72,TRUE)","v":65.353999999999999},{"$f":"LinInterpolate(F51,'19'!I7:I72,'19'!C7:C72,TRUE)","v":-2.2400000000000002},{"$f":"LinInterpolate(F51,'19'!I7:I72,'19'!D7:D72,TRUE)","v":4.49},{"$f":"LinInterpolate(F51,'19'!I7:I72,'19'!E7:E72,TRUE)","v":5.71},null,{"$f":"$H51*I51","v":-146.39296000000002},293.43946,373.17133999999999,{"$f":"LinInterpolate(F51,'19'!I7:I72,'19'!F7:F72,TRUE)","v":0},null,{"$f":"LinInterpolate($E$51,'19'!$B7:$B72,'19'!J7:J72,TRUE)","v":63.626666666666679},{"$f":"LinInterpolate($E$51,'19'!$B7:$B72,'19'!K7:K72,TRUE)","v":63.813333333333333},{"$f":"LinInterpolate($E$51,'19'!$B7:$B72,'19'!L7:L72,TRUE)","v":64.073333333333338},{"$f":"LinInterpolate($E$51,'19'!$B7:$B72,'19'!M7:M72,TRUE)","v":64.38},{"$f":"LinInterpolate($E$51,'19'!$B7:$B72,'19'!N7:N72,TRUE)","v":64.036666666666662},{"$f":"LinInterpolate($E$51,'19'!$B7:$B72,'19'!O7:O72,TRUE)","v":63.74},{"$f":"LinInterpolate($E$51,'19'!$B7:$B72,'19'!P7:P72,TRUE)","v":63.493333333333339},{"$f":"G51","v":63.76},{"$f":"IF(E51<'19'!B72,Y51-AA51,0)","v":0},{"$f":"IF(E51=0,0,IF(E51<'19'!B72, LinInterpolate($G$169,$R$23:$X$23,R51:X51,TRUE),Y51))","v":63.76}]
[null,20,"W.B 1 SB ","FW",{"$f":"INDEX!E53","v":3.25},{"$f":"IF(E52<'20'!B72,LinInterpolate(E52,'20'!B7:B72,'20'!I7:I72,TRUE),100)","v":100},{"$f":"LinInterpolate(F52,'20'!I7:I72,'20'!M7:M72,1)","v":63.76},{"$f":"LinInterpolate(F52,'20'!I7:I72,'20'!H7:H72,TRUE)","v":65.353999999999999},{"$f":"LinInterpolate(F52,'20'!I7:I72,'20'!C7:C72,TRUE)","v":-2.2400000000000002},{"$f":"LinInterpolate(F52,'20'!I7:I72,'20'!D7:D72,TRUE)","v":-4.49},{"$f":"LinInterpolate(F52,'20'!I7:I72,'20'!E7:E72,TRUE)","v":5.71},null,-146.39296000000002,-293.43946,373.17133999999999,{"$f":"LinInterpolate(F52,'20'!I7:I72,'20'!F7:F72,TRUE)","v":0},null,{"$f":"LinInterpolate($E$52,'20'!$B7:$B72,'20'!J7:J72,TRUE)","v":63.34},{"$f":"LinInterpolate($E$52,'20'!$B7:$B72,'20'!K7:K72,TRUE)","v":63.48},{"$f":"LinInterpolate($E$52,'20'!$B7:$B72,'20'!L7:L72,TRUE)","v":63.62},{"$f":"LinInterpolate($E$52,'20'!$B7:$B72,'20'!M7:M72,TRUE)","v":63.76},{"$f":"LinInterpolate($E$52,'20'!$B7:$B72,'20'!N7:N72,TRUE)","v":63.51},{"$f":"LinInterpolate($E$52,'20'!$B7:$B72,'20'!O7:O72,TRUE)","v":63.26},{"$f":"LinInterpolate($E$52,'20'!$B7:$B72,'20'!P7:P72,TRUE)","v":63.02},63.76,{"$f":"IF(E52<'19'!B72,Y52-AA52,0)","v":0},{"$f":"IF(E52=0,0,IF(E52<'20'!B72, LinInterpolate($G$169,$R$23:$X$23,R52:X52,TRUE),Y52))","v":63.76}]
[null,21,{"$f":"'INDEX (Corrected trim 4)'!C52","v":"W.B 1 SB "},"SW",{"$f":"INDEX!E54","v":7.8},{"$f":"IF(E53<'21'!B163,LinInterpolate(E53,'21'!B7:B163,'21'!I7:I163,TRUE),100)","v":100},{"$f":"LinInterpolate(F53,'21'!I7:I163,'21'!M7:M163,1)","v":64.81},{"$f":"LinInterpolate(F53,'21'!I7:I163,'21'!H7:H163,TRUE)","v":66.430250000000001},{"$f":"LinInterpolate(F53,'21'!I7:I163,'21'!C7:C163,TRUE)","v":51.05},{"$f":"LinInterpolate(F53,'21'!I7:I163,'21'!D7:D163,TRUE)","v":0},{"$f":"LinInterpolate(F53,'21'!I7:I163,'21'!E7:E163,TRUE)","v":4.75},null,3391.2642624999999,0,315.54368750000003,{"$f":"LinInterpolate(F53,'21'!I7:I163,'21'!F7:F163,TRUE)","v":0},null,{"$f":"LinInterpolate($E$53,'21'!$B7:$B163,'21'!J7:J163,TRUE)","v":64.8},{"$f":"LinInterpolate($E$53,'21'!$B7:$B163,'21'!K7:K163,TRUE)","v":64.81},{"$f":"LinInterpolate($E$53,'21'!$B7:$B163,'21'!L7:L163,TRUE)","v":64.81},{"$f":"LinInterpolate($E$53,'21'!$B7:$B163,'21'!M7:M163,TRUE)","v":64.81},{"$f":"LinInterpolate($E$53,'21'!$B7:$B163,'21'!N7:N163,TRUE)","v":64.81},{"$f":"LinInterpolate($E$53,'21'!$B7:$B163,'21'!O7:O163,TRUE)","v":64.78},{"$f":"LinInterpolate($E$53,'21'!$B7:$B163,'21'!P7:P163,TRUE)","v":64.66},64.81,{"$f":"IF(E53<'19'!B163,Y53-AA53,0)","v":0},{"$f":"IF(E53=0,0,IF(E53<'21'!B163, LinInterpolate($G$169,$R$23:$X$23,R53:X53,TRUE),Y53))","v":64.81}]
[null,22,"W.B. 2 PS","SW",{"$f":"INDEX!E55","v":7.8},{"$f":"IF(E54<'22'!B163,LinInterpolate(E54,'22'!B7:B163,'22'!I7:I163,TRUE),100)","v":100},{"$f":"LinInterpolate(F54,'22'!I7:I163,'22'!M7:M163,1)","v":86.037999999999997},{"$f":"LinInterpolate(F54,'22'!I7:I163,'22'!H7:H163,TRUE)","v":88.188949999999991},{"$f":"LinInterpolate(F54,'22'!I7:I163,'22'!C7:C163,TRUE)","v":39.74},{"$f":"LinInterpolate(F54,'22'!I7:I163,'22'!D7:D163,TRUE)","v":6.82},{"$f":"LinInterpolate(F54,'22'!I7:I163,'22'!E7:E163,TRUE)","v":4.4800000000000004},null,{"$f":"$H54*I54","v":3504.6288729999997},{"$f":"$H54*J54","v":601.44863899999996},{"$f":"$H54*K54","v":395.08649600000001},{"$f":"LinInterpolate(F54,'22'!I7:I163,'22'!F7:F163,TRUE)","v":0},null,{"$f":"LinInterpolate(E54,'22'!$B7:$B163,'22'!J7:J163,TRUE)","v":85.09},{"$f":"LinInterpolate(E54,'22'!$B7:$B163,'22'!K7:K163,TRUE)","v":85.85},{"$f":"LinInterpolate(E54,'22'!$B7:$B163,'22'!L7:L163,TRUE)","v":86.03},{"$f":"LinInterpolate(E54,'22'!$B7:$B163,'22'!M7:M163,TRUE)","v":86.037999999999997},{"$f":"LinInterpolate(E54,'22'!$B7:$B163,'22'!N7:N163,TRUE)","v":86.03},{"$f":"LinInterpolate(E54,'22'!$B7:$B163,'22'!O7:O163,TRUE)","v":86.03},{"$f":"LinInterpolate(E54,'22'!$B7:$B163,'22'!P7:P163,TRUE)","v":86.03},86.037999999999997,{"$f":"IF(E54<'19'!B163,Y54-AA54,0)","v":0},{"$f":"IF(E54=0,0,IF(E54<'22'!B163, LinInterpolate($G$169,$R$23:$X$23,R54:X54,TRUE),Y54))","v":86.037999999999997}]
[null,23,"W.B. 2 SB","SW",{"$f":"INDEX!E56","v":7.8},{"$f":"IF(E55<'23'!B163,LinInterpolate(E55,'23'!B7:B163,'23'!I7:I163,TRUE),100)","v":100},{"$f":"LinInterpolate(F55,'23'!I7:I163,'23'!M7:M163,1)","v":87.665999999999997},{"$f":"LinInterpolate(F55,'23'!I7:I163,'23'!H7:H163,TRUE)","v":89.857649999999992},{"$f":"LinInterpolate(F55,'23'!I7:I163,'23'!C7:C163,TRUE)","v":39.83},{"$f":"LinInterpolate(F55,'23'!I7:I163,'23'!D7:D163,TRUE)","v":-6.78},{"$f":"LinInterpolate(F55,'23'!I7:I163,'23'!E7:E163,TRUE)","v":4.42},null,3579.0301994999995,-609.23486700000001,397.17081299999995,{"$f":"LinInterpolate(F55,'23'!I7:I163,'23'!F7:F163,TRUE)","v":0},null,{"$f":"LinInterpolate(E55,'23'!$B7:$B163,'23'!J7:J163,TRUE)","v":86.72},{"$f":"LinInterpolate(E55,'23'!$B7:$B163,'23'!K7:K163,TRUE)","v":87.48},{"$f":"LinInterpolate(E55,'23'!$B7:$B163,'23'!L7:L163,TRUE)","v":87.66},{"$f":"LinInterpolate(E55,'23'!$B7:$B163,'23'!M7:M163,TRUE)","v":87.665999999999997},{"$f":"LinInterpolate(E55,'23'!$B7:$B163,'23'!N7:N163,TRUE)","v":87.66},{"$f":"LinInterpolate(E55,'23'!$B7:$B163,'23'!O7:O163,TRUE)","v":87.66},{"$f":"LinInterpolate(E55,'23'!$B7:$B163,'23'!P7:P163,TRUE)","v":87.66},87.665999999999997,{"$f":"IF(E55<'19'!B163,Y55-AA55,0)","v":0},{"$f":"IF(E55=0,0,IF(E55<'23'!B163, LinInterpolate($G$169,$R$23:$X$23,R55:X55,TRUE),Y55))","v":87.665999999999997}]
[null,24,"W.B. 3 PS","SW",{"$f":"INDEX!E57","v":5.48},{"$f":"IF(E56<'24'!B117,LinInterpolate(E56,'24'!B7:B117,'24'!I7:I117,TRUE),100)","v":100},{"$f":"LinInterpolate(F56,'24'!I7:I117,'24'!M7:M117,1)","v":28.05},{"$f":"LinInterpolate(F56,'24'!I7:I117,'24'!H7:H117,TRUE)","v":28.751249999999999},{"$f":"LinInterpolate(F56,'24'!I7:I117,'24'!C7:C117,TRUE)","v":31.59},{"$f":"LinInterpolate(F56,'24'!I7:I117,'24'!D7:D117,TRUE)","v":7.77},{"$f":"LinInterpolate(F56,'24'!I7:I117,'24'!E7:E117,TRUE)","v":3.95},null,908.25198749999993,223.39721249999997,113.5674375,{"$f":"LinInterpolate(F56,'24'!I7:I117,'24'!F7:F117,TRUE)","v":0},null,{"$f":"LinInterpolate(E56,'24'!$B7:$B117,'24'!J7:J117,TRUE)","v":27.91},{"$f":"LinInterpolate(E56,'24'!$B7:$B117,'24'!K7:K117,TRUE)","v":27.95},{"$f":"LinInterpolate(E56,'24'!$B7:$B117,'24'!L7:L117,TRUE)","v":28},{"$f":"LinInterpolate(E56,'24'!$B7:$B117,'24'!M7:M117,TRUE)","v":28.05},{"$f":"LinInterpolate(E56,'24'!$B7:$B117,'24'!N7:N117,TRUE)","v":28.03},{"$f":"LinInterpolate(E56,'24'!$B7:$B117,'24'!O7:O117,TRUE)","v":28.01},{"$f":"LinInterpolate(E56,'24'!$B7:$B117,'24'!P7:P117,TRUE)","v":28},28.05,{"$f":"IF(E56<'19'!B117,Y56-AA56,0)","v":0},{"$f":"IF(E56=0,0,IF(E56<'24'!B117,LinInterpolate($G$169,$R$23:$X$23,R56:X56,TRUE),Y56))","v":28.05}]
[null,25,"W.B. 3 SB","SW",{"$f":"INDEX!E58","v":5.48},{"$f":"IF(E57<'25'!B117,LinInterpolate(E57,'25'!B7:B117,'25'!I7:I117,TRUE),100)","v":100},{"$f":"LinInterpolate(F57,'25'!I7:I117,'25'!M7:M117,1)","v":28.05},{"$f":"LinInterpolate(F57,'25'!I7:I117,'25'!H7:H117,TRUE)","v":28.751249999999999},{"$f":"LinInterpolate(F57,'25'!I7:I117,'25'!C7:C117,TRUE)","v":31.59},{"$f":"LinInterpolate(F57,'25'!I7:I117,'25'!D7:D117,TRUE)","v":-7.77},{"$f":"LinInterpolate(F57,'25'!I7:I117,'25'!E7:E117,TRUE)","v":3.95},null,908.25198749999993,-223.39721249999997,113.5674375,{"$f":"LinInterpolate(F57,'25'!I7:I117,'25'!F7:F117,TRUE)","v":0},null,{"$f":"LinInterpolate(E57,'25'!$B7:$B117,'25'!J7:J117,TRUE)","v":28.03},{"$f":"LinInterpolate(E57,'25'!$B7:$B117,'25'!K7:K117,TRUE)","v":28.04},{"$f":"LinInterpolate(E57,'25'!$B7:$B117,'25'!L7:L117,TRUE)","v":28.04},{"$f":"LinInterpolate(E57,'25'!$B7:$B117,'25'!M7:M117,TRUE)","v":28.05},{"$f":"LinInterpolate(E57,'25'!$B7:$B117,'25'!N7:N117,TRUE)","v":27.98},{"$f":"LinInterpolate(E57,'25'!$B7:$B117,'25'!O7:O117,TRUE)","v":27.91},{"$f":"LinInterpolate(E57,'25'!$B7:$B117,'25'!P7:P117,TRUE)","v":27.84},28.05,{"$f":"IF(E57<'19'!B117,Y57-AA57,0)","v":0},{"$f":"IF(E57=0,0,IF(E57<'25'!B117,LinInterpolate($G$169,$R$23:$X$23,R57:X57,TRUE),Y57))","v":28.05}]
[null,26,"W.B. 3 PS DB","SW",{"$f":"INDEX!E59","v":1.35},{"$f":"IF(E58<'26'!B34,LinInterpolate(E58,'26'!B7:B34,'26'!I7:I34,TRUE),100)","v":100},{"$f":"LinInterpolate(F58,'26'!I7:I34,'26'!M7:M34,1)","v":24.36},{"$f":"LinInterpolate(F58,'26'!I7:I34,'26'!H7:H34,TRUE)","v":24.968999999999998},{"$f":"LinInterpolate(F58,'26'!I7:I34,'26'!C7:C34,TRUE)","v":31.46},{"$f":"LinInterpolate(F58,'26'!I7:I34,'26'!D7:D34,TRUE)","v":5.71},{"$f":"LinInterpolate(F58,'26'!I7:I34,'26'!E7:E34,TRUE)","v":0.63},null,785.52473999999995,142.57298999999998,15.730469999999999,{"$f":"LinInterpolate(F58,'26'!I7:I34,'26'!F7:F34,TRUE)","v":0},null,{"$f":"LinInterpolate(E58,'26'!$B7:$B34,'26'!J7:J34,TRUE)","v":24.36},{"$f":"LinInterpolate(E58,'26'!$B7:$B34,'26'!K7:K34,TRUE)","v":24.36},{"$f":"LinInterpolate(E58,'26'!$B7:$B34,'26'!L7:L34,TRUE)","v":24.36},{"$f":"LinInterpolate(E58,'26'!$B7:$B34,'26'!M7:M34,TRUE)","v":24.36},{"$f":"LinInterpolate(E58,'26'!$B7:$B34,'26'!N7:N34,TRUE)","v":24.36},{"$f":"LinInterpolate(E58,'26'!$B7:$B34,'26'!O7:O34,TRUE)","v":24.36},{"$f":"LinInterpolate(E58,'26'!$B7:$B34,'26'!P7:P34,TRUE)","v":24.33},24.36,{"$f":"IF(E58<'19'!B34,Y58-AA58,0)","v":0},{"$f":"IF(E58=0,0,IF(E58<'26'!B34,LinInterpolate($G$169,$R$23:$X$23,R58:X58,TRUE),Y58))","v":24.36}]
[null,27,"W.B. 3 SB DB","SW",{"$f":"INDEX!E60","v":1.35},{"$f":"IF(E59<'27'!B34,LinInterpolate(E59,'27'!B7:B34,'27'!I7:I34,TRUE),100)","v":100},{"$f":"LinInterpolate(F59,'27'!I7:I34,'27'!M7:M34,1)","v":24.36},{"$f":"LinInterpolate(F59,'27'!I7:I34,'27'!H7:H34,TRUE)","v":24.968999999999998},{"$f":"LinInterpolate(F59,'27'!I7:I34,'27'!C7:C34,TRUE)","v":31.46},{"$f":"LinInterpolate(F59,'27'!I7:I34,'27'!D7:D34,TRUE)","v":-5.71},{"$f":"LinInterpolate(F59,'27'!I7:I34,'27'!E7:E34,TRUE)","v":0.63},null,785.52473999999995,-142.57298999999998,15.730469999999999,{"$f":"LinInterpolate(F59,'27'!I7:I34,'27'!F7:F34,TRUE)","v":0},null,{"$f":"LinInterpolate(E59,'27'!$B7:$B34,'27'!J7:J34,TRUE)","v":24.36},{"$f":"LinInterpolate(E59,'27'!$B7:$B34,'27'!K7:K34,TRUE)","v":24.36},{"$f":"LinInterpolate(E59,'27'!$B7:$B34,'27'!L7:L34,TRUE)","v":24.36},{"$f":"LinInterpolate(E59,'27'!$B7:$B34,'27'!M7:M34,TRUE)","v":24.36},{"$f":"LinInterpolate(E59,'27'!$B7:$B34,'27'!N7:N34,TRUE)","v":24.36},{"$f":"LinInterpolate(E59,'27'!$B7:$B34,'27'!O7:O34,TRUE)","v":24.36},{"$f":"LinInterpolate(E59,'27'!$B7:$B34,'27'!P7:P34,TRUE)","v":24.33},24.36,{"$f":"IF(E59<'19'!B34,Y59-AA59,0)","v":0},{"$f":"IF(E59=0,0,IF(E59<'27'!B34, LinInterpolate($G$169,$R$23:$X$23,R59:X59,TRUE),Y59))","v":24.36}]
[null,28,"W.B. 4 PS","SW",{"$f":"INDEX!E61","v":5.52},{"$f":"IF(E60<'28'!B118,LinInterpolate(E60,'28'!B7:B118,'28'!I7:I118,TRUE),100)","v":100},{"$f":"LinInterpolate(F60,'28'!I7:I118,'28'!M7:M118,1)","v":26.7},{"$f":"LinInterpolate(F60,'28'!I7:I118,'28'!H7:H118,TRUE)","v":27.367499999999996},{"$f":"LinInterpolate(F60,'28'!I7:I118,'28'!C7:C118,TRUE)","v":26.1},{"$f":"LinInterpolate(F60,'28'!I7:I118,'28'!D7:D118,TRUE)","v":7.8},{"$f":"LinInterpolate(F60,'28'!I7:I118,'28'!E7:E118,TRUE)","v":4.04},null,714.29174999999998,213.46649999999997,110.56469999999999,{"$f":"LinInterpolate(F60,'28'!I7:I118,'28'!F7:F118,TRUE)","v":0},null,{"$f":"LinInterpolate(E60,'28'!$B7:$B118,'28'!J7:J118,TRUE)","v":26.35},{"$f":"LinInterpolate(E60,'28'!$B7:$B118,'28'!K7:K118,TRUE)","v":26.47},{"$f":"LinInterpolate(E60,'28'!$B7:$B118,'28'!L7:L118,TRUE)","v":26.58},{"$f":"LinInterpolate(E60,'28'!$B7:$B118,'28'!M7:M118,TRUE)","v":26.7},{"$f":"LinInterpolate(E60,'28'!$B7:$B118,'28'!N7:N118,TRUE)","v":26.7},{"$f":"LinInterpolate(E60,'28'!$B7:$B118,'28'!O7:O118,TRUE)","v":26.7},{"$f":"LinInterpolate(E60,'28'!$B7:$B118,'28'!P7:P118,TRUE)","v":26.7},26.7,{"$f":"IF(E60<'19'!B118,Y60-AA60,0)","v":0},{"$f":"IF(E60=0,0,IF(E60<'28'!B118,LinInterpolate($G$169,$R$23:$X$23,R60:X60,TRUE),Y60))","v":26.7}]
[null,29,"W.B. 4 SB","SW",{"$f":"INDEX!E62","v":5.52},{"$f":"IF(E61<'29'!B118,LinInterpolate(E61,'29'!B7:B118,'29'!I7:I118,TRUE),100)","v":100},{"$f":"LinInterpolate(F61,'29'!I7:I118,'29'!M7:M118,1)","v":26.7},{"$f":"LinInterpolate(F61,'29'!I7:I118,'29'!H7:H118,TRUE)","v":27.367499999999996},{"$f":"LinInterpolate(F61,'29'!I7:I118,'29'!C7:C118,TRUE)","v":26.1},{"$f":"LinInterpolate(F61,'29'!I7:I118,'29'!D7:D118,TRUE)","v":-7.8},{"$f":"LinInterpolate(F61,'29'!I7:I118,'29'!E7:E118,TRUE)","v":4.04},null,714.29174999999998,-213.46649999999997,110.56469999999999,{"$f":"LinInterpolate(F61,'29'!I7:I118,'29'!F7:F118,TRUE)","v":0},null,{"$f":"LinInterpolate(E61,'29'!$B7:$B118,'29'!J7:J118,TRUE)","v":26.35},{"$f":"LinInterpolate(E61,'29'!$B7:$B118,'29'!K7:K118,TRUE)","v":26.47},{"$f":"LinInterpolate(E61,'29'!$B7:$B118,'29'!L7:L118,TRUE)","v":26.58},{"$f":"LinInterpolate(E61,'29'!$B7:$B118,'29'!M7:M118,TRUE)","v":26.7},{"$f":"LinInterpolate(E61,'29'!$B7:$B118,'29'!N7:N118,TRUE)","v":26.7},{"$f":"LinInterpolate(E61,'29'!$B7:$B118,'29'!O7:O118,TRUE)","v":26.7},{"$f":"LinInterpolate(E61,'29'!$B7:$B118,'29'!P7:P118,TRUE)","v":26.7},26.7,{"$f":"IF(E61<'19'!B118,Y61-AA61,0)","v":0},{"$f":"IF(E61=0,0,IF(E61<'29'!B118,LinInterpolate($G$169,$R$23:$X$23,R61:X61,TRUE),Y61))","v":26.7}]
[null,30,"W.B. 4 PS DB","SW",{"$f":"INDEX!E63","v":1.3},{"$f":"IF(E62<'30'!B34,LinInterpolate(E62,'30'!B7:B34,'30'!I7:I34,TRUE),100)","v":100},{"$f":"LinInterpolate(F62,'30'!I7:I34,'30'!M7:M34,1)","v":45.49},{"$f":"LinInterpolate(F62,'30'!I7:I34,'30'!H7:H34,TRUE)","v":46.627249999999997},{"$f":"LinInterpolate(F62,'30'!I7:I34,'30'!C7:C34,TRUE)","v":26.09},{"$f":"LinInterpolate(F62,'30'!I7:I34,'30'!D7:D34,TRUE)","v":4.0999999999999996},{"$f":"LinInterpolate(F62,'30'!I7:I34,'30'!E7:E34,TRUE)","v":0.56000000000000005},null,1216.5049524999999,191.17172499999998,26.111260000000001,{"$f":"LinInterpolate(F62,'30'!I7:I34,'30'!F7:F34,TRUE)","v":0},null,{"$f":"LinInterpolate(E62,'30'!$B7:$B34,'30'!J7:J34,TRUE)","v":45.38},{"$f":"LinInterpolate(E62,'30'!$B7:$B34,'30'!K7:K34,TRUE)","v":45.46},{"$f":"LinInterpolate(E62,'30'!$B7:$B34,'30'!L7:L34,TRUE)","v":45.49},{"$f":"LinInterpolate(E62,'30'!$B7:$B34,'30'!M7:M34,TRUE)","v":45.49},{"$f":"LinInterpolate(E62,'30'!$B7:$B34,'30'!N7:N34,TRUE)","v":45.49},{"$f":"LinInterpolate(E62,'30'!$B7:$B34,'30'!O7:O34,TRUE)","v":45.49},{"$f":"LinInterpolate(E62,'30'!$B7:$B34,'30'!P7:P34,TRUE)","v":45.49},45.49,{"$f":"IF(E62<'19'!B34,Y62-AA62,0)","v":0},{"$f":"IF(E62=0,0,IF(E62<'30'!B34, LinInterpolate($G$169,$R$23:$X$23,S62:X62,TRUE),Y62))","v":45.49}]
[null,31,"W.B. 4 SB DB","SW",{"$f":"INDEX!E64","v":5.52},{"$f":"IF(E63<'31'!B34,LinInterpolate(E63,'31'!B7:B34,'31'!I7:I34,TRUE),100)","v":100},{"$f":"LinInterpolate(F63,'31'!I7:I34,'31'!M7:M34,1)","v":45.49},{"$f":"LinInterpolate(F63,'31'!I7:I34,'31'!H7:H34,TRUE)","v":46.627249999999997},{"$f":"LinInterpolate(F63,'31'!I7:I34,'31'!C7:C34,TRUE)","v":26.09},{"$f":"LinInterpolate(F63,'31'!I7:I34,'31'!D7:D34,TRUE)","v":-4.0999999999999996},{"$f":"LinInterpolate(F63,'31'!I7:I34,'31'!E7:E34,TRUE)","v":0.56000000000000005},null,1216.5049524999999,-191.17172499999998,26.111260000000001,{"$f":"LinInterpolate(F63,'31'!I7:I34,'31'!F7:F34,TRUE)","v":0},null,{"$f":"LinInterpolate(E63,'31'!$B7:$B34,'31'!J7:J34,TRUE)","v":53.810000000000109},{"$f":"LinInterpolate(E63,'31'!$B7:$B34,'31'!K7:K34,TRUE)","v":48.825999999999929},{"$f":"LinInterpolate(E63,'31'!$B7:$B34,'31'!L7:L34,TRUE)","v":45.49},{"$f":"LinInterpolate(E63,'31'!$B7:$B34,'31'!M7:M34,TRUE)","v":45.49},{"$f":"LinInterpolate(E63,'31'!$B7:$B34,'31'!N7:N34,TRUE)","v":45.49},{"$f":"LinInterpolate(E63,'31'!$B7:$B34,'31'!O7:O34,TRUE)","v":45.49},{"$f":"LinInterpolate(E63,'31'!$B7:$B34,'31'!P7:P34,TRUE)","v":45.49},45.49,{"$f":"IF(E63<'19'!B34,Y63-AA63,0)","v":0},{"$f":"IF(E63=0,0,IF(E63<'31'!B34,LinInterpolate($G$169,$R$23:$X$23,R63:X63,TRUE),Y63))","v":45.49}]
[null,32,"W.B. 5 PS","SW",{"$f":"INDEX!E65","v":5.52},{"$f":"IF(E64<'32'!B118,LinInterpolate(E64,'32'!B7:B118,'32'!I7:I118,TRUE),100)","v":100},{"$f":"LinInterpolate(F64,'32'!I7:I118,'32'!M7:M118,1)","v":23.67},{"$f":"LinInterpolate(F64,'32'!I7:I118,'32'!H7:H118,TRUE)","v":24.261749999999999},{"$f":"LinInterpolate(F64,'32'!I7:I118,'32'!C7:C118,TRUE)","v":21},{"$f":"LinInterpolate(F64,'32'!I7:I118,'32'!D7:D118,TRUE)","v":7.8},{"$f":"LinInterpolate(F64,'32'!I7:I118,'32'!E7:E118,TRUE)","v":4.04},null,509.49674999999996,189.24164999999999,98.017470000000003,{"$f":"LinInterpolate(F64,'32'!I7:I118,'32'!F7:F118,TRUE)","v":0},null,{"$f":"LinInterpolate(E64,'32'!$B7:$B118,'32'!J7:J118,TRUE)","v":23.41},{"$f":"LinInterpolate(E64,'32'!$B7:$B118,'32'!K7:K118,TRUE)","v":23.5},{"$f":"LinInterpolate(E64,'32'!$B7:$B118,'32'!L7:L118,TRUE)","v":23.58},{"$f":"LinInterpolate(E64,'32'!$B7:$B118,'32'!M7:M118,TRUE)","v":23.67},{"$f":"LinInterpolate(E64,'32'!$B7:$B118,'32'!N7:N118,TRUE)","v":23.67},{"$f":"LinInterpolate(E64,'32'!$B7:$B118,'32'!O7:O118,TRUE)","v":23.67},{"$f":"LinInterpolate(E64,'32'!$B7:$B118,'32'!P7:P118,TRUE)","v":23.67},23.67,{"$f":"IF(E64<'19'!B118,Y64-AA64,0)","v":0},{"$f":"IF(E64=0,0,IF(E64<'32'!B118,LinInterpolate($G$169,$R$23:$X$23,R64:X64,TRUE),Y64))","v":23.67}]
[null,33,"W.B. 5 SB","SW",{"$f":"INDEX!E66","v":5.52},{"$f":"IF(E65<'33'!B118,LinInterpolate(E65,'33'!B7:B118,'33'!I7:I118,TRUE),100)","v":100},{"$f":"LinInterpolate(F65,'33'!I7:I118,'33'!M7:M118,1)","v":23.67},{"$f":"LinInterpolate(F65,'33'!I7:I118,'33'!H7:H118,TRUE)","v":24.261749999999999},{"$f":"LinInterpolate(F65,'33'!I7:I118,'33'!C7:C118,TRUE)","v":21},{"$f":"LinInterpolate(F65,'33'!I7:I118,'33'!D7:D118,TRUE)","v":-7.8},{"$f":"LinInterpolate(F65,'33'!I7:I118,'33'!E7:E118,TRUE)","v":4.04},null,509.49674999999996,-189.24164999999999,98.017470000000003,{"$f":"LinInterpolate(F65,'33'!I7:I118,'33'!F7:F118,TRUE)","v":0},null,{"$f":"LinInterpolate(E65,'33'!$B7:$B118,'33'!J7:J118,TRUE)","v":23.41},{"$f":"LinInterpolate(E65,'33'!$B7:$B118,'33'!K7:K118,TRUE)","v":23.5},{"$f":"LinInterpolate(E65,'33'!$B7:$B118,'33'!L7:L118,TRUE)","v":23.58},{"$f":"LinInterpolate(E65,'33'!$B7:$B118,'33'!M7:M118,TRUE)","v":23.67},{"$f":"LinInterpolate(E65,'33'!$B7:$B118,'33'!N7:N118,TRUE)","v":23.67},{"$f":"LinInterpolate(E65,'33'!$B7:$B118,'33'!O7:O118,TRUE)","v":23.67},{"$f":"LinInterpolate(E65,'33'!$B7:$B118,'33'!P7:P118,TRUE)","v":23.67},23.67,{"$f":"IF(E65<'19'!B118,Y65-AA65,0)","v":0},{"$f":"IF(E65=0,0,IF(E65<'33'!B118, LinInterpolate($G$169,$R$23:$X$23,R65:X65,TRUE),Y65))","v":23.67}]
[null,34,"W.B. 5 PS DB","SW",{"$f":"INDEX!E67","v":1.35},{"$f":"IF(E66<'34'!B34,LinInterpolate(E66,'34'!B7:B34,'34'!I7:I34,TRUE),100)","v":100},{"$f":"LinInterpolate(F66,'34'!I7:I34,'34'!M7:M34,1)","v":40.159999999999997},{"$f":"LinInterpolate(F66,'34'!I7:I34,'34'!H7:H34,TRUE)","v":41.163999999999994},{"$f":"LinInterpolate(F66,'34'!I7:I34,'34'!C7:C34,TRUE)","v":21},{"$f":"LinInterpolate(F66,'34'!I7:I34,'34'!D7:D34,TRUE)","v":4.1500000000000004},{"$f":"LinInterpolate(F66,'34'!I7:I34,'34'!E7:E34,TRUE)","v":0.56000000000000005},null,864.44399999999985,170.8306,23.051839999999999,{"$f":"LinInterpolate(F66,'34'!I7:I34,'34'!F7:F34,TRUE)","v":0},null,{"$f":"LinInterpolate(E66,'34'!$B7:$B34,'34'!J7:J34,TRUE)","v":40.14},{"$f":"LinInterpolate(E66,'34'!$B7:$B34,'34'!K7:K34,TRUE)","v":40.159999999999997},{"$f":"LinInterpolate(E66,'34'!$B7:$B34,'34'!L7:L34,TRUE)","v":40.159999999999997},{"$f":"LinInterpolate(E66,'34'!$B7:$B34,'34'!M7:M34,TRUE)","v":40.159999999999997},{"$f":"LinInterpolate(E66,'34'!$B7:$B34,'34'!N7:N34,TRUE)","v":40.159999999999997},{"$f":"LinInterpolate(E66,'34'!$B7:$B34,'34'!O7:O34,TRUE)","v":40.159999999999997},{"$f":"LinInterpolate(E66,'34'!$B7:$B34,'34'!P7:P34,TRUE)","v":40.159999999999997},40.159999999999997,{"$f":"IF(E66<'19'!B34,Y66-AA66,0)","v":0},{"$f":"IF(E66=0,0,IF(E66<'34'!B34,LinInterpolate($G$169,$R$23:$X$23,R66:X66,TRUE),Y66))","v":40.159999999999997}]
[null,35,"W.B. 5 SB DB","SW",{"$f":"INDEX!E68","v":1.35},{"$f":"IF(E67<'35'!B34,LinInterpolate(E67,'35'!B7:B34,'35'!I7:I34,TRUE),100)","v":100},{"$f":"LinInterpolate(F67,'35'!I7:I34,'35'!M7:M34,1)","v":40.159999999999997},{"$f":"LinInterpolate(F67,'35'!I7:I34,'35'!H7:H34,TRUE)","v":41.163999999999994},{"$f":"LinInterpolate(F67,'35'!I7:I34,'35'!C7:C34,TRUE)","v":21},{"$f":"LinInterpolate(F67,'35'!I7:I34,'35'!D7:D34,TRUE)","v":-4.1500000000000004},{"$f":"LinInterpolate(F67,'35'!I7:I34,'35'!E7:E34,TRUE)","v":0.56000000000000005},null,864.44399999999985,-170.8306,23.051839999999999,{"$f":"LinInterpolate(F67,'35'!I7:I34,'35'!F7:F34,TRUE)","v":0},null,{"$f":"LinInterpolate(E67,'35'!$B7:$B34,'35'!J7:J34,TRUE)","v":40.14},{"$f":"LinInterpolate(E67,'35'!$B7:$B34,'35'!K7:K34,TRUE)","v":40.159999999999997},{"$f":"LinInterpolate(E67,'35'!$B7:$B34,'35'!L7:L34,TRUE)","v":40.159999999999997},{"$f":"LinInterpolate(E67,'35'!$B7:$B34,'35'!M7:M34,TRUE)","v":40.159999999999997},{"$f":"LinInterpolate(E67,'35'!$B7:$B34,'35'!N7:N34,TRUE)","v":40.159999999999997},{"$f":"LinInterpolate(E67,'35'!$B7:$B34,'35'!O7:O34,TRUE)","v":40.159999999999997},{"$f":"LinInterpolate(E67,'35'!$B7:$B34,'35'!P7:P34,TRUE)","v":40.159999999999997},40.159999999999997,{"$f":"IF(E67<'19'!B34,Y67-AA67,0)","v":0},{"$f":"IF(E67=0,0,IF(E67<'35'!B34,LinInterpolate($G$169,$R$23:$X$23,R67:X67,TRUE),Y67))","v":40.159999999999997}]
[null,36,"W.B. 6 PS","SW",{"$f":"INDEX!E69","v":5.51},{"$f":"IF(E68<'36'!B118,LinInterpolate(E68,'36'!B7:B118,'36'!I7:I118,TRUE),100)","v":100},{"$f":"LinInterpolate(F68,'36'!I7:I118,'36'!M7:M118,1)","v":22.31},{"$f":"LinInterpolate(F68,'36'!I7:I118,'36'!H7:H118,TRUE)","v":22.857499999999998},{"$f":"LinInterpolate(F68,'36'!I7:I118,'36'!C7:C118,TRUE)","v":16.260000000000002},{"$f":"LinInterpolate(F68,'36'!I7:I118,'36'!D7:D118,TRUE)","v":7.79},{"$f":"LinInterpolate(F68,'36'!I7:I118,'36'!E7:E118,TRUE)","v":4.21},null,371.66295000000002,178.05992499999999,96.230074999999985,{"$f":"LinInterpolate(F68,'36'!I7:I118,'36'!F7:F118,TRUE)","v":0},null,{"$f":"LinInterpolate(E68,'36'!$B21:$B118,'36'!J21:J118,TRUE)","v":22.3},{"$f":"LinInterpolate(E68,'36'!$B21:$B118,'36'!K21:K118,TRUE)","v":22.3},{"$f":"LinInterpolate(E68,'36'!$B21:$B118,'36'!L21:L118,TRUE)","v":22.31},{"$f":"LinInterpolate(E68,'36'!$B21:$B118,'36'!M21:M118,TRUE)","v":22.31},{"$f":"LinInterpolate(E68,'36'!$B21:$B118,'36'!N21:N118,TRUE)","v":22.24},{"$f":"LinInterpolate(E68,'36'!$B21:$B118,'36'!O21:O118,TRUE)","v":22.17},{"$f":"LinInterpolate(E68,'36'!$B21:$B118,'36'!P21:P118,TRUE)","v":22.1},22.31,{"$f":"IF(E68<'19'!B118,Y68-AA68,0)","v":0},{"$f":"IF(E68=0,0,IF(E68<'36'!B118,LinInterpolate($G$169,$R$23:$X$23,R68:X68,TRUE),Y68))","v":22.31}]
[null,37,"W.B. 6 SB","SW",{"$f":"INDEX!E70","v":5.51},{"$f":"IF(E69<'37'!B118,LinInterpolate(E69,'37'!B7:B118,'37'!I7:I118,TRUE),100)","v":100},{"$f":"LinInterpolate(F69,'37'!I7:I118,'37'!M7:M118,1)","v":22.31},{"$f":"LinInterpolate(F69,'37'!I7:I118,'37'!H7:H118,TRUE)","v":22.857499999999998},{"$f":"LinInterpolate(F69,'37'!I7:I118,'37'!C7:C118,TRUE)","v":16.260000000000002},{"$f":"LinInterpolate(F69,'37'!I7:I118,'37'!D7:D118,TRUE)","v":-7.79},{"$f":"LinInterpolate(F69,'37'!I7:I118,'37'!E7:E118,TRUE)","v":4.21},null,371.66295000000002,-178.05992499999999,96.230074999999985,{"$f":"LinInterpolate(F69,'37'!I7:I118,'37'!F7:F118,TRUE)","v":0},null,{"$f":"LinInterpolate(E69,'37'!$B7:$B118,'37'!J7:J118,TRUE)","v":22.3},{"$f":"LinInterpolate(E69,'37'!$B7:$B118,'37'!K7:K118,TRUE)","v":22.3},{"$f":"LinInterpolate(E69,'37'!$B7:$B118,'37'!L7:L118,TRUE)","v":22.3},{"$f":"LinInterpolate(E69,'37'!$B7:$B118,'37'!M7:M118,TRUE)","v":22.31},{"$f":"LinInterpolate(E69,'37'!$B7:$B118,'37'!N7:N118,TRUE)","v":22.24},{"$f":"LinInterpolate(E69,'37'!$B7:$B118,'37'!O7:O118,TRUE)","v":22.18},{"$f":"LinInterpolate(E69,'37'!$B7:$B118,'37'!P7:P118,TRUE)","v":22.11},22.31,{"$f":"IF(E69<'19'!B118,Y69-AA69,0)","v":0},{"$f":"IF(E69=0,0,IF(E69<'37'!B118,LinInterpolate($G$169,$R$23:$X$23,R69:X69,TRUE),Y69))","v":22.31}]
[null,38,"W.B. 6 PS DB","SW",{"$f":"INDEX!E71","v":2.2000000000000002},{"$f":"IF(E70<'38'!B51,LinInterpolate(E70,'38'!B7:B51,'38'!I7:I51,TRUE),100)","v":100},{"$f":"LinInterpolate(F70,'38'!I7:I51,'38'!M7:M51,1)","v":39.67},{"$f":"LinInterpolate(F70,'38'!I7:I51,'38'!H7:H51,TRUE)","v":40.661749999999998},{"$f":"LinInterpolate(F70,'38'!I7:I51,'38'!C7:C51,TRUE)","v":16.2},{"$f":"LinInterpolate(F70,'38'!I7:I51,'38'!D7:D51,TRUE)","v":4.16},{"$f":"LinInterpolate(F70,'38'!I7:I51,'38'!E7:E51,TRUE)","v":0.63},null,658.72034999999994,169.15288000000001,25.616902499999998,{"$f":"LinInterpolate(F70,'38'!I7:I51,'38'!F7:F51,TRUE)","v":0},null,{"$f":"LinInterpolate(E70,'38'!$B7:$B51,'38'!J7:J51,TRUE)","v":39.67},{"$f":"LinInterpolate(E70,'38'!$B7:$B51,'38'!K7:K51,TRUE)","v":39.67},{"$f":"LinInterpolate(E70,'38'!$B7:$B51,'38'!L7:L51,TRUE)","v":39.67},{"$f":"LinInterpolate(E70,'38'!$B7:$B51,'38'!M7:M51,TRUE)","v":39.67},{"$f":"LinInterpolate(E70,'38'!$B7:$B51,'38'!N7:N51,TRUE)","v":39.659999999999997},{"$f":"LinInterpolate(E70,'38'!$B7:$B51,'38'!O7:O51,TRUE)","v":39.659999999999997},{"$f":"LinInterpolate(E70,'38'!$B7:$B51,'38'!P7:P51,TRUE)","v":39.65},39.67,{"$f":"IF(E70<'19'!B51,Y70-AA70,0)","v":0},{"$f":"IF(E70=0,0,IF(E70<'38'!B51, LinInterpolate($G$169,$R$23:$X$23,R70:X70,TRUE),Y70))","v":39.67}]
[null,39,"W.B. 6 SB DB","SW",{"$f":"INDEX!E72","v":2.2000000000000002},{"$f":"IF(E71<'39'!B51,LinInterpolate(E71,'39'!B7:B51,'39'!I7:I51,TRUE),100)","v":100},{"$f":"LinInterpolate(F71,'39'!I7:I51,'39'!M7:M51,1)","v":39.67},{"$f":"LinInterpolate(F71,'39'!I7:I51,'39'!H7:H51,TRUE)","v":40.661749999999998},{"$f":"LinInterpolate(F71,'39'!I7:I51,'39'!C7:C51,TRUE)","v":16.2},{"$f":"LinInterpolate(F71,'39'!I7:I51,'39'!D7:D51,TRUE)","v":-4.16},{"$f":"LinInterpolate(F71,'39'!I7:I51,'39'!E7:E51,TRUE)","v":0.63},null,658.72034999999994,-169.15288000000001,25.616902499999998,{"$f":"LinInterpolate(F71,'39'!I7:I51,'39'!F7:F51,TRUE)","v":0},null,{"$f":"LinInterpolate(E71,'39'!$B7:$B51,'39'!J7:J51,TRUE)","v":39.67},{"$f":"LinInterpolate(E71,'39'!$B7:$B51,'39'!K7:K51,TRUE)","v":39.67},{"$f":"LinInterpolate(E71,'39'!$B7:$B51,'39'!L7:L51,TRUE)","v":39.67},{"$f":"LinInterpolate(E71,'39'!$B7:$B51,'39'!M7:M51,TRUE)","v":39.67},{"$f":"LinInterpolate(E71,'39'!$B7:$B51,'39'!N7:N51,TRUE)","v":39.659999999999997},{"$f":"LinInterpolate(E71,'39'!$B7:$B51,'39'!O7:O51,TRUE)","v":39.659999999999997},{"$f":"LinInterpolate(E71,'39'!$B7:$B51,'39'!P7:P51,TRUE)","v":39.659999999999997},39.67,{"$f":"IF(E71<'19'!B51,Y71-AA71,0)","v":0},{"$f":"IF(E71=0,0,IF(E71<'39'!B51, LinInterpolate($G$169,$R$23:$X$23,R71:X71,TRUE),Y71))","v":39.67}]
[null,40,"W.B. 7 PS","SW",{"$f":"INDEX!E73","v":4.6399999999999997},{"$f":"IF(E72<'40'!B100,LinInterpolate(E72,'40'!B7:B100,'40'!I7:I100,TRUE),100)","v":100},{"$f":"LinInterpolate(F72,'40'!I7:I100,'40'!M7:M100,1)","v":17.48},{"$f":"LinInterpolate(F72,'40'!I7:I100,'40'!H7:H100,TRUE)","v":17.916999999999998},{"$f":"LinInterpolate(F72,'40'!I7:I100,'40'!C7:C100,TRUE)","v":11.34},{"$f":"LinInterpolate(F72,'40'!I7:I100,'40'!D7:D100,TRUE)","v":7.79},{"$f":"LinInterpolate(F72,'40'!I7:I100,'40'!E7:E100,TRUE)","v":4.92},null,203.17877999999999,139.57342999999997,88.151639999999986,{"$f":"LinInterpolate(F72,'40'!I7:I100,'40'!F7:F100,TRUE)","v":0},null,{"$f":"LinInterpolate(E72,'40'!$B7:$B100,'40'!J7:J100,TRUE)","v":17.48},{"$f":"LinInterpolate(E72,'40'!$B7:$B100,'40'!K7:K100,TRUE)","v":17.48},{"$f":"LinInterpolate(E72,'40'!$B7:$B100,'40'!L7:L100,TRUE)","v":17.48},{"$f":"LinInterpolate(E72,'40'!$B7:$B100,'40'!M7:M100,TRUE)","v":17.48},{"$f":"LinInterpolate(E72,'40'!$B7:$B100,'40'!N7:N100,TRUE)","v":17.37},{"$f":"LinInterpolate(E72,'40'!$B7:$B100,'40'!O7:O100,TRUE)","v":17.260000000000002},{"$f":"LinInterpolate(E72,'40'!$B7:$B100,'40'!P7:P100,TRUE)","v":17.149999999999999},17.48,{"$f":"IF(E72<'19'!B100,Y72-AA72,0)","v":0},{"$f":"IF(E72=0,0,IF(E72<'40'!B100,LinInterpolate($G$169,$R$23:$X$23,R72:X72,TRUE),Y72))","v":17.48}]
[null,41,"W.B. 7 SB","SW",{"$f":"INDEX!E74","v":4.6399999999999997},{"$f":"IF(E73<'41'!B100,LinInterpolate(E73,'41'!B7:B100,'41'!I7:I100,TRUE),100)","v":100},{"$f":"LinInterpolate(F73,'41'!I7:I100,'41'!M7:M100,1)","v":17.48},{"$f":"LinInterpolate(F73,'41'!I7:I100,'41'!H7:H100,TRUE)","v":17.916999999999998},{"$f":"LinInterpolate(F73,'41'!I7:I100,'41'!C7:C100,TRUE)","v":11.34},{"$f":"LinInterpolate(F73,'41'!I7:I100,'41'!D7:D100,TRUE)","v":-7.79},{"$f":"LinInterpolate(F73,'41'!I7:I100,'41'!E7:E100,TRUE)","v":4.92},null,203.17877999999999,-139.57342999999997,88.151639999999986,{"$f":"LinInterpolate(F73,'41'!I7:I100,'41'!F7:F100,TRUE)","v":0},null,{"$f":"LinInterpolate(E73,'41'!$B7:$B100,'41'!J7:J100,TRUE)","v":17.48},{"$f":"LinInterpolate(E73,'41'!$B7:$B100,'41'!K7:K100,TRUE)","v":17.48},{"$f":"LinInterpolate(E73,'41'!$B7:$B100,'41'!L7:L100,TRUE)","v":17.48},{"$f":"LinInterpolate(E73,'41'!$B7:$B100,'41'!M7:M100,TRUE)","v":17.48},{"$f":"LinInterpolate(E73,'41'!$B7:$B100,'41'!N7:N100,TRUE)","v":17.37},{"$f":"LinInterpolate(E73,'41'!$B7:$B100,'41'!O7:O100,TRUE)","v":17.260000000000002},{"$f":"LinInterpolate(E73,'41'!$B7:$B100,'41'!P7:P100,TRUE)","v":17.149999999999999},17.48,{"$f":"IF(E73<'19'!B100,Y73-AA73,0)","v":0},{"$f":"IF(E73=0,0,IF(E73<'41'!B100, LinInterpolate($G$169,$R$23:$X$23,R73:X73,TRUE),Y73))","v":17.48}]
[null,42,"W.B. 7 PS DB","SW",{"$f":"INDEX!E75","v":4.55},{"$f":"IF(E74<'42'!B98,LinInterpolate(E74,'42'!B7:B98,'42'!I7:I98,TRUE),100)","v":100},{"$f":"LinInterpolate(F74,'42'!I7:I98,'42'!M7:M98,1)","v":35.4},{"$f":"LinInterpolate(F74,'42'!I7:I98,'42'!H7:H98,TRUE)","v":36.284999999999997},{"$f":"LinInterpolate(F74,'42'!I7:I98,'42'!C7:C98,TRUE)","v":10.63},{"$f":"LinInterpolate(F74,'42'!I7:I98,'42'!D7:D98,TRUE)","v":5.9},{"$f":"LinInterpolate(F74,'42'!I7:I98,'42'!E7:E98,TRUE)","v":1.98},null,385.70954999999998,214.08150000000001,71.84429999999999,{"$f":"LinInterpolate(F74,'42'!I7:I98,'42'!F7:F98,TRUE)","v":0},null,{"$f":"LinInterpolate(E74,'42'!$B7:$B98,'42'!J7:J98,TRUE)","v":35.4},{"$f":"LinInterpolate(E74,'42'!$B7:$B98,'42'!K7:K98,TRUE)","v":35.4},{"$f":"LinInterpolate(E74,'42'!$B7:$B98,'42'!L7:L98,TRUE)","v":35.4},{"$f":"LinInterpolate(E74,'42'!$B7:$B98,'42'!M7:M98,TRUE)","v":35.4},{"$f":"LinInterpolate(E74,'42'!$B7:$B98,'42'!N7:N98,TRUE)","v":35.39},{"$f":"LinInterpolate(E74,'42'!$B7:$B98,'42'!O7:O98,TRUE)","v":35.39},{"$f":"LinInterpolate(E74,'42'!$B7:$B98,'42'!P7:P98,TRUE)","v":35.380000000000003},35.4,{"$f":"IF(E74<'19'!B98,Y74-AA74,0)","v":0},{"$f":"IF(E74=0,0,IF(E74<'42'!B98,LinInterpolate($G$169,$R$23:$X$23,R74:X74,TRUE),Y74))","v":35.4}]
[null,43,"W.B. 7 SB DB","SW",{"$f":"INDEX!E76","v":4.55},{"$f":"IF(E75<'43'!B98,LinInterpolate(E75,'43'!B7:B98,'43'!I7:I98,TRUE),100)","v":100},{"$f":"LinInterpolate(F75,'43'!I7:I98,'43'!M7:M98,1)","v":35.4},{"$f":"LinInterpolate(F75,'43'!I7:I98,'43'!H7:H98,TRUE)","v":36.284999999999997},{"$f":"LinInterpolate(F75,'43'!I7:I98,'43'!C7:C98,TRUE)","v":10.63},{"$f":"LinInterpolate(F75,'43'!I7:I98,'43'!D7:D98,TRUE)","v":-5.9},{"$f":"LinInterpolate(F75,'43'!I7:I98,'43'!E7:E98,TRUE)","v":1.98},null,385.70954999999998,-214.08150000000001,71.84429999999999,{"$f":"LinInterpolate(F75,'43'!I7:I98,'43'!F7:F98,TRUE)","v":0},null,{"$f":"LinInterpolate(E75,'43'!$B7:$B98,'43'!J7:J98,TRUE)","v":35.4},{"$f":"LinInterpolate(E75,'43'!$B7:$B98,'43'!K7:K98,TRUE)","v":35.4},{"$f":"LinInterpolate(E75,'43'!$B7:$B98,'43'!L7:L98,TRUE)","v":35.4},{"$f":"LinInterpolate(E75,'43'!$B7:$B98,'43'!M7:M98,TRUE)","v":35.4},{"$f":"LinInterpolate(E75,'43'!$B7:$B98,'43'!N7:N98,TRUE)","v":35.39},{"$f":"LinInterpolate(E75,'43'!$B7:$B98,'43'!O7:O98,TRUE)","v":35.39},{"$f":"LinInterpolate(E75,'43'!$B7:$B98,'43'!P7:P98,TRUE)","v":35.380000000000003},35.4,{"$f":"IF(E75<'19'!B98,Y75-AA75,0)","v":0},{"$f":"IF(E75=0,0,IF(E75<'43'!B98,LinInterpolate($G$169,$R$23:$X$23,R75:X75,TRUE),Y75))","v":35.4}]
[null,44,"W.B. 8 PS DB","SW",{"$f":"INDEX!E77","v":2.7},{"$f":"IF(E76<'44'!B61,LinInterpolate(E76,'44'!B7:B61,'44'!I7:I61,TRUE),100)","v":100},{"$f":"LinInterpolate(F76,'44'!I7:I61,'44'!M7:M61,1)","v":29.71},{"$f":"LinInterpolate(F76,'44'!I7:I61,'44'!H7:H61,TRUE)","v":30.452749999999998},{"$f":"LinInterpolate(F76,'44'!I7:I61,'44'!C7:C61,TRUE)","v":10.53},{"$f":"LinInterpolate(F76,'44'!I7:I61,'44'!D7:D61,TRUE)","v":1.47},{"$f":"LinInterpolate(F76,'44'!I7:I61,'44'!E7:E61,TRUE)","v":1.1100000000000001},null,320.66745749999995,44.765542499999995,33.802552500000004,{"$f":"LinInterpolate(F76,'44'!I7:I61,'44'!F7:F61,TRUE)","v":0},null,{"$f":"LinInterpolate(E76,'44'!$B7:$B61,'44'!J7:J61,TRUE)","v":29.71},{"$f":"LinInterpolate(E76,'44'!$B7:$B61,'44'!K7:K61,TRUE)","v":29.71},{"$f":"LinInterpolate(E76,'44'!$B7:$B61,'44'!L7:L61,TRUE)","v":29.71},{"$f":"LinInterpolate(E76,'44'!$B7:$B61,'44'!M7:M61,TRUE)","v":29.71},{"$f":"LinInterpolate(E76,'44'!$B7:$B61,'44'!N7:N61,TRUE)","v":29.7},{"$f":"LinInterpolate(E76,'44'!$B7:$B61,'44'!O7:O61,TRUE)","v":29.67},{"$f":"LinInterpolate(E76,'44'!$B7:$B61,'44'!P7:P61,TRUE)","v":29.59},29.71,{"$f":"IF(E76<'19'!B61,Y76-AA76,0)","v":0},{"$f":"IF(E76=0,0,IF(E76<'44'!B61,LinInterpolate($G$169,$R$23:$X$23,R76:X76,TRUE),Y76))","v":29.71}]
[null,45,"W.B. 8 SB DB","SW",{"$f":"INDEX!E78","v":2.7},{"$f":"IF(E77<'45'!B61,LinInterpolate(E77,'45'!B7:B61,'45'!I7:I61,TRUE),100)","v":100},{"$f":"LinInterpolate(F77,'45'!I7:I61,'45'!M7:M61,1)","v":29.71},{"$f":"LinInterpolate(F77,'45'!I7:I61,'45'!H7:H61,TRUE)","v":30.452749999999998},{"$f":"LinInterpolate(F77,'45'!I7:I61,'45'!C7:C61,TRUE)","v":10.53},{"$f":"LinInterpolate(F77,'45'!I7:I61,'45'!D7:D61,TRUE)","v":-1.47},{"$f":"LinInterpolate(F77,'45'!I7:I61,'45'!E7:E61,TRUE)","v":1.1100000000000001},null,320.66745749999995,-44.765542499999995,33.802552500000004,{"$f":"LinInterpolate(F77,'45'!I7:I61,'45'!F7:F61,TRUE)","v":0},null,{"$f":"LinInterpolate(E77,'45'!$B7:$B61,'45'!J7:J61,TRUE)","v":29.71},{"$f":"LinInterpolate(E77,'45'!$B7:$B61,'45'!K7:K61,TRUE)","v":29.71},{"$f":"LinInterpolate(E77,'45'!$B7:$B61,'45'!L7:L61,TRUE)","v":29.71},{"$f":"LinInterpolate(E77,'45'!$B7:$B61,'45'!M7:M61,TRUE)","v":29.71},{"$f":"LinInterpolate(E77,'45'!$B7:$B61,'45'!N7:N61,TRUE)","v":29.7},{"$f":"LinInterpolate(E77,'45'!$B7:$B61,'45'!O7:O61,TRUE)","v":29.67},{"$f":"LinInterpolate(E77,'45'!$B7:$B61,'45'!P7:P61,TRUE)","v":29.59},29.71,{"$f":"IF(E77<'19'!B61,Y77-AA77,0)","v":0},{"$f":"IF(E77=0,0,IF(E77<'45'!B61, LinInterpolate($G$169,$R$23:$X$23,R77:X77,TRUE),Y77))","v":29.71}]
[null,null,"Total BW",null,null,{"$f":"(G78/1032.2)*100","v":99.98391784537877},{"$f":"SUM((G51:G77))","v":1032.0339999999997},{"$f":"SUM((H51:H77))","v":1057.8143499999999},{"$f":"M78/H78","v":22.744108122564228},{"$f":"N78/H78","v":-7.3606753396756736E-3},{"$f":"O78/H78","v":3.0813733728418415},null,{"$f":"SUM((M51:M77))","v":24059.043949999996},{"$f":"SUM((N51:N77))","v":-7.786228000000051},{"$f":"SUM((O51:O77))","v":3259.5209715000001},{"$f":"SUM((P51:P77))","v":0},null,null,null,null,null,null,null,null,null,{"$f":"SUM((Z51:Z77))","v":0},{"$f":"SUM((AA51:AA77))","v":1032.0339999999997}]
[]
[null,null,"FW (S.G. 1.000)",null,null,null,null,null,null,null,null,null,null,null,null,null,null,-1.5,-1,-0.5,0,0.5,1,1.5,"Volume","∆Volume","Volume2"]
[null,46,"F.W. 1 PS","FW",{"$f":"INDEX!E82","v":7.77},{"$f":"IF(E81<'46'!B163,LinInterpolate(E81,'46'!B7:B163,'46'!I7:I163,TRUE),100)","v":100},{"$f":"LinInterpolate(F81,'46'!I7:I163,'46'!M7:M163,1)","v":73.349999999999994},{"$f":"LinInterpolate(F81,'46'!I7:I163,'46'!H7:H163,TRUE)","v":73.349999999999994},{"$f":"LinInterpolate(F81,'46'!I7:I163,'46'!C7:C163,TRUE)","v":47.04},{"$f":"LinInterpolate(F81,'46'!I7:I163,'46'!D7:D163,TRUE)","v":2.93},{"$f":"LinInterpolate(F81,'46'!I7:I163,'46'!E7:E163,TRUE)","v":4.93},null,{"$f":"$H81*I81","v":3450.3839999999996},{"$f":"$H81*J81","v":214.91550000000001},{"$f":"$H81*K81","v":361.61549999999994},{"$f":"LinInterpolate(F81,'46'!I7:I163,'46'!F7:F163,TRUE)","v":0},null,{"$f":"LinInterpolate(E81,'46'!$B7:$B163,'46'!J7:J163,TRUE)","v":72.150000000000006},{"$f":"LinInterpolate(E81,'46'!$B7:$B163,'46'!K7:K163,TRUE)","v":72.55},{"$f":"LinInterpolate(E81,'46'!$B7:$B163,'46'!L7:L163,TRUE)","v":72.95},{"$f":"LinInterpolate(E81,'46'!$B7:$B163,'46'!M7:M163,TRUE)","v":73.349999999999994},{"$f":"LinInterpolate(E81,'46'!$B7:$B163,'46'!N7:N163,TRUE)","v":73.349999999999994},{"$f":"LinInterpolate(E81,'46'!$B7:$B163,'46'!O7:O163,TRUE)","v":73.349999999999994},{"$f":"LinInterpolate(E81,'46'!$B7:$B163,'46'!P7:P163,TRUE)","v":73.349999999999994},{"$f":"G81","v":73.349999999999994},{"$f":"IF(E81<'19'!B163,Y81-AA81,0)","v":0},{"$f":"IF(E81=0,0,IF(E81<'46'!B163,LinInterpolate($G$169,$R$23:$X$23,R81:X81,TRUE),Y81))","v":73.349999999999994}]
[null,47,"F.W. 1 SB","FW",{"$f":"INDEX!E83","v":7.77},{"$f":"IF(E82<'47'!B163,LinInterpolate(E82,'47'!B7:B163,'47'!I7:I163,TRUE),100)","v":100},{"$f":"LinInterpolate(F82,'47'!I7:I163,'47'!M7:M163,1)","v":73.349999999999994},{"$f":"LinInterpolate(F82,'47'!I7:I163,'47'!H7:H163,TRUE)","v":73.349999999999994},{"$f":"LinInterpolate(F82,'47'!I7:I163,'47'!C7:C163,TRUE)","v":47.05},{"$f":"LinInterpolate(F82,'47'!I7:I163,'47'!D7:D163,TRUE)","v":-2.93},{"$f":"LinInterpolate(F82,'47'!I7:I163,'47'!E7:E163,TRUE)","v":4.93},null,{"$f":"$H82*I82","v":3451.1174999999994},{"$f":"$H82*J82","v":-214.91550000000001},{"$f":"$H82*K82","v":361.61549999999994},{"$f":"LinInterpolate(F82,'47'!I7:I163,'47'!F7:F163,TRUE)","v":0},null,{"$f":"LinInterpolate(E82,'47'!$B7:$B163,'47'!J7:J163,TRUE)","v":72.150000000000006},{"$f":"LinInterpolate(E82,'47'!$B7:$B163,'47'!K7:K163,TRUE)","v":72.55},{"$f":"LinInterpolate(E82,'47'!$B7:$B163,'47'!L7:L163,TRUE)","v":72.95},{"$f":"LinInterpolate(E82,'47'!$B7:$B163,'47'!M7:M163,TRUE)","v":73.349999999999994},{"$f":"LinInterpolate(E82,'47'!$B7:$B163,'47'!N7:N163,TRUE)","v":73.349999999999994},{"$f":"LinInterpolate(E82,'47'!$B7:$B163,'47'!O7:O163,TRUE)","v":73.349999999999994},{"$f":"LinInterpolate(E82,'47'!$B7:$B163,'47'!P7:P163,TRUE)","v":73.349999999999994},{"$f":"G82","v":73.349999999999994},{"$f":"IF(E82<'19'!B163,Y82-AA82,0)","v":0},{"$f":"IF(E82=0,0,IF(E82<'47'!B163, LinInterpolate($G$169,$R$23:$X$23,R82:X82,TRUE),Y82))","v":73.349999999999994}]
[null,48,"F.W. 1 C","FW",{"$f":"INDEX!E84","v":5.77},{"$f":"IF(E83<'48'!B123,LinInterpolate(E83,'48'!B7:B123,'48'!I7:I123,TRUE),100)","v":100},{"$f":"LinInterpolate(F83,'48'!I7:I123,'48'!M7:M123,1)","v":103.64},{"$f":"LinInterpolate(F83,'48'!I7:I123,'48'!H7:H123,TRUE)","v":103.64},{"$f":"LinInterpolate(F83,'48'!I7:I123,'48'!C7:C123,TRUE)","v":15.61},{"$f":"LinInterpolate(F83,'48'!I7:I123,'48'!D7:D123,TRUE)","v":0},{"$f":"LinInterpolate(F83,'48'!I7:I123,'48'!E7:E123,TRUE)","v":3.91},null,{"$f":"$H83*I83","v":1617.8204000000001},{"$f":"$H83*J83","v":0},{"$f":"$H83*K83","v":405.23240000000004},{"$f":"LinInterpolate(F83,'48'!I7:I123,'48'!F7:F123,TRUE)","v":0},null,{"$f":"LinInterpolate(E83,'48'!$B7:$B123,'48'!J7:J123,TRUE)","v":103.63},{"$f":"LinInterpolate(E83,'48'!$B7:$B123,'48'!K7:K123,TRUE)","v":103.64},{"$f":"LinInterpolate(E83,'48'!$B7:$B123,'48'!L7:L123,TRUE)","v":103.64},{"$f":"LinInterpolate(E83,'48'!$B7:$B123,'48'!M7:M123,TRUE)","v":103.64},{"$f":"LinInterpolate(E83,'48'!$B7:$B123,'48'!N7:N123,TRUE)","v":103.28},{"$f":"LinInterpolate(E83,'48'!$B7:$B123,'48'!O7:O123,TRUE)","v":102.93},{"$f":"LinInterpolate(E83,'48'!$B7:$B123,'48'!P7:P123,TRUE)","v":102.58},{"$f":"G83","v":103.64},{"$f":"IF(E83<'19'!B123,Y83-AA83,0)","v":0},{"$f":"IF(E83=0,0,IF(E83<'48'!B123, LinInterpolate($G$169,$R$23:$X$23,R83:X83,TRUE),Y83))","v":103.64}]
[null,49,"F.W. 2 PS","FW",{"$f":"INDEX!E85","v":5.8},{"$f":"IF(E84<'49'!B123,LinInterpolate(E84,'49'!B7:B123,'49'!I7:I123,TRUE),100)","v":100},{"$f":"LinInterpolate(F84,'49'!I7:I123,'49'!M7:M123,1)","v":116.59},{"$f":"LinInterpolate(F84,'49'!I7:I123,'49'!H7:H123,TRUE)","v":116.59},{"$f":"LinInterpolate(F84,'49'!I7:I123,'49'!C7:C123,TRUE)","v":5.23},{"$f":"LinInterpolate(F84,'49'!I7:I123,'49'!D7:D123,TRUE)","v":4.01},{"$f":"LinInterpolate(F84,'49'!I7:I123,'49'!E7:E123,TRUE)","v":4.93},null,{"$f":"$H84*I84","v":609.76570000000004},{"$f":"$H84*J84","v":467.52589999999998},{"$f":"$H84*K84","v":574.78869999999995},{"$f":"LinInterpolate(F84,'49'!I7:I123,'49'!F7:F123,TRUE)","v":0},null,{"$f":"LinInterpolate(E84,'49'!$B7:$B123,'49'!J7:J123,TRUE)","v":116.59},{"$f":"LinInterpolate(E84,'49'!$B7:$B123,'49'!K7:K123,TRUE)","v":116.59},{"$f":"LinInterpolate(E84,'49'!$B7:$B123,'49'!L7:L123,TRUE)","v":116.59},{"$f":"LinInterpolate(E84,'49'!$B7:$B123,'49'!M7:M123,TRUE)","v":116.59},{"$f":"LinInterpolate(E84,'49'!$B7:$B123,'49'!N7:N123,TRUE)","v":115.95},{"$f":"LinInterpolate(E84,'49'!$B7:$B123,'49'!O7:O123,TRUE)","v":115.32},{"$f":"LinInterpolate(E84,'49'!$B7:$B123,'49'!P7:P123,TRUE)","v":114.68},{"$f":"G84","v":116.59},{"$f":"IF(E84<'19'!B123,Y84-AA84,0)","v":0},{"$f":"IF(E84=0,0,IF(E84<'49'!B123,LinInterpolate($G$169,$R$23:$X$23,R84:X84,TRUE),Y84))","v":116.59}]
[null,50,"F.W. 2 SB","FW",{"$f":"INDEX!E86","v":5.8},{"$f":"IF(E85<'50'!B123,LinInterpolate(E85,'50'!B7:B123,'50'!I7:I123,TRUE),100)","v":100},{"$f":"LinInterpolate(F85,'50'!I7:I123,'50'!M7:M123,1)","v":116.59},{"$f":"LinInterpolate(F85,'50'!I7:I123,'50'!H7:H123,TRUE)","v":116.59},{"$f":"LinInterpolate(F85,'50'!I7:I123,'50'!C7:C123,TRUE)","v":5.23},{"$f":"LinInterpolate(F85,'50'!I7:I123,'50'!D7:D123,TRUE)","v":-4.01},{"$f":"LinInterpolate(F85,'50'!I7:I123,'50'!E7:E123,TRUE)","v":4.93},null,{"$f":"$H85*I85","v":609.76570000000004},{"$f":"$H85*J85","v":-467.52589999999998},{"$f":"$H85*K85","v":574.78869999999995},{"$f":"LinInterpolate(F85,'50'!I7:I123,'50'!F7:F123,TRUE)","v":0},null,{"$f":"LinInterpolate(E85,'50'!$B7:$B123,'50'!J7:J123,TRUE)","v":116.59},{"$f":"LinInterpolate(E85,'50'!$B7:$B123,'50'!K7:K123,TRUE)","v":116.59},{"$f":"LinInterpolate(E85,'50'!$B7:$B123,'50'!L7:L123,TRUE)","v":116.59},{"$f":"LinInterpolate(E85,'50'!$B7:$B123,'50'!M7:M123,TRUE)","v":116.59},{"$f":"LinInterpolate(E85,'50'!$B7:$B123,'50'!N7:N123,TRUE)","v":115.95},{"$f":"LinInterpolate(E85,'50'!$B7:$B123,'50'!O7:O123,TRUE)","v":115.32},{"$f":"LinInterpolate(E85,'50'!$B7:$B123,'50'!P7:P123,TRUE)","v":114.68},{"$f":"G85","v":116.59},{"$f":"IF(E85<'19'!B123,Y85-AA85,0)","v":0},{"$f":"IF(E85=0,0,IF(E85<'50'!B123,LinInterpolate($G$169,$R$23:$X$23,R85:X85,TRUE),Y85))","v":116.59}]
[null,null,"TOTAL FW ",null,null,{"$f":"(G86/483.6)*100","v":99.983457402812235},{"$f":"SUM((G81:G85))","v":483.52},{"$f":"SUM((H81:H85))","v":483.52},{"$f":"M86/H86","v":20.141572840833884},{"$f":"N86/H86","v":0},{"$f":"O86/H86","v":4.7113682991396422},null,{"$f":"SUM((M81:M85))","v":9738.8532999999989},{"$f":"SUM((N81:N85))","v":0},{"$f":"SUM((O81:O85))","v":2278.0407999999998},{"$f":"SUM((P81:P85))","v":0},null,null,null,null,null,null,null,null,null,{"$f":"SUM((Z81:Z85))","v":0},{"$f":"SUM((AA81:AA85))","v":483.52}]
[]
[null,"Sheet No.","Name","Sort of Fluid","Sounding Height","% Full","Volume","Weight","LCG","TCG","VCG",null,"Longitudinal","Transverse","Vertical","FSMt"]
[null,null,null,null,null," "," "," ","Fwd of AP","PS:+","Above BL",null,"Moment","Moment","Moment"," "]
[null,null,null,null,null,"%","m³","t","m","m","m",null,"t·m","t·m","t·m","t·m"]
[null,null,"MISC (S.G. Various)",null,null,null,null,null,null,null,null,null,null,null,null,null,null,-1.5,-1,-0.5,0,0.5,1,1.5,"Volume","∆Volume","Volume2"]
[null,51,"DIRTY OIL ","DIRTY",{"$f":"INDEX!E93","v":2},{"$f":"IF(E92<'51'!B27,LinInterpolate(E92,'51'!B7:B27,'51'!I7:I27,TRUE),100)","v":100},{"$f":"LinInterpolate(F92,'51'!I7:I27,'51'!M7:M27,1)","v":13.43},{"$f":"LinInterpolate(F92,'51'!I7:I27,'51'!H7:H27,TRUE)","v":13.161399999999999},{"$f":"LinInterpolate(F92,'51'!I7:I27,'51'!C7:C27,TRUE)","v":36.93},{"$f":"LinInterpolate(F92,'51'!I7:I27,'51'!D7:D27,TRUE)","v":0},{"$f":"LinInterpolate(F92,'51'!I7:I27,'51'!E7:E27,TRUE)","v":0.5},null,{"$f":"$H92*I92","v":486.05050199999994},{"$f":"$H92*J92","v":0},{"$f":"$H92*K92","v":6.5806999999999993},{"$f":"LinInterpolate(F92,'51'!I7:I27,'51'!F7:F27,TRUE)","v":0},null,{"$f":"LinInterpolate(E92,'51'!$B7:$B27,'51'!J7:J27,TRUE)","v":24.639999999999997},{"$f":"LinInterpolate(E92,'51'!$B7:$B27,'51'!K7:K27,TRUE)","v":24.169999999999973},{"$f":"LinInterpolate(E92,'51'!$B7:$B27,'51'!L7:L27,TRUE)","v":22.029999999999987},{"$f":"LinInterpolate(E92,'51'!$B7:$B27,'51'!M7:M27,TRUE)","v":18.829999999999988},{"$f":"LinInterpolate(E92,'51'!$B7:$B27,'51'!N7:N27,TRUE)","v":15.829999999999982},{"$f":"LinInterpolate(E92,'51'!$B7:$B27,'51'!O7:O27,TRUE)","v":14.830000000000004},{"$f":"LinInterpolate(E92,'51'!$B7:$B27,'51'!P7:P27,TRUE)","v":14.630000000000008},{"$f":"G92","v":13.43},{"$f":"IF(E92<'51'!B27,Y92-AA92,0)","v":0},{"$f":"IF(E92=0,0,IF(E92<'51'!B27,LinInterpolate($G$169,$R$23:$X$23,R92:X92,TRUE),Y92))","v":13.43}]
[null,52,"OILY WATER ","OILY",{"$f":"INDEX!E94","v":2},{"$f":"IF(E93<'52'!B31,LinInterpolate(E93,'52'!B7:B31,'52'!I7:I31,TRUE),100)","v":100},{"$f":"LinInterpolate(F93,'52'!I7:I31,'52'!M7:M31,1)","v":30.2},{"$f":"LinInterpolate(F93,'52'!I7:I31,'52'!H7:H31,TRUE)","v":29.596},{"$f":"LinInterpolate(F93,'52'!I7:I31,'52'!C7:C31,TRUE)","v":37.85},{"$f":"LinInterpolate(F93,'52'!I7:I31,'52'!D7:D31,TRUE)","v":-4.3},{"$f":"LinInterpolate(F93,'52'!I7:I31,'52'!E7:E31,TRUE)","v":0.56999999999999995},null,{"$f":"$H93*I93","v":1120.2085999999999},{"$f":"$H93*J93","v":-127.2628},{"$f":"$H93*K93","v":16.869719999999997},{"$f":"LinInterpolate(F93,'52'!I7:I31,'52'!F7:F31,TRUE)","v":0},null,{"$f":"LinInterpolate(E93,'52'!$B7:$B31,'52'!J7:J31,TRUE)","v":38.539999999999978},{"$f":"LinInterpolate(E93,'52'!$B7:$B31,'52'!K7:K31,TRUE)","v":34.799999999999983},{"$f":"LinInterpolate(E93,'52'!$B7:$B31,'52'!L7:L31,TRUE)","v":31.479999999999972},{"$f":"LinInterpolate(E93,'52'!$B7:$B31,'52'!M7:M31,TRUE)","v":30.519999999999992},{"$f":"LinInterpolate(E93,'52'!$B7:$B31,'52'!N7:N31,TRUE)","v":30.2},{"$f":"LinInterpolate(E93,'52'!$B7:$B31,'52'!O7:O31,TRUE)","v":30.2},{"$f":"LinInterpolate(E93,'52'!$B7:$B31,'52'!P7:P31,TRUE)","v":30.2},30.2,{"$f":"IF(E93<'52'!B31,Y93-AA93,0)","v":0},{"$f":"IF(E93=0,0,IF(E93<'52'!B31,LinInterpolate($G$169,$R$23:$X$23,R93:X93,TRUE),Y93))","v":30.2}]
[null,53,"GREY WATER ","GREY",{"$f":"INDEX!E95","v":2},{"$f":"IF(E94<'53'!B27,LinInterpolate(E94,'53'!B7:B27,'53'!I7:I27,TRUE),100)","v":100},{"$f":"LinInterpolate(F94,'53'!I7:I27,'53'!M7:M27,1)","v":31.1},{"$f":"LinInterpolate(F94,'53'!I7:I27,'53'!H7:H27,TRUE)","v":30.478000000000002},{"$f":"LinInterpolate(F94,'53'!I7:I27,'53'!C7:C27,TRUE)","v":41.56},{"$f":"LinInterpolate(F94,'53'!I7:I27,'53'!D7:D27,TRUE)","v":0},{"$f":"LinInterpolate(F94,'53'!I7:I27,'53'!E7:E27,TRUE)","v":0.5},null,{"$f":"$H94*I94","v":1266.6656800000001},{"$f":"$H94*J94","v":0},{"$f":"$H94*K94","v":15.239000000000001},{"$f":"LinInterpolate(F94,'53'!I7:I27,'53'!F7:F27,TRUE)","v":0},null,{"$f":"LinInterpolate(E94,'53'!$B7:$B27,'53'!J7:J27,TRUE)","v":44.620000000000012},{"$f":"LinInterpolate(E94,'53'!$B7:$B27,'53'!K7:K27,TRUE)","v":44.389999999999951},{"$f":"LinInterpolate(E94,'53'!$B7:$B27,'53'!L7:L27,TRUE)","v":43.300000000000047},{"$f":"LinInterpolate(E94,'53'!$B7:$B27,'53'!M7:M27,TRUE)","v":43.500000000000007},{"$f":"LinInterpolate(E94,'53'!$B7:$B27,'53'!N7:N27,TRUE)","v":44.900000000000013},{"$f":"LinInterpolate(E94,'53'!$B7:$B27,'53'!O7:O27,TRUE)","v":45.959999999999987},{"$f":"LinInterpolate(E94,'53'!$B7:$B27,'53'!P7:P27,TRUE)","v":46.139999999999979},31.1,{"$f":"IF(E94<'53'!B27,Y94-AA94,0)","v":0},{"$f":"IF(E94=0,0,IF(E94<'53'!B27, LinInterpolate($G$169,$R$23:$X$23,R94:X94,TRUE),Y94))","v":31.1}]
[null,54,"SEWAGE ","SEWAGE",{"$f":"INDEX!E96","v":2},{"$f":"IF(E95<'54'!B31,LinInterpolate(E95,'54'!B7:B31,'54'!I7:I31,TRUE),100)","v":100},{"$f":"LinInterpolate(F95,'54'!I7:I31,'54'!M7:M31,1)","v":30.2},{"$f":"LinInterpolate(F95,'54'!I7:I31,'54'!H7:H31,TRUE)","v":29.596},{"$f":"LinInterpolate(F95,'54'!I7:I31,'54'!C7:C31,TRUE)","v":37.85},{"$f":"LinInterpolate(F95,'54'!I7:I31,'54'!D7:D31,TRUE)","v":4.3},{"$f":"LinInterpolate(F95,'54'!I7:I31,'54'!E7:E31,TRUE)","v":0.56999999999999995},null,{"$f":"$H95*I95","v":1120.2085999999999},{"$f":"$H95*J95","v":127.2628},{"$f":"$H95*K95","v":16.869719999999997},{"$f":"LinInterpolate(F95,'54'!I7:I31,'54'!F7:F31,TRUE)","v":0},null,{"$f":"LinInterpolate(E95,'54'!$B7:$B31,'54'!J7:J31,TRUE)","v":38.539999999999978},{"$f":"LinInterpolate(E95,'54'!$B7:$B31,'54'!K7:K31,TRUE)","v":34.799999999999983},{"$f":"LinInterpolate(E95,'54'!$B7:$B31,'54'!L7:L31,TRUE)","v":31.479999999999972},{"$f":"LinInterpolate(E95,'54'!$B7:$B31,'54'!M7:M31,TRUE)","v":30.519999999999992},{"$f":"LinInterpolate(E95,'54'!$B7:$B31,'54'!N7:N31,TRUE)","v":30.2},{"$f":"LinInterpolate(E95,'54'!$B7:$B31,'54'!O7:O31,TRUE)","v":30.2},{"$f":"LinInterpolate(E95,'54'!$B7:$B31,'54'!P7:P31,TRUE)","v":30.2},30.2,{"$f":"IF(E95<'54'!B31,Y95-AA95,0)","v":0},{"$f":"IF(E95=0,0,IF(E95<'54'!B31,LinInterpolate($G$169,$R$23:$X$23,R95:X95,TRUE),Y95))","v":30.2}]
[null,55,"SLUDGE ","SLUDGE",{"$f":"INDEX!E97","v":2},{"$f":"IF(E96<'55'!B27,LinInterpolate(E96,'55'!B7:B27,'55'!I7:I27,TRUE),100)","v":100},{"$f":"LinInterpolate(F96,'55'!I7:I27,'55'!M7:M27,1)","v":19.05},{"$f":"LinInterpolate(F96,'55'!I7:I27,'55'!H7:H27,TRUE)","v":18.669},{"$f":"LinInterpolate(F96,'55'!I7:I27,'55'!C7:C27,TRUE)","v":31.5},{"$f":"LinInterpolate(F96,'55'!I7:I27,'55'!D7:D27,TRUE)","v":-1.8},{"$f":"LinInterpolate(F96,'55'!I7:I27,'55'!E7:E27,TRUE)","v":0.5},null,{"$f":"$H96*I96","v":588.07349999999997},{"$f":"$H96*J96","v":-33.604199999999999},{"$f":"$H96*K96","v":9.3345000000000002},{"$f":"LinInterpolate(F96,'55'!I7:I27,'55'!F7:F27,TRUE)","v":0},null,{"$f":"LinInterpolate(E96,'55'!$B7:$B27,'55'!J7:J27,TRUE)","v":35.590000000000003},{"$f":"LinInterpolate(E96,'55'!$B7:$B27,'55'!K7:K27,TRUE)","v":35.409999999999982},{"$f":"LinInterpolate(E96,'55'!$B7:$B27,'55'!L7:L27,TRUE)","v":34.180000000000021},{"$f":"LinInterpolate(E96,'55'!$B7:$B27,'55'!M7:M27,TRUE)","v":26.649999999999974},{"$f":"LinInterpolate(E96,'55'!$B7:$B27,'55'!N7:N27,TRUE)","v":20.849999999999998},{"$f":"LinInterpolate(E96,'55'!$B7:$B27,'55'!O7:O27,TRUE)","v":20.050000000000015},{"$f":"LinInterpolate(E96,'55'!$B7:$B27,'55'!P7:P27,TRUE)","v":19.849999999999984},19.05,{"$f":"IF(E96<'55'!B27,Y96-AA96,0)","v":0},{"$f":"IF(E96=0,0,IF(E96<'55'!B27,LinInterpolate($G$169,$R$23:$X$23,R96:X96,TRUE),Y96))","v":19.05}]
[null,56,"LUBRICATION OIL PS","OIL",{"$f":"INDEX!E98","v":2},{"$f":"IF(E97<'56'!B47,LinInterpolate(E97,'56'!B7:B47,'56'!I7:I47,TRUE),100)","v":100},{"$f":"LinInterpolate(F97,'56'!I7:I47,'56'!M7:M47,1)","v":10.58},{"$f":"LinInterpolate(F97,'56'!I7:I47,'56'!H7:H47,TRUE)","v":9.5220000000000002},{"$f":"LinInterpolate(F97,'56'!I7:I47,'56'!C7:C47,TRUE)","v":30.3},{"$f":"LinInterpolate(F97,'56'!I7:I47,'56'!D7:D47,TRUE)","v":-0.9},{"$f":"LinInterpolate(F97,'56'!I7:I47,'56'!E7:E47,TRUE)","v":5.8},null,{"$f":"$H97*I97","v":288.51660000000004},{"$f":"$H97*J97","v":-8.5698000000000008},{"$f":"$H97*K97","v":55.227600000000002},{"$f":"LinInterpolate(F97,'56'!I7:I47,'56'!F7:F47,TRUE)","v":0},null,{"$f":"LinInterpolate(E97,'56'!$B7:$B47,'56'!J7:J47,TRUE)","v":10.594999999999999},{"$f":"LinInterpolate(E97,'56'!$B7:$B47,'56'!K7:K47,TRUE)","v":10.61},{"$f":"LinInterpolate(E97,'56'!$B7:$B47,'56'!L7:L47,TRUE)","v":10.64},{"$f":"LinInterpolate(E97,'56'!$B7:$B47,'56'!M7:M47,TRUE)","v":10.73},{"$f":"LinInterpolate(E97,'56'!$B7:$B47,'56'!N7:N47,TRUE)","v":10.684999999999999},{"$f":"LinInterpolate(E97,'56'!$B7:$B47,'56'!O7:O47,TRUE)","v":10.614999999999998},{"$f":"LinInterpolate(E97,'56'!$B7:$B47,'56'!P7:P47,TRUE)","v":10.530000000000003},10.58,{"$f":"IF(E97<'56'!B47,Y97-AA97,0)","v":0},{"$f":"IF(E97=0,0,IF(E97<'56'!B47, LinInterpolate($G$169,$R$23:$X$23,R97:X97,TRUE),Y97))","v":10.58}]
[null,57,"LUBRICATION OIL SB","OIL",{"$f":"INDEX!E99","v":2},{"$f":"IF(E98<'57'!B47,LinInterpolate(E98,'57'!B7:B47,'57'!I7:I47,TRUE),100)","v":100},{"$f":"LinInterpolate(F98,'57'!I7:I47,'57'!M7:M47,1)","v":10.58},{"$f":"LinInterpolate(F98,'57'!I7:I47,'57'!H7:H47,TRUE)","v":9.5220000000000002},{"$f":"LinInterpolate(F98,'57'!I7:I47,'57'!C7:C47,TRUE)","v":30.3},{"$f":"LinInterpolate(F98,'57'!I7:I47,'57'!D7:D47,TRUE)","v":-2.7},{"$f":"LinInterpolate(F98,'57'!I7:I47,'57'!E7:E47,TRUE)","v":5.8},null,{"$f":"$H98*I98","v":288.51660000000004},{"$f":"$H98*J98","v":-25.709400000000002},{"$f":"$H98*K98","v":55.227600000000002},{"$f":"LinInterpolate(F98,'57'!I7:I47,'57'!F7:F47,TRUE)","v":0},null,{"$f":"LinInterpolate(E98,'57'!$B7:$B47,'57'!J7:J47,TRUE)","v":10.594999999999999},{"$f":"LinInterpolate(E98,'57'!$B7:$B47,'57'!K7:K47,TRUE)","v":10.61},{"$f":"LinInterpolate(E98,'57'!$B7:$B47,'57'!L7:L47,TRUE)","v":10.64},{"$f":"LinInterpolate(E98,'57'!$B7:$B47,'57'!M7:M47,TRUE)","v":10.73},{"$f":"LinInterpolate(E98,'57'!$B7:$B47,'57'!N7:N47,TRUE)","v":10.684999999999999},{"$f":"LinInterpolate(E98,'57'!$B7:$B47,'57'!O7:O47,TRUE)","v":10.614999999999998},{"$f":"LinInterpolate(E98,'57'!$B7:$B47,'57'!P7:P47,TRUE)","v":10.530000000000003},10.58,{"$f":"IF(E98<'57'!B47,Y98-AA98,0)","v":0},{"$f":"IF(E98=0,0,IF(E98<'57'!B47,LinInterpolate($G$169,$R$23:$X$23,R98:X98,TRUE),Y98))","v":10.58}]
[null,58,"THERMAL OIL","OIL",{"$f":"INDEX!E100","v":2},{"$f":"IF(E99<'58'!B47,LinInterpolate(E99,'58'!B7:B47,'58'!I7:I47,TRUE),100)","v":100},{"$f":"LinInterpolate(F99,'58'!I7:I47,'58'!M7:M47,1)","v":10.58},{"$f":"LinInterpolate(F99,'58'!I7:I47,'58'!H7:H47,TRUE)","v":10.368399999999999},{"$f":"LinInterpolate(F99,'58'!I7:I47,'58'!C7:C47,TRUE)","v":30.3},{"$f":"LinInterpolate(F99,'58'!I7:I47,'58'!D7:D47,TRUE)","v":0.9},{"$f":"LinInterpolate(F99,'58'!I7:I47,'58'!E7:E47,TRUE)","v":5.78},null,{"$f":"$H99*I99","v":314.16251999999997},{"$f":"$H99*J99","v":9.3315599999999996},{"$f":"$H99*K99","v":59.929352000000002},{"$f":"LinInterpolate(F99,'58'!I7:I47,'58'!F7:F47,TRUE)","v":0},null,{"$f":"LinInterpolate(E99,'58'!$B7:$B47,'58'!J7:J47,TRUE)","v":10.58},{"$f":"LinInterpolate(E99,'58'!$B7:$B47,'58'!K7:K47,TRUE)","v":10.58},{"$f":"LinInterpolate(E99,'58'!$B7:$B47,'58'!L7:L47,TRUE)","v":10.58},{"$f":"LinInterpolate(E99,'58'!$B7:$B47,'58'!M7:M47,TRUE)","v":10.58},{"$f":"LinInterpolate(E99,'58'!$B7:$B47,'58'!N7:N47,TRUE)","v":10.58},{"$f":"LinInterpolate(E99,'58'!$B7:$B47,'58'!O7:O47,TRUE)","v":10.58},{"$f":"LinInterpolate(E99,'58'!$B7:$B47,'58'!P7:P47,TRUE)","v":10.58},10.58,{"$f":"IF(E99<'58'!B47,Y99-AA99,0)","v":0},{"$f":"IF(E99=0,0,IF(E99<'58'!B47, LinInterpolate($G$169,$R$23:$X$23,R99:X99,TRUE),Y99))","v":10.58}]
[null,null,"Total MISC",null,null,{"$f":"(G100/147.7)*100","v":105.42992552471229},{"$f":"SUM((G92:G99))","v":155.72000000000003},{"$f":"SUM((H92:H99))","v":150.9128},{"$f":"M100/H100","v":36.262017549207222},{"$f":"N100/H100","v":-0.38798458447527312},{"$f":"O100/H100","v":1.5590340381995429},null,{"$f":"SUM((M92:M99))","v":5472.4026020000001},{"$f":"SUM((N92:N99))","v":-58.551839999999999},{"$f":"SUM((O92:O99))","v":235.27819199999999},{"$f":"SUM((P92:P99))","v":0},null,null,null,null,null,null,null,null,null,{"$f":"SUM((Z92:Z99))","v":0},{"$f":"SUM((AA92:AA99))","v":155.72000000000003}]
[]
[null,null,"Total in all tanks",null,null,{"$f":"(G102/3086.976667)*100","v":97.529191355799654},{"$f":"G100+G86+G78+G45+G32","v":3010.7033806673162},{"$f":"H100+H86+H78+H45+H32","v":2963.6476173738924},{"$f":"M102/H102","v":22.294652881350018},{"$f":"N102/H102","v":-1.2433552418304E-2},{"$f":"O102/H102","v":3.6697937980142825},null,{"$f":"M100+M86+M78+M45+M32","v":66073.494891990966},{"$f":"N100+N86+N78+N45+N32","v":-36.848668000000046},{"$f":"O100+O86+O78+O45+O32","v":10875.975645738516},{"$f":"P100+P86+P78+P45+P32","v":13.984407371296962}]
[]
[null,null,"Name",null,null,null,null,"Weight","LCG","TCG","VCG",null,"Longitudinal","Transverse","Vertical","FSMt"]
[null,null,null,null,null,null,null," ","Fwd of AP","PS:+","Above BL",null,"Moment","Moment","Moment"," "]
[null,null,null,null,null,null,null,"t","m","m","m",null,"t·m","t·m","t·m","t·m"]
[]
[null,null,"(DECK) LOADS"]
[null,null,"Name",null,null,null,null,"Weight","LCG","TCG","VCG",null,"Longitudinal","Transverse","Vertical","FSMt"]
[null,null,null,null,null,null,null," ","Fwd of AP","PS:+","Above BL",null,"Moment","Moment","Moment"," "]
[null,null,null,null,null,null,null,"t","m","m","m",null,"t·m","t·m","t·m","t·m"]
[null,null,{"$f":"INDEX!C113","v":"Deck load 1"},{"$f":"INDEX!#REF!","v":{"$error":"#REF!"}},{"$f":"INDEX!#REF!","v":{"$error":"#REF!"}},{"$f":"INDEX!#REF!","v":{"$error":"#REF!"}},{"$f":"INDEX!#REF!","v":{"$error":"#REF!"}},{"$f":"INDEX!H113","v":5},{"$f":"INDEX!I113","v":5},{"$f":"INDEX!J113","v":1},{"$f":"INDEX!K113","v":7},null,{"$f":"$H112*I112","v":25},{"$f":"$H112*J112","v":5},{"$f":"$H112*K112","v":35}]
[null,null,{"$f":"INDEX!C114","v":"Deck load 2"},{"$f":"INDEX!#REF!","v":{"$error":"#REF!"}},{"$f":"INDEX!#REF!","v":{"$error":"#REF!"}},{"$f":"INDEX!#REF!","v":{"$error":"#REF!"}},{"$f":"INDEX!#REF!","v":{"$error":"#REF!"}},{"$f":"INDEX!H114","v":5},{"$f":"INDEX!I114","v":5},{"$f":"INDEX!J114","v":-1},{"$f":"INDEX!K114","v":7},null,{"$f":"$H113*I113","v":25},{"$f":"$H113*J113","v":-5},{"$f":"$H113*K113","v":35}]
[null,null,{"$f":"INDEX!C115","v":"Deck load 3"},{"$f":"INDEX!#REF!","v":{"$error":"#REF!"}},{"$f":"INDEX!#REF!","v":{"$error":"#REF!"}},{"$f":"INDEX!#REF!","v":{"$error":"#REF!"}},{"$f":"INDEX!#REF!","v":{"$error":"#REF!"}},{"$f":"INDEX!H115","v":10},{"$f":"INDEX!I115","v":6},{"$f":"INDEX!J115","v":1},{"$f":"INDEX!K115","v":7},null,{"$f":"$H114*I114","v":60},{"$f":"$H114*J114","v":10},{"$f":"$H114*K114","v":70}]
[null,null,{"$f":"INDEX!C116","v":"Deck load 4"},{"$f":"INDEX!#REF!","v":{"$error":"#REF!"}},{"$f":"INDEX!#REF!","v":{"$error":"#REF!"}},{"$f":"INDEX!#REF!","v":{"$error":"#REF!"}},{"$f":"INDEX!#REF!","v":{"$error":"#REF!"}},{"$f":"INDEX!H116","v":10},{"$f":"INDEX!I116","v":6},{"$f":"INDEX!J116","v":-1},{"$f":"INDEX!K116","v":7},null,{"$f":"$H115*I115","v":60},{"$f":"$H115*J115","v":-10},{"$f":"$H115*K115","v":70}]
[null,null,{"$f":"INDEX!C117","v":"Deck load 5"},{"$f":"INDEX!#REF!","v":{"$error":"#REF!"}},{"$f":"INDEX!#REF!","v":{"$error":"#REF!"}},{"$f":"INDEX!#REF!","v":{"$error":"#REF!"}},{"$f":"INDEX!#REF!","v":{"$error":"#REF!"}},{"$f":"INDEX!H117","v":15},{"$f":"INDEX!I117","v":7},{"$f":"INDEX!J117","v":1},{"$f":"INDEX!K117","v":7},null,{"$f":"$H116*I116","v":105},{"$f":"$H116*J116","v":15},{"$f":"$H116*K116","v":105}]
[null,null,{"$f":"INDEX!C118","v":"Deck load 6"},{"$f":"INDEX!#REF!","v":{"$error":"#REF!"}},{"$f":"INDEX!#REF!","v":{"$error":"#REF!"}},{"$f":"INDEX!#REF!","v":{"$error":"#REF!"}},{"$f":"INDEX!#REF!","v":{"$error":"#REF!"}},{"$f":"INDEX!H118","v":15},{"$f":"INDEX!I118","v":7},{"$f":"INDEX!J118","v":-1},{"$f":"INDEX!K118","v":7},null,{"$f":"$H117*I117","v":105},{"$f":"$H117*J117","v":-15},{"$f":"$H117*K117","v":105}]
[null,null,{"$f":"INDEX!C119","v":"Deck load 7"},{"$f":"INDEX!#REF!","v":{"$error":"#REF!"}},{"$f":"INDEX!#REF!","v":{"$error":"#REF!"}},{"$f":"INDEX!#REF!","v":{"$error":"#REF!"}},{"$f":"INDEX!#REF!","v":{"$error":"#REF!"}},{"$f":"INDEX!H119","v":5},{"$f":"INDEX!I119","v":8},{"$f":"INDEX!J119","v":1},{"$f":"INDEX!K119","v":7},null,{"$f":"$H118*I118","v":40},{"$f":"$H118*J118","v":5},{"$f":"$H118*K118","v":35}]
[null,null,{"$f":"INDEX!C120","v":"Deck load 8"},{"$f":"INDEX!#REF!","v":{"$error":"#REF!"}},{"$f":"INDEX!#REF!","v":{"$error":"#REF!"}},{"$f":"INDEX!#REF!","v":{"$error":"#REF!"}},{"$f":"INDEX!#REF!","v":{"$error":"#REF!"}},{"$f":"INDEX!H120","v":5},{"$f":"INDEX!I120","v":8},{"$f":"INDEX!J120","v":-1},{"$f":"INDEX!K120","v":7},null,{"$f":"$H119*I119","v":40},{"$f":"$H119*J119","v":-5},{"$f":"$H119*K119","v":35}]
[]
[null,null,"Total Remaining",null,null,null,null,{"$f":"SUM(H112:H120)","v":70},{"$f":"M121/H121","v":6.5714285714285712},{"$f":"N121/H121","v":0},{"$f":"O121/H121","v":7},null,{"$f":"SUM(M112:M120)","v":460},{"$f":"SUM(N112:N120)","v":0},{"$f":"SUM(O112:O120)","v":490}]
[]
[]
[null,null,"Calculation Results"]
[null,null,null,null,null,null,"  "]
[null,null,"Ship weight",null,null,null,null,null,"LCG","TCG","VCG","Total Moments",null,null,null,"FSMt / ∆"]
[null,null,null,null,null,null,null,"t","m","m","m","t·m",null,"t·m","t·m","m"]
[null,null,"Displacement",null,null,null,null,{"$f":"H129+H21","v":4733.647617373892},{"$f":"L128/H128","v":24.829371426087601},{"$f":"N128/H128","v":-7.7844129894152868E-3},{"$f":"O128/H128","v":4.9150206196898729},{"$f":"L129+M21","v":117533.49489199097},null,{"$f":"N129+N21","v":-36.848668000000046},{"$f":"O129+O21","v":23265.975645738516},{"$f":"P102/H128","v":2.9542561047362368E-3}]
[null,null,"Total Deadweight",null,null,null,null,{"$f":"H121+H102","v":3033.6476173738924},{"$f":"L129/H129","v":21.931846833808059},{"$f":"N129/H129","v":-1.2146654011153236E-2},{"$f":"O129/H129","v":3.7466367486602108},{"$f":"M121+M102","v":66533.494891990966},null,{"$f":"N121+N102","v":-36.848668000000046},{"$f":"O121+O102","v":11365.975645738516}]
[]
[null,null,"Longitudinal Stability"]
[null,null,"Sheet used for calculation data:","Hydrostatics"]
[]
[null,null,"Trim","Draft","Displ.","LCB","VCB","ϕ","LCG'","LCB'","LCG'-LCB'",null,"LCF","KM"]
[null,null,null,"Moulded"," ","Fwd of AP",null,null,"LCG + tanϕ * VCG","LCB + tanϕ * VCB",null,null,"Fwd of AP"]
[null,null,"m","m","t","m","m","rad","m","m","m",null,"m","m"]
[null,null,-1.5,{"$f":"LinInterpolate(E137,Hydrostatics!D6:D86,Hydrostatics!C6:C86,TRUE)","v":6.6481864199444516},{"$f":"$H$128","v":4733.647617373892},{"$f":"LinInterpolate($E137,Hydrostatics!$D6:$D86,Hydrostatics!I6:I86,TRUE)","v":23.428186419944449},{"$f":"LinInterpolate($E137,Hydrostatics!$D6:$D86,Hydrostatics!J6:J86,TRUE)","v":3.6292745679777805},{"$f":"ATAN(C137/($G$172))","v":-2.8401451838560528E-2},{"$f":"$I$128+((TAN(H137))*$K$128)","v":24.689740158482774},{"$f":"F137+((TAN(H137))*G137)","v":23.325082028808716},{"$f":"I137-J137","v":1.3646581296740585},null,{"$f":"LinInterpolate($E137,Hydrostatics!$D6:$D86,Hydrostatics!K6:K86,TRUE)","v":33.981345435122321},{"$f":"LinInterpolate($E137,Hydrostatics!$D6:$D86,Hydrostatics!E6:E86,TRUE)","v":5.5743525921333177}]
[null,null,-1.4,{"$f":"LinInterpolate(E138,Hydrostatics!D88:D168,Hydrostatics!C88:C168,TRUE)","v":6.6344092413679743},4733.647617373892,{"$f":"LinInterpolate($E138,Hydrostatics!$D88:$D168,Hydrostatics!I88:I168,TRUE)","v":23.444409241367975},{"$f":"LinInterpolate($E138,Hydrostatics!$D88:$D168,Hydrostatics!J88:J168,TRUE)","v":3.6268818482735949},-2.6508940280468775E-2,24.69904890965643,23.348241919633448,1.3508069900229813,null,{"$f":"LinInterpolate($E138,Hydrostatics!$D88:$D168,Hydrostatics!K88:K168,TRUE)","v":33.576784165340399},{"$f":"LinInterpolate($E138,Hydrostatics!$D88:$D168,Hydrostatics!E88:E168,TRUE)","v":5.6442996689904561}]
[null,null,-1.3,{"$f":"LinInterpolate(E139,Hydrostatics!D170:D250,Hydrostatics!C170:C250,TRUE)","v":6.6211727631691986},4733.647617373892,{"$f":"LinInterpolate($E139,Hydrostatics!$D170:$D250,Hydrostatics!I170:I250,TRUE)","v":23.461172763169198},{"$f":"LinInterpolate($E139,Hydrostatics!$D170:$D250,Hydrostatics!J170:J250,TRUE)","v":3.6284691052676794},-2.4616238770206935E-2,24.708357660830085,23.371835455653137,1.3365222051769479,null,{"$f":"LinInterpolate($E139,Hydrostatics!$D170:$D250,Hydrostatics!K170:K250,TRUE)","v":33.24381339494709},{"$f":"LinInterpolate($E139,Hydrostatics!$D170:$D250,Hydrostatics!E170:E250,TRUE)","v":5.7049508157600837}]
[null,null,-1.2,{"$f":"LinInterpolate(E140,Hydrostatics!D252:D332,Hydrostatics!C252:C332,TRUE)","v":6.6085984157366235},4733.647617373892,{"$f":"LinInterpolate($E140,Hydrostatics!$D252:$D332,Hydrostatics!I252:I332,TRUE)","v":23.468598415736626},{"$f":"LinInterpolate($E140,Hydrostatics!$D252:$D332,Hydrostatics!J252:J332,TRUE)","v":3.6234393662946496},-2.2723360841641067E-2,24.717666412003741,23.386247521048112,1.3314188909556286,null,{"$f":"LinInterpolate($E140,Hydrostatics!$D252:$D332,Hydrostatics!K252:K332,TRUE)","v":32.828210849553884},{"$f":"LinInterpolate($E140,Hydrostatics!$D252:$D332,Hydrostatics!E252:E332,TRUE)","v":5.7776441190847772}]
[null,null,-1.1000000000000001,{"$f":"LinInterpolate(E141,Hydrostatics!D334:D414,Hydrostatics!C334:C414,TRUE)","v":6.5969400321738734},4733.647617373892,{"$f":"LinInterpolate($E141,Hydrostatics!$D334:$D414,Hydrostatics!I334:I414,TRUE)","v":23.487552025739099},{"$f":"LinInterpolate($E141,Hydrostatics!$D334:$D414,Hydrostatics!J334:J414,TRUE)","v":3.6287760128695492},-2.0830320036217088E-2,24.726975163177396,23.411952525470983,1.3150226377064129,null,{"$f":"LinInterpolate($E141,Hydrostatics!$D334:$D414,Hydrostatics!K334:K414,TRUE)","v":32.22900874643387},{"$f":"LinInterpolate($E141,Hydrostatics!$D334:$D414,Hydrostatics!E334:E414,TRUE)","v":5.8704038906088298},null," "]
[null,null,-1,{"$f":"LinInterpolate(E142,Hydrostatics!D416:D496,Hydrostatics!C416:C496,TRUE)","v":6.5868236870499848},4733.647617373892,{"$f":"LinInterpolate($E142,Hydrostatics!$D416:$D496,Hydrostatics!I416:I496,TRUE)","v":23.509458949639988},{"$f":"LinInterpolate($E142,Hydrostatics!$D416:$D496,Hydrostatics!J416:J496,TRUE)","v":3.6247294748199939},-1.8937129902380841E-2,24.736283914351048,23.440808770192639,1.2954751441584094,null,{"$f":"LinInterpolate($E142,Hydrostatics!$D416:$D496,Hydrostatics!K416:K496,TRUE)","v":31.525862701429645},{"$f":"LinInterpolate($E142,Hydrostatics!$D416:$D496,Hydrostatics!E416:E496,TRUE)","v":5.9874347266200525}]
[null,null,-0.89999999999999902,{"$f":"LinInterpolate(E143,Hydrostatics!D498:D578,Hydrostatics!C498:C578,TRUE)","v":6.5780886896458624},4733.647617373892,{"$f":"LinInterpolate($E143,Hydrostatics!$D498:$D578,Hydrostatics!I498:I578,TRUE)","v":23.532470951716693},{"$f":"LinInterpolate($E143,Hydrostatics!$D498:$D578,Hydrostatics!J498:J578,TRUE)","v":3.6256177379291725},-1.7043803994997404E-2,24.745592665524704,23.470670649365626,1.2749220161590777,null,{"$f":"LinInterpolate($E143,Hydrostatics!$D498:$D578,Hydrostatics!K498:K578,TRUE)","v":30.668278427305054},{"$f":"LinInterpolate($E143,Hydrostatics!$D498:$D578,Hydrostatics!E498:E578,TRUE)","v":6.1307920276290311}]
[null,null,-0.79999999999999905,{"$f":"LinInterpolate(E144,Hydrostatics!D580:D660,Hydrostatics!C580:C660,TRUE)","v":6.5710616678260516},4733.647617373892,{"$f":"LinInterpolate($E144,Hydrostatics!$D580:$D660,Hydrostatics!I580:I660,TRUE)","v":23.556849334260839},{"$f":"LinInterpolate($E144,Hydrostatics!$D580:$D660,Hydrostatics!J580:J660,TRUE)","v":3.628424667130421},-1.5150355874769794E-2,24.75490141669836,23.501873202940683,1.2530282137576769,null,{"$f":"LinInterpolate($E144,Hydrostatics!$D580:$D660,Hydrostatics!K580:K660,TRUE)","v":29.627706376694352},{"$f":"LinInterpolate($E144,Hydrostatics!$D580:$D660,Hydrostatics!E580:E660,TRUE)","v":6.3078423266088972}]
[null,null,-0.69999999999999896,{"$f":"LinInterpolate(E145,Hydrostatics!D662:D742,Hydrostatics!C662:C742,TRUE)","v":6.5660179835509158},4733.647617373892,{"$f":"LinInterpolate($E145,Hydrostatics!$D662:$D742,Hydrostatics!I662:I742,TRUE)","v":23.58961079013055},{"$f":"LinInterpolate($E145,Hydrostatics!$D662:$D742,Hydrostatics!J662:J742,TRUE)","v":3.6264071934203663},-1.3256799107656836E-2,24.764210167872015,23.541533422035961,1.2226767458360541,null,{"$f":"LinInterpolate($E145,Hydrostatics!$D662:$D742,Hydrostatics!K662:K742,TRUE)","v":28.391108551906093},{"$f":"LinInterpolate($E145,Hydrostatics!$D662:$D742,Hydrostatics!E662:E742,TRUE)","v":6.5106885019843208}]
[null,null,-0.59999999999999898,{"$f":"LinInterpolate(E146,Hydrostatics!D744:D824,Hydrostatics!C744:C824,TRUE)","v":6.5637178410544417},4733.647617373892,{"$f":"LinInterpolate($E146,Hydrostatics!$D744:$D824,Hydrostatics!I744:I824,TRUE)","v":23.628230704632667},{"$f":"LinInterpolate($E146,Hydrostatics!$D744:$D824,Hydrostatics!J744:J824,TRUE)","v":3.6254871364217771},-1.136314726429071E-2,24.773518919045671,23.587031987173329,1.1864869318723414,null,{"$f":"LinInterpolate($E146,Hydrostatics!$D744:$D824,Hydrostatics!K744:K824,TRUE)","v":26.754559279239015},{"$f":"LinInterpolate($E146,Hydrostatics!$D744:$D824,Hydrostatics!E744:E824,TRUE)","v":6.7839751126189043}]
[null,null,-0.5,{"$f":"LinInterpolate(E147,Hydrostatics!D826:D906,Hydrostatics!C826:C906,TRUE)","v":6.5648529023218476},4733.647617373892,{"$f":"LinInterpolate($E147,Hydrostatics!$D826:$D906,Hydrostatics!I826:I906,TRUE)","v":23.682970580464371},{"$f":"LinInterpolate($E147,Hydrostatics!$D826:$D906,Hydrostatics!J826:J906,TRUE)","v":3.6259411609287393},-9.4694139193938574E-3,24.782827670219326,23.648634016440425,1.134193653778901,null,{"$f":"LinInterpolate($E147,Hydrostatics!$D826:$D906,Hydrostatics!K826:K906,TRUE)","v":24.798791949559117},{"$f":"LinInterpolate($E147,Hydrostatics!$D826:$D906,Hydrostatics!E826:E906,TRUE)","v":7.1092944595677379}]
[null,null,-0.4,{"$f":"LinInterpolate(E148,Hydrostatics!D908:D988,Hydrostatics!C908:C988,TRUE)","v":6.5704042062487114},4733.647617373892,{"$f":"LinInterpolate($E148,Hydrostatics!$D908:$D988,Hydrostatics!I908:I988,TRUE)","v":23.751838317500514},{"$f":"LinInterpolate($E148,Hydrostatics!$D908:$D988,Hydrostatics!J908:J988,TRUE)","v":3.6222425237492266},-7.575612651195416E-3,24.792136421392982,23.724397086259991,1.0677393351329911,null,{"$f":"LinInterpolate($E148,Hydrostatics!$D908:$D988,Hydrostatics!K908:K988,TRUE)","v":22.672674328690459},{"$f":"LinInterpolate($E148,Hydrostatics!$D908:$D988,Hydrostatics!E908:E988,TRUE)","v":7.4530897150092796}]
[null,null,-0.3,{"$f":"LinInterpolate(E149,Hydrostatics!D990:D1070,Hydrostatics!C990:C1070,TRUE)","v":6.5785446141597879},4733.647617373892,{"$f":"LinInterpolate($E149,Hydrostatics!$D990:$D1070,Hydrostatics!I990:I1070,TRUE)","v":23.828582154336086},{"$f":"LinInterpolate($E149,Hydrostatics!$D990:$D1070,Hydrostatics!J990:J1070,TRUE)","v":3.621417845663915},-5.6817570408474469E-3,24.801445172566634,23.808005916576633,0.99343925599000116,null,{"$f":"LinInterpolate($E149,Hydrostatics!$D990:$D1070,Hydrostatics!K990:K1070,TRUE)","v":21.782835691327833},{"$f":"LinInterpolate($E149,Hydrostatics!$D990:$D1070,Hydrostatics!E990:E1070,TRUE)","v":7.61}]
[null,null,-0.2,{"$f":"LinInterpolate(E150,Hydrostatics!D1072:D1152,Hydrostatics!C1072:C1152,TRUE)","v":6.5872445139032489},4733.647617373892,{"$f":"LinInterpolate($E150,Hydrostatics!$D1072:$D1152,Hydrostatics!I1072:I1152,TRUE)","v":23.915102194438699},{"$f":"LinInterpolate($E150,Hydrostatics!$D1072:$D1152,Hydrostatics!J1072:J1152,TRUE)","v":3.6223467083419494},-3.7878606718406652E-3,24.81075392374029,23.901381184179829,0.90937273956046027,null,{"$f":"LinInterpolate($E150,Hydrostatics!$D1072:$D1152,Hydrostatics!K1072:K1152,TRUE)","v":21.819795611122597},{"$f":"LinInterpolate($E150,Hydrostatics!$D1072:$D1152,Hydrostatics!E1072:E1152,TRUE)","v":7.61}]
[null,null,-0.1,{"$f":"LinInterpolate(E151,Hydrostatics!D1154:D1234,Hydrostatics!C1154:C1234,TRUE)","v":6.5958961992965071},4733.647617373892,{"$f":"LinInterpolate($E151,Hydrostatics!$D1154:$D1234,Hydrostatics!I1154:I1234,TRUE)","v":24.001641520281396},{"$f":"LinInterpolate($E151,Hydrostatics!$D1154:$D1234,Hydrostatics!J1154:J1234,TRUE)","v":3.6183584797186032},-1.893937129420008E-3,24.820062674913945,23.994788568615263,0.82527410629868214,null,{"$f":"LinInterpolate($E151,Hydrostatics!$D1154:$D1234,Hydrostatics!K1154:K1234,TRUE)","v":21.856716959437204},{"$f":"LinInterpolate($E151,Hydrostatics!$D1154:$D1234,Hydrostatics!E1154:E1234,TRUE)","v":7.62}]
[null,null,0,{"$f":"LinInterpolate(E152,Hydrostatics!D1236:D1316,Hydrostatics!C1236:C1316,TRUE)","v":6.6044255800155742},4733.647617373892,{"$f":"LinInterpolate($E152,Hydrostatics!$D1236:$D1316,Hydrostatics!I1236:I1316,TRUE)","v":24.08822976799377},{"$f":"LinInterpolate($E152,Hydrostatics!$D1236:$D1316,Hydrostatics!J1236:J1316,TRUE)","v":3.6226553480093444},0,24.829371426087601,24.08822976799377,0.74114165809383081,null,{"$f":"LinInterpolate($E152,Hydrostatics!$D1236:$D1316,Hydrostatics!K1236:K1316,TRUE)","v":21.89354046401246},{"$f":"LinInterpolate($E152,Hydrostatics!$D1236:$D1316,Hydrostatics!E1236:E1316,TRUE)","v":7.62}]
[null,null,0.1,{"$f":"LinInterpolate(E153,Hydrostatics!D1318:D1398,Hydrostatics!C1318:C1398,TRUE)","v":6.6129167979573733},4733.647617373892,{"$f":"LinInterpolate($E153,Hydrostatics!$D1318:$D1398,Hydrostatics!I1318:I1398,TRUE)","v":24.174833280817051},{"$f":"LinInterpolate($E153,Hydrostatics!$D1318:$D1398,Hydrostatics!J1318:J1398,TRUE)","v":3.6177500787744239},1.893937129420008E-3,24.838680177261256,24.18168508020867,0.65699509705258663,null,{"$f":"LinInterpolate($E153,Hydrostatics!$D1318:$D1398,Hydrostatics!K1318:K1398,TRUE)","v":21.930333438365899},{"$f":"LinInterpolate($E153,Hydrostatics!$D1318:$D1398,Hydrostatics!E1318:E1398,TRUE)","v":7.6274166404085255}]
[null,null,0.2,{"$f":"LinInterpolate(E154,Hydrostatics!D1400:D1480,Hydrostatics!C1400:C1480,TRUE)","v":6.6213701086762189},4733.647617373892,{"$f":"LinInterpolate($E154,Hydrostatics!$D1400:$D1480,Hydrostatics!I1400:I1480,TRUE)","v":24.261451956529513},{"$f":"LinInterpolate($E154,Hydrostatics!$D1400:$D1480,Hydrostatics!J1400:J1480,TRUE)","v":3.6228220652057312},3.7878606718406652E-3,24.847988928434912,24.275174767382566,0.57281416105234584,null,{"$f":"LinInterpolate($E154,Hydrostatics!$D1400:$D1480,Hydrostatics!K1400:K1480,TRUE)","v":21.967096086940973},{"$f":"LinInterpolate($E154,Hydrostatics!$D1400:$D1480,Hydrostatics!E1400:E1480,TRUE)","v":7.63}]
[null,null,0.3,{"$f":"LinInterpolate(E155,Hydrostatics!D1482:D1562,Hydrostatics!C1482:C1562,TRUE)","v":6.6297406443905045},4733.647617373892,{"$f":"LinInterpolate($E155,Hydrostatics!$D1482:$D1562,Hydrostatics!I1482:I1562,TRUE)","v":24.348103742243797},{"$f":"LinInterpolate($E155,Hydrostatics!$D1482:$D1562,Hydrostatics!J1482:J1562,TRUE)","v":3.6218962577562017},5.6817570408474469E-3,24.857297679608568,24.368682698253775,0.48861498135479309,null,{"$f":"LinInterpolate($E155,Hydrostatics!$D1482:$D1562,Hydrostatics!K1482:K1562,TRUE)","v":22.0078443866343},{"$f":"LinInterpolate($E155,Hydrostatics!$D1482:$D1562,Hydrostatics!E1482:E1562,TRUE)","v":7.64}]
[null,null,0.4,{"$f":"LinInterpolate(E156,Hydrostatics!D1564:D1644,Hydrostatics!C1564:C1644,TRUE)","v":6.6379995729619337},4733.647617373892,{"$f":"LinInterpolate($E156,Hydrostatics!$D1564:$D1644,Hydrostatics!I1564:I1644,TRUE)","v":24.434800170815226},{"$f":"LinInterpolate($E156,Hydrostatics!$D1564:$D1644,Hydrostatics!J1564:J1644,TRUE)","v":3.62279974377716},7.575612651195416E-3,24.86660643078222,24.462245623419598,0.4043608073626217,null,{"$f":"LinInterpolate($E156,Hydrostatics!$D1564:$D1644,Hydrostatics!K1564:K1644,TRUE)","v":22.042799743777159},{"$f":"LinInterpolate($E156,Hydrostatics!$D1564:$D1644,Hydrostatics!E1564:E1644,TRUE)","v":7.6424000854076128}]
[null,null,0.5,{"$f":"LinInterpolate(E157,Hydrostatics!D1646:D1726,Hydrostatics!C1646:C1726,TRUE)","v":6.646266834492085},4733.647617373892,{"$f":"LinInterpolate($E157,Hydrostatics!$D1646:$D1726,Hydrostatics!I1646:I1726,TRUE)","v":24.521493266203166},{"$f":"LinInterpolate($E157,Hydrostatics!$D1646:$D1726,Hydrostatics!J1646:J1726,TRUE)","v":3.6277601006952507},9.4694139193938574E-3,24.875915181955875,24.555847055035507,0.32006812692036846,null,{"$f":"LinInterpolate($E157,Hydrostatics!$D1646:$D1726,Hydrostatics!K1646:K1726,TRUE)","v":22.077760100695251},{"$f":"LinInterpolate($E157,Hydrostatics!$D1646:$D1726,Hydrostatics!E1646:E1726,TRUE)","v":7.65}]
[null,null,0.6,{"$f":"LinInterpolate(E158,Hydrostatics!D1728:D1808,Hydrostatics!C1728:C1808,TRUE)","v":6.6543862415265469},4733.647617373892,{"$f":"LinInterpolate($E158,Hydrostatics!$D1728:$D1808,Hydrostatics!I1728:I1808,TRUE)","v":24.607368255084072},{"$f":"LinInterpolate($E158,Hydrostatics!$D1728:$D1808,Hydrostatics!J1728:J1808,TRUE)","v":3.6226317449159282},1.1363147264290729E-2,24.885223933129531,24.648534524912662,0.23668940821686846,null,{"$f":"LinInterpolate($E158,Hydrostatics!$D1728:$D1808,Hydrostatics!K1728:K1808,TRUE)","v":22.112631744915927},{"$f":"LinInterpolate($E158,Hydrostatics!$D1728:$D1808,Hydrostatics!E1728:E1808,TRUE)","v":7.65}]
[null,null,0.7,{"$f":"LinInterpolate(E159,Hydrostatics!D1810:D1890,Hydrostatics!C1810:C1890,TRUE)","v":6.6624973526376587},4733.647617373892,{"$f":"LinInterpolate($E159,Hydrostatics!$D1810:$D1890,Hydrostatics!I1810:I1890,TRUE)","v":24.692501588417404},{"$f":"LinInterpolate($E159,Hydrostatics!$D1810:$D1890,Hydrostatics!J1810:J1890,TRUE)","v":3.6274984115825948},1.3256799107656855E-2,24.894532684303186,24.740593423419444,0.15393926088374243,null,{"$f":"LinInterpolate($E159,Hydrostatics!$D1810:$D1890,Hydrostatics!K1810:K1890,TRUE)","v":22.144998941055064},{"$f":"LinInterpolate($E159,Hydrostatics!$D1810:$D1890,Hydrostatics!E1810:E1890,TRUE)","v":7.6575005294724683}]
[null,null,0.8,{"$f":"LinInterpolate(E160,Hydrostatics!D1892:D1972,Hydrostatics!C1892:C1972,TRUE)","v":6.6705430037571185},4733.647617373892,{"$f":"LinInterpolate($E160,Hydrostatics!$D1892:$D1972,Hydrostatics!I1892:I1972,TRUE)","v":24.777674197745728},{"$f":"LinInterpolate($E160,Hydrostatics!$D1892:$D1972,Hydrostatics!J1892:J1972,TRUE)","v":3.6282172015028471},1.5150355874769813E-2,24.903841435476842,24.832647185647286,7.1194249829556355E-2,null,{"$f":"LinInterpolate($E160,Hydrostatics!$D1892:$D1972,Hydrostatics!K1892:K1972,TRUE)","v":22.096045186474374},{"$f":"LinInterpolate($E160,Hydrostatics!$D1892:$D1972,Hydrostatics!E1892:E1972,TRUE)","v":7.6412397947400343}]
[null,null,0.9,{"$f":"LinInterpolate(E161,Hydrostatics!D1974:D2054,Hydrostatics!C1974:C2054,TRUE)","v":6.6787529342756633},4733.647617373892,{"$f":"LinInterpolate($E161,Hydrostatics!$D1974:$D2054,Hydrostatics!I1974:I2054,TRUE)","v":24.868498826289734},{"$f":"LinInterpolate($E161,Hydrostatics!$D1974:$D2054,Hydrostatics!J1974:J2054,TRUE)","v":3.627251760565398},1.7043803994997424E-2,24.913150186650498,24.930326981299373,-1.7176794648875671E-2,null,{"$f":"LinInterpolate($E161,Hydrostatics!$D1974:$D2054,Hydrostatics!K1974:K2054,TRUE)","v":22.004480046925487},{"$f":"LinInterpolate($E161,Hydrostatics!$D1974:$D2054,Hydrostatics!E1974:E2054,TRUE)","v":7.6067435445935399}]
[null,null,1,{"$f":"LinInterpolate(E162,Hydrostatics!D2056:D2136,Hydrostatics!C2056:C2136,TRUE)","v":6.6870740602414127},4733.647617373892,{"$f":"LinInterpolate($E162,Hydrostatics!$D2056:$D2136,Hydrostatics!I2056:I2136,TRUE)","v":24.955170375903435},{"$f":"LinInterpolate($E162,Hydrostatics!$D2056:$D2136,Hydrostatics!J2056:J2136,TRUE)","v":3.6322444361448478},1.8937129902380841E-2,24.922458937824153,25.023962884163755,-0.10150394633960147,null,{"$f":"LinInterpolate($E162,Hydrostatics!$D2056:$D2136,Hydrostatics!K2056:K2136,TRUE)","v":21.906333457827284},{"$f":"LinInterpolate($E162,Hydrostatics!$D2056:$D2136,Hydrostatics!E2056:E2136,TRUE)","v":7.5613630072274791}]
[null,null,1.1000000000000001,{"$f":"LinInterpolate(E163,Hydrostatics!D2138:D2218,Hydrostatics!C2138:C2218,TRUE)","v":6.6954984252550025},4733.647617373892,{"$f":"LinInterpolate($E163,Hydrostatics!$D2138:$D2218,Hydrostatics!I2138:I2218,TRUE)","v":25.042700944846999},{"$f":"LinInterpolate($E163,Hydrostatics!$D2138:$D2218,Hydrostatics!J2138:J2218,TRUE)","v":3.6281993701020006},2.0830320036217088E-2,24.931767688997805,25.118288431724125,-0.18652074272631936,null,{"$f":"LinInterpolate($E163,Hydrostatics!$D2138:$D2218,Hydrostatics!K2138:K2218,TRUE)","v":21.840610708265984},{"$f":"LinInterpolate($E163,Hydrostatics!$D2138:$D2218,Hydrostatics!E2138:E2218,TRUE)","v":7.5408037793879954}]
[null,null,1.2,{"$f":"LinInterpolate(E164,Hydrostatics!D2220:D2300,Hydrostatics!C2220:C2300,TRUE)","v":6.7042233540165377},4733.647617373892,{"$f":"LinInterpolate($E164,Hydrostatics!$D2220:$D2300,Hydrostatics!I2220:I2300,TRUE)","v":25.127465987590078},{"$f":"LinInterpolate($E164,Hydrostatics!$D2220:$D2300,Hydrostatics!J2220:J2300,TRUE)","v":3.6325340124099226},2.2723360841641067E-2,24.941076440171461,25.210023578781211,-0.26894713860975017,null,{"$f":"LinInterpolate($E164,Hydrostatics!$D2220:$D2300,Hydrostatics!K2220:K2300,TRUE)","v":21.736349217507392},{"$f":"LinInterpolate($E164,Hydrostatics!$D2220:$D2300,Hydrostatics!E2220:E2300,TRUE)","v":7.4998639503603091}]
[null,null,1.3,{"$f":"LinInterpolate(E165,Hydrostatics!D2302:D2382,Hydrostatics!C2302:C2382,TRUE)","v":6.7133026460308978},4733.647617373892,{"$f":"LinInterpolate($E165,Hydrostatics!$D2302:$D2382,Hydrostatics!I2302:I2382,TRUE)","v":25.212018412381461},{"$f":"LinInterpolate($E165,Hydrostatics!$D2302:$D2382,Hydrostatics!J2302:J2382,TRUE)","v":3.6353210584123588},2.4616238770206935E-2,24.950385191345116,25.30152442328934,-0.3511392319442237,null,{"$f":"LinInterpolate($E165,Hydrostatics!$D2302:$D2382,Hydrostatics!K2302:K2382,TRUE)","v":21.660826240639334},{"$f":"LinInterpolate($E165,Hydrostatics!$D2302:$D2382,Hydrostatics!E2302:E2382,TRUE)","v":7.4580736495258462}]
[null,null,1.4,{"$f":"LinInterpolate(E166,Hydrostatics!D2328:D2464,Hydrostatics!C2328:C2464,TRUE)","v":6.7223057624089613},4733.647617373892,{"$f":"LinInterpolate($E166,Hydrostatics!$D2328:$D2464,Hydrostatics!I2328:I2464,TRUE)","v":25.30215539007283},{"$f":"LinInterpolate($E166,Hydrostatics!$D2328:$D2464,Hydrostatics!J2328:J2464,TRUE)","v":3.6389223049635846},2.6508940280468775E-2,24.959693942518772,25.398641966340804,-0.43894802382203224,null,{"$f":"LinInterpolate($E166,Hydrostatics!$D2328:$D2464,Hydrostatics!K2328:K2464,TRUE)","v":21.638471187955194},{"$f":"LinInterpolate($E166,Hydrostatics!$D2328:$D2464,Hydrostatics!E2328:E2464,TRUE)","v":7.4464661702184918}]
[null,null,1.5,{"$f":"LinInterpolate(E167,Hydrostatics!D2466:D2546,Hydrostatics!C2466:C2546,TRUE)","v":6.7313520592013099},4733.647617373892,{"$f":"LinInterpolate($E167,Hydrostatics!$D2466:$D2546,Hydrostatics!I2466:I2546,TRUE)","v":25.391188764479214},{"$f":"LinInterpolate($E167,Hydrostatics!$D2466:$D2546,Hydrostatics!J2466:J2546,TRUE)","v":3.6388112355207856},2.8401451838560528E-2,24.969002693692428,25.494564083670145,-0.5255613899777174,null,{"$f":"LinInterpolate($E167,Hydrostatics!$D2466:$D2546,Hydrostatics!K2466:K2546,TRUE)","v":21.59459176319476},{"$f":"LinInterpolate($E167,Hydrostatics!$D2466:$D2546,Hydrostatics!E2466:E2546,TRUE)","v":7.4072958815973813}]
[]
[null,null,"Total trim",null,null,null,{"$f":"LinInterpolate(0,(K137:K167),(C137:C167),FALSE)","v":0.88056287016833001},"m"]
[null,null,"Mean Draft","From Hydro Table",null,null,{"$f":"LinInterpolate(0,(K137:K167),(D137:D167),FALSE)","v":6.6771571594216841},"m"]
[null,null,"LBP/2","From Hydro Table",null,null,{"$f":"G172/2","v":26.4},"m"]
[null,null,"LBP","Ship Data",null,null,52.8,"m"]
[]
[null,null,"Draft aft",null,null,null,{"$f":"G170-(G169/2)","v":6.2368757243375192},"m"]
[null,null,"Draft forward",null,null,null,{"$f":"G170+G169/2","v":7.1174385945058489},"m"]
[null,null,"Draft midships",null,null,null,{"$f":"(G174+G175)/2","v":6.6771571594216841},"m"]
[]
[null,null,"Transverse Stability"]
[null,null,"KMt","From Hydro Table",null,null,{"$f":"LinInterpolate(G169,(C137:C167),(N137:N167),FALSE)","v":7.6134486255215714},"m"]
[null,null,"KGsolid",null,null,null,{"$f":"K128","v":4.9150206196898729},"m"]
[null,null,"KGfluid","KMt-GMtfluid",null,null,{"$f":"G179-G183","v":4.9179748757946093},"m"]
[null,null,"GMtsolid","KMt-KGsolid",null,null,{"$f":"G179-G180","v":2.6984280058316985},"m"]
[null,null,"GMtfluid","GMtsolid-FSMt",null,null,{"$f":"G182-P128","v":2.6954737497269621},"m"]

{"sheet":"Hydrostatics","index":6,"n_rows":2546,"n_cols":11,"rows_kept":2546,"cut":false,"hidden":false,"merged":[]}
[]
[null,"Trim","Draft","Displ,","KMT","KML","TPC","MCT","LCB","VCB","LCF"]
[null,null,"Moulded"," "," "," "," "," ","Fwd of AP","Above BL","Fwd of AP"]
[null,"m","m","t","m","m","t/cm","t·m/cm","m","m","m"]
[]
[null,-1.5,2.8,1701,9.67,72.680000000000007,7.22,22.92,24.77,1.53,24.85]
[null,-1.5,2.85,1737.1,9.57,71.89,7.25,23.14,24.77,1.56,24.77]
[null,-1.5,2.9,1773.4,9.4600000000000009,71.33,7.28,23.42,24.77,1.59,24.68]
[null,-1.5,2.95,1809.9,9.3699999999999992,70.63,7.3,23.65,24.77,1.62,24.6]
[null,-1.5,3,1846.5,9.2799999999999994,70.34,7.34,24.02,24.76,1.64,24.48]
[null,-1.5,3.05,1883.2,9.19,69.73,7.37,24.27,24.76,1.67,24.39]
[null,-1.5,3.1,1920.2,9.11,69.33,7.4,24.6,24.75,1.7,24.29]
[null,-1.5,3.15,1957.2,9.0399999999999991,68.81,7.43,24.87,24.74,1.73,24.19]
[null,-1.5,3.2,1994.5,8.9600000000000009,68.33,7.47,25.15,24.73,1.76,24.09]
[null,-1.5,3.25,2031.9,8.9,68.22,7.51,25.56,24.71,1.79,23.96]
[null,-1.5,3.3,2069.5,8.84,67.84,7.54,25.88,24.7,1.81,23.85]
[null,-1.5,3.35,2107.3000000000002,8.7799999999999994,67.52,7.58,26.21,24.68,1.84,23.73]
[null,-1.5,3.4,2145.3000000000002,8.73,67.400000000000006,7.62,26.62,24.66,1.87,23.6]
[null,-1.5,3.45,2183.5,8.69,67.209999999999994,7.66,27.01,24.65,1.9,23.47]
[null,-1.5,3.5,2221.9,8.65,67.099999999999994,7.71,27.42,24.62,1.93,23.33]
[null,-1.5,3.55,2260.5,8.6199999999999992,67.06,7.76,27.87,24.6,1.96,23.18]
[null,-1.5,3.6,2299.4,8.6,67.37,7.82,28.47,24.57,1.99,22.99]
[null,-1.5,3.65,2338.6,8.59,67.459999999999994,7.87,28.99,24.55,2.0099999999999998,22.82]
[null,-1.5,3.7,2378.1,8.58,67.569999999999993,7.93,29.51,24.52,2.04,22.65]
[null,-1.5,3.75,2417.9,8.58,67.67,7.99,30.04,24.48,2.0699999999999998,22.48]
[null,-1.5,3.8,2458,8.59,67.75,8.0399999999999991,30.56,24.45,2.1,22.31]
[null,-1.5,3.85,2498.3000000000002,8.6,67.94,8.1,31.14,24.41,2.13,22.13]
[null,-1.5,3.9,2539,8.6199999999999992,67.959999999999994,8.16,31.64,24.38,2.16,21.96]
[null,-1.5,3.95,2579.9,8.6300000000000008,67.92,8.2100000000000009,32.11,24.34,2.19,21.81]
[null,-1.5,4,2621,8.64,67.739999999999995,8.25,32.520000000000003,24.3,2.2200000000000002,21.68]
[null,-1.5,4.05,2662.3,8.6300000000000008,67.38,8.2899999999999991,32.840000000000003,24.25,2.25,21.57]
[null,-1.5,4.0999999999999996,2703.8,8.61,67.180000000000007,8.32,33.229999999999997,24.21,2.2799999999999998,21.45]
[null,-1.5,4.1500000000000004,2745.5,8.59,66.72,8.35,33.49,24.17,2.31,21.36]
[null,-1.5,4.2,2787.3,8.56,66.2,8.3699999999999992,33.71,24.13,2.34,21.29]
[null,-1.5,4.25,2829.2,8.5299999999999994,65.63,8.39,33.9,24.08,2.37,21.22]
[null,-1.5,4.3,2871.2,8.5,65.05,8.41,34.07,24.04,2.4,21.16]
[null,-1.5,4.3499999999999996,2913.3,8.4700000000000006,64.459999999999994,8.43,34.22,24,2.4300000000000002,21.11]
[null,-1.5,4.4000000000000004,2955.4,8.43,63.96,8.44,34.42,23.96,2.46,21.05]
[null,-1.5,4.45,2997.7,8.4,63.4,8.4600000000000009,34.58,23.92,2.4900000000000002,21]
[null,-1.5,4.5,3040,8.3699999999999992,62.82,8.4700000000000006,34.72,23.88,2.52,20.96]
[null,-1.5,4.55,3082.4,8.33,62.22,8.48,34.83,23.84,2.5499999999999998,20.93]
[null,-1.5,4.5999999999999996,3124.8,8.3000000000000007,61.62,8.49,34.94,23.8,2.58,20.9]
[null,-1.5,4.6500000000000004,3167.3,8.27,61,8.5,35.03,23.76,2.61,20.88]
[null,-1.5,4.7,3209.8,8.23,60.39,8.51,35.11,23.72,2.64,20.86]
[null,-1.5,4.75,3252.3,8.1999999999999993,59.79,8.52,35.18,23.68,2.67,20.85]
[null,-1.5,4.8,3294.9,8.17,59.19,8.5299999999999994,35.25,23.65,2.7,20.84]
[null,-1.5,4.8499999999999996,3337.6,8.14,58.59,8.5299999999999994,35.31,23.61,2.73,20.83]
[null,-1.5,4.9000000000000004,3380.2,8.1,58.01,8.5399999999999991,35.369999999999997,23.57,2.76,20.83]
[null,-1.5,4.95,3422.9,8.07,57.44,8.5399999999999991,35.43,23.54,2.79,20.83]
[null,-1.5,5,3465.6,8.0399999999999991,56.88,8.5500000000000007,35.49,23.51,2.82,20.84]
[null,-1.5,5.05,3508.3,8.01,56.34,8.5500000000000007,35.54,23.47,2.84,20.84]
[null,-1.5,5.0999999999999996,3551.1,7.99,55.81,8.56,35.6,23.44,2.87,20.84]
[null,-1.5,5.15,3593.9,7.96,55.3,8.56,35.659999999999997,23.41,2.9,20.85]
[null,-1.5,5.2,3636.7,7.93,54.79,8.57,35.72,23.38,2.93,20.86]
[null,-1.5,5.25,3679.5,7.91,54.31,8.57,35.78,23.35,2.96,20.87]
[null,-1.5,5.3,3722.4,7.88,53.83,8.58,35.840000000000003,23.32,2.99,20.88]
[null,-1.5,5.35,3765.2,7.86,53.37,8.58,35.909999999999997,23.3,3.02,20.89]
[null,-1.5,5.4,3808.2,7.84,52.92,8.59,35.97,23.27,3.04,20.9]
[null,-1.5,5.45,3851.1,7.82,52.49,8.59,36.04,23.24,3.07,20.91]
[null,-1.5,5.5,3894.1,7.8,52.06,8.6,36.11,23.22,3.1,20.92]
[null,-1.5,5.55,3937.1,7.78,51.65,8.61,36.18,23.19,3.13,20.94]
[null,-1.5,5.6,3980.1,7.76,51.26,8.61,36.26,23.17,3.16,20.95]
[null,-1.5,5.65,4023.2,7.74,50.87,8.6199999999999992,36.33,23.14,3.18,20.97]
[null,-1.5,5.7,4066.2,7.73,50.5,8.6300000000000008,36.409999999999997,23.12,3.21,20.99]
[null,-1.5,5.75,4109.3999999999996,7.71,50.14,8.6300000000000008,36.5,23.1,3.24,21.01]
[null,-1.5,5.8,4152.5,7.7,49.79,8.64,36.58,23.08,3.27,21.03]
[null,-1.5,5.85,4195.7,7.68,49.45,8.65,36.67,23.06,3.3,21.05]
[null,-1.5,5.9,4239,7.67,49.12,8.65,36.76,23.04,3.32,21.07]
[null,-1.5,5.95,4281.8999999999996,7.57,46.09,8.48,34.659999999999997,23.02,3.35,21.62]
[null,-1.5,6,4323.6000000000004,7.39,41.46,8.18,31.18,23.01,3.38,22.56]
[null,-1.5,6.05,4363.8,7.24,37.61,7.91,28.27,23.01,3.4,23.41]
[null,-1.5,6.1,4402.5,7.06,33.35,7.58,24.95,23.02,3.43,24.44]
[null,-1.5,6.15,4439.8,6.92,30.16,7.31,22.46,23.03,3.45,25.29]
[null,-1.5,6.2,4475.7,6.76,26.93,7.01,19.88,23.05,3.47,26.23]
[null,-1.5,6.25,4510.1000000000004,6.62,24.28,6.74,17.75,23.08,3.49,27.09]
[null,-1.5,6.3,4543,6.48,21.86,6.48,15.78,23.11,3.51,27.94]
[null,-1.5,6.35,4574.6000000000004,6.31,19.2,6.15,13.57,23.15,3.53,28.98]
[null,-1.5,6.4,4604.6000000000004,6.18,17.25,5.88,11.94,23.19,3.55,29.84]
[null,-1.5,6.45,4633.3,6.04,15.29,5.58,10.29,23.24,3.57,30.79]
[null,-1.5,6.5,4660.5,5.91,13.72,5.31,8.94,23.28,3.58,31.65]
[null,-1.5,6.55,4686.3,5.78,12.25,5.03,7.68,23.33,3.6,32.549999999999997]
[null,-1.5,6.6,4711,5.69,11.3,4.82,6.87,23.38,3.61,33.22]
[null,-1.5,6.65,4734.5,5.57,10.31,4.57,6.01,23.43,3.63,34.01]
[null,-1.5,6.7,4756.8,5.47,9.6,4.3499999999999996,5.4,23.48,3.64,34.68]
[null,-1.5,6.75,4777.8999999999996,5.35,8.91,4.0999999999999996,4.8,23.53,3.65,35.409999999999997]
[null,-1.5,6.8,4797.5,5.19,8.17,3.77,4.1399999999999997,23.58,3.67,36.340000000000003]
[]
[null,-1.4,2.8,1698.9,9.65,71.77,7.19,22.6,24.9,1.53,24.94]
[null,-1.4,2.85,1734.9,9.5500000000000007,71.349999999999994,7.23,22.93,24.9,1.56,24.84]
[null,-1.4,2.9,1771.1,9.44,70.59,7.25,23.15,24.9,1.58,24.76]
[null,-1.4,2.95,1807.4,9.35,70.06,7.28,23.43,24.9,1.61,24.67]
[null,-1.4,3,1843.9,9.26,69.39,7.31,23.66,24.89,1.64,24.59]
[null,-1.4,3.05,1880.5,9.17,69.11,7.34,24.02,24.88,1.67,24.47]
[null,-1.4,3.1,1917.3,9.09,68.53,7.37,24.27,24.87,1.69,24.38]
[null,-1.4,3.15,1954.2,9.01,68.150000000000006,7.41,24.59,24.86,1.72,24.27]
[null,-1.4,3.2,1991.3,8.94,67.650000000000006,7.44,24.85,24.85,1.75,24.18]
[null,-1.4,3.25,2028.5,8.8699999999999992,67.19,7.47,25.13,24.84,1.78,24.08]
[null,-1.4,3.3,2065.9,8.81,67.09,7.51,25.54,24.82,1.81,23.94]
[null,-1.4,3.35,2103.5,8.75,66.73,7.54,25.85,24.81,1.84,23.83]
[null,-1.4,3.4,2141.3000000000002,8.6999999999999993,66.42,7.58,26.18,24.79,1.86,23.72]
[null,-1.4,3.45,2179.3000000000002,8.65,66.17,7.62,26.53,24.77,1.89,23.6]
[null,-1.4,3.5,2217.5,8.61,66.14,7.66,26.97,24.75,1.92,23.45]
[null,-1.4,3.55,2255.9,8.58,66.03,7.71,27.38,24.73,1.95,23.31]
[null,-1.4,3.6,2294.6,8.5500000000000007,66,7.76,27.82,24.7,1.98,23.16]
[null,-1.4,3.65,2333.4,8.5299999999999994,66.3,7.82,28.41,24.67,2.0099999999999998,22.97]
[null,-1.4,3.7,2372.6,8.52,66.400000000000006,7.87,28.92,24.64,2.04,22.81]
[null,-1.4,3.75,2412.1,8.52,66.510000000000005,7.93,29.44,24.61,2.0699999999999998,22.64]
[null,-1.4,3.8,2451.9,8.52,66.62,7.98,29.96,24.58,2.1,22.46]
[null,-1.4,3.85,2491.9,8.5299999999999994,66.7,8.0399999999999991,30.47,24.54,2.12,22.29]
[null,-1.4,3.9,2532.1999999999998,8.5399999999999991,66.89,8.1,31.04,24.51,2.15,22.11]
[null,-1.4,3.95,2572.9,8.56,66.91,8.15,31.54,24.47,2.1800000000000002,21.95]
[null,-1.4,4,2613.6999999999998,8.57,66.88,8.1999999999999993,32.01,24.43,2.21,21.8]
[null,-1.4,4.05,2654.9,8.58,66.709999999999994,8.25,32.409999999999997,24.38,2.2400000000000002,21.67]
[null,-1.4,4.0999999999999996,2696.2,8.57,66.39,8.2799999999999994,32.74,24.34,2.27,21.56]
[null,-1.4,4.1500000000000004,2737.6,8.56,66.2,8.32,33.130000000000003,24.3,2.2999999999999998,21.44]
[null,-1.4,4.2,2779.3,8.5399999999999991,65.760000000000005,8.34,33.39,24.26,2.33,21.36]
[null,-1.4,4.25,2821,8.51,65.27,8.3699999999999992,33.61,24.21,2.36,21.28]
[null,-1.4,4.3,2862.9,8.48,64.739999999999995,8.39,33.81,24.17,2.39,21.22]
[null,-1.4,4.3499999999999996,2904.9,8.4499999999999993,64.19,8.41,33.979999999999997,24.13,2.42,21.16]
[null,-1.4,4.4000000000000004,2946.9,8.42,63.65,8.42,34.15,24.08,2.4500000000000002,21.11]
[null,-1.4,4.45,2989.1,8.39,63.16,8.44,34.35,24.04,2.48,21.05]
[null,-1.4,4.5,3031.3,8.36,62.64,8.4600000000000009,34.520000000000003,24,2.5099999999999998,21]
[null,-1.4,4.55,3073.6,8.32,62.1,8.4700000000000006,34.67,23.96,2.54,20.96]
[null,-1.4,4.5999999999999996,3116,8.2899999999999991,61.54,8.48,34.799999999999997,23.92,2.57,20.93]
[null,-1.4,4.6500000000000004,3158.4,8.26,60.97,8.49,34.92,23.88,2.6,20.9]
[null,-1.4,4.7,3200.9,8.23,60.4,8.5,35.020000000000003,23.84,2.63,20.88]
[null,-1.4,4.75,3243.4,8.1999999999999993,59.82,8.51,35.11,23.8,2.66,20.87]
[null,-1.4,4.8,3286,8.17,59.24,8.52,35.200000000000003,23.76,2.69,20.86]
[null,-1.4,4.8499999999999996,3328.6,8.14,58.68,8.5299999999999994,35.28,23.72,2.72,20.85]
[null,-1.4,4.9000000000000004,3371.2,8.1,58.11,8.5299999999999994,35.35,23.69,2.75,20.85]
[null,-1.4,4.95,3413.9,8.07,57.55,8.5399999999999991,35.409999999999997,23.65,2.78,20.85]
[null,-1.4,5,3456.6,8.0399999999999991,57,8.5500000000000007,35.479999999999997,23.62,2.81,20.85]
[null,-1.4,5.05,3499.3,8.02,56.46,8.5500000000000007,35.54,23.58,2.84,20.85]
[null,-1.4,5.0999999999999996,3542.1,7.99,55.94,8.56,35.61,23.55,2.86,20.86]
[null,-1.4,5.15,3584.9,7.96,55.43,8.56,35.67,23.52,2.89,20.86]
[null,-1.4,5.2,3627.7,7.94,54.93,8.57,35.729999999999997,23.49,2.92,20.87]
[null,-1.4,5.25,3670.5,7.91,54.45,8.57,35.799999999999997,23.46,2.95,20.88]
[null,-1.4,5.3,3713.4,7.89,53.98,8.58,35.869999999999997,23.43,2.98,20.89]
[null,-1.4,5.35,3756.3,7.86,53.52,8.59,35.93,23.4,3.01,20.9]
[null,-1.4,5.4,3799.2,7.84,53.07,8.59,36,23.37,3.04,20.91]
[null,-1.4,5.45,3842.2,7.82,52.64,8.6,36.08,23.34,3.06,20.92]
[null,-1.4,5.5,3885.2,7.8,52.22,8.6,36.15,23.32,3.09,20.94]
[null,-1.4,5.55,3928.2,7.78,51.81,8.61,36.22,23.29,3.12,20.95]
[null,-1.4,5.6,3971.2,7.76,51.42,8.6199999999999992,36.299999999999997,23.26,3.15,20.97]
[null,-1.4,5.65,4014.3,7.75,51.03,8.6199999999999992,36.380000000000003,23.24,3.18,20.99]
[null,-1.4,5.7,4057.4,7.73,50.66,8.6300000000000008,36.47,23.22,3.2,21]
[null,-1.4,5.75,4100.6000000000004,7.71,50.3,8.64,36.549999999999997,23.19,3.23,21.02]
[null,-1.4,5.8,4143.8,7.7,49.95,8.64,36.64,23.17,3.26,21.04]
[null,-1.4,5.85,4187,7.69,49.62,8.65,36.74,23.15,3.29,21.06]
[null,-1.4,5.9,4230.2,7.67,49.29,8.66,36.83,23.13,3.32,21.09]
[null,-1.4,5.95,4273.5,7.66,48.98,8.67,36.93,23.11,3.34,21.11]
[null,-1.4,6,4316.7,7.59,46.89,8.56,35.57,23.09,3.37,21.48]
[null,-1.4,6.05,4358.6000000000004,7.4,41.79,8.23,31.69,23.08,3.4,22.51]
[null,-1.4,6.1,4398.8999999999996,7.24,37.549999999999997,7.93,28.43,23.08,3.42,23.45]
[null,-1.4,6.15,4437.7,7.06,33.31,7.6,25.1,23.08,3.45,24.49]
[null,-1.4,6.2,4474.8999999999996,6.9,29.81,7.3,22.32,23.1,3.47,25.43]
[null,-1.4,6.25,4510.6000000000004,6.73,26.34,6.97,19.510000000000002,23.12,3.49,26.47]
[null,-1.4,6.3,4544.7,6.57,23.48,6.67,17.18,23.15,3.51,27.41]
[null,-1.4,6.35,4577.2,6.41,20.65,6.34,14.84,23.19,3.53,28.45]
[null,-1.4,6.4,4608.3,6.26,18.350000000000001,6.04,12.92,23.22,3.55,29.4]
[null,-1.4,6.45,4637.7,6.1,16.09,5.71,11,23.27,3.57,30.44]
[null,-1.4,6.5,4665.7,5.97,14.44,5.45,9.59,23.31,3.59,31.31]
[null,-1.4,6.55,4692.1000000000004,5.84,12.93,5.17,8.2899999999999991,23.36,3.6,32.18]
[null,-1.4,6.6,4717.2,5.72,11.64,4.9000000000000004,7.17,23.41,3.62,33.04]
[null,-1.4,6.65,4741.1000000000004,5.61,10.63,4.6500000000000004,6.3,23.46,3.63,33.82]
[null,-1.4,6.7,4763.7,5.49,9.6999999999999993,4.38,5.5,23.51,3.64,34.64]
[null,-1.4,6.75,4784.8999999999996,5.36,8.94,4.1100000000000003,4.83,23.56,3.66,35.44]
[null,-1.4,6.8,4804.7,5.2,8.19,3.78,4.17,23.61,3.67,36.369999999999997]
[]
[null,-1.3,2.8,1696.9,9.6300000000000008,71.28,7.17,22.42,25.04,1.52,25]
[null,-1.3,2.85,1732.8,9.5299999999999994,70.459999999999994,7.19,22.61,25.03,1.55,24.93]
[null,-1.3,2.9,1768.9,9.42,70.06,7.23,22.94,25.03,1.58,24.83]
[null,-1.3,2.95,1805.1,9.33,69.33,7.25,23.15,25.03,1.61,24.75]
[null,-1.3,3,1841.4,9.23,68.819999999999993,7.28,23.43,25.02,1.63,24.65]
[null,-1.3,3.05,1877.9,9.15,68.17,7.31,23.66,25.01,1.66,24.57]
[null,-1.3,3.1,1914.5,9.07,67.92,7.34,24.01,25,1.69,24.45]
[null,-1.3,3.15,1951.3,8.99,67.36,7.37,24.26,24.99,1.72,24.36]
[null,-1.3,3.2,1988.2,8.92,66.83,7.4,24.51,24.98,1.75,24.27]
[null,-1.3,3.25,2025.3,8.85,66.52,7.44,24.83,24.96,1.77,24.16]
[null,-1.3,3.3,2062.5,8.7799999999999994,66.069999999999993,7.47,25.11,24.95,1.8,24.06]
[null,-1.3,3.35,2100,8.73,65.98,7.51,25.51,24.93,1.83,23.93]
[null,-1.3,3.4,2137.6,8.67,65.650000000000006,7.54,25.82,24.91,1.86,23.82]
[null,-1.3,3.45,2175.3000000000002,8.6199999999999992,65.349999999999994,7.58,26.15,24.89,1.89,23.7]
[null,-1.3,3.5,2213.3000000000002,8.58,65.11,7.62,26.49,24.87,1.91,23.58]
[null,-1.3,3.55,2251.5,8.5399999999999991,65.08,7.66,26.92,24.85,1.94,23.43]
[null,-1.3,3.6,2289.9,8.51,64.989999999999995,7.71,27.33,24.82,1.97,23.29]
[null,-1.3,3.65,2328.5,8.48,64.959999999999994,7.75,27.76,24.8,2,23.14]
[null,-1.3,3.7,2367.4,8.4700000000000006,64.989999999999995,7.8,28.23,24.77,2.0299999999999998,22.99]
[null,-1.3,3.75,2406.6,8.4600000000000009,65.349999999999994,7.87,28.85,24.74,2.06,22.79]
[null,-1.3,3.8,2446.1,8.4499999999999993,65.47,7.92,29.36,24.7,2.09,22.62]
[null,-1.3,3.85,2485.8000000000002,8.4600000000000009,65.58,7.98,29.88,24.67,2.12,22.45]
[null,-1.3,3.9,2525.8000000000002,8.4700000000000006,65.67,8.0299999999999994,30.39,24.63,2.15,22.28]
[null,-1.3,3.95,2566.1,8.48,65.86,8.09,30.95,24.6,2.1800000000000002,22.1]
[null,-1.3,4,2606.6999999999998,8.5,65.89,8.15,31.44,24.56,2.21,21.94]
[null,-1.3,4.05,2647.6,8.52,65.87,8.1999999999999993,31.91,24.51,2.2400000000000002,21.79]
[null,-1.3,4.0999999999999996,2688.7,8.52,65.72,8.24,32.31,24.47,2.27,21.66]
[null,-1.3,4.1500000000000004,2729.9,8.52,65.42,8.27,32.64,24.43,2.2999999999999998,21.55]
[null,-1.3,4.2,2771.4,8.5,65.25,8.31,33.03,24.38,2.33,21.43]
[null,-1.3,4.25,2813,8.48,64.849999999999994,8.34,33.29,24.34,2.36,21.35]
[null,-1.3,4.3,2854.7,8.4600000000000009,64.39,8.36,33.53,24.3,2.39,21.28]
[null,-1.3,4.3499999999999996,2896.6,8.43,63.9,8.3800000000000008,33.729999999999997,24.25,2.41,21.21]
[null,-1.3,4.4000000000000004,2938.5,8.4,63.39,8.4,33.92,24.21,2.44,21.16]
[null,-1.3,4.45,2980.6,8.3800000000000008,62.88,8.42,34.1,24.16,2.4700000000000002,21.11]
[null,-1.3,4.5,3022.7,8.35,62.32,8.43,34.25,24.12,2.5,21.07]
[null,-1.3,4.55,3064.9,8.32,61.94,8.4600000000000009,34.479999999999997,24.08,2.5299999999999998,21.01]
[null,-1.3,4.5999999999999996,3107.2,8.2799999999999994,61.43,8.4700000000000006,34.64,24.04,2.56,20.97]
[null,-1.3,4.6500000000000004,3149.6,8.25,60.91,8.48,34.79,24,2.59,20.94]
[null,-1.3,4.7,3192,8.2200000000000006,60.38,8.5,34.92,23.95,2.62,20.91]
[null,-1.3,4.75,3234.5,8.19,59.83,8.51,35.03,23.91,2.65,20.9]
[null,-1.3,4.8,3277.1,8.16,59.28,8.52,35.130000000000003,23.88,2.68,20.88]
[null,-1.3,4.8499999999999996,3319.7,8.1300000000000008,58.74,8.52,35.229999999999997,23.84,2.71,20.87]
[null,-1.3,4.9000000000000004,3362.3,8.1,58.2,8.5299999999999994,35.32,23.8,2.74,20.87]
[null,-1.3,4.95,3404.9,8.07,57.66,8.5399999999999991,35.39,23.76,2.77,20.86]
[null,-1.3,5,3447.6,8.0500000000000007,57.12,8.5500000000000007,35.47,23.73,2.8,20.86]
[null,-1.3,5.05,3490.4,8.02,56.59,8.5500000000000007,35.54,23.69,2.83,20.87]
[null,-1.3,5.0999999999999996,3533.1,7.99,56.07,8.56,35.61,23.66,2.86,20.87]
[null,-1.3,5.15,3575.9,7.96,55.57,8.56,35.68,23.62,2.88,20.88]
[null,-1.3,5.2,3618.7,7.94,55.07,8.57,35.75,23.59,2.91,20.89]
[null,-1.3,5.25,3661.6,7.91,54.59,8.58,35.82,23.56,2.94,20.89]
[null,-1.3,5.3,3704.5,7.89,54.12,8.58,35.89,23.53,2.97,20.9]
[null,-1.3,5.35,3747.4,7.87,53.67,8.59,35.96,23.5,3,20.91]
[null,-1.3,5.4,3790.3,7.84,53.22,8.59,36.03,23.47,3.03,20.93]
[null,-1.3,5.45,3833.3,7.82,52.79,8.6,36.11,23.44,3.06,20.94]
[null,-1.3,5.5,3876.3,7.8,52.38,8.61,36.19,23.41,3.08,20.95]
[null,-1.3,5.55,3919.3,7.78,51.97,8.61,36.270000000000003,23.39,3.11,20.97]
[null,-1.3,5.6,3962.4,7.77,51.58,8.6199999999999992,36.35,23.36,3.14,20.98]
[null,-1.3,5.65,4005.5,7.75,51.2,8.6300000000000008,36.43,23.34,3.17,21]
[null,-1.3,5.7,4048.6,7.73,50.83,8.6300000000000008,36.520000000000003,23.31,3.2,21.02]
[null,-1.3,5.75,4091.8,7.72,50.47,8.64,36.61,23.29,3.22,21.04]
[null,-1.3,5.8,4135,7.7,50.13,8.65,36.71,23.26,3.25,21.06]
[null,-1.3,5.85,4178.3,7.69,49.79,8.66,36.81,23.24,3.28,21.08]
[null,-1.3,5.9,4221.5,7.68,49.47,8.66,36.909999999999997,23.22,3.31,21.1]
[null,-1.3,5.95,4264.8999999999996,7.66,49.16,8.67,37.01,23.2,3.34,21.13]
[null,-1.3,6,4308.2,7.65,48.85,8.68,37.11,23.18,3.36,21.15]
[null,-1.3,6.05,4351.6000000000004,7.6,47.23,8.6,36.130000000000003,23.16,3.39,21.44]
[null,-1.3,6.1,4393.7,7.4,41.72,8.24,31.87,23.15,3.42,22.56]
[null,-1.3,6.15,4434.2,7.23,37.5,7.94,28.6,23.14,3.44,23.5]
[null,-1.3,6.2,4473,7.04,32.94,7.58,24.96,23.15,3.47,24.63]
[null,-1.3,6.25,4510.1000000000004,6.87,29.17,7.25,21.93,23.17,3.49,25.66]
[null,-1.3,6.3,4545.5,6.71,26.06,6.95,19.41,23.19,3.51,26.61]
[null,-1.3,6.35,4579.3,6.53,22.71,6.59,16.63,23.22,3.53,27.74]
[null,-1.3,6.4,4611.3999999999996,6.37,19.98,6.27,14.35,23.26,3.55,28.78]
[null,-1.3,6.45,4641.8,6.19,17.34,5.91,12.1,23.3,3.57,29.92]
[null,-1.3,6.5,4670.6000000000004,6.05,15.39,5.61,10.43,23.34,3.59,30.87]
[null,-1.3,6.55,4697.7,5.89,13.41,5.27,8.7200000000000006,23.39,3.61,31.96]
[null,-1.3,6.6,4723.3999999999996,5.76,12.02,4.99,7.52,23.44,3.62,32.85]
[null,-1.3,6.65,4747.6000000000004,5.63,10.75,4.6900000000000004,6.42,23.49,3.64,33.78]
[null,-1.3,6.7,4770.5,5.52,9.92,4.45,5.7,23.54,3.65,34.5]
[null,-1.3,6.75,4792,5.38,9.0500000000000007,4.1500000000000004,4.9400000000000004,23.59,3.66,35.380000000000003]
[null,-1.3,6.8,4811.8,5.2,8.2200000000000006,3.79,4.1900000000000004,23.64,3.67,36.4]
[]
[null,-1.2,2.8,1695.1,9.61,70.61,7.15,22.18,25.17,1.52,25.08]
[null,-1.2,2.85,1730.9,9.51,69.97,7.17,22.43,25.16,1.55,24.99]
[null,-1.2,2.9,1766.8,9.4,69.180000000000007,7.2,22.62,25.16,1.57,24.92]
[null,-1.2,2.95,1802.9,9.31,68.8,7.23,22.95,25.15,1.6,24.81]
[null,-1.2,3,1839.1,9.2100000000000009,68.099999999999994,7.25,23.15,25.15,1.63,24.73]
[null,-1.2,3.05,1875.4,9.1300000000000008,67.62,7.28,23.43,25.14,1.66,24.64]
[null,-1.2,3.1,1911.9,9.0399999999999991,66.989999999999995,7.31,23.65,25.13,1.68,24.56]
[null,-1.2,3.15,1948.5,8.9700000000000006,66.75,7.34,24,25.11,1.71,24.44]
[null,-1.2,3.2,1985.3,8.89,66.209999999999994,7.37,24.24,25.1,1.74,24.35]
[null,-1.2,3.25,2022.2,8.83,65.709999999999994,7.4,24.49,25.09,1.77,24.25]
[null,-1.2,3.3,2059.3000000000002,8.76,65.41,7.44,24.81,25.07,1.8,24.14]
[null,-1.2,3.35,2096.5,8.6999999999999993,64.989999999999995,7.47,25.08,25.05,1.82,24.04]
[null,-1.2,3.4,2133.9,8.65,64.599999999999994,7.5,25.36,25.03,1.85,23.94]
[null,-1.2,3.45,2171.6,8.6,64.58,7.54,25.79,25.01,1.88,23.8]
[null,-1.2,3.5,2209.3000000000002,8.5500000000000007,64.3,7.58,26.11,24.99,1.91,23.68]
[null,-1.2,3.55,2247.3000000000002,8.51,64.069999999999993,7.61,26.44,24.97,1.94,23.56]
[null,-1.2,3.6,2285.5,8.4700000000000006,64.05,7.66,26.87,24.94,1.97,23.41]
[null,-1.2,3.65,2323.9,8.44,63.96,7.7,27.27,24.92,1.99,23.28]
[null,-1.2,3.7,2362.5,8.42,63.94,7.75,27.7,24.89,2.02,23.13]
[null,-1.2,3.75,2401.4,8.4,63.97,7.8,28.16,24.86,2.0499999999999998,22.97]
[null,-1.2,3.8,2440.5,8.4,64.33,7.86,28.77,24.83,2.08,22.77]
[null,-1.2,3.85,2480,8.4,64.45,7.92,29.28,24.79,2.11,22.6]
[null,-1.2,3.9,2519.6999999999998,8.4,64.569999999999993,7.97,29.79,24.76,2.14,22.43]
[null,-1.2,3.95,2559.6999999999998,8.41,64.67,8.0299999999999994,30.3,24.72,2.17,22.26]
[null,-1.2,4,2600,8.43,64.86,8.09,30.86,24.68,2.2000000000000002,22.09]
[null,-1.2,4.05,2640.6,8.4499999999999993,64.91,8.14,31.35,24.64,2.23,21.93]
[null,-1.2,4.0999999999999996,2681.4,8.4600000000000009,64.900000000000006,8.19,31.81,24.6,2.2599999999999998,21.78]
[null,-1.2,4.1500000000000004,2722.4,8.4700000000000006,64.77,8.23,32.22,24.55,2.29,21.65]
[null,-1.2,4.2,2763.7,8.4700000000000006,64.5,8.27,32.549999999999997,24.51,2.3199999999999998,21.55]
[null,-1.2,4.25,2805.1,8.4499999999999993,64.349999999999994,8.31,32.94,24.47,2.35,21.43]
[null,-1.2,4.3,2846.7,8.43,63.98,8.33,33.21,24.42,2.38,21.35]
[null,-1.2,4.3499999999999996,2888.4,8.41,63.56,8.36,33.46,24.38,2.41,21.28]
[null,-1.2,4.4000000000000004,2930.3,8.39,63.11,8.3800000000000008,33.67,24.33,2.44,21.21]
[null,-1.2,4.45,2972.2,8.36,62.63,8.4,33.869999999999997,24.29,2.4700000000000002,21.16]
[null,-1.2,4.5,3014.2,8.33,62.15,8.42,34.06,24.24,2.5,21.11]
[null,-1.2,4.55,3056.4,8.3000000000000007,61.64,8.43,34.22,24.2,2.5299999999999998,21.07]
[null,-1.2,4.5999999999999996,3098.6,8.27,61.28,8.4499999999999993,34.46,24.16,2.5499999999999998,21.02]
[null,-1.2,4.6500000000000004,3140.9,8.25,60.81,8.4700000000000006,34.630000000000003,24.11,2.58,20.98]
[null,-1.2,4.7,3183.3,8.2200000000000006,60.32,8.48,34.79,24.07,2.61,20.95]
[null,-1.2,4.75,3225.7,8.19,59.82,8.5,34.93,24.03,2.64,20.93]
[null,-1.2,4.8,3268.2,8.16,59.31,8.51,35.049999999999997,23.99,2.67,20.91]
[null,-1.2,4.8499999999999996,3310.8,8.1300000000000008,58.78,8.52,35.17,23.95,2.7,20.9]
[null,-1.2,4.9000000000000004,3353.4,8.1,58.26,8.5299999999999994,35.270000000000003,23.91,2.73,20.89]
[null,-1.2,4.95,3396,8.07,57.75,8.5399999999999991,35.369999999999997,23.87,2.76,20.88]
[null,-1.2,5,3438.7,8.0500000000000007,57.23,8.5399999999999991,35.450000000000003,23.84,2.79,20.88]
[null,-1.2,5.05,3481.4,8.02,56.71,8.5500000000000007,35.53,23.8,2.82,20.88]
[null,-1.2,5.0999999999999996,3524.2,7.99,56.2,8.56,35.61,23.77,2.85,20.89]
[null,-1.2,5.15,3567,7.97,55.7,8.56,35.68,23.73,2.88,20.89]
[null,-1.2,5.2,3609.8,7.94,55.21,8.57,35.76,23.7,2.9,20.9]
[null,-1.2,5.25,3652.7,7.92,54.73,8.58,35.83,23.66,2.93,20.91]
[null,-1.2,5.3,3695.5,7.89,54.27,8.58,35.909999999999997,23.63,2.96,20.92]
[null,-1.2,5.35,3738.5,7.87,53.82,8.59,35.99,23.6,2.99,20.93]
[null,-1.2,5.4,3781.4,7.85,53.38,8.6,36.06,23.57,3.02,20.94]
[null,-1.2,5.45,3824.4,7.83,52.95,8.6,36.14,23.54,3.05,20.96]
[null,-1.2,5.5,3867.4,7.81,52.54,8.61,36.229999999999997,23.51,3.08,20.97]
[null,-1.2,5.55,3910.5,7.79,52.13,8.6199999999999992,36.31,23.49,3.1,20.99]
[null,-1.2,5.6,3953.6,7.77,51.74,8.6199999999999992,36.4,23.46,3.13,21]
[null,-1.2,5.65,3996.7,7.75,51.37,8.6300000000000008,36.49,23.43,3.16,21.02]
[null,-1.2,5.7,4039.8,7.74,51,8.64,36.58,23.41,3.19,21.04]
[null,-1.2,5.75,4083,7.72,50.64,8.65,36.68,23.38,3.22,21.06]
[null,-1.2,5.8,4126.3,7.71,50.3,8.65,36.770000000000003,23.36,3.25,21.08]
[null,-1.2,5.85,4169.5,7.69,49.97,8.66,36.880000000000003,23.33,3.27,21.1]
[null,-1.2,5.9,4212.8999999999996,7.68,49.65,8.67,36.979999999999997,23.31,3.3,21.12]
[null,-1.2,5.95,4256.2,7.67,49.34,8.68,37.090000000000003,23.29,3.33,21.15]
[null,-1.2,6,4299.6000000000004,7.65,49.04,8.69,37.200000000000003,23.27,3.36,21.17]
[null,-1.2,6.05,4343.1000000000004,7.64,48.74,8.6999999999999993,37.31,23.25,3.38,21.2]
[null,-1.2,6.1,4386.5,7.62,48.04,8.68,37.07,23.23,3.41,21.31]
[null,-1.2,6.15,4429,7.43,42.5,8.32,32.76,23.21,3.44,22.43]
[null,-1.2,6.2,4469.6000000000004,7.23,37.46,7.96,28.78,23.21,3.47,23.55]
[null,-1.2,6.25,4508.3999999999996,7.04,32.93,7.6,25.13,23.22,3.49,24.68]
[null,-1.2,6.3,4545.3999999999996,6.86,28.86,7.24,21.82,23.24,3.51,25.81]
[null,-1.2,6.35,4580.6000000000004,6.67,25.22,6.88,18.809999999999999,23.26,3.53,26.94]
[null,-1.2,6.4,4613.8999999999996,6.49,21.98,6.52,16.100000000000001,23.29,3.55,28.07]
[null,-1.2,6.45,4645.5,6.31,19.11,6.16,13.67,23.33,3.57,29.21]
[null,-1.2,6.5,4675.2,6.11,16.190000000000001,5.74,11.16,23.37,3.59,30.53]
[null,-1.2,6.55,4703.2,5.94,14.03,5.38,9.2799999999999994,23.42,3.61,31.67]
[null,-1.2,6.6,4729.3999999999996,5.8,12.39,5.07,7.86,23.46,3.62,32.67]
[null,-1.2,6.65,4754.1000000000004,5.67,11.09,4.7699999999999996,6.72,23.51,3.64,33.590000000000003]
[null,-1.2,6.7,4777.3,5.53,10.01,4.4800000000000004,5.79,23.57,3.65,34.479999999999997]
[null,-1.2,6.75,4799,5.38,9.08,4.16,4.97,23.62,3.67,35.409999999999997]
[null,-1.2,6.8,4819,5.21,8.25,3.8,4.22,23.67,3.68,36.43]
[]
[null,-1.1000000000000001,2.8,1693.3,9.6,70.14,7.13,22.01,25.3,1.51,25.13]
[null,-1.1000000000000001,2.85,1729,9.49,69.31,7.15,22.19,25.29,1.54,25.06]
[null,-1.1000000000000001,2.9,1764.8,9.39,68.69,7.18,22.43,25.29,1.57,24.98]
[null,-1.1000000000000001,2.95,1800.8,9.2899999999999991,67.930000000000007,7.2,22.62,25.28,1.6,24.9]
[null,-1.1000000000000001,3,1836.8,9.1999999999999993,67.569999999999993,7.23,22.94,25.27,1.62,24.8]
[null,-1.1000000000000001,3.05,1873,9.11,66.900000000000006,7.26,23.15,25.26,1.65,24.72]
[null,-1.1000000000000001,3.1,1909.4,9.02,66.44,7.28,23.42,25.25,1.68,24.62]
[null,-1.1000000000000001,3.15,1945.9,8.9499999999999993,65.84,7.31,23.63,25.24,1.71,24.54]
[null,-1.1000000000000001,3.2,1982.5,8.8699999999999992,65.61,7.35,23.98,25.22,1.74,24.42]
[null,-1.1000000000000001,3.25,2019.3,8.8000000000000007,65.099999999999994,7.37,24.22,25.21,1.76,24.33]
[null,-1.1000000000000001,3.3,2056.1999999999998,8.74,64.61,7.4,24.46,25.19,1.79,24.24]
[null,-1.1000000000000001,3.35,2093.3000000000002,8.68,64.33,7.43,24.78,25.17,1.82,24.12]
[null,-1.1000000000000001,3.4,2130.5,8.6199999999999992,63.92,7.47,25.05,25.15,1.85,24.02]
[null,-1.1000000000000001,3.45,2167.9,8.57,63.55,7.5,25.32,25.13,1.88,23.92]
[null,-1.1000000000000001,3.5,2205.5,8.52,63.54,7.54,25.75,25.11,1.9,23.78]
[null,-1.1000000000000001,3.55,2243.3000000000002,8.48,63.27,7.58,26.06,25.09,1.93,23.66]
[null,-1.1000000000000001,3.6,2281.3000000000002,8.44,63.05,7.61,26.39,25.06,1.96,23.54]
[null,-1.1000000000000001,3.65,2319.4,8.41,63.03,7.66,26.82,25.04,1.99,23.39]
[null,-1.1000000000000001,3.7,2357.8000000000002,8.3800000000000008,62.95,7.7,27.21,25.01,2.02,23.25]
[null,-1.1000000000000001,3.75,2396.4,8.36,62.93,7.75,27.64,24.98,2.0499999999999998,23.11]
[null,-1.1000000000000001,3.8,2435.3000000000002,8.35,62.97,7.8,28.09,24.95,2.0699999999999998,22.95]
[null,-1.1000000000000001,3.85,2474.4,8.34,63.33,7.86,28.69,24.92,2.1,22.75]
[null,-1.1000000000000001,3.9,2513.8000000000002,8.34,63.47,7.91,29.2,24.88,2.13,22.59]
[null,-1.1000000000000001,3.95,2553.6,8.35,63.6,7.97,29.71,24.84,2.16,22.42]
[null,-1.1000000000000001,4,2593.5,8.36,63.71,8.0299999999999994,30.22,24.81,2.19,22.25]
[null,-1.1000000000000001,4.05,2633.8,8.3800000000000008,63.91,8.08,30.77,24.76,2.2200000000000002,22.07]
[null,-1.1000000000000001,4.0999999999999996,2674.3,8.39,63.96,8.14,31.26,24.72,2.25,21.92]
[null,-1.1000000000000001,4.1500000000000004,2715.2,8.41,63.97,8.19,31.72,24.68,2.2799999999999998,21.77]
[null,-1.1000000000000001,4.2,2756.2,8.42,63.87,8.23,32.130000000000003,24.64,2.31,21.65]
[null,-1.1000000000000001,4.25,2797.4,8.41,63.63,8.27,32.47,24.59,2.34,21.54]
[null,-1.1000000000000001,4.3,2838.8,8.4,63.29,8.2899999999999991,32.76,24.55,2.37,21.46]
[null,-1.1000000000000001,4.3499999999999996,2880.4,8.39,63.16,8.33,33.15,24.5,2.4,21.35]
[null,-1.1000000000000001,4.4000000000000004,2922.1,8.3699999999999992,62.79,8.36,33.4,24.45,2.4300000000000002,21.28]
[null,-1.1000000000000001,4.45,2963.9,8.34,62.37,8.3800000000000008,33.630000000000003,24.41,2.46,21.22]
[null,-1.1000000000000001,4.5,3005.9,8.32,61.92,8.4,33.840000000000003,24.36,2.4900000000000002,21.17]
[null,-1.1000000000000001,4.55,3047.9,8.2899999999999991,61.48,8.42,34.04,24.32,2.52,21.12]
[null,-1.1000000000000001,4.5999999999999996,3090,8.26,61.01,8.43,34.22,24.28,2.5499999999999998,21.08]
[null,-1.1000000000000001,4.6500000000000004,3132.2,8.24,60.66,8.4600000000000009,34.46,24.23,2.58,21.03]
[null,-1.1000000000000001,4.7,3174.5,8.2100000000000009,60.23,8.4700000000000006,34.64,24.19,2.61,21]
[null,-1.1000000000000001,4.75,3216.9,8.18,59.77,8.49,34.81,24.15,2.63,20.97]
[null,-1.1000000000000001,4.8,3259.4,8.15,59.3,8.5,34.96,24.11,2.66,20.94]
[null,-1.1000000000000001,4.8499999999999996,3301.9,8.1300000000000008,58.81,8.51,35.090000000000003,24.07,2.69,20.93]
[null,-1.1000000000000001,4.9000000000000004,3344.5,8.1,58.31,8.52,35.21,24.03,2.72,20.92]
[null,-1.1000000000000001,4.95,3387.1,8.07,57.81,8.5299999999999994,35.32,23.99,2.75,20.91]
[null,-1.1000000000000001,5,3429.8,8.0500000000000007,57.32,8.5399999999999991,35.43,23.95,2.78,20.9]
[null,-1.1000000000000001,5.05,3472.5,8.02,56.82,8.5500000000000007,35.520000000000003,23.91,2.81,20.9]
[null,-1.1000000000000001,5.0999999999999996,3515.3,7.99,56.32,8.56,35.61,23.87,2.84,20.91]
[null,-1.1000000000000001,5.15,3558.1,7.97,55.83,8.56,35.69,23.84,2.87,20.91]
[null,-1.1000000000000001,5.2,3600.9,7.94,55.35,8.57,35.770000000000003,23.8,2.9,20.92]
[null,-1.1000000000000001,5.25,3643.8,7.92,54.88,8.58,35.85,23.77,2.93,20.93]
[null,-1.1000000000000001,5.3,3686.7,7.89,54.42,8.58,35.93,23.74,2.95,20.94]
[null,-1.1000000000000001,5.35,3729.6,7.87,53.97,8.59,36.01,23.7,2.98,20.95]
[null,-1.1000000000000001,5.4,3772.6,7.85,53.53,8.6,36.1,23.67,3.01,20.96]
[null,-1.1000000000000001,5.45,3815.5,7.83,53.11,8.61,36.18,23.64,3.04,20.97]
[null,-1.1000000000000001,5.5,3858.6,7.81,52.7,8.61,36.270000000000003,23.61,3.07,20.99]
[null,-1.1000000000000001,5.55,3901.7,7.79,52.3,8.6199999999999992,36.36,23.58,3.1,21]
[null,-1.1000000000000001,5.6,3944.8,7.77,51.91,8.6300000000000008,36.450000000000003,23.56,3.12,21.02]
[null,-1.1000000000000001,5.65,3987.9,7.76,51.54,8.6300000000000008,36.54,23.53,3.15,21.04]
[null,-1.1000000000000001,5.7,4031.1,7.74,51.17,8.64,36.64,23.5,3.18,21.06]
[null,-1.1000000000000001,5.75,4074.3,7.72,50.82,8.65,36.74,23.48,3.21,21.08]
[null,-1.1000000000000001,5.8,4117.6000000000004,7.71,50.48,8.66,36.840000000000003,23.45,3.24,21.1]
[null,-1.1000000000000001,5.85,4160.8999999999996,7.7,50.15,8.67,36.950000000000003,23.43,3.27,21.12]
[null,-1.1000000000000001,5.9,4204.2,7.68,49.83,8.68,37.06,23.4,3.29,21.14]
[null,-1.1000000000000001,5.95,4247.6000000000004,7.67,49.52,8.68,37.17,23.38,3.32,21.17]
[null,-1.1000000000000001,6,4291,7.66,49.22,8.69,37.28,23.36,3.35,21.19]
[null,-1.1000000000000001,6.05,4334.5,7.65,48.93,8.6999999999999993,37.4,23.34,3.38,21.22]
[null,-1.1000000000000001,6.1,4378,7.64,48.65,8.7100000000000009,37.520000000000003,23.32,3.41,21.25]
[null,-1.1000000000000001,6.15,4421.6000000000004,7.63,48.38,8.7200000000000006,37.64,23.3,3.43,21.28]
[null,-1.1000000000000001,6.2,4464.3999999999996,7.44,42.87,8.3699999999999992,33.32,23.28,3.46,22.39]
[null,-1.1000000000000001,6.25,4505.2,7.23,37.44,7.98,28.97,23.28,3.49,23.61]
[null,-1.1000000000000001,6.3,4544,7.01,32.229999999999997,7.55,24.72,23.29,3.51,24.92]
[null,-1.1000000000000001,6.35,4580.8,6.81,27.94,7.16,21.18,23.3,3.53,26.14]
[null,-1.1000000000000001,6.4,4615.6000000000004,6.6,23.87,6.74,17.760000000000002,23.33,3.55,27.46]
[null,-1.1000000000000001,6.45,4648.5,6.42,20.8,6.38,15.16,23.36,3.57,28.59]
[null,-1.1000000000000001,6.5,4679.3999999999996,6.23,17.87,6,12.65,23.4,3.59,29.82]
[null,-1.1000000000000001,6.55,4708.3,6.03,15.13,5.58,10.27,23.45,3.61,31.14]
[null,-1.1000000000000001,6.6,4735.3,5.86,13.08,5.21,8.48,23.49,3.63,32.299999999999997]
[null,-1.1000000000000001,6.65,4760.5,5.7,11.42,4.8499999999999996,7.02,23.54,3.64,33.409999999999997]
[null,-1.1000000000000001,6.7,4784.2,5.58,10.33,4.57,6.08,23.59,3.66,34.28]
[null,-1.1000000000000001,6.75,4806.1000000000004,5.42,9.27,4.2300000000000004,5.15,23.64,3.67,35.28]
[null,-1.1000000000000001,6.8,4826.2,5.22,8.27,3.81,4.25,23.69,3.68,36.46]
[]
[null,-1,2.8,1691.7,9.58,69.319999999999993,7.1,21.73,25.43,1.51,25.21]
[null,-1,2.85,1727.3,9.4700000000000006,68.84,7.13,22.02,25.42,1.54,25.12]
[null,-1,2.9,1763,9.3699999999999992,68.03,7.15,22.19,25.41,1.57,25.05]
[null,-1,2.95,1798.8,9.27,67.44,7.18,22.43,25.41,1.59,24.96]
[null,-1,3,1834.7,9.18,66.709999999999994,7.2,22.62,25.4,1.62,24.89]
[null,-1,3.05,1870.8,9.09,66.38,7.23,22.93,25.39,1.65,24.78]
[null,-1,3.1,1907,9.01,65.73,7.26,23.13,25.37,1.68,24.7]
[null,-1,3.15,1943.3,8.93,65.290000000000006,7.28,23.4,25.36,1.7,24.6]
[null,-1,3.2,1979.8,8.85,64.709999999999994,7.31,23.62,25.35,1.73,24.52]
[null,-1,3.25,2016.4,8.7799999999999994,64.5,7.35,23.96,25.33,1.76,24.4]
[null,-1,3.3,2053.1999999999998,8.7200000000000006,64.010000000000005,7.37,24.2,25.31,1.79,24.31]
[null,-1,3.35,2090.1,8.66,63.54,7.4,24.43,25.29,1.81,24.22]
[null,-1,3.4,2127.1999999999998,8.6,63.27,7.43,24.75,25.27,1.84,24.1]
[null,-1,3.45,2164.5,8.5500000000000007,62.88,7.46,25.01,25.25,1.87,24]
[null,-1,3.5,2201.9,8.5,62.52,7.5,25.28,25.23,1.9,23.9]
[null,-1,3.55,2239.4,8.4499999999999993,62.51,7.54,25.7,25.21,1.93,23.76]
[null,-1,3.6,2277.1999999999998,8.41,62.26,7.57,26.01,25.18,1.95,23.64]
[null,-1,3.65,2315.1999999999998,8.3800000000000008,62.05,7.61,26.34,25.16,1.98,23.52]
[null,-1,3.7,2353.3000000000002,8.34,62.04,7.66,26.75,25.13,2.0099999999999998,23.37]
[null,-1,3.75,2391.6999999999998,8.32,61.97,7.7,27.14,25.1,2.04,23.23]
[null,-1,3.8,2430.3000000000002,8.3000000000000007,61.96,7.75,27.57,25.07,2.0699999999999998,23.09]
[null,-1,3.85,2469.1,8.2899999999999991,62.01,7.79,28.02,25.04,2.1,22.93]
[null,-1,3.9,2508.3000000000002,8.2799999999999994,62.37,7.86,28.62,25,2.13,22.74]
[null,-1,3.95,2547.6999999999998,8.2899999999999991,62.51,7.91,29.12,24.96,2.15,22.57]
[null,-1,4,2587.4,8.2899999999999991,62.66,7.97,29.63,24.93,2.1800000000000002,22.4]
[null,-1,4.05,2627.3,8.31,62.78,8.02,30.14,24.89,2.21,22.24]
[null,-1,4.0999999999999996,2667.6,8.32,62.99,8.08,30.69,24.85,2.2400000000000002,22.07]
[null,-1,4.1500000000000004,2708.1,8.34,63.06,8.1300000000000008,31.18,24.8,2.27,21.91]
[null,-1,4.2,2748.9,8.36,63.09,8.18,31.65,24.76,2.2999999999999998,21.77]
[null,-1,4.25,2789.9,8.3699999999999992,63.01,8.23,32.06,24.71,2.33,21.65]
[null,-1,4.3,2831.1,8.3699999999999992,62.81,8.26,32.409999999999997,24.67,2.36,21.54]
[null,-1,4.3499999999999996,2872.5,8.36,62.51,8.2899999999999991,32.71,24.62,2.39,21.46]
[null,-1,4.4000000000000004,2914.1,8.34,62.4,8.33,33.1,24.58,2.42,21.36]
[null,-1,4.45,2955.8,8.32,62.06,8.36,33.369999999999997,24.53,2.4500000000000002,21.29]
[null,-1,4.5,2997.6,8.3000000000000007,61.67,8.3800000000000008,33.61,24.49,2.48,21.23]
[null,-1,4.55,3039.5,8.2799999999999994,61.27,8.4,33.82,24.44,2.5099999999999998,21.18]
[null,-1,4.5999999999999996,3081.6,8.25,60.85,8.42,34.03,24.4,2.54,21.13]
[null,-1,4.6500000000000004,3123.7,8.23,60.42,8.44,34.229999999999997,24.35,2.57,21.1]
[null,-1,4.7,3165.9,8.1999999999999993,60.08,8.4600000000000009,34.47,24.31,2.6,21.05]
[null,-1,4.75,3208.2,8.17,59.68,8.4700000000000006,34.67,24.26,2.63,21.01]
[null,-1,4.8,3250.6,8.15,59.25,8.49,34.840000000000003,24.22,2.66,20.99]
[null,-1,4.8499999999999996,3293.1,8.1199999999999992,58.8,8.5,35,24.18,2.69,20.96]
[null,-1,4.9000000000000004,3335.7,8.1,58.34,8.52,35.14,24.14,2.71,20.95]
[null,-1,4.95,3378.3,8.07,57.87,8.5299999999999994,35.270000000000003,24.1,2.74,20.94]
[null,-1,5,3420.9,8.0399999999999991,57.39,8.5399999999999991,35.39,24.06,2.77,20.93]
[null,-1,5.05,3463.6,8.02,56.91,8.5500000000000007,35.5,24.02,2.8,20.93]
[null,-1,5.0999999999999996,3506.4,7.99,56.44,8.56,35.6,23.98,2.83,20.93]
[null,-1,5.15,3549.2,7.97,55.96,8.56,35.69,23.95,2.86,20.93]
[null,-1,5.2,3592,7.94,55.48,8.57,35.78,23.91,2.89,20.94]
[null,-1,5.25,3634.9,7.92,55.02,8.58,35.869999999999997,23.88,2.92,20.94]
[null,-1,5.3,3677.8,7.9,54.56,8.59,35.950000000000003,23.84,2.95,20.95]
[null,-1,5.35,3720.7,7.88,54.12,8.59,36.04,23.81,2.97,20.96]
[null,-1,5.4,3763.7,7.85,53.69,8.6,36.130000000000003,23.78,3,20.98]
[null,-1,5.45,3806.7,7.83,53.27,8.61,36.22,23.74,3.03,20.99]
[null,-1,5.5,3849.8,7.81,52.86,8.6199999999999992,36.31,23.71,3.06,21]
[null,-1,5.55,3892.9,7.79,52.47,8.6199999999999992,36.4,23.68,3.09,21.02]
[null,-1,5.6,3936,7.78,52.08,8.6300000000000008,36.5,23.65,3.12,21.04]
[null,-1,5.65,3979.2,7.76,51.71,8.64,36.6,23.63,3.15,21.06]
[null,-1,5.7,4022.4,7.74,51.35,8.65,36.700000000000003,23.6,3.17,21.08]
[null,-1,5.75,4065.6,7.73,51,8.66,36.81,23.57,3.2,21.1]
[null,-1,5.8,4108.8999999999996,7.71,50.66,8.66,36.909999999999997,23.55,3.23,21.12]
[null,-1,5.85,4152.2,7.7,50.34,8.67,37.020000000000003,23.52,3.26,21.14]
[null,-1,5.9,4195.6000000000004,7.69,50.02,8.68,37.130000000000003,23.5,3.29,21.17]
[null,-1,5.95,4239,7.67,49.71,8.69,37.25,23.47,3.31,21.19]
[null,-1,6,4282.5,7.66,49.42,8.6999999999999993,37.369999999999997,23.45,3.34,21.22]
[null,-1,6.05,4326,7.65,49.13,8.7100000000000009,37.49,23.43,3.37,21.24]
[null,-1,6.1,4369.6000000000004,7.64,48.85,8.7200000000000006,37.61,23.41,3.4,21.27]
[null,-1,6.15,4413.2,7.63,48.58,8.73,37.74,23.38,3.43,21.3]
[null,-1,6.2,4456.8,7.62,48.32,8.74,37.869999999999997,23.36,3.45,21.33]
[null,-1,6.25,4499.8999999999996,7.47,43.69,8.4499999999999993,34.270000000000003,23.35,3.48,22.26]
[null,-1,6.3,4540.8999999999996,7.23,37.42,7.99,29.17,23.35,3.51,23.66]
[null,-1,6.35,4579.7,7,31.9,7.54,24.61,23.35,3.53,25.07]
[null,-1,6.4,4616.3,6.77,27.07,7.09,20.56,23.37,3.55,26.47]
[null,-1,6.45,4650.7,6.56,23.13,6.67,17.22,23.4,3.58,27.79]
[null,-1,6.5,4683,6.34,19.46,6.22,14.07,23.44,3.59,29.2]
[null,-1,6.55,4713.1000000000004,6.12,16.309999999999999,5.77,11.33,23.48,3.61,30.62]
[null,-1,6.6,4741,5.94,13.97,5.38,9.2799999999999994,23.52,3.63,31.85]
[null,-1,6.65,4766.8999999999996,5.77,12.03,5,7.57,23.57,3.65,33.06]
[null,-1,6.7,4791,5.6,10.52,4.62,6.24,23.62,3.66,34.19]
[null,-1,6.75,4813.3,5.44,9.39,4.2699999999999996,5.26,23.67,3.67,35.229999999999997]
[null,-1,6.8,4833.5,5.22,8.3000000000000007,3.82,4.28,23.72,3.69,36.49]
[]
[null,-0.9,2.8,1690.2,9.56,68.7,7.08,21.51,25.55,1.51,25.28]
[null,-0.9,2.85,1725.6,9.4499999999999993,68.02,7.1,21.73,25.55,1.53,25.2]
[null,-0.9,2.9,1761.2,9.35,67.2,7.12,21.9,25.54,1.56,25.13]
[null,-0.9,2.95,1796.9,9.25,66.790000000000006,7.15,22.19,25.53,1.59,25.03]
[null,-0.9,3,1832.7,9.16,66.23,7.18,22.43,25.52,1.62,24.94]
[null,-0.9,3.05,1868.6,9.07,65.53,7.2,22.61,25.51,1.64,24.87]
[null,-0.9,3.1,1904.7,8.99,65.209999999999994,7.23,22.92,25.49,1.67,24.76]
[null,-0.9,3.15,1940.9,8.91,64.59,7.26,23.12,25.48,1.7,24.68]
[null,-0.9,3.2,1977.3,8.83,64.17,7.28,23.38,25.46,1.73,24.58]
[null,-0.9,3.25,2013.7,8.76,63.61,7.31,23.59,25.45,1.75,24.5]
[null,-0.9,3.3,2050.4,8.6999999999999993,63.41,7.34,23.93,25.43,1.78,24.38]
[null,-0.9,3.35,2087.1,8.64,62.94,7.37,24.16,25.41,1.81,24.29]
[null,-0.9,3.4,2124.1,8.58,62.49,7.4,24.4,25.39,1.84,24.19]
[null,-0.9,3.45,2161.1,8.52,62.23,7.43,24.71,25.37,1.87,24.08]
[null,-0.9,3.5,2198.4,8.4700000000000006,61.86,7.46,24.97,25.35,1.89,23.98]
[null,-0.9,3.55,2235.8000000000002,8.43,61.51,7.49,25.23,25.32,1.92,23.88]
[null,-0.9,3.6,2273.3000000000002,8.39,61.51,7.54,25.64,25.3,1.95,23.73]
[null,-0.9,3.65,2311.1,8.35,61.27,7.57,25.95,25.27,1.98,23.62]
[null,-0.9,3.7,2349,8.31,61.07,7.61,26.28,25.24,2.0099999999999998,23.5]
[null,-0.9,3.75,2387.1999999999998,8.2899999999999991,61.07,7.65,26.69,25.21,2.0299999999999998,23.35]
[null,-0.9,3.8,2425.6,8.26,61.01,7.7,27.08,25.18,2.06,23.21]
[null,-0.9,3.85,2464.1,8.25,61.02,7.74,27.5,25.15,2.09,23.07]
[null,-0.9,3.9,2503,8.24,61.08,7.79,27.95,25.12,2.12,22.91]
[null,-0.9,3.95,2542.1,8.23,61.44,7.85,28.55,25.08,2.15,22.72]
[null,-0.9,4,2581.5,8.24,61.6,7.91,29.05,25.05,2.1800000000000002,22.56]
[null,-0.9,4.05,2621.1999999999998,8.24,61.76,7.96,29.56,25.01,2.21,22.39]
[null,-0.9,4.0999999999999996,2661.1,8.26,61.9,8.02,30.07,24.97,2.2400000000000002,22.23]
[null,-0.9,4.1500000000000004,2701.3,8.2799999999999994,62.01,8.07,30.57,24.92,2.2599999999999998,22.07]
[null,-0.9,4.2,2741.9,8.2899999999999991,62.22,8.1300000000000008,31.12,24.88,2.29,21.91]
[null,-0.9,4.25,2782.6,8.31,62.26,8.18,31.59,24.84,2.3199999999999998,21.77]
[null,-0.9,4.3,2823.6,8.32,62.21,8.2200000000000006,32.01,24.79,2.35,21.65]
[null,-0.9,4.3499999999999996,2864.8,8.32,62.04,8.26,32.369999999999997,24.75,2.38,21.55]
[null,-0.9,4.4000000000000004,2906.2,8.31,61.77,8.2899999999999991,32.67,24.7,2.41,21.47]
[null,-0.9,4.45,2947.8,8.3000000000000007,61.69,8.33,33.08,24.65,2.44,21.37]
[null,-0.9,4.5,2989.5,8.2799999999999994,61.38,8.36,33.35,24.61,2.4700000000000002,21.3]
[null,-0.9,4.55,3031.3,8.26,61.03,8.3800000000000008,33.6,24.56,2.5,21.24]
[null,-0.9,4.5999999999999996,3073.2,8.24,60.65,8.4,33.83,24.51,2.5299999999999998,21.19]
[null,-0.9,4.6500000000000004,3115.3,8.2100000000000009,60.26,8.42,34.049999999999997,24.47,2.56,21.15]
[null,-0.9,4.7,3157.4,8.19,59.86,8.44,34.25,24.43,2.59,21.11]
[null,-0.9,4.75,3199.6,8.16,59.54,8.4600000000000009,34.49,24.38,2.62,21.07]
[null,-0.9,4.8,3242,8.14,59.16,8.48,34.700000000000003,24.34,2.65,21.03]
[null,-0.9,4.8499999999999996,3284.4,8.1199999999999992,58.76,8.49,34.89,24.29,2.68,21.01]
[null,-0.9,4.9000000000000004,3326.9,8.09,58.34,8.51,35.049999999999997,24.25,2.71,20.99]
[null,-0.9,4.95,3369.5,8.07,57.9,8.52,35.200000000000003,24.21,2.74,20.97]
[null,-0.9,5,3412.1,8.0399999999999991,57.44,8.5299999999999994,35.340000000000003,24.17,2.76,20.96]
[null,-0.9,5.05,3454.8,8.02,56.98,8.5399999999999991,35.46,24.13,2.79,20.95]
[null,-0.9,5.0999999999999996,3497.5,7.99,56.53,8.5500000000000007,35.58,24.09,2.82,20.95]
[null,-0.9,5.15,3540.3,7.97,56.07,8.56,35.68,24.05,2.85,20.95]
[null,-0.9,5.2,3583.2,7.95,55.61,8.57,35.78,24.02,2.88,20.96]
[null,-0.9,5.25,3626,7.92,55.16,8.58,35.880000000000003,23.98,2.91,20.96]
[null,-0.9,5.3,3668.9,7.9,54.71,8.59,35.97,23.95,2.94,20.97]
[null,-0.9,5.35,3711.9,7.88,54.27,8.6,36.07,23.91,2.97,20.98]
[null,-0.9,5.4,3754.9,7.86,53.85,8.6,36.159999999999997,23.88,3,21]
[null,-0.9,5.45,3797.9,7.84,53.43,8.61,36.26,23.85,3.02,21.01]
[null,-0.9,5.5,3841,7.82,53.03,8.6199999999999992,36.35,23.81,3.05,21.02]
[null,-0.9,5.55,3884.1,7.8,52.64,8.6300000000000008,36.450000000000003,23.78,3.08,21.04]
[null,-0.9,5.6,3927.2,7.78,52.26,8.6300000000000008,36.549999999999997,23.75,3.11,21.06]
[null,-0.9,5.65,3970.4,7.76,51.89,8.64,36.659999999999997,23.72,3.14,21.08]
[null,-0.9,5.7,4013.7,7.75,51.53,8.65,36.76,23.7,3.17,21.1]
[null,-0.9,5.75,4056.9,7.73,51.19,8.66,36.869999999999997,23.67,3.19,21.12]
[null,-0.9,5.8,4100.2,7.72,50.85,8.67,36.979999999999997,23.64,3.22,21.14]
[null,-0.9,5.85,4143.6000000000004,7.7,50.52,8.68,37.1,23.61,3.25,21.16]
[null,-0.9,5.9,4187,7.69,50.21,8.69,37.21,23.59,3.28,21.19]
[null,-0.9,5.95,4230.5,7.68,49.9,8.6999999999999993,37.33,23.57,3.31,21.21]
[null,-0.9,6,4274,7.67,49.61,8.7100000000000009,37.46,23.54,3.34,21.24]
[null,-0.9,6.05,4317.5,7.65,49.32,8.7200000000000006,37.58,23.52,3.36,21.27]
[null,-0.9,6.1,4361.1000000000004,7.64,49.05,8.73,37.71,23.5,3.39,21.29]
[null,-0.9,6.15,4404.8,7.64,48.78,8.74,37.840000000000003,23.47,3.42,21.32]
[null,-0.9,6.2,4448.3999999999996,7.63,48.52,8.75,37.97,23.45,3.45,21.35]
[null,-0.9,6.25,4492.2,7.62,48.27,8.76,38.11,23.43,3.47,21.38]
[null,-0.9,6.3,4535.6000000000004,7.48,44.09,8.5,34.869999999999997,23.42,3.5,22.22]
[null,-0.9,6.35,4576.8,7.23,37.42,8.01,29.38,23.41,3.53,23.72]
[null,-0.9,6.4,4615.6000000000004,6.97,31.26,7.5,24.22,23.42,3.55,25.31]
[null,-0.9,6.45,4651.8999999999996,6.73,26.24,7.02,19.97,23.44,3.58,26.81]
[null,-0.9,6.5,4685.8,6.51,22.16,6.57,16.47,23.47,3.6,28.22]
[null,-0.9,6.55,4717.3,6.26,18.2,6.06,13.03,23.51,3.62,29.82]
[null,-0.9,6.6,4746.3999999999996,6.03,15.07,5.58,10.28,23.55,3.63,31.33]
[null,-0.9,6.65,4773.1000000000004,5.82,12.54,5.1100000000000003,8.0399999999999991,23.6,3.65,32.79]
[null,-0.9,6.7,4797.8,5.66,10.95,4.74,6.64,23.65,3.66,33.909999999999997]
[null,-0.9,6.75,4820.3999999999996,5.47,9.6,4.34,5.45,23.7,3.68,35.090000000000003]
[null,-0.9,6.8,4840.8999999999996,5.23,8.33,3.83,4.3099999999999996,23.75,3.69,36.520000000000003]
[]
[null,-0.8,2.8,1688.7,9.5399999999999991,67.91,7.05,21.24,25.68,1.5,25.36]
[null,-0.8,2.85,1724,9.43,67.41,7.08,21.51,25.67,1.53,25.26]
[null,-0.8,2.9,1759.5,9.33,66.760000000000005,7.1,21.73,25.66,1.56,25.18]
[null,-0.8,2.95,1795.1,9.23,65.97,7.12,21.89,25.65,1.59,25.12]
[null,-0.8,3,1830.8,9.14,65.58,7.15,22.18,25.64,1.61,25.01]
[null,-0.8,3.05,1866.6,9.0500000000000007,65.05,7.18,22.42,25.63,1.64,24.92]
[null,-0.8,3.1,1902.5,8.9700000000000006,64.37,7.2,22.59,25.62,1.67,24.85]
[null,-0.8,3.15,1938.6,8.89,64.069999999999993,7.23,22.9,25.6,1.7,24.74]
[null,-0.8,3.2,1974.8,8.82,63.47,7.26,23.1,25.58,1.72,24.66]
[null,-0.8,3.25,2011.2,8.75,63.07,7.28,23.36,25.57,1.75,24.56]
[null,-0.8,3.3,2047.6,8.68,62.54,7.31,23.56,25.55,1.78,24.48]
[null,-0.8,3.35,2084.1999999999998,8.6199999999999992,62.35,7.34,23.9,25.53,1.81,24.36]
[null,-0.8,3.4,2121,8.56,61.89,7.37,24.13,25.51,1.83,24.27]
[null,-0.8,3.45,2158,8.5,61.46,7.4,24.36,25.48,1.86,24.17]
[null,-0.8,3.5,2195,8.4499999999999993,61.22,7.43,24.66,25.46,1.89,24.06]
[null,-0.8,3.55,2232.1999999999998,8.41,60.86,7.46,24.92,25.44,1.92,23.96]
[null,-0.8,3.6,2269.6,8.36,60.53,7.49,25.18,25.41,1.95,23.85]
[null,-0.8,3.65,2307.1999999999998,8.32,60.53,7.53,25.59,25.39,1.97,23.71]
[null,-0.8,3.7,2344.9,8.2899999999999991,60.3,7.57,25.89,25.36,2,23.6]
[null,-0.8,3.75,2382.9,8.26,60.12,7.61,26.22,25.33,2.0299999999999998,23.47]
[null,-0.8,3.8,2421,8.23,60.13,7.65,26.63,25.3,2.06,23.33]
[null,-0.8,3.85,2459.4,8.2100000000000009,60.09,7.69,27.02,25.27,2.09,23.19]
[null,-0.8,3.9,2497.9,8.19,60.11,7.74,27.44,25.23,2.11,23.05]
[null,-0.8,3.95,2536.8000000000002,8.18,60.19,7.79,27.89,25.2,2.14,22.9]
[null,-0.8,4,2575.9,8.18,60.55,7.85,28.48,25.16,2.17,22.71]
[null,-0.8,4.05,2615.1999999999998,8.19,60.73,7.91,28.99,25.12,2.2000000000000002,22.54]
[null,-0.8,4.0999999999999996,2654.9,8.1999999999999993,60.91,7.96,29.5,25.08,2.23,22.38]
[null,-0.8,4.1500000000000004,2694.9,8.2100000000000009,61.07,8.02,30.02,25.04,2.2599999999999998,22.22]
[null,-0.8,4.2,2735.1,8.23,61.2,8.07,30.52,25,2.29,22.07]
[null,-0.8,4.25,2775.6,8.25,61.42,8.1300000000000008,31.07,24.96,2.3199999999999998,21.91]
[null,-0.8,4.3,2816.3,8.26,61.49,8.18,31.55,24.91,2.35,21.77]
[null,-0.8,4.3499999999999996,2857.3,8.27,61.46,8.2200000000000006,31.98,24.87,2.38,21.65]
[null,-0.8,4.4000000000000004,2898.6,8.27,61.32,8.26,32.340000000000003,24.82,2.4,21.56]
[null,-0.8,4.45,2939.9,8.27,61.09,8.2899999999999991,32.659999999999997,24.77,2.4300000000000002,21.48]
[null,-0.8,4.5,2981.5,8.25,61.02,8.33,33.07,24.73,2.46,21.38]
[null,-0.8,4.55,3023.2,8.24,60.75,8.36,33.36,24.68,2.4900000000000002,21.31]
[null,-0.8,4.5999999999999996,3065,8.2200000000000006,60.43,8.3800000000000008,33.61,24.63,2.52,21.26]
[null,-0.8,4.6500000000000004,3107,8.1999999999999993,60.08,8.4,33.85,24.59,2.5499999999999998,21.21]
[null,-0.8,4.7,3149,8.18,59.71,8.42,34.07,24.54,2.58,21.17]
[null,-0.8,4.75,3191.2,8.15,59.34,8.44,34.28,24.5,2.61,21.13]
[null,-0.8,4.8,3233.4,8.1300000000000008,59.02,8.4600000000000009,34.53,24.45,2.64,21.09]
[null,-0.8,4.8499999999999996,3275.8,8.11,58.67,8.48,34.75,24.41,2.67,21.06]
[null,-0.8,4.9000000000000004,3318.2,8.08,58.29,8.5,34.94,24.37,2.7,21.03]
[null,-0.8,4.95,3360.8,8.06,57.89,8.51,35.11,24.32,2.73,21.01]
[null,-0.8,5,3403.4,8.0399999999999991,57.48,8.5299999999999994,35.270000000000003,24.28,2.76,20.99]
[null,-0.8,5.05,3446,8.01,57.04,8.5399999999999991,35.409999999999997,24.24,2.79,20.99]
[null,-0.8,5.0999999999999996,3488.7,7.99,56.6,8.5500000000000007,35.54,24.2,2.82,20.98]
[null,-0.8,5.15,3531.5,7.97,56.17,8.56,35.659999999999997,24.16,2.84,20.98]
[null,-0.8,5.2,3574.3,7.95,55.73,8.57,35.78,24.12,2.87,20.98]
[null,-0.8,5.25,3617.2,7.92,55.29,8.58,35.89,24.09,2.9,20.99]
[null,-0.8,5.3,3660.1,7.9,54.85,8.59,35.99,24.05,2.93,20.99]
[null,-0.8,5.35,3703.1,7.88,54.42,8.6,36.090000000000003,24.02,2.96,21]
[null,-0.8,5.4,3746.1,7.86,54,8.61,36.19,23.98,2.99,21.02]
[null,-0.8,5.45,3789.1,7.84,53.59,8.61,36.29,23.95,3.02,21.03]
[null,-0.8,5.5,3832.2,7.82,53.19,8.6199999999999992,36.4,23.92,3.05,21.04]
[null,-0.8,5.55,3875.4,7.8,52.81,8.6300000000000008,36.5,23.88,3.07,21.06]
[null,-0.8,5.6,3918.5,7.78,52.43,8.64,36.61,23.85,3.1,21.08]
[null,-0.8,5.65,3961.7,7.77,52.07,8.65,36.72,23.82,3.13,21.1]
[null,-0.8,5.7,4005,7.75,51.71,8.66,36.83,23.79,3.16,21.12]
[null,-0.8,5.75,4048.3,7.73,51.37,8.67,36.94,23.76,3.19,21.14]
[null,-0.8,5.8,4091.6,7.72,51.04,8.67,37.06,23.74,3.22,21.16]
[null,-0.8,5.85,4135,7.71,50.72,8.68,37.18,23.71,3.24,21.19]
[null,-0.8,5.9,4178.5,7.69,50.4,8.69,37.299999999999997,23.68,3.27,21.21]
[null,-0.8,5.95,4221.8999999999996,7.68,50.1,8.6999999999999993,37.42,23.66,3.3,21.24]
[null,-0.8,6,4265.5,7.67,49.81,8.7100000000000009,37.549999999999997,23.63,3.33,21.26]
[null,-0.8,6.05,4309.1000000000004,7.66,49.52,8.7200000000000006,37.68,23.61,3.36,21.29]
[null,-0.8,6.1,4352.7,7.65,49.25,8.73,37.81,23.59,3.38,21.32]
[null,-0.8,6.15,4396.3999999999996,7.64,48.98,8.74,37.94,23.56,3.41,21.35]
[null,-0.8,6.2,4440.1000000000004,7.63,48.72,8.75,38.08,23.54,3.44,21.38]
[null,-0.8,6.25,4483.8999999999996,7.62,48.47,8.76,38.22,23.52,3.47,21.41]
[null,-0.8,6.3,4527.7,7.61,48.23,8.7799999999999994,38.36,23.5,3.5,21.44]
[null,-0.8,6.35,4571.3999999999996,7.51,44.95,8.58,35.869999999999997,23.48,3.52,22.1]
[null,-0.8,6.4,4612.8999999999996,7.23,37.44,8.0299999999999994,29.61,23.48,3.55,23.78]
[null,-0.8,6.45,4651.6000000000004,6.96,30.97,7.49,24.13,23.49,3.57,25.46]
[null,-0.8,6.5,4687.6000000000004,6.69,25.43,6.95,19.39,23.51,3.6,27.15]
[null,-0.8,6.55,4720.8,6.43,20.75,6.4,15.32,23.54,3.62,28.84]
[null,-0.8,6.6,4751.3,6.14,16.43,5.8,11.52,23.58,3.64,30.71]
[null,-0.8,6.65,4779.1000000000004,5.89,13.36,5.28,8.7899999999999991,23.63,3.65,32.35]
[null,-0.8,6.7,4804.5,5.69,11.27,4.82,6.93,23.68,3.67,33.74]
[null,-0.8,6.75,4827.6000000000004,5.49,9.7100000000000009,4.38,5.55,23.73,3.68,35.049999999999997]
[null,-0.8,6.8,4848.2,5.23,8.36,3.84,4.33,23.78,3.69,36.549999999999997]
[]
[null,-0.7,2.8,1687.3,9.5299999999999994,67.5,7.03,21.09,25.81,1.5,25.4]
[null,-0.7,2.85,1722.6,9.42,66.63,7.05,21.24,25.8,1.53,25.34]
[null,-0.7,2.9,1757.9,9.31,66.150000000000006,7.08,21.51,25.79,1.56,25.25]
[null,-0.7,2.95,1793.4,9.2200000000000006,65.540000000000006,7.1,21.72,25.78,1.58,25.16]
[null,-0.7,3,1828.9,9.1199999999999992,64.78,7.12,21.88,25.76,1.61,25.1]
[null,-0.7,3.05,1864.6,9.0399999999999991,64.41,7.15,22.17,25.75,1.64,24.99]
[null,-0.7,3.1,1900.5,8.9499999999999993,63.89,7.18,22.4,25.73,1.66,24.9]
[null,-0.7,3.15,1936.4,8.8699999999999992,63.24,7.2,22.57,25.72,1.69,24.83]
[null,-0.7,3.2,1972.5,8.8000000000000007,62.96,7.23,22.88,25.7,1.72,24.72]
[null,-0.7,3.25,2008.7,8.73,62.39,7.26,23.07,25.68,1.75,24.64]
[null,-0.7,3.3,2045,8.66,62,7.28,23.33,25.66,1.78,24.54]
[null,-0.7,3.35,2081.5,8.6,61.49,7.31,23.53,25.64,1.8,24.46]
[null,-0.7,3.4,2118.1,8.5399999999999991,61,7.33,23.74,25.62,1.83,24.37]
[null,-0.7,3.45,2154.9,8.48,60.87,7.37,24.08,25.6,1.86,24.24]
[null,-0.7,3.5,2191.8000000000002,8.43,60.46,7.4,24.31,25.58,1.89,24.15]
[null,-0.7,3.55,2228.9,8.3800000000000008,60.22,7.43,24.61,25.55,1.91,24.03]
[null,-0.7,3.6,2266.1,8.34,59.88,7.46,24.87,25.52,1.94,23.93]
[null,-0.7,3.65,2303.5,8.3000000000000007,59.57,7.49,25.13,25.5,1.97,23.83]
[null,-0.7,3.7,2341,8.26,59.58,7.53,25.53,25.47,2,23.69]
[null,-0.7,3.75,2378.8000000000002,8.23,59.37,7.57,25.84,25.44,2.0299999999999998,23.57]
[null,-0.7,3.8,2416.6999999999998,8.1999999999999993,59.21,7.6,26.16,25.41,2.0499999999999998,23.45]
[null,-0.7,3.85,2454.8000000000002,8.18,59.23,7.65,26.57,25.38,2.08,23.31]
[null,-0.7,3.9,2493.1,8.16,59.21,7.69,26.96,25.35,2.11,23.18]
[null,-0.7,3.95,2531.6999999999998,8.14,59.24,7.74,27.38,25.31,2.14,23.03]
[null,-0.7,4,2570.5,8.14,59.33,7.79,27.83,25.28,2.17,22.88]
[null,-0.7,4.05,2609.6,8.14,59.72,7.85,28.43,25.24,2.19,22.7]
[null,-0.7,4.0999999999999996,2649,8.14,59.91,7.91,28.94,25.2,2.2200000000000002,22.54]
[null,-0.7,4.1500000000000004,2688.7,8.15,60.11,7.96,29.46,25.16,2.25,22.38]
[null,-0.7,4.2,2728.6,8.17,60.29,8.02,29.98,25.12,2.2799999999999998,22.22]
[null,-0.7,4.25,2768.8,8.18,60.44,8.07,30.48,25.08,2.31,22.07]
[null,-0.7,4.3,2809.3,8.1999999999999993,60.67,8.1300000000000008,31.04,25.03,2.34,21.91]
[null,-0.7,4.3499999999999996,2850.1,8.2200000000000006,60.77,8.18,31.52,24.99,2.37,21.78]
[null,-0.7,4.4000000000000004,2891.1,8.23,60.77,8.2200000000000006,31.96,24.94,2.4,21.66]
[null,-0.7,4.45,2932.3,8.23,60.66,8.26,32.340000000000003,24.89,2.4300000000000002,21.57]
[null,-0.7,4.5,2973.7,8.23,60.45,8.2899999999999991,32.659999999999997,24.85,2.46,21.49]
[null,-0.7,4.55,3015.2,8.2100000000000009,60.4,8.33,33.07,24.8,2.4900000000000002,21.4]
[null,-0.7,4.5999999999999996,3056.9,8.1999999999999993,60.15,8.36,33.369999999999997,24.75,2.52,21.33]
[null,-0.7,4.6500000000000004,3098.8,8.18,59.86,8.3800000000000008,33.64,24.71,2.5499999999999998,21.28]
[null,-0.7,4.7,3140.7,8.16,59.53,8.41,33.880000000000003,24.66,2.57,21.23]
[null,-0.7,4.75,3182.8,8.14,59.19,8.43,34.11,24.61,2.6,21.19]
[null,-0.7,4.8,3225,8.1199999999999992,58.84,8.4499999999999993,34.33,24.57,2.63,21.16]
[null,-0.7,4.8499999999999996,3267.3,8.1,58.45,8.4600000000000009,34.520000000000003,24.52,2.66,21.13]
[null,-0.7,4.9000000000000004,3309.6,8.08,58.21,8.49,34.799999999999997,24.48,2.69,21.08]
[null,-0.7,4.95,3352.1,8.06,57.85,8.5,35,24.44,2.72,21.06]
[null,-0.7,5,3394.7,8.0299999999999994,57.47,8.52,35.18,24.39,2.75,21.04]
[null,-0.7,5.05,3437.3,8.01,57.08,8.5299999999999994,35.35,24.35,2.78,21.02]
[null,-0.7,5.0999999999999996,3480,7.99,56.67,8.5500000000000007,35.5,24.31,2.81,21.01]
[null,-0.7,5.15,3522.8,7.97,56.25,8.56,35.630000000000003,24.27,2.84,21.01]
[null,-0.7,5.2,3565.6,7.95,55.83,8.57,35.76,24.23,2.87,21.01]
[null,-0.7,5.25,3608.4,7.92,55.41,8.58,35.89,24.19,2.89,21.01]
[null,-0.7,5.3,3651.4,7.9,54.99,8.59,36.01,24.16,2.92,21.02]
[null,-0.7,5.35,3694.3,7.88,54.57,8.6,36.119999999999997,24.12,2.95,21.03]
[null,-0.7,5.4,3737.3,7.86,54.16,8.61,36.22,24.09,2.98,21.04]
[null,-0.7,5.45,3780.4,7.84,53.76,8.6199999999999992,36.33,24.05,3.01,21.05]
[null,-0.7,5.5,3823.5,7.82,53.36,8.6300000000000008,36.44,24.02,3.04,21.07]
[null,-0.7,5.55,3866.6,7.8,52.98,8.6300000000000008,36.549999999999997,23.98,3.07,21.08]
[null,-0.7,5.6,3909.8,7.79,52.61,8.64,36.659999999999997,23.95,3.1,21.1]
[null,-0.7,5.65,3953.1,7.77,52.25,8.65,36.78,23.92,3.12,21.12]
[null,-0.7,5.7,3996.3,7.75,51.9,8.66,36.89,23.89,3.15,21.14]
[null,-0.7,5.75,4039.7,7.74,51.56,8.67,37.01,23.86,3.18,21.16]
[null,-0.7,5.8,4083,7.72,51.23,8.68,37.130000000000003,23.83,3.21,21.18]
[null,-0.7,5.85,4126.5,7.71,50.91,8.69,37.26,23.81,3.24,21.21]
[null,-0.7,5.9,4169.8999999999996,7.7,50.6,8.6999999999999993,37.380000000000003,23.78,3.27,21.23]
[null,-0.7,5.95,4213.3999999999996,7.68,50.3,8.7100000000000009,37.51,23.75,3.29,21.26]
[null,-0.7,6,4257,7.67,50.01,8.7200000000000006,37.64,23.73,3.32,21.29]
[null,-0.7,6.05,4300.6000000000004,7.66,49.73,8.73,37.770000000000003,23.7,3.35,21.32]
[null,-0.7,6.1,4344.3,7.65,49.45,8.74,37.909999999999997,23.68,3.38,21.34]
[null,-0.7,6.15,4388,7.64,49.19,8.75,38.049999999999997,23.66,3.41,21.37]
[null,-0.7,6.2,4431.8,7.63,48.93,8.76,38.19,23.63,3.43,21.4]
[null,-0.7,6.25,4475.6000000000004,7.63,48.68,8.77,38.33,23.61,3.46,21.44]
[null,-0.7,6.3,4519.5,7.62,48.45,8.7799999999999994,38.479999999999997,23.59,3.49,21.47]
[null,-0.7,6.35,4563.5,7.61,48.22,8.8000000000000007,38.64,23.57,3.52,21.5]
[null,-0.7,6.4,4607.3999999999996,7.55,46.27,8.69,37.28,23.55,3.55,21.89]
[null,-0.7,6.45,4649.2,7.23,37.46,8.0500000000000007,29.84,23.55,3.57,23.84]
[null,-0.7,6.5,4687.8,6.92,30.04,7.42,23.48,23.56,3.6,25.8]
[null,-0.7,6.55,4723.3,6.61,23.85,6.78,18.100000000000001,23.58,3.62,27.76]
[null,-0.7,6.6,4755.6000000000004,6.3,18.760000000000002,6.15,13.62,23.61,3.64,29.73]
[null,-0.7,6.65,4784.8999999999996,6.02,14.83,5.54,10.130000000000001,23.66,3.66,31.61]
[null,-0.7,6.7,4811.1000000000004,5.77,11.97,4.99,7.57,23.71,3.67,33.32]
[null,-0.7,6.75,4834.8,5.53,9.9700000000000006,4.46,5.79,23.76,3.69,34.880000000000003]
[null,-0.7,6.8,4855.6000000000004,5.24,8.39,3.85,4.3600000000000003,23.81,3.7,36.58]
[]
[null,-0.6,2.8,1686.1,9.51,66.92,7.01,20.89,25.93,1.5,25.46]
[null,-0.6,2.85,1721.2,9.4,66.22,7.03,21.09,25.92,1.53,25.39]
[null,-0.6,2.9,1756.4,9.3000000000000007,65.38,7.05,21.23,25.91,1.55,25.32]
[null,-0.6,2.95,1791.7,9.1999999999999993,64.930000000000007,7.08,21.5,25.9,1.58,25.23]
[null,-0.6,3,1827.2,9.11,64.34,7.1,21.71,25.88,1.61,25.14]
[null,-0.6,3.05,1862.8,9.02,63.61,7.12,21.87,25.87,1.63,25.08]
[null,-0.6,3.1,1898.5,8.94,63.26,7.15,22.15,25.85,1.66,24.97]
[null,-0.6,3.15,1934.3,8.86,62.77,7.18,22.38,25.84,1.69,24.88]
[null,-0.6,3.2,1970.2,8.7799999999999994,62.14,7.2,22.55,25.82,1.72,24.81]
[null,-0.6,3.25,2006.3,8.7100000000000009,61.87,7.23,22.85,25.8,1.74,24.7]
[null,-0.6,3.3,2042.5,8.64,61.32,7.26,23.04,25.78,1.77,24.62]
[null,-0.6,3.35,2078.9,8.58,60.95,7.28,23.29,25.76,1.8,24.52]
[null,-0.6,3.4,2115.3000000000002,8.52,60.46,7.31,23.49,25.73,1.83,24.43]
[null,-0.6,3.45,2151.9,8.4700000000000006,59.99,7.33,23.69,25.71,1.85,24.34]
[null,-0.6,3.5,2188.6999999999998,8.41,59.87,7.37,24.04,25.69,1.88,24.22]
[null,-0.6,3.55,2225.6,8.36,59.47,7.4,24.26,25.66,1.91,24.12]
[null,-0.6,3.6,2262.6999999999998,8.32,59.25,7.43,24.56,25.64,1.94,24.01]
[null,-0.6,3.65,2299.9,8.2799999999999994,58.93,7.46,24.81,25.61,1.97,23.91]
[null,-0.6,3.7,2337.1999999999998,8.24,58.64,7.49,25.07,25.58,1.99,23.81]
[null,-0.6,3.75,2374.8000000000002,8.1999999999999993,58.67,7.53,25.48,25.55,2.02,23.67]
[null,-0.6,3.8,2412.5,8.17,58.48,7.57,25.78,25.52,2.0499999999999998,23.55]
[null,-0.6,3.85,2450.4,8.15,58.33,7.6,26.11,25.49,2.08,23.43]
[null,-0.6,3.9,2488.6,8.1199999999999992,58.25,7.64,26.46,25.46,2.1,23.31]
[null,-0.6,3.95,2526.9,8.11,58.37,7.69,26.91,25.42,2.13,23.16]
[null,-0.6,4,2565.5,8.1,58.42,7.74,27.34,25.39,2.16,23.02]
[null,-0.6,4.05,2604.3000000000002,8.09,58.54,7.79,27.79,25.35,2.19,22.87]
[null,-0.6,4.0999999999999996,2643.3,8.09,58.69,7.84,28.27,25.31,2.2200000000000002,22.72]
[null,-0.6,4.1500000000000004,2682.7,8.1,59.14,7.91,28.91,25.28,2.25,22.53]
[null,-0.6,4.2,2722.4,8.11,59.36,7.96,29.43,25.23,2.2799999999999998,22.37]
[null,-0.6,4.25,2762.3,8.1199999999999992,59.56,8.02,29.95,25.19,2.2999999999999998,22.22]
[null,-0.6,4.3,2802.6,8.14,59.73,8.07,30.47,25.15,2.33,22.08]
[null,-0.6,4.3499999999999996,2843.1,8.16,59.98,8.1300000000000008,31.02,25.1,2.36,21.92]
[null,-0.6,4.4000000000000004,2883.8,8.18,60.09,8.18,31.52,25.06,2.39,21.79]
[null,-0.6,4.45,2924.8,8.19,60.12,8.2200000000000006,31.96,25.01,2.42,21.68]
[null,-0.6,4.5,2966,8.19,60.03,8.26,32.35,24.96,2.4500000000000002,21.59]
[null,-0.6,4.55,3007.4,8.19,59.85,8.2899999999999991,32.68,24.92,2.48,21.51]
[null,-0.6,4.5999999999999996,3049,8.18,59.81,8.33,33.090000000000003,24.87,2.5099999999999998,21.42]
[null,-0.6,4.6500000000000004,3090.7,8.16,59.59,8.36,33.39,24.82,2.54,21.35]
[null,-0.6,4.7,3132.6,8.15,59.32,8.39,33.67,24.78,2.57,21.3]
[null,-0.6,4.75,3174.6,8.1300000000000008,59.02,8.41,33.92,24.73,2.6,21.25]
[null,-0.6,4.8,3216.7,8.11,58.69,8.43,34.159999999999997,24.68,2.63,21.22]
[null,-0.6,4.8499999999999996,3258.9,8.09,58.37,8.4499999999999993,34.39,24.64,2.66,21.18]
[null,-0.6,4.9000000000000004,3301.2,8.07,58,8.4700000000000006,34.58,24.59,2.68,21.15]
[null,-0.6,4.95,3343.6,8.0500000000000007,57.76,8.49,34.86,24.55,2.71,21.11]
[null,-0.6,5,3386.1,8.0299999999999994,57.43,8.51,35.07,24.51,2.74,21.08]
[null,-0.6,5.05,3428.6,8.01,57.07,8.5299999999999994,35.26,24.46,2.77,21.06]
[null,-0.6,5.0999999999999996,3471.3,7.99,56.7,8.5399999999999991,35.43,24.42,2.8,21.05]
[null,-0.6,5.15,3514,7.97,56.31,8.5500000000000007,35.590000000000003,24.38,2.83,21.04]
[null,-0.6,5.2,3556.8,7.94,55.91,8.57,35.74,24.34,2.86,21.04]
[null,-0.6,5.25,3599.7,7.92,55.51,8.58,35.880000000000003,24.3,2.89,21.04]
[null,-0.6,5.3,3642.6,7.9,55.12,8.59,36.01,24.26,2.92,21.04]
[null,-0.6,5.35,3685.6,7.88,54.71,8.6,36.14,24.23,2.95,21.05]
[null,-0.6,5.4,3728.6,7.86,54.31,8.61,36.25,24.19,2.97,21.06]
[null,-0.6,5.45,3771.7,7.84,53.92,8.6199999999999992,36.369999999999997,24.15,3,21.07]
[null,-0.6,5.5,3814.8,7.83,53.53,8.6300000000000008,36.49,24.12,3.03,21.09]
[null,-0.6,5.55,3858,7.81,53.16,8.64,36.6,24.09,3.06,21.11]
[null,-0.6,5.6,3901.2,7.79,52.79,8.65,36.72,24.05,3.09,21.12]
[null,-0.6,5.65,3944.4,7.77,52.43,8.66,36.840000000000003,24.02,3.12,21.14]
[null,-0.6,5.7,3987.7,7.76,52.09,8.67,36.96,23.99,3.15,21.16]
[null,-0.6,5.75,4031.1,7.74,51.75,8.68,37.08,23.96,3.17,21.19]
[null,-0.6,5.8,4074.5,7.73,51.42,8.69,37.21,23.93,3.2,21.21]
[null,-0.6,5.85,4117.8999999999996,7.71,51.11,8.6999999999999993,37.340000000000003,23.9,3.23,21.23]
[null,-0.6,5.9,4161.3999999999996,7.7,50.8,8.7100000000000009,37.47,23.87,3.26,21.26]
[null,-0.6,5.95,4205,7.69,50.5,8.7200000000000006,37.6,23.85,3.29,21.28]
[null,-0.6,6,4248.6000000000004,7.68,50.21,8.73,37.74,23.82,3.32,21.31]
[null,-0.6,6.05,4292.2,7.67,49.93,8.74,37.869999999999997,23.79,3.34,21.34]
[null,-0.6,6.1,4336,7.66,49.66,8.75,38.01,23.77,3.37,21.37]
[null,-0.6,6.15,4379.7,7.65,49.39,8.76,38.15,23.75,3.4,21.4]
[null,-0.6,6.2,4423.5,7.64,49.14,8.77,38.299999999999997,23.72,3.43,21.43]
[null,-0.6,6.25,4467.3999999999996,7.63,48.9,8.7799999999999994,38.450000000000003,23.7,3.46,21.46]
[null,-0.6,6.3,4511.3,7.62,48.67,8.7899999999999991,38.61,23.68,3.48,21.5]
[null,-0.6,6.35,4555.3,7.62,48.44,8.8000000000000007,38.76,23.66,3.51,21.53]
[null,-0.6,6.4,4599.3999999999996,7.61,48.21,8.82,38.909999999999997,23.64,3.54,21.57]
[null,-0.6,6.45,4643.5,7.59,47.58,8.8000000000000007,38.700000000000003,23.62,3.57,21.69]
[null,-0.6,6.5,4685.6000000000004,7.23,37.49,8.08,30.08,23.61,3.59,23.91]
[null,-0.6,6.55,4724.1000000000004,6.88,29.14,7.35,22.83,23.62,3.62,26.14]
[null,-0.6,6.6,4758.8999999999996,6.53,22.36,6.62,16.87,23.65,3.64,28.38]
[null,-0.6,6.65,4790,6.15,16.559999999999999,5.83,11.7,23.69,3.66,30.81]
[null,-0.6,6.7,4817.5,5.84,12.7,5.15,8.24,23.74,3.68,32.909999999999997]
[null,-0.6,6.75,4841.8999999999996,5.57,10.26,4.55,6.05,23.79,3.69,34.700000000000003]
[null,-0.6,6.8,4863.1000000000004,5.24,8.41,3.86,4.3899999999999997,23.84,3.7,36.61]
[]
[null,-0.5,2.8,1684.9,9.49,66.17,6.99,20.64,26.05,1.5,25.54]
[null,-0.5,2.85,1719.9,9.3800000000000008,65.650000000000006,7.01,20.89,26.04,1.52,25.45]
[null,-0.5,2.9,1755,9.2799999999999994,64.98,7.04,21.08,26.03,1.55,25.37]
[null,-0.5,2.95,1790.2,9.18,64.17,7.05,21.22,26.02,1.58,25.3]
[null,-0.5,3,1825.6,9.09,63.74,7.08,21.48,26,1.6,25.21]
[null,-0.5,3.05,1861,9,63.18,7.1,21.69,25.99,1.63,25.12]
[null,-0.5,3.1,1896.6,8.92,62.47,7.12,21.84,25.97,1.66,25.05]
[null,-0.5,3.15,1932.3,8.84,62.14,7.15,22.12,25.95,1.69,24.95]
[null,-0.5,3.2,1968.1,8.77,61.67,7.18,22.35,25.93,1.71,24.86]
[null,-0.5,3.25,2004.1,8.69,61.07,7.2,22.52,25.91,1.74,24.78]
[null,-0.5,3.3,2040.1,8.6300000000000008,60.81,7.23,22.81,25.89,1.77,24.67]
[null,-0.5,3.35,2076.3000000000002,8.56,60.28,7.25,23,25.87,1.8,24.59]
[null,-0.5,3.4,2112.6999999999998,8.5,59.92,7.28,23.25,25.85,1.82,24.49]
[null,-0.5,3.45,2149.1,8.4499999999999993,59.45,7.31,23.44,25.82,1.85,24.41]
[null,-0.5,3.5,2185.6999999999998,8.4,59,7.33,23.65,25.8,1.88,24.32]
[null,-0.5,3.55,2222.5,8.35,58.89,7.37,23.99,25.77,1.91,24.19]
[null,-0.5,3.6,2259.4,8.3000000000000007,58.52,7.39,24.21,25.75,1.93,24.1]
[null,-0.5,3.65,2296.4,8.26,58.32,7.43,24.51,25.72,1.96,23.99]
[null,-0.5,3.7,2333.6,8.2200000000000006,58.02,7.46,24.76,25.69,1.99,23.89]
[null,-0.5,3.75,2371,8.18,57.75,7.49,25.03,25.66,2.02,23.78]
[null,-0.5,3.8,2408.5,8.15,57.79,7.53,25.43,25.63,2.04,23.65]
[null,-0.5,3.85,2446.1999999999998,8.1199999999999992,57.62,7.57,25.73,25.6,2.0699999999999998,23.53]
[null,-0.5,3.9,2484.1999999999998,8.1,57.5,7.6,26.06,25.57,2.1,23.42]
[null,-0.5,3.95,2522.3000000000002,8.08,57.44,7.64,26.42,25.53,2.13,23.29]
[null,-0.5,4,2560.6,8.06,57.58,7.69,26.88,25.5,2.16,23.15]
[null,-0.5,4.05,2599.1999999999998,8.0500000000000007,57.66,7.74,27.31,25.46,2.1800000000000002,23.01]
[null,-0.5,4.0999999999999996,2638,8.0500000000000007,57.79,7.79,27.77,25.43,2.21,22.86]
[null,-0.5,4.1500000000000004,2677.1,8.0500000000000007,57.97,7.84,28.25,25.39,2.2400000000000002,22.71]
[null,-0.5,4.2,2716.5,8.0500000000000007,58.42,7.91,28.89,25.35,2.27,22.53]
[null,-0.5,4.25,2756.1,8.07,58.66,7.96,29.42,25.31,2.2999999999999998,22.38]
[null,-0.5,4.3,2796.1,8.08,58.88,8.02,29.95,25.26,2.33,22.23]
[null,-0.5,4.3499999999999996,2836.3,8.1,59.08,8.07,30.47,25.22,2.36,22.08]
[null,-0.5,4.4000000000000004,2876.8,8.1199999999999992,59.34,8.1300000000000008,31.03,25.17,2.39,21.94]
[null,-0.5,4.45,2917.6,8.14,59.46,8.18,31.52,25.13,2.41,21.81]
[null,-0.5,4.5,2958.6,8.15,59.51,8.23,31.97,25.08,2.44,21.7]
[null,-0.5,4.55,2999.8,8.15,59.44,8.26,32.369999999999997,25.03,2.4700000000000002,21.6]
[null,-0.5,4.5999999999999996,3041.2,8.15,59.29,8.3000000000000007,32.71,24.99,2.5,21.53]
[null,-0.5,4.6500000000000004,3082.8,8.14,59.07,8.33,33.01,24.94,2.5299999999999998,21.47]
[null,-0.5,4.7,3124.5,8.1300000000000008,59.05,8.36,33.43,24.89,2.56,21.38]
[null,-0.5,4.75,3166.4,8.11,58.81,8.39,33.72,24.85,2.59,21.32]
[null,-0.5,4.8,3208.4,8.09,58.53,8.41,33.97,24.8,2.62,21.28]
[null,-0.5,4.8499999999999996,3250.6,8.08,58.22,8.44,34.21,24.75,2.65,21.24]
[null,-0.5,4.9000000000000004,3292.8,8.06,57.92,8.4600000000000009,34.450000000000003,24.71,2.68,21.21]
[null,-0.5,4.95,3335.1,8.0399999999999991,57.58,8.4700000000000006,34.659999999999997,24.66,2.71,21.18]
[null,-0.5,5,3377.5,8.02,57.34,8.5,34.93,24.62,2.74,21.14]
[null,-0.5,5.05,3420.1,8,57.03,8.52,35.15,24.58,2.76,21.11]
[null,-0.5,5.0999999999999996,3462.7,7.98,56.7,8.5299999999999994,35.35,24.53,2.79,21.1]
[null,-0.5,5.15,3505.4,7.96,56.35,8.5500000000000007,35.53,24.49,2.82,21.08]
[null,-0.5,5.2,3548.2,7.94,55.98,8.56,35.700000000000003,24.45,2.85,21.08]
[null,-0.5,5.25,3591,7.92,55.6,8.58,35.86,24.41,2.88,21.07]
[null,-0.5,5.3,3633.9,7.9,55.22,8.59,36,24.37,2.91,21.07]
[null,-0.5,5.35,3676.9,7.88,54.84,8.6,36.14,24.33,2.94,21.08]
[null,-0.5,5.4,3719.9,7.87,54.46,8.61,36.28,24.29,2.97,21.09]
[null,-0.5,5.45,3763,7.85,54.08,8.6199999999999992,36.409999999999997,24.26,3,21.1]
[null,-0.5,5.5,3806.1,7.83,53.7,8.6300000000000008,36.53,24.22,3.02,21.11]
[null,-0.5,5.55,3849.3,7.81,53.33,8.64,36.65,24.19,3.05,21.13]
[null,-0.5,5.6,3892.5,7.79,52.97,8.65,36.78,24.15,3.08,21.15]
[null,-0.5,5.65,3935.8,7.78,52.62,8.66,36.9,24.12,3.11,21.17]
[null,-0.5,5.7,3979.2,7.76,52.27,8.67,37.03,24.09,3.14,21.19]
[null,-0.5,5.75,4022.5,7.75,51.94,8.68,37.159999999999997,24.06,3.17,21.21]
[null,-0.5,5.8,4066,7.73,51.62,8.69,37.29,24.03,3.2,21.23]
[null,-0.5,5.85,4109.3999999999996,7.72,51.3,8.6999999999999993,37.42,24,3.22,21.26]
[null,-0.5,5.9,4153,7.71,51,8.7100000000000009,37.56,23.97,3.25,21.28]
[null,-0.5,5.95,4196.6000000000004,7.69,50.7,8.7200000000000006,37.69,23.94,3.28,21.31]
[null,-0.5,6,4240.2,7.68,50.42,8.73,37.83,23.91,3.31,21.34]
[null,-0.5,6.05,4283.8999999999996,7.67,50.14,8.74,37.97,23.89,3.34,21.37]
[null,-0.5,6.1,4327.6000000000004,7.66,49.87,8.76,38.11,23.86,3.37,21.4]
[null,-0.5,6.15,4371.3999999999996,7.65,49.61,8.77,38.26,23.84,3.39,21.43]
[null,-0.5,6.2,4415.3,7.64,49.36,8.7799999999999994,38.42,23.81,3.42,21.46]
[null,-0.5,6.25,4459.2,7.64,49.12,8.7899999999999991,38.57,23.79,3.45,21.49]
[null,-0.5,6.3,4503.2,7.63,48.89,8.8000000000000007,38.729999999999997,23.77,3.48,21.53]
[null,-0.5,6.35,4547.2,7.62,48.65,8.81,38.880000000000003,23.75,3.51,21.56]
[null,-0.5,6.4,4591.3,7.61,48.43,8.83,39.04,23.73,3.53,21.6]
[null,-0.5,6.45,4635.5,7.61,48.21,8.84,39.200000000000003,23.71,3.56,21.63]
[null,-0.5,6.5,4679.7,7.6,48,8.85,39.36,23.69,3.59,21.67]
[null,-0.5,6.55,4722.3,7.24,37.53,8.1,30.33,23.68,3.62,23.97]
[null,-0.5,6.6,4760.5,6.8,27.37,7.19,21.4,23.69,3.64,26.76]
[null,-0.5,6.65,4794.3,6.38,19.79,6.3,14.65,23.72,3.66,29.46]
[null,-0.5,6.7,4823.7,5.98,14.26,5.45,9.66,23.76,3.68,32.07]
[null,-0.5,6.75,4849,5.64,10.73,4.6900000000000004,6.49,23.81,3.69,34.380000000000003]
[null,-0.5,6.8,4870.6000000000004,5.25,8.44,3.87,4.42,23.87,3.71,36.65]
[]
[null,-0.4,2.8,1683.8,9.48,65.61,6.97,20.45,26.18,1.49,25.59]
[null,-0.4,2.85,1718.7,9.3699999999999992,64.91,6.99,20.63,26.16,1.52,25.52]
[null,-0.4,2.9,1753.7,9.27,64.41,7.01,20.88,26.15,1.55,25.42]
[null,-0.4,2.95,1788.8,9.17,63.77,7.04,21.07,26.14,1.58,25.35]
[null,-0.4,3,1824,9.08,62.99,7.05,21.21,26.12,1.6,25.28]
[null,-0.4,3.05,1859.3,8.99,62.58,7.08,21.46,26.1,1.63,25.18]
[null,-0.4,3.1,1894.8,8.9,62.04,7.1,21.67,26.08,1.66,25.1]
[null,-0.4,3.15,1930.4,8.83,61.36,7.12,21.82,26.07,1.68,25.03]
[null,-0.4,3.2,1966.1,8.75,61.05,7.15,22.09,26.05,1.71,24.93]
[null,-0.4,3.25,2001.9,8.68,60.43,7.17,22.25,26.03,1.74,24.85]
[null,-0.4,3.3,2037.8,8.61,60.02,7.2,22.48,26,1.77,24.76]
[null,-0.4,3.35,2073.9,8.5500000000000007,59.77,7.23,22.77,25.98,1.79,24.65]
[null,-0.4,3.4,2110.1,8.49,59.26,7.25,22.95,25.96,1.82,24.57]
[null,-0.4,3.45,2146.4,8.43,58.77,7.28,23.14,25.93,1.85,24.48]
[null,-0.4,3.5,2182.9,8.3800000000000008,58.47,7.31,23.4,25.91,1.88,24.38]
[null,-0.4,3.55,2219.5,8.33,58.04,7.33,23.6,25.88,1.9,24.29]
[null,-0.4,3.6,2256.1999999999998,8.2799999999999994,57.95,7.37,23.94,25.86,1.93,24.17]
[null,-0.4,3.65,2293.1,8.24,57.6,7.39,24.16,25.83,1.96,24.08]
[null,-0.4,3.7,2330.1,8.1999999999999993,57.28,7.42,24.4,25.8,1.99,23.98]
[null,-0.4,3.75,2367.3000000000002,8.16,57.14,7.46,24.72,25.77,2.0099999999999998,23.86]
[null,-0.4,3.8,2404.6999999999998,8.1300000000000008,56.89,7.49,24.98,25.74,2.04,23.76]
[null,-0.4,3.85,2442.1999999999998,8.1,56.95,7.53,25.39,25.71,2.0699999999999998,23.63]
[null,-0.4,3.9,2480,8.07,56.81,7.57,25.7,25.68,2.1,23.52]
[null,-0.4,3.95,2517.9,8.0500000000000007,56.72,7.6,26.03,25.64,2.12,23.4]
[null,-0.4,4,2556,8.0299999999999994,56.68,7.64,26.4,25.61,2.15,23.28]
[null,-0.4,4.05,2594.3000000000002,8.02,56.84,7.69,26.85,25.57,2.1800000000000002,23.14]
[null,-0.4,4.0999999999999996,2632.9,8.01,56.94,7.74,27.29,25.54,2.21,23]
[null,-0.4,4.1500000000000004,2671.7,8,57.09,7.79,27.76,25.5,2.2400000000000002,22.86]
[null,-0.4,4.2,2710.8,8.01,57.29,7.84,28.25,25.46,2.27,22.71]
[null,-0.4,4.25,2750.2,8.01,57.76,7.91,28.89,25.42,2.29,22.53]
[null,-0.4,4.3,2789.9,8.0299999999999994,58.02,7.97,29.43,25.38,2.3199999999999998,22.38]
[null,-0.4,4.3499999999999996,2829.8,8.0399999999999991,58.25,8.02,29.96,25.33,2.35,22.24]
[null,-0.4,4.4000000000000004,2870.1,8.06,58.46,8.08,30.48,25.29,2.38,22.1]
[null,-0.4,4.45,2910.6,8.08,58.73,8.1300000000000008,31.05,25.24,2.41,21.95]
[null,-0.4,4.5,2951.4,8.1,58.87,8.18,31.55,25.2,2.44,21.83]
[null,-0.4,4.55,2992.4,8.11,58.93,8.23,32,25.15,2.4700000000000002,21.72]
[null,-0.4,4.5999999999999996,3033.7,8.11,58.89,8.27,32.4,25.1,2.5,21.63]
[null,-0.4,4.6500000000000004,3075.1,8.11,58.75,8.3000000000000007,32.75,25.05,2.5299999999999998,21.55]
[null,-0.4,4.7,3116.7,8.1,58.55,8.33,33.06,25.01,2.5499999999999998,21.49]
[null,-0.4,4.75,3158.4,8.09,58.55,8.3699999999999992,33.479999999999997,24.96,2.58,21.4]
[null,-0.4,4.8,3200.3,8.08,58.32,8.39,33.770000000000003,24.91,2.61,21.35]
[null,-0.4,4.8499999999999996,3242.4,8.06,58.06,8.42,34.03,24.87,2.64,21.31]
[null,-0.4,4.9000000000000004,3284.5,8.0500000000000007,57.78,8.44,34.28,24.82,2.67,21.27]
[null,-0.4,4.95,3326.8,8.0299999999999994,57.49,8.4600000000000009,34.520000000000003,24.78,2.7,21.24]
[null,-0.4,5,3369.1,8.01,57.17,8.48,34.74,24.73,2.73,21.21]
[null,-0.4,5.05,3411.6,7.99,56.95,8.5,35.01,24.69,2.76,21.17]
[null,-0.4,5.0999999999999996,3454.2,7.98,56.66,8.52,35.24,24.64,2.79,21.15]
[null,-0.4,5.15,3496.8,7.96,56.34,8.5399999999999991,35.450000000000003,24.6,2.82,21.13]
[null,-0.4,5.2,3539.6,7.94,56.02,8.56,35.65,24.56,2.85,21.12]
[null,-0.4,5.25,3582.4,7.92,55.67,8.57,35.82,24.52,2.87,21.11]
[null,-0.4,5.3,3625.3,7.9,55.31,8.59,35.979999999999997,24.48,2.9,21.11]
[null,-0.4,5.35,3668.3,7.88,54.95,8.6,36.14,24.44,2.93,21.11]
[null,-0.4,5.4,3711.3,7.87,54.59,8.61,36.29,24.4,2.96,21.12]
[null,-0.4,5.45,3754.4,7.85,54.23,8.6199999999999992,36.43,24.36,2.99,21.13]
[null,-0.4,5.5,3797.5,7.83,53.87,8.6300000000000008,36.57,24.33,3.02,21.14]
[null,-0.4,5.55,3840.7,7.81,53.5,8.64,36.700000000000003,24.29,3.05,21.16]
[null,-0.4,5.6,3884,7.8,53.15,8.66,36.83,24.25,3.08,21.17]
[null,-0.4,5.65,3927.3,7.78,52.8,8.67,36.97,24.22,3.1,21.19]
[null,-0.4,5.7,3970.6,7.76,52.46,8.68,37.1,24.19,3.13,21.21]
[null,-0.4,5.75,4014,7.75,52.14,8.69,37.229999999999997,24.16,3.16,21.24]
[null,-0.4,5.8,4057.5,7.74,51.82,8.6999999999999993,37.369999999999997,24.12,3.19,21.26]
[null,-0.4,5.85,4101,7.72,51.5,8.7100000000000009,37.5,24.09,3.22,21.29]
[null,-0.4,5.9,4144.6000000000004,7.71,51.2,8.7200000000000006,37.64,24.06,3.25,21.31]
[null,-0.4,5.95,4188.2,7.7,50.91,8.73,37.79,24.04,3.27,21.34]
[null,-0.4,6,4231.8,7.69,50.63,8.74,37.93,24.01,3.3,21.37]
[null,-0.4,6.05,4275.6000000000004,7.68,50.35,8.75,38.07,23.98,3.33,21.39]
[null,-0.4,6.1,4319.3999999999996,7.67,50.08,8.76,38.22,23.96,3.36,21.43]
[null,-0.4,6.15,4363.2,7.66,49.83,8.7799999999999994,38.380000000000003,23.93,3.39,21.46]
[null,-0.4,6.2,4407.1000000000004,7.65,49.58,8.7899999999999991,38.54,23.91,3.42,21.49]
[null,-0.4,6.25,4451.1000000000004,7.64,49.34,8.8000000000000007,38.69,23.88,3.44,21.52]
[null,-0.4,6.3,4495.1000000000004,7.63,49.1,8.81,38.85,23.86,3.47,21.56]
[null,-0.4,6.35,4539.2,7.63,48.88,8.82,39.01,23.84,3.5,21.59]
[null,-0.4,6.4,4583.3,7.62,48.65,8.83,39.17,23.82,3.53,21.63]
[null,-0.4,6.45,4627.5,7.61,48.43,8.85,39.33,23.8,3.56,21.66]
[null,-0.4,6.5,4671.8,7.61,48.22,8.86,39.49,23.77,3.58,21.7]
[null,-0.4,6.55,4716.1000000000004,7.6,48.01,8.8699999999999992,39.65,23.76,3.61,21.73]
[null,-0.4,6.6,4759.1000000000004,7.24,37.56,8.1199999999999992,30.58,23.74,3.64,24.04]
[null,-0.4,6.65,4796.8999999999996,6.72,25.7,7.02,20.02,23.76,3.66,27.38]
[null,-0.4,6.7,4829.1000000000004,6.17,16.690000000000001,5.86,11.9,23.8,3.68,30.9]
[null,-0.4,6.75,4856,5.72,11.46,4.88,7.15,23.84,3.7,33.9]
[null,-0.4,6.8,4878.1000000000004,5.26,8.4700000000000006,3.88,4.45,23.89,3.71,36.68]
[]
[null,-0.3,2.8,1682.7,9.4600000000000009,65.239999999999995,6.95,20.32,26.3,1.49,25.63]
[null,-0.3,2.85,1717.5,9.35,64.349999999999994,6.97,20.440000000000001,26.28,1.52,25.57]
[null,-0.3,2.9,1752.4,9.25,63.68,6.99,20.62,26.27,1.55,25.5]
[null,-0.3,2.95,1787.4,9.15,63.2,7.01,20.86,26.25,1.57,25.4]
[null,-0.3,3,1822.5,9.06,62.58,7.04,21.05,26.24,1.6,25.32]
[null,-0.3,3.05,1857.8,8.9700000000000006,61.83,7.05,21.18,26.22,1.63,25.26]
[null,-0.3,3.1,1893.1,8.89,61.45,7.08,21.44,26.2,1.65,25.16]
[null,-0.3,3.15,1928.6,8.81,60.93,7.1,21.64,26.18,1.68,25.08]
[null,-0.3,3.2,1964.1,8.74,60.28,7.12,21.79,26.16,1.71,25.01]
[null,-0.3,3.25,1999.8,8.66,59.98,7.15,22.06,26.14,1.74,24.9]
[null,-0.3,3.3,2035.6,8.6,59.38,7.17,22.21,26.12,1.76,24.83]
[null,-0.3,3.35,2071.6,8.5299999999999994,58.98,7.2,22.44,26.09,1.79,24.73]
[null,-0.3,3.4,2107.6,8.4700000000000006,58.45,7.22,22.61,26.07,1.82,24.65]
[null,-0.3,3.45,2143.8000000000002,8.42,58.27,7.25,22.91,26.04,1.85,24.54]
[null,-0.3,3.5,2180.1,8.36,57.8,7.28,23.09,26.02,1.87,24.46]
[null,-0.3,3.55,2216.6,8.31,57.52,7.3,23.35,25.99,1.9,24.35]
[null,-0.3,3.6,2253.1999999999998,8.27,57.12,7.33,23.55,25.96,1.93,24.27]
[null,-0.3,3.65,2289.9,8.2200000000000006,57.05,7.36,23.89,25.94,1.95,24.14]
[null,-0.3,3.7,2326.8000000000002,8.18,56.72,7.39,24.12,25.91,1.98,24.05]
[null,-0.3,3.75,2363.8000000000002,8.14,56.43,7.42,24.36,25.88,2.0099999999999998,23.96]
[null,-0.3,3.8,2401,8.11,56.31,7.46,24.68,25.85,2.04,23.84]
[null,-0.3,3.85,2438.4,8.08,56.09,7.49,24.95,25.81,2.0699999999999998,23.75]
[null,-0.3,3.9,2475.9,8.0500000000000007,55.91,7.52,25.24,25.78,2.09,23.64]
[null,-0.3,3.95,2513.6,8.02,56.05,7.57,25.67,25.75,2.12,23.5]
[null,-0.3,4,2551.6,8,55.98,7.6,26.02,25.71,2.15,23.39]
[null,-0.3,4.05,2589.6999999999998,7.99,55.97,7.65,26.39,25.68,2.1800000000000002,23.27]
[null,-0.3,4.0999999999999996,2628,7.97,56.15,7.69,26.85,25.64,2.2000000000000002,23.13]
[null,-0.3,4.1500000000000004,2666.6,7.97,56.27,7.74,27.29,25.61,2.23,23]
[null,-0.3,4.2,2705.5,7.96,56.45,7.79,27.77,25.57,2.2599999999999998,22.86]
[null,-0.3,4.25,2744.6,7.97,56.66,7.85,28.26,25.53,2.29,22.72]
[null,-0.3,4.3,2784,7.98,57.14,7.91,28.91,25.49,2.3199999999999998,22.54]
[null,-0.3,4.3499999999999996,2823.7,7.99,57.41,7.97,29.45,25.44,2.35,22.39]
[null,-0.3,4.4000000000000004,2863.6,8.01,57.66,8.0299999999999994,29.99,25.4,2.37,22.25]
[null,-0.3,4.45,2903.9,8.02,57.88,8.08,30.51,25.36,2.4,22.11]
[null,-0.3,4.5,2944.4,8.0399999999999991,58.06,8.1300000000000008,31.02,25.31,2.4300000000000002,21.98]
[null,-0.3,4.55,2985.3,8.06,58.31,8.19,31.58,25.26,2.46,21.85]
[null,-0.3,4.5999999999999996,3026.3,8.07,58.39,8.23,32.04,25.22,2.4900000000000002,21.74]
[null,-0.3,4.6500000000000004,3067.6,8.08,58.36,8.27,32.44,25.17,2.52,21.65]
[null,-0.3,4.7,3109,8.08,58.24,8.31,32.799999999999997,25.12,2.5499999999999998,21.58]
[null,-0.3,4.75,3150.6,8.07,58.06,8.34,33.11,25.07,2.58,21.51]
[null,-0.3,4.8,3192.4,8.06,58.06,8.3699999999999992,33.53,25.03,2.61,21.43]
[null,-0.3,4.8499999999999996,3234.3,8.0500000000000007,57.86,8.4,33.83,24.98,2.64,21.38]
[null,-0.3,4.9000000000000004,3276.4,8.0299999999999994,57.62,8.42,34.1,24.93,2.66,21.34]
[null,-0.3,4.95,3318.6,8.02,57.36,8.4499999999999993,34.36,24.89,2.69,21.3]
[null,-0.3,5,3360.9,8,57.08,8.4700000000000006,34.6,24.84,2.72,21.27]
[null,-0.3,5.05,3403.2,7.99,56.79,8.49,34.83,24.8,2.75,21.24]
[null,-0.3,5.0999999999999996,3445.7,7.97,56.57,8.51,35.1,24.75,2.78,21.21]
[null,-0.3,5.15,3488.4,7.95,56.31,8.5299999999999994,35.35,24.71,2.81,21.18]
[null,-0.3,5.2,3531.1,7.93,56.02,8.5500000000000007,35.57,24.67,2.84,21.17]
[null,-0.3,5.25,3573.9,7.92,55.71,8.57,35.770000000000003,24.63,2.87,21.15]
[null,-0.3,5.3,3616.7,7.9,55.39,8.58,35.96,24.58,2.9,21.15]
[null,-0.3,5.35,3659.7,7.88,55.05,8.6,36.130000000000003,24.54,2.93,21.15]
[null,-0.3,5.4,3702.7,7.87,54.7,8.61,36.29,24.5,2.95,21.15]
[null,-0.3,5.45,3745.8,7.85,54.36,8.6199999999999992,36.450000000000003,24.47,2.98,21.16]
[null,-0.3,5.5,3788.9,7.83,54.02,8.64,36.6,24.43,3.01,21.17]
[null,-0.3,5.55,3832.2,7.82,53.67,8.65,36.75,24.39,3.04,21.18]
[null,-0.3,5.6,3875.4,7.8,53.33,8.66,36.89,24.36,3.07,21.2]
[null,-0.3,5.65,3918.7,7.78,52.99,8.67,37.03,24.32,3.1,21.22]
[null,-0.3,5.7,3962.1,7.77,52.65,8.68,37.17,24.29,3.13,21.24]
[null,-0.3,5.75,4005.5,7.75,52.33,8.69,37.31,24.25,3.15,21.26]
[null,-0.3,5.8,4049,7.74,52.01,8.6999999999999993,37.450000000000003,24.22,3.18,21.29]
[null,-0.3,5.85,4092.6,7.73,51.71,8.7100000000000009,37.590000000000003,24.19,3.21,21.31]
[null,-0.3,5.9,4136.2,7.71,51.41,8.73,37.729999999999997,24.16,3.24,21.34]
[null,-0.3,5.95,4179.8,7.7,51.12,8.74,37.880000000000003,24.13,3.27,21.37]
[null,-0.3,6,4223.5,7.69,50.84,8.75,38.03,24.1,3.3,21.39]
[null,-0.3,6.05,4267.3,7.68,50.56,8.76,38.18,24.08,3.32,21.42]
[null,-0.3,6.1,4311.1000000000004,7.67,50.31,8.77,38.340000000000003,24.05,3.35,21.46]
[null,-0.3,6.15,4355,7.66,50.06,8.7799999999999994,38.5,24.02,3.38,21.49]
[null,-0.3,6.2,4399,7.65,49.81,8.8000000000000007,38.659999999999997,24,3.41,21.52]
[null,-0.3,6.25,4443,7.64,49.56,8.81,38.81,23.97,3.44,21.55]
[null,-0.3,6.3,4487,7.64,49.33,8.82,38.97,23.95,3.47,21.59]
[null,-0.3,6.35,4531.2,7.63,49.1,8.83,39.14,23.93,3.49,21.62]
[null,-0.3,6.4,4575.3999999999996,7.62,48.87,8.84,39.299999999999997,23.91,3.52,21.66]
[null,-0.3,6.45,4619.6000000000004,7.62,48.65,8.86,39.46,23.88,3.55,21.69]
[null,-0.3,6.5,4663.8999999999996,7.61,48.44,8.8699999999999992,39.630000000000003,23.86,3.58,21.73]
[null,-0.3,6.55,4708.3,7.61,48.23,8.8800000000000008,39.79,23.84,3.61,21.76]
[null,-0.3,6.6,4752.7,7.61,48.02,8.89,39.950000000000003,23.82,3.63,21.8]
[null,-0.3,6.65,4796.2,7.25,37.6,8.14,30.83,23.81,3.66,24.11]
[null,-0.3,6.7,4833.2,6.55,22.57,6.68,17.29,23.83,3.68,28.54]
[null,-0.3,6.75,4862.7,5.87,12.86,5.19,8.44,23.87,3.7,33.04]
[null,-0.3,6.8,4885.7,5.26,8.5,3.89,4.4800000000000004,23.92,3.72,36.71]
[]
[null,-0.2,2.8,1681.8,9.4499999999999993,64.53,6.93,20.079999999999998,26.42,1.49,25.7]
[null,-0.2,2.85,1716.5,9.34,63.98,6.95,20.309999999999999,26.4,1.52,25.61]
[null,-0.2,2.9,1751.2,9.24,63.13,6.97,20.43,26.39,1.54,25.55]
[null,-0.2,2.95,1786.1,9.14,62.48,6.99,20.6,26.37,1.57,25.47]
[null,-0.2,3,1821.1,9.0500000000000007,62.02,7.01,20.84,26.35,1.6,25.38]
[null,-0.2,3.05,1856.3,8.9600000000000009,61.43,7.04,21.03,26.33,1.63,25.3]
[null,-0.2,3.1,1891.5,8.8800000000000008,60.71,7.05,21.16,26.31,1.65,25.24]
[null,-0.2,3.15,1926.8,8.8000000000000007,60.35,7.08,21.41,26.29,1.68,25.14]
[null,-0.2,3.2,1962.3,8.7200000000000006,59.85,7.1,21.61,26.27,1.71,25.05]
[null,-0.2,3.25,1997.8,8.65,59.22,7.12,21.75,26.25,1.73,24.98]
[null,-0.2,3.3,2033.5,8.58,58.93,7.15,22.02,26.23,1.76,24.87]
[null,-0.2,3.35,2069.3000000000002,8.52,58.37,7.17,22.17,26.2,1.79,24.8]
[null,-0.2,3.4,2105.3000000000002,8.4600000000000009,57.98,7.2,22.4,26.18,1.82,24.71]
[null,-0.2,3.45,2141.3000000000002,8.4,57.48,7.22,22.56,26.15,1.84,24.63]
[null,-0.2,3.5,2177.5,8.35,57.31,7.25,22.86,26.12,1.87,24.51]
[null,-0.2,3.55,2213.8000000000002,8.3000000000000007,56.87,7.27,23.05,26.1,1.9,24.43]
[null,-0.2,3.6,2250.3000000000002,8.25,56.61,7.3,23.31,26.07,1.92,24.33]
[null,-0.2,3.65,2286.8000000000002,8.2100000000000009,56.24,7.33,23.51,26.04,1.95,24.24]
[null,-0.2,3.7,2323.6,8.16,56.18,7.36,23.85,26.01,1.98,24.12]
[null,-0.2,3.75,2360.5,8.1300000000000008,55.88,7.39,24.08,25.98,2.0099999999999998,24.03]
[null,-0.2,3.8,2397.5,8.09,55.61,7.42,24.33,25.95,2.0299999999999998,23.94]
[null,-0.2,3.85,2434.6999999999998,8.06,55.52,7.46,24.65,25.92,2.06,23.83]
[null,-0.2,3.9,2472.1,8.0299999999999994,55.33,7.49,24.93,25.89,2.09,23.73]
[null,-0.2,3.95,2509.6,8,55.18,7.52,25.22,25.85,2.12,23.63]
[null,-0.2,4,2547.3000000000002,7.98,55.35,7.57,25.67,25.82,2.14,23.49]
[null,-0.2,4.05,2585.1999999999998,7.96,55.3,7.61,26.01,25.78,2.17,23.38]
[null,-0.2,4.0999999999999996,2623.4,7.94,55.32,7.65,26.39,25.75,2.2000000000000002,23.27]
[null,-0.2,4.1500000000000004,2661.7,7.93,55.51,7.7,26.86,25.71,2.23,23.13]
[null,-0.2,4.2,2700.4,7.93,55.65,7.75,27.31,25.67,2.2599999999999998,23]
[null,-0.2,4.25,2739.2,7.92,55.85,7.8,27.79,25.64,2.2799999999999998,22.87]
[null,-0.2,4.3,2778.3,7.93,56.08,7.85,28.29,25.6,2.31,22.73]
[null,-0.2,4.3499999999999996,2817.8,7.94,56.57,7.92,28.94,25.55,2.34,22.55]
[null,-0.2,4.4000000000000004,2857.5,7.95,56.85,7.97,29.48,25.51,2.37,22.41]
[null,-0.2,4.45,2897.5,7.97,57.11,8.0299999999999994,30.02,25.47,2.4,22.26]
[null,-0.2,4.5,2937.8,7.99,57.34,8.08,30.55,25.42,2.4300000000000002,22.13]
[null,-0.2,4.55,2978.3,8.01,57.52,8.14,31.06,25.38,2.46,22]
[null,-0.2,4.5999999999999996,3019.2,8.0299999999999994,57.78,8.19,31.62,25.33,2.48,21.87]
[null,-0.2,4.6500000000000004,3060.2,8.0399999999999991,57.87,8.24,32.08,25.28,2.5099999999999998,21.76]
[null,-0.2,4.7,3101.5,8.0399999999999991,57.85,8.2799999999999994,32.49,25.24,2.54,21.68]
[null,-0.2,4.75,3143,8.0399999999999991,57.76,8.31,32.85,25.19,2.57,21.6]
[null,-0.2,4.8,3184.6,8.0399999999999991,57.6,8.34,33.17,25.14,2.6,21.54]
[null,-0.2,4.8499999999999996,3226.4,8.0299999999999994,57.61,8.3800000000000008,33.590000000000003,25.09,2.63,21.46]
[null,-0.2,4.9000000000000004,3268.4,8.02,57.43,8.41,33.9,25.05,2.66,21.41]
[null,-0.2,4.95,3310.5,8.01,57.21,8.43,34.18,25,2.69,21.37]
[null,-0.2,5,3352.7,7.99,56.96,8.4499999999999993,34.44,24.95,2.72,21.33]
[null,-0.2,5.05,3395,7.98,56.71,8.48,34.700000000000003,24.91,2.75,21.3]
[null,-0.2,5.0999999999999996,3437.4,7.96,56.44,8.5,34.94,24.86,2.77,21.28]
[null,-0.2,5.15,3480,7.95,56.14,8.52,35.15,24.82,2.8,21.26]
[null,-0.2,5.2,3522.6,7.93,55.99,8.5399999999999991,35.46,24.78,2.83,21.22]
[null,-0.2,5.25,3565.4,7.91,55.72,8.56,35.69,24.73,2.86,21.2]
[null,-0.2,5.3,3608.2,7.9,55.43,8.58,35.9,24.69,2.89,21.19]
[null,-0.2,5.35,3651.2,7.88,55.12,8.59,36.1,24.65,2.92,21.19]
[null,-0.2,5.4,3694.2,7.86,54.81,8.61,36.28,24.61,2.95,21.19]
[null,-0.2,5.45,3737.3,7.85,54.48,8.6199999999999992,36.46,24.57,2.98,21.2]
[null,-0.2,5.5,3780.4,7.83,54.16,8.64,36.619999999999997,24.53,3.01,21.2]
[null,-0.2,5.55,3823.6,7.82,53.83,8.65,36.79,24.5,3.03,21.22]
[null,-0.2,5.6,3866.9,7.8,53.5,8.66,36.94,24.46,3.06,21.23]
[null,-0.2,5.65,3910.3,7.79,53.17,8.67,37.090000000000003,24.42,3.09,21.25]
[null,-0.2,5.7,3953.7,7.77,52.85,8.69,37.229999999999997,24.39,3.12,21.27]
[null,-0.2,5.75,3997.1,7.76,52.53,8.6999999999999993,37.380000000000003,24.35,3.15,21.29]
[null,-0.2,5.8,4040.6,7.74,52.22,8.7100000000000009,37.53,24.32,3.18,21.32]
[null,-0.2,5.85,4084.2,7.73,51.91,8.7200000000000006,37.68,24.29,3.21,21.34]
[null,-0.2,5.9,4127.8,7.72,51.62,8.73,37.83,24.26,3.23,21.37]
[null,-0.2,5.95,4171.5,7.71,51.33,8.74,37.97,24.23,3.26,21.39]
[null,-0.2,6,4215.3,7.7,51.05,8.76,38.130000000000003,24.2,3.29,21.42]
[null,-0.2,6.05,4259.1000000000004,7.68,50.79,8.77,38.29,24.17,3.32,21.45]
[null,-0.2,6.1,4302.8999999999996,7.68,50.53,8.7799999999999994,38.450000000000003,24.14,3.35,21.49]
[null,-0.2,6.15,4346.8999999999996,7.67,50.28,8.7899999999999991,38.61,24.12,3.38,21.52]
[null,-0.2,6.2,4390.8999999999996,7.66,50.03,8.8000000000000007,38.770000000000003,24.09,3.4,21.55]
[null,-0.2,6.25,4434.8999999999996,7.65,49.79,8.82,38.94,24.07,3.43,21.58]
[null,-0.2,6.3,4479,7.64,49.55,8.83,39.1,24.04,3.46,21.62]
[null,-0.2,6.35,4523.2,7.64,49.32,8.84,39.26,24.02,3.49,21.65]
[null,-0.2,6.4,4567.3999999999996,7.63,49.1,8.85,39.43,24,3.52,21.69]
[null,-0.2,6.45,4611.7,7.62,48.88,8.8699999999999992,39.590000000000003,23.97,3.54,21.72]
[null,-0.2,6.5,4656.1000000000004,7.62,48.66,8.8800000000000008,39.76,23.95,3.57,21.76]
[null,-0.2,6.55,4700.5,7.61,48.45,8.89,39.93,23.93,3.6,21.79]
[null,-0.2,6.6,4745,7.61,48.24,8.9,40.090000000000003,23.91,3.63,21.83]
[null,-0.2,6.65,4789.6000000000004,7.61,48.03,8.92,40.25,23.89,3.66,21.87]
[null,-0.2,6.7,4833.5,7.25,37.64,8.16,31.08,23.88,3.68,24.17]
[null,-0.2,6.75,4868.7,6.19,16.82,5.9,12.09,23.9,3.71,31]
[null,-0.2,6.8,4893.3,5.27,8.5299999999999994,3.9,4.51,23.95,3.72,36.74]
[]
[null,-0.1,2.8,1680.9,9.43,64,6.91,19.899999999999999,26.54,1.49,25.75]
[null,-0.1,2.85,1715.5,9.32,63.28,6.93,20.07,26.52,1.52,25.68]
[null,-0.1,2.9,1750.2,9.2200000000000006,62.76,6.95,20.29,26.5,1.54,25.59]
[null,-0.1,2.95,1784.9,9.1199999999999992,61.93,6.97,20.41,26.49,1.57,25.53]
[null,-0.1,3,1819.8,9.0299999999999994,61.31,6.99,20.58,26.47,1.6,25.45]
[null,-0.1,3.05,1854.8,8.94,60.88,7.01,20.82,26.45,1.62,25.36]
[null,-0.1,3.1,1890,8.86,60.31,7.04,21,26.43,1.65,25.27]
[null,-0.1,3.15,1925.2,8.7799999999999994,59.62,7.05,21.13,26.4,1.68,25.21]
[null,-0.1,3.2,1960.5,8.7100000000000009,59.27,7.08,21.37,26.38,1.71,25.11]
[null,-0.1,3.25,1996,8.64,58.79,7.1,21.57,26.36,1.73,25.02]
[null,-0.1,3.3,2031.5,8.57,58.18,7.12,21.71,26.33,1.76,24.95]
[null,-0.1,3.35,2067.1999999999998,8.5,57.92,7.15,21.98,26.31,1.79,24.85]
[null,-0.1,3.4,2103,8.44,57.37,7.17,22.13,26.28,1.81,24.77]
[null,-0.1,3.45,2138.9,8.39,57.02,7.2,22.35,26.26,1.84,24.68]
[null,-0.1,3.5,2175,8.33,56.54,7.22,22.52,26.23,1.87,24.6]
[null,-0.1,3.55,2211.1,8.2799999999999994,56.39,7.25,22.82,26.2,1.9,24.49]
[null,-0.1,3.6,2247.5,8.23,55.98,7.27,23.01,26.17,1.92,24.41]
[null,-0.1,3.65,2283.9,8.19,55.75,7.3,23.27,26.15,1.95,24.31]
[null,-0.1,3.7,2320.5,8.15,55.4,7.33,23.48,26.12,1.98,24.22]
[null,-0.1,3.75,2357.1999999999998,8.11,55.36,7.36,23.82,26.09,2,24.1]
[null,-0.1,3.8,2394.1,8.07,55.09,7.39,24.06,26.05,2.0299999999999998,24.01]
[null,-0.1,3.85,2431.1,8.0399999999999991,54.86,7.42,24.31,26.02,2.06,23.92]
[null,-0.1,3.9,2468.3000000000002,8.01,54.79,7.46,24.64,25.99,2.09,23.82]
[null,-0.1,3.95,2505.6999999999998,7.98,54.63,7.49,24.92,25.96,2.11,23.72]
[null,-0.1,4,2543.1999999999998,7.96,54.51,7.53,25.22,25.92,2.14,23.62]
[null,-0.1,4.05,2581,7.94,54.69,7.57,25.67,25.89,2.17,23.49]
[null,-0.1,4.0999999999999996,2618.9,7.92,54.68,7.61,26.03,25.85,2.2000000000000002,23.38]
[null,-0.1,4.1500000000000004,2657.1,7.9,54.71,7.65,26.41,25.82,2.2200000000000002,23.27]
[null,-0.1,4.2,2695.5,7.89,54.92,7.7,26.89,25.78,2.25,23.13]
[null,-0.1,4.25,2734.1,7.89,55.08,7.75,27.34,25.74,2.2799999999999998,23.01]
[null,-0.1,4.3,2773,7.89,55.29,7.8,27.82,25.7,2.31,22.87]
[null,-0.1,4.3499999999999996,2812.2,7.89,55.53,7.86,28.33,25.66,2.34,22.74]
[null,-0.1,4.4000000000000004,2851.6,7.9,56.02,7.92,28.98,25.62,2.36,22.56]
[null,-0.1,4.45,2891.3,7.92,56.32,7.98,29.53,25.58,2.39,22.42]
[null,-0.1,4.5,2931.4,7.94,56.59,8.0399999999999991,30.07,25.53,2.42,22.28]
[null,-0.1,4.55,2971.7,7.96,56.82,8.09,30.6,25.49,2.4500000000000002,22.15]
[null,-0.1,4.5999999999999996,3012.3,7.97,57.02,8.14,31.11,25.44,2.48,22.03]
[null,-0.1,4.6500000000000004,3053.1,7.99,57.28,8.1999999999999993,31.67,25.4,2.5099999999999998,21.9]
[null,-0.1,4.7,3094.2,8.01,57.37,8.24,32.14,25.35,2.54,21.79]
[null,-0.1,4.75,3135.5,8.01,57.38,8.2799999999999994,32.549999999999997,25.3,2.57,21.7]
[null,-0.1,4.8,3177,8.01,57.3,8.32,32.92,25.25,2.59,21.63]
[null,-0.1,4.8499999999999996,3218.7,8.01,57.16,8.35,33.25,25.21,2.62,21.57]
[null,-0.1,4.9000000000000004,3260.5,8,57.17,8.3800000000000008,33.67,25.16,2.65,21.49]
[null,-0.1,4.95,3302.5,7.99,57.02,8.41,33.99,25.11,2.68,21.44]
[null,-0.1,5,3344.6,7.98,56.82,8.44,34.270000000000003,25.07,2.71,21.4]
[null,-0.1,5.05,3386.9,7.97,56.59,8.4600000000000009,34.54,25.02,2.74,21.37]
[null,-0.1,5.0999999999999996,3429.3,7.95,56.36,8.49,34.799999999999997,24.97,2.77,21.34]
[null,-0.1,5.15,3471.7,7.94,56.11,8.51,35.049999999999997,24.93,2.8,21.31]
[null,-0.1,5.2,3514.3,7.92,55.83,8.5299999999999994,35.28,24.89,2.83,21.3]
[null,-0.1,5.25,3557,7.91,55.69,8.5500000000000007,35.590000000000003,24.84,2.86,21.26]
[null,-0.1,5.3,3599.8,7.89,55.44,8.57,35.83,24.8,2.88,21.25]
[null,-0.1,5.35,3642.7,7.88,55.17,8.59,36.049999999999997,24.76,2.91,21.24]
[null,-0.1,5.4,3685.7,7.86,54.89,8.61,36.26,24.72,2.94,21.23]
[null,-0.1,5.45,3728.8,7.85,54.59,8.6199999999999992,36.450000000000003,24.68,2.97,21.24]
[null,-0.1,5.5,3772,7.83,54.28,8.64,36.630000000000003,24.64,3,21.24]
[null,-0.1,5.55,3815.2,7.82,53.97,8.65,36.81,24.6,3.03,21.25]
[null,-0.1,5.6,3858.5,7.8,53.66,8.67,36.979999999999997,24.56,3.06,21.26]
[null,-0.1,5.65,3901.8,7.79,53.35,8.68,37.14,24.53,3.09,21.28]
[null,-0.1,5.7,3945.2,7.78,53.03,8.69,37.299999999999997,24.49,3.11,21.3]
[null,-0.1,5.75,3988.7,7.76,52.72,8.6999999999999993,37.450000000000003,24.45,3.14,21.32]
[null,-0.1,5.8,4032.3,7.75,52.42,8.7100000000000009,37.61,24.42,3.17,21.35]
[null,-0.1,5.85,4075.9,7.73,52.12,8.73,37.76,24.39,3.2,21.37]
[null,-0.1,5.9,4119.5,7.72,51.82,8.74,37.92,24.36,3.23,21.4]
[null,-0.1,5.95,4163.2,7.71,51.54,8.75,38.07,24.33,3.26,21.42]
[null,-0.1,6,4207,7.7,51.28,8.76,38.24,24.3,3.29,21.46]
[null,-0.1,6.05,4250.8999999999996,7.69,51.01,8.7799999999999994,38.4,24.27,3.31,21.49]
[null,-0.1,6.1,4294.8,7.68,50.76,8.7899999999999991,38.57,24.24,3.34,21.52]
[null,-0.1,6.15,4338.8,7.67,50.5,8.8000000000000007,38.729999999999997,24.21,3.37,21.55]
[null,-0.1,6.2,4382.8,7.66,50.26,8.81,38.9,24.18,3.4,21.58]
[null,-0.1,6.25,4426.8999999999996,7.65,50.01,8.83,39.06,24.16,3.43,21.61]
[null,-0.1,6.3,4471,7.65,49.78,8.84,39.229999999999997,24.13,3.45,21.65]
[null,-0.1,6.35,4515.3,7.64,49.55,8.85,39.39,24.11,3.48,21.68]
[null,-0.1,6.4,4559.6000000000004,7.63,49.32,8.86,39.56,24.09,3.51,21.72]
[null,-0.1,6.45,4603.8999999999996,7.63,49.1,8.8800000000000008,39.729999999999997,24.06,3.54,21.75]
[null,-0.1,6.5,4648.3,7.62,48.88,8.89,39.89,24.04,3.57,21.79]
[null,-0.1,6.55,4692.8,7.62,48.67,8.9,40.06,24.02,3.6,21.82]
[null,-0.1,6.6,4737.3,7.62,48.46,8.91,40.229999999999997,24,3.62,21.86]
[null,-0.1,6.65,4781.8999999999996,7.61,48.25,8.93,40.39,23.98,3.65,21.9]
[null,-0.1,6.7,4826.6000000000004,7.61,48.04,8.94,40.549999999999997,23.96,3.68,21.93]
[null,-0.1,6.75,4871,7.26,37.67,8.19,31.33,23.94,3.71,24.24]
[null,-0.1,6.8,4900.8999999999996,5.28,8.5500000000000007,3.91,4.54,23.98,3.73,36.770000000000003]
[]
[null,0,2.8,1680.1,9.42,63.3,6.88,19.670000000000002,26.66,1.49,25.82]
[null,0,2.85,1714.6,9.31,62.75,6.91,19.88,26.64,1.52,25.73]
[null,0,2.9,1749.1,9.2100000000000009,62.06,6.93,20.05,26.62,1.54,25.65]
[null,0,2.95,1783.8,9.11,61.56,6.95,20.27,26.6,1.57,25.56]
[null,0,3,1818.6,9.02,60.77,6.97,20.38,26.58,1.6,25.5]
[null,0,3.05,1853.5,8.93,60.17,6.99,20.55,26.56,1.62,25.42]
[null,0,3.1,1888.5,8.85,59.76,7.01,20.78,26.54,1.65,25.33]
[null,0,3.15,1923.6,8.77,59.22,7.03,20.96,26.51,1.68,25.25]
[null,0,3.2,1958.8,8.69,58.54,7.05,21.09,26.49,1.7,25.18]
[null,0,3.25,1994.2,8.6199999999999992,58.22,7.08,21.33,26.47,1.73,25.08]
[null,0,3.3,2029.6,8.56,57.76,7.1,21.53,26.44,1.76,25]
[null,0,3.35,2065.1999999999998,8.49,57.18,7.12,21.67,26.42,1.79,24.92]
[null,0,3.4,2100.8000000000002,8.43,56.94,7.15,21.93,26.39,1.81,24.82]
[null,0,3.45,2136.6,8.3699999999999992,56.43,7.17,22.09,26.36,1.84,24.75]
[null,0,3.5,2172.5,8.32,56.09,7.2,22.31,26.34,1.87,24.65]
[null,0,3.55,2208.6,8.27,55.64,7.22,22.48,26.31,1.89,24.58]
[null,0,3.6,2244.8000000000002,8.2200000000000006,55.51,7.25,22.78,26.28,1.92,24.47]
[null,0,3.65,2281.1,8.18,55.13,7.27,22.98,26.25,1.95,24.39]
[null,0,3.7,2317.5,8.1300000000000008,54.92,7.3,23.24,26.22,1.97,24.29]
[null,0,3.75,2354.1,8.09,54.61,7.33,23.45,26.19,2,24.2]
[null,0,3.8,2390.8000000000002,8.06,54.59,7.37,23.8,26.16,2.0299999999999998,24.09]
[null,0,3.85,2427.6999999999998,8.02,54.36,7.39,24.05,26.13,2.06,24]
[null,0,3.9,2464.8000000000002,7.99,54.15,7.43,24.31,26.09,2.08,23.91]
[null,0,3.95,2502,7.96,54.11,7.46,24.64,26.06,2.11,23.81]
[null,0,4,2539.4,7.94,53.98,7.49,24.93,26.03,2.14,23.71]
[null,0,4.05,2576.9,7.91,53.88,7.53,25.24,25.99,2.17,23.62]
[null,0,4.0999999999999996,2614.6999999999998,7.89,54.08,7.58,25.7,25.96,2.19,23.49]
[null,0,4.1500000000000004,2652.7,7.88,54.09,7.62,26.06,25.92,2.2200000000000002,23.38]
[null,0,4.2,2690.8,7.86,54.14,7.66,26.45,25.88,2.25,23.27]
[null,0,4.25,2729.2,7.86,54.37,7.71,26.93,25.85,2.2799999999999998,23.14]
[null,0,4.3,2767.9,7.85,54.54,7.76,27.39,25.81,2.2999999999999998,23.02]
[null,0,4.3499999999999996,2806.8,7.85,54.76,7.81,27.87,25.77,2.33,22.88]
[null,0,4.4000000000000004,2846,7.86,55.02,7.86,28.38,25.73,2.36,22.75]
[null,0,4.45,2885.5,7.87,55.51,7.93,29.03,25.69,2.39,22.58]
[null,0,4.5,2925.2,7.89,55.81,7.98,29.58,25.64,2.42,22.44]
[null,0,4.55,2965.3,7.9,56.09,8.0399999999999991,30.13,25.6,2.4500000000000002,22.3]
[null,0,4.5999999999999996,3005.6,7.92,56.33,8.1,30.66,25.55,2.4700000000000002,22.17]
[null,0,4.6500000000000004,3046.3,7.94,56.53,8.15,31.17,25.51,2.5,22.05]
[null,0,4.7,3087.1,7.96,56.8,8.1999999999999993,31.73,25.46,2.5299999999999998,21.92]
[null,0,4.75,3128.3,7.97,56.91,8.25,32.200000000000003,25.41,2.56,21.82]
[null,0,4.8,3169.6,7.98,56.93,8.2899999999999991,32.619999999999997,25.37,2.59,21.73]
[null,0,4.8499999999999996,3211.1,7.98,56.87,8.32,32.99,25.32,2.62,21.66]
[null,0,4.9000000000000004,3252.8,7.98,56.75,8.35,33.33,25.27,2.65,21.61]
[null,0,4.95,3294.7,7.97,56.77,8.39,33.75,25.22,2.68,21.53]
[null,0,5,3336.7,7.96,56.63,8.42,34.08,25.18,2.71,21.48]
[null,0,5.05,3378.9,7.95,56.46,8.4499999999999993,34.380000000000003,25.13,2.73,21.44]
[null,0,5.0999999999999996,3421.2,7.94,56.25,8.4700000000000006,34.659999999999997,25.08,2.76,21.41]
[null,0,5.15,3463.6,7.93,56.03,8.49,34.92,25.04,2.79,21.38]
[null,0,5.2,3506.1,7.92,55.81,8.52,35.18,24.99,2.82,21.35]
[null,0,5.25,3548.8,7.9,55.55,8.5399999999999991,35.42,24.95,2.85,21.34]
[null,0,5.3,3591.5,7.89,55.41,8.56,35.729999999999997,24.91,2.88,21.31]
[null,0,5.35,3634.4,7.87,55.18,8.58,35.979999999999997,24.87,2.91,21.29]
[null,0,5.4,3677.3,7.86,54.93,8.6,36.21,24.82,2.94,21.28]
[null,0,5.45,3720.4,7.85,54.67,8.6199999999999992,36.43,24.78,2.97,21.28]
[null,0,5.5,3763.5,7.83,54.39,8.64,36.64,24.74,2.99,21.28]
[null,0,5.55,3806.8,7.82,54.1,8.65,36.82,24.7,3.02,21.29]
[null,0,5.6,3850.1,7.8,53.81,8.67,37.01,24.66,3.05,21.3]
[null,0,5.65,3893.4,7.79,53.52,8.68,37.19,24.63,3.08,21.32]
[null,0,5.7,3936.9,7.78,53.22,8.69,37.36,24.59,3.11,21.33]
[null,0,5.75,3980.4,7.76,52.92,8.7100000000000009,37.53,24.56,3.14,21.35]
[null,0,5.8,4023.9,7.75,52.62,8.7200000000000006,37.69,24.52,3.17,21.38]
[null,0,5.85,4067.6,7.74,52.32,8.73,37.85,24.49,3.19,21.4]
[null,0,5.9,4111.3,7.73,52.04,8.74,38.01,24.45,3.22,21.43]
[null,0,5.95,4155,7.72,51.77,8.76,38.18,24.42,3.25,21.46]
[null,0,6,4198.8,7.7,51.5,8.77,38.35,24.39,3.28,21.49]
[null,0,6.05,4242.7,7.69,51.24,8.7799999999999994,38.51,24.36,3.31,21.52]
[null,0,6.1,4286.7,7.68,50.98,8.8000000000000007,38.68,24.33,3.34,21.55]
[null,0,6.15,4330.7,7.68,50.73,8.81,38.85,24.31,3.36,21.58]
[null,0,6.2,4374.8,7.67,50.48,8.82,39.01,24.28,3.39,21.61]
[null,0,6.25,4418.8999999999996,7.66,50.24,8.83,39.18,24.25,3.42,21.65]
[null,0,6.3,4463.1000000000004,7.65,50.01,8.85,39.35,24.23,3.45,21.68]
[null,0,6.35,4507.3999999999996,7.65,49.77,8.86,39.520000000000003,24.2,3.48,21.71]
[null,0,6.4,4551.7,7.64,49.55,8.8699999999999992,39.69,24.18,3.51,21.75]
[null,0,6.45,4596.1000000000004,7.63,49.33,8.89,39.86,24.15,3.53,21.79]
[null,0,6.5,4640.6000000000004,7.63,49.11,8.9,40.03,24.13,3.56,21.82]
[null,0,6.55,4685.1000000000004,7.63,48.89,8.91,40.200000000000003,24.11,3.59,21.86]
[null,0,6.6,4729.7,7.62,48.68,8.92,40.36,24.09,3.62,21.89]
[null,0,6.65,4774.3,7.62,48.47,8.94,40.53,24.07,3.65,21.93]
[null,0,6.7,4819,7.62,48.26,8.9499999999999993,40.69,24.05,3.68,21.96]
[null,0,6.75,4863.8,7.61,48.05,8.9600000000000009,40.85,24.03,3.7,22]
[null,0,6.8,4908.7,7.61,47.84,8.9700000000000006,41.01,24.01,3.73,22.03]
[]
[null,0.1,2.8,1679.3,9.4,62.95,6.87,19.55,26.77,1.49,25.85]
[null,0.1,2.85,1713.7,9.2899999999999991,62.06,6.88,19.649999999999999,26.75,1.52,25.79]
[null,0.1,2.9,1748.2,9.19,61.53,6.91,19.86,26.73,1.54,25.7]
[null,0.1,2.95,1782.8,9.1,60.87,6.93,20.02,26.71,1.57,25.63]
[null,0.1,3,1817.5,9,60.4,6.95,20.239999999999998,26.69,1.6,25.54]
[null,0.1,3.05,1852.2,8.92,59.64,6.97,20.350000000000001,26.67,1.62,25.48]
[null,0.1,3.1,1887.1,8.83,59.06,6.99,20.52,26.65,1.65,25.4]
[null,0.1,3.15,1922.1,8.76,58.67,7.01,20.75,26.62,1.68,25.3]
[null,0.1,3.2,1957.2,8.68,58.15,7.03,20.92,26.6,1.7,25.22]
[null,0.1,3.25,1992.4,8.61,57.5,7.05,21.05,26.57,1.73,25.15]
[null,0.1,3.3,2027.8,8.5399999999999991,57.2,7.08,21.29,26.55,1.76,25.05]
[null,0.1,3.35,2063.1999999999998,8.48,56.77,7.1,21.49,26.52,1.78,24.97]
[null,0.1,3.4,2098.6999999999998,8.42,56.22,7.12,21.63,26.5,1.81,24.9]
[null,0.1,3.45,2134.4,8.36,56,7.15,21.89,26.47,1.84,24.79]
[null,0.1,3.5,2170.1999999999998,8.31,55.51,7.17,22.05,26.44,1.86,24.72]
[null,0.1,3.55,2206.1,8.26,55.21,7.2,22.28,26.41,1.89,24.63]
[null,0.1,3.6,2242.1999999999998,8.2100000000000009,54.78,7.22,22.45,26.38,1.92,24.55]
[null,0.1,3.65,2278.3000000000002,8.16,54.68,7.25,22.75,26.35,1.95,24.44]
[null,0.1,3.7,2314.6,8.1199999999999992,54.33,7.27,22.95,26.32,1.97,24.37]
[null,0.1,3.75,2351.1,8.08,54.15,7.3,23.22,26.29,2,24.27]
[null,0.1,3.8,2387.6999999999998,8.0399999999999991,53.87,7.33,23.44,26.26,2.0299999999999998,24.19]
[null,0.1,3.85,2424.4,8.01,53.88,7.37,23.8,26.23,2.0499999999999998,24.08]
[null,0.1,3.9,2461.3000000000002,7.98,53.68,7.4,24.05,26.19,2.08,23.99]
[null,0.1,3.95,2498.4,7.95,53.5,7.43,24.32,26.16,2.11,23.91]
[null,0.1,4,2535.6,7.92,53.48,7.47,24.66,26.13,2.14,23.8]
[null,0.1,4.05,2573,7.89,53.38,7.5,24.96,26.09,2.16,23.71]
[null,0.1,4.0999999999999996,2610.6,7.87,53.3,7.53,25.27,26.06,2.19,23.62]
[null,0.1,4.1500000000000004,2648.4,7.86,53.52,7.58,25.73,26.02,2.2200000000000002,23.49]
[null,0.1,4.2,2686.4,7.84,53.55,7.62,26.1,25.99,2.25,23.39]
[null,0.1,4.25,2724.6,7.83,53.62,7.66,26.49,25.95,2.27,23.28]
[null,0.1,4.3,2763.1,7.82,53.74,7.71,26.92,25.91,2.2999999999999998,23.17]
[null,0.1,4.3499999999999996,2801.7,7.82,54.04,7.76,27.44,25.87,2.33,23.03]
[null,0.1,4.4000000000000004,2840.7,7.82,54.27,7.82,27.93,25.83,2.36,22.9]
[null,0.1,4.45,2879.9,7.83,54.53,7.87,28.44,25.79,2.39,22.76]
[null,0.1,4.5,2919.4,7.84,54.81,7.93,28.97,25.75,2.41,22.63]
[null,0.1,4.55,2959.2,7.86,55.33,7.99,29.64,25.71,2.44,22.46]
[null,0.1,4.5999999999999996,2999.3,7.87,55.62,8.0500000000000007,30.19,25.66,2.4700000000000002,22.32]
[null,0.1,4.6500000000000004,3039.7,7.89,55.86,8.1,30.72,25.62,2.5,22.2]
[null,0.1,4.7,3080.3,7.91,56.07,8.15,31.24,25.57,2.5299999999999998,22.08]
[null,0.1,4.75,3121.2,7.93,56.35,8.2100000000000009,31.8,25.52,2.56,21.95]
[null,0.1,4.8,3162.4,7.94,56.47,8.25,32.270000000000003,25.48,2.58,21.85]
[null,0.1,4.8499999999999996,3203.8,7.95,56.51,8.3000000000000007,32.700000000000003,25.43,2.61,21.77]
[null,0.1,4.9000000000000004,3245.3,7.95,56.46,8.33,33.08,25.38,2.64,21.7]
[null,0.1,4.95,3287.1,7.95,56.36,8.36,33.42,25.33,2.67,21.64]
[null,0.1,5,3328.9,7.95,56.22,8.39,33.74,25.29,2.7,21.59]
[null,0.1,5.05,3371,7.94,56.28,8.43,34.19,25.24,2.73,21.52]
[null,0.1,5.0999999999999996,3413.2,7.93,56.12,8.4600000000000009,34.49,25.19,2.76,21.48]
[null,0.1,5.15,3455.6,7.92,55.93,8.48,34.78,25.15,2.79,21.45]
[null,0.1,5.2,3498,7.91,55.73,8.51,35.049999999999997,25.1,2.82,21.42]
[null,0.1,5.25,3540.6,7.9,55.53,8.5299999999999994,35.33,25.06,2.84,21.4]
[null,0.1,5.3,3583.3,7.88,55.29,8.5500000000000007,35.57,25.02,2.87,21.38]
[null,0.1,5.35,3626.1,7.87,55.15,8.57,35.89,24.97,2.9,21.36]
[null,0.1,5.4,3669.1,7.86,54.95,8.6,36.15,24.93,2.93,21.34]
[null,0.1,5.45,3712.1,7.84,54.72,8.6199999999999992,36.39,24.89,2.96,21.33]
[null,0.1,5.5,3755.2,7.83,54.47,8.6300000000000008,36.619999999999997,24.85,2.99,21.33]
[null,0.1,5.55,3798.4,7.82,54.21,8.65,36.83,24.81,3.02,21.34]
[null,0.1,5.6,3841.7,7.8,53.94,8.67,37.03,24.77,3.05,21.34]
[null,0.1,5.65,3885.1,7.79,53.66,8.68,37.22,24.73,3.07,21.36]
[null,0.1,5.7,3928.6,7.78,53.38,8.6999999999999993,37.409999999999997,24.69,3.1,21.37]
[null,0.1,5.75,3972.1,7.77,53.1,8.7100000000000009,37.590000000000003,24.66,3.13,21.39]
[null,0.1,5.8,4015.7,7.75,52.81,8.73,37.76,24.62,3.16,21.41]
[null,0.1,5.85,4059.3,7.74,52.53,8.74,37.93,24.59,3.19,21.44]
[null,0.1,5.9,4103.1000000000004,7.73,52.26,8.75,38.11,24.55,3.22,21.46]
[null,0.1,5.95,4146.8999999999996,7.72,51.99,8.77,38.28,24.52,3.25,21.49]
[null,0.1,6,4190.7,7.71,51.72,8.7799999999999994,38.450000000000003,24.49,3.27,21.52]
[null,0.1,6.05,4234.6000000000004,7.7,51.46,8.7899999999999991,38.619999999999997,24.46,3.3,21.55]
[null,0.1,6.1,4278.6000000000004,7.69,51.2,8.8000000000000007,38.79,24.43,3.33,21.58]
[null,0.1,6.15,4322.7,7.68,50.95,8.82,38.96,24.4,3.36,21.61]
[null,0.1,6.2,4366.8,7.67,50.71,8.83,39.14,24.37,3.39,21.65]
[null,0.1,6.25,4411,7.66,50.47,8.84,39.31,24.35,3.42,21.68]
[null,0.1,6.3,4455.2,7.66,50.23,8.86,39.479999999999997,24.32,3.44,21.71]
[null,0.1,6.35,4499.5,7.65,50,8.8699999999999992,39.65,24.29,3.47,21.75]
[null,0.1,6.4,4543.8999999999996,7.65,49.78,8.8800000000000008,39.82,24.27,3.5,21.78]
[null,0.1,6.45,4588.3999999999996,7.64,49.55,8.9,39.99,24.24,3.53,21.82]
[null,0.1,6.5,4632.8999999999996,7.64,49.33,8.91,40.159999999999997,24.22,3.56,21.85]
[null,0.1,6.55,4677.3999999999996,7.63,49.11,8.92,40.33,24.2,3.59,21.89]
[null,0.1,6.6,4722.1000000000004,7.63,48.89,8.93,40.5,24.18,3.61,21.92]
[null,0.1,6.65,4766.8,7.62,48.68,8.9499999999999993,40.659999999999997,24.16,3.64,21.96]
[null,0.1,6.7,4811.5,7.62,48.47,8.9600000000000009,40.82,24.14,3.67,21.99]
[null,0.1,6.75,4856.3999999999996,7.62,48.26,8.9700000000000006,40.98,24.12,3.7,22.03]
[null,0.1,6.8,4900.3999999999996,7.19,46.11,7.85,39.369999999999997,24.1,3.73,20.88]
[]
[null,0.2,2.8,1678.6,9.39,62.43,6.85,19.38,26.89,1.49,25.89]
[null,0.2,2.85,1712.9,9.2799999999999994,61.71,6.87,19.53,26.87,1.52,25.82]
[null,0.2,2.9,1747.3,9.18,60.85,6.88,19.63,26.85,1.54,25.77]
[null,0.2,2.95,1781.8,9.08,60.35,6.91,19.84,26.83,1.57,25.68]
[null,0.2,3,1816.4,8.99,59.71,6.93,19.989999999999998,26.8,1.6,25.6]
[null,0.2,3.05,1851.1,8.91,59.26,6.95,20.21,26.78,1.62,25.51]
[null,0.2,3.1,1885.8,8.82,58.53,6.97,20.309999999999999,26.76,1.65,25.45]
[null,0.2,3.15,1920.7,8.74,57.98,6.99,20.48,26.73,1.68,25.37]
[null,0.2,3.2,1955.7,8.67,57.61,7.01,20.71,26.71,1.7,25.27]
[null,0.2,3.25,1990.8,8.6,57.12,7.03,20.88,26.68,1.73,25.19]
[null,0.2,3.3,2026,8.5299999999999994,56.5,7.05,21.01,26.65,1.76,25.13]
[null,0.2,3.35,2061.3000000000002,8.4700000000000006,56.22,7.08,21.25,26.63,1.78,25.03]
[null,0.2,3.4,2096.8000000000002,8.41,55.67,7.1,21.39,26.6,1.81,24.96]
[null,0.2,3.45,2132.3000000000002,8.35,55.3,7.12,21.59,26.57,1.84,24.87]
[null,0.2,3.5,2168,8.2899999999999991,55.1,7.15,21.86,26.54,1.86,24.77]
[null,0.2,3.55,2203.8000000000002,8.24,54.65,7.17,22.02,26.51,1.89,24.7]
[null,0.2,3.6,2239.6999999999998,8.19,54.37,7.2,22.25,26.48,1.92,24.61]
[null,0.2,3.65,2275.6999999999998,8.15,53.98,7.22,22.43,26.45,1.94,24.54]
[null,0.2,3.7,2311.9,8.11,53.9,7.25,22.74,26.42,1.97,24.43]
[null,0.2,3.75,2348.1999999999998,8.07,53.59,7.28,22.94,26.39,2,24.35]
[null,0.2,3.8,2384.6999999999998,8.0299999999999994,53.44,7.31,23.22,26.36,2.02,24.26]
[null,0.2,3.85,2421.3000000000002,7.99,53.19,7.33,23.45,26.33,2.0499999999999998,24.18]
[null,0.2,3.9,2458,7.96,53.22,7.37,23.81,26.29,2.08,24.07]
[null,0.2,3.95,2494.9,7.93,53.04,7.4,24.07,26.26,2.11,23.99]
[null,0.2,4,2532,7.9,52.89,7.43,24.34,26.23,2.13,23.9]
[null,0.2,4.05,2569.3000000000002,7.88,52.9,7.47,24.69,26.19,2.16,23.8]
[null,0.2,4.0999999999999996,2606.6999999999998,7.85,52.82,7.51,25,26.16,2.19,23.71]
[null,0.2,4.1500000000000004,2644.3,7.83,52.77,7.54,25.32,26.12,2.2200000000000002,23.62]
[null,0.2,4.2,2682.1,7.82,52.99,7.59,25.78,26.09,2.2400000000000002,23.5]
[null,0.2,4.25,2720.2,7.8,53.04,7.63,26.15,26.05,2.27,23.4]
[null,0.2,4.3,2758.4,7.79,53.12,7.67,26.55,26.01,2.2999999999999998,23.29]
[null,0.2,4.3499999999999996,2796.9,7.79,53.26,7.72,26.98,25.97,2.33,23.18]
[null,0.2,4.4000000000000004,2835.6,7.79,53.56,7.77,27.5,25.93,2.35,23.04]
[null,0.2,4.45,2874.6,7.79,53.8,7.82,28,25.89,2.38,22.91]
[null,0.2,4.5,2913.9,7.8,54.07,7.88,28.51,25.85,2.41,22.78]
[null,0.2,4.55,2953.4,7.81,54.36,7.93,29.04,25.81,2.44,22.65]
[null,0.2,4.5999999999999996,2993.2,7.83,54.88,8,29.71,25.77,2.4700000000000002,22.48]
[null,0.2,4.6500000000000004,3033.4,7.85,55.17,8.0500000000000007,30.26,25.72,2.4900000000000002,22.35]
[null,0.2,4.7,3073.8,7.86,55.42,8.11,30.8,25.68,2.52,22.22]
[null,0.2,4.75,3114.4,7.88,55.64,8.16,31.32,25.63,2.5499999999999998,22.11]
[null,0.2,4.8,3155.4,7.9,55.92,8.2200000000000006,31.88,25.59,2.58,21.98]
[null,0.2,4.8499999999999996,3196.6,7.92,56.06,8.26,32.36,25.54,2.61,21.88]
[null,0.2,4.9000000000000004,3238,7.92,56.11,8.3000000000000007,32.79,25.49,2.64,21.8]
[null,0.2,4.95,3279.6,7.93,56.09,8.34,33.18,25.44,2.67,21.73]
[null,0.2,5,3321.4,7.93,56,8.3699999999999992,33.53,25.4,2.7,21.68]
[null,0.2,5.05,3363.3,7.92,55.87,8.4,33.86,25.35,2.72,21.63]
[null,0.2,5.0999999999999996,3405.4,7.92,55.94,8.44,34.31,25.3,2.75,21.56]
[null,0.2,5.15,3447.7,7.91,55.8,8.4700000000000006,34.619999999999997,25.26,2.78,21.52]
[null,0.2,5.2,3490.1,7.9,55.64,8.49,34.92,25.21,2.81,21.49]
[null,0.2,5.25,3532.6,7.89,55.45,8.52,35.200000000000003,25.17,2.84,21.47]
[null,0.2,5.3,3575.3,7.88,55.27,8.5399999999999991,35.479999999999997,25.12,2.87,21.45]
[null,0.2,5.35,3618,7.86,55.05,8.56,35.74,25.08,2.9,21.43]
[null,0.2,5.4,3660.9,7.85,54.92,8.59,36.049999999999997,25.04,2.93,21.41]
[null,0.2,5.45,3703.9,7.84,54.74,8.61,36.32,24.99,2.95,21.39]
[null,0.2,5.5,3747,7.83,54.53,8.6300000000000008,36.58,24.95,2.98,21.39]
[null,0.2,5.55,3790.2,7.82,54.3,8.65,36.82,24.91,3.01,21.39]
[null,0.2,5.6,3833.5,7.8,54.06,8.67,37.04,24.87,3.04,21.39]
[null,0.2,5.65,3876.8,7.79,53.8,8.68,37.25,24.83,3.07,21.4]
[null,0.2,5.7,3920.3,7.78,53.54,8.6999999999999993,37.450000000000003,24.8,3.1,21.41]
[null,0.2,5.75,3963.8,7.77,53.27,8.7200000000000006,37.64,24.76,3.13,21.43]
[null,0.2,5.8,4007.5,7.76,53,8.73,37.83,24.72,3.16,21.45]
[null,0.2,5.85,4051.1,7.75,52.74,8.74,38.020000000000003,24.69,3.18,21.47]
[null,0.2,5.9,4094.9,7.74,52.47,8.76,38.200000000000003,24.65,3.21,21.5]
[null,0.2,5.95,4138.7,7.72,52.21,8.77,38.380000000000003,24.62,3.24,21.53]
[null,0.2,6,4182.6000000000004,7.71,51.94,8.7899999999999991,38.56,24.59,3.27,21.55]
[null,0.2,6.05,4226.6000000000004,7.7,51.68,8.8000000000000007,38.729999999999997,24.56,3.3,21.58]
[null,0.2,6.1,4270.6000000000004,7.69,51.43,8.81,38.909999999999997,24.53,3.33,21.61]
[null,0.2,6.15,4314.7,7.69,51.18,8.83,39.08,24.5,3.36,21.65]
[null,0.2,6.2,4358.8999999999996,7.68,50.94,8.84,39.26,24.47,3.38,21.68]
[null,0.2,6.25,4403.1000000000004,7.67,50.7,8.85,39.43,24.44,3.41,21.71]
[null,0.2,6.3,4447.3999999999996,7.66,50.46,8.8699999999999992,39.61,24.41,3.44,21.75]
[null,0.2,6.35,4491.7,7.66,50.23,8.8800000000000008,39.78,24.39,3.47,21.78]
[null,0.2,6.4,4536.2,7.65,50,8.89,39.950000000000003,24.36,3.5,21.81]
[null,0.2,6.45,4580.7,7.65,49.78,8.9,40.130000000000003,24.34,3.52,21.85]
[null,0.2,6.5,4625.2,7.64,49.55,8.92,40.299999999999997,24.31,3.55,21.88]
[null,0.2,6.55,4669.8,7.64,49.33,8.93,40.46,24.29,3.58,21.92]
[null,0.2,6.6,4714.5,7.63,49.11,8.94,40.630000000000003,24.27,3.61,21.95]
[null,0.2,6.65,4759.3,7.63,48.9,8.9600000000000009,40.79,24.25,3.64,21.99]
[null,0.2,6.7,4804.1000000000004,7.63,48.68,8.9700000000000006,40.96,24.22,3.67,22.02]
[null,0.2,6.75,4849,7.63,48.46,8.98,41.11,24.2,3.69,22.06]
[null,0.2,6.8,4892.2,7.19,46.33,7.86,39.51,24.18,3.72,20.91]
[]
[null,0.3,2.8,1678,9.3699999999999992,61.75,6.83,19.149999999999999,27.01,1.49,25.96]
[null,0.3,2.85,1712.2,9.27,61.19,6.85,19.350000000000001,26.98,1.52,25.87]
[null,0.3,2.9,1746.5,9.17,60.5,6.87,19.5,26.96,1.54,25.8]
[null,0.3,2.95,1780.9,9.07,59.67,6.88,19.600000000000001,26.94,1.57,25.74]
[null,0.3,3,1815.4,8.98,59.2,6.91,19.809999999999999,26.91,1.6,25.65]
[null,0.3,3.05,1849.9,8.89,58.59,6.92,19.96,26.89,1.62,25.57]
[null,0.3,3.1,1884.6,8.81,58.16,6.95,20.170000000000002,26.86,1.65,25.48]
[null,0.3,3.15,1919.4,8.73,57.45,6.96,20.28,26.84,1.68,25.42]
[null,0.3,3.2,1954.3,8.66,56.93,6.98,20.440000000000001,26.81,1.7,25.34]
[null,0.3,3.25,1989.2,8.59,56.59,7.01,20.67,26.79,1.73,25.25]
[null,0.3,3.3,2024.3,8.52,55.97,7.03,20.79,26.76,1.76,25.18]
[null,0.3,3.35,2059.5,8.4600000000000009,55.54,7.05,20.97,26.73,1.78,25.1]
[null,0.3,3.4,2094.9,8.4,55.28,7.08,21.22,26.7,1.81,25]
[null,0.3,3.45,2130.3000000000002,8.34,54.76,7.1,21.36,26.67,1.84,24.93]
[null,0.3,3.5,2165.8000000000002,8.2799999999999994,54.42,7.12,21.56,26.64,1.86,24.85]
[null,0.3,3.55,2201.5,8.23,54.25,7.15,21.83,26.61,1.89,24.75]
[null,0.3,3.6,2237.3000000000002,8.18,53.83,7.17,22,26.58,1.92,24.68]
[null,0.3,3.65,2273.1999999999998,8.14,53.58,7.2,22.23,26.55,1.94,24.59]
[null,0.3,3.7,2309.1999999999998,8.09,53.23,7.22,22.42,26.52,1.97,24.52]
[null,0.3,3.75,2345.4,8.0500000000000007,53.18,7.25,22.74,26.49,2,24.41]
[null,0.3,3.8,2381.8000000000002,8.02,52.9,7.28,22.95,26.46,2.02,24.34]
[null,0.3,3.85,2418.1999999999998,7.98,52.77,7.31,23.23,26.43,2.0499999999999998,24.25]
[null,0.3,3.9,2454.9,7.95,52.55,7.34,23.47,26.39,2.08,24.17]
[null,0.3,3.95,2491.6,7.92,52.36,7.37,23.71,26.36,2.1,24.1]
[null,0.3,4,2528.6,7.89,52.46,7.41,24.1,26.33,2.13,23.99]
[null,0.3,4.05,2565.6999999999998,7.86,52.33,7.44,24.38,26.29,2.16,23.9]
[null,0.3,4.0999999999999996,2603,7.84,52.36,7.48,24.73,26.26,2.19,23.81]
[null,0.3,4.1500000000000004,2640.4,7.82,52.3,7.51,25.05,26.22,2.21,23.72]
[null,0.3,4.2,2678.1,7.8,52.26,7.55,25.37,26.19,2.2400000000000002,23.63]
[null,0.3,4.25,2715.9,7.78,52.5,7.59,25.84,26.15,2.27,23.51]
[null,0.3,4.3,2754,7.77,52.56,7.64,26.22,26.11,2.2999999999999998,23.41]
[null,0.3,4.3499999999999996,2792.3,7.76,52.66,7.68,26.62,26.07,2.3199999999999998,23.3]
[null,0.3,4.4000000000000004,2830.8,7.76,52.8,7.73,27.05,26.04,2.35,23.19]
[null,0.3,4.45,2869.6,7.76,53.12,7.78,27.57,26,2.38,23.06]
[null,0.3,4.5,2908.6,7.76,53.36,7.83,28.07,25.96,2.41,22.93]
[null,0.3,4.55,2947.9,7.77,53.64,7.89,28.59,25.91,2.4300000000000002,22.8]
[null,0.3,4.5999999999999996,2987.4,7.78,53.93,7.94,29.12,25.87,2.46,22.67]
[null,0.3,4.6500000000000004,3027.3,7.8,54.45,8.01,29.79,25.83,2.4900000000000002,22.51]
[null,0.3,4.7,3067.5,7.82,54.75,8.06,30.34,25.78,2.52,22.38]
[null,0.3,4.75,3107.9,7.84,55.01,8.1199999999999992,30.88,25.74,2.5499999999999998,22.25]
[null,0.3,4.8,3148.7,7.86,55.24,8.17,31.41,25.69,2.58,22.14]
[null,0.3,4.8499999999999996,3189.6,7.87,55.52,8.2200000000000006,31.97,25.65,2.6,22.02]
[null,0.3,4.9000000000000004,3230.9,7.89,55.67,8.27,32.46,25.6,2.63,21.92]
[null,0.3,4.95,3272.3,7.9,55.74,8.31,32.9,25.55,2.66,21.84]
[null,0.3,5,3314,7.9,55.73,8.35,33.29,25.51,2.69,21.77]
[null,0.3,5.05,3355.8,7.9,55.67,8.3800000000000008,33.65,25.46,2.72,21.72]
[null,0.3,5.0999999999999996,3397.8,7.9,55.56,8.41,33.99,25.41,2.75,21.68]
[null,0.3,5.15,3439.9,7.89,55.63,8.4499999999999993,34.44,25.37,2.78,21.61]
[null,0.3,5.2,3482.3,7.89,55.52,8.48,34.76,25.32,2.81,21.57]
[null,0.3,5.25,3524.7,7.88,55.37,8.5,35.07,25.28,2.83,21.54]
[null,0.3,5.3,3567.3,7.87,55.2,8.5299999999999994,35.36,25.23,2.86,21.52]
[null,0.3,5.35,3610,7.86,55.03,8.5500000000000007,35.65,25.19,2.89,21.5]
[null,0.3,5.4,3652.8,7.85,54.84,8.58,35.92,25.14,2.92,21.48]
[null,0.3,5.45,3695.8,7.84,54.71,8.6,36.229999999999997,25.1,2.95,21.46]
[null,0.3,5.5,3738.8,7.82,54.55,8.6199999999999992,36.520000000000003,25.06,2.98,21.45]
[null,0.3,5.55,3782,7.81,54.35,8.65,36.78,25.02,3.01,21.44]
[null,0.3,5.6,3825.3,7.8,54.14,8.67,37.03,24.98,3.04,21.44]
[null,0.3,5.65,3868.7,7.79,53.92,8.68,37.26,24.94,3.06,21.45]
[null,0.3,5.7,3912.1,7.78,53.67,8.6999999999999993,37.479999999999997,24.9,3.09,21.46]
[null,0.3,5.75,3955.7,7.77,53.42,8.7200000000000006,37.69,24.86,3.12,21.47]
[null,0.3,5.8,3999.3,7.76,53.19,8.73,37.9,24.82,3.15,21.49]
[null,0.3,5.85,4043,7.75,52.94,8.75,38.1,24.79,3.18,21.51]
[null,0.3,5.9,4086.8,7.74,52.68,8.76,38.29,24.75,3.21,21.53]
[null,0.3,5.95,4130.7,7.73,52.42,8.7799999999999994,38.479999999999997,24.72,3.24,21.56]
[null,0.3,6,4174.6000000000004,7.72,52.16,8.7899999999999991,38.659999999999997,24.69,3.26,21.59]
[null,0.3,6.05,4218.6000000000004,7.71,51.91,8.81,38.840000000000003,24.65,3.29,21.62]
[null,0.3,6.1,4262.7,7.7,51.65,8.82,39.020000000000003,24.62,3.32,21.65]
[null,0.3,6.15,4306.8,7.69,51.41,8.83,39.200000000000003,24.59,3.35,21.68]
[null,0.3,6.2,4351,7.68,51.16,8.85,39.380000000000003,24.56,3.38,21.71]
[null,0.3,6.25,4395.3,7.68,50.92,8.86,39.56,24.53,3.41,21.75]
[null,0.3,6.3,4439.6000000000004,7.67,50.69,8.8699999999999992,39.729999999999997,24.51,3.44,21.78]
[null,0.3,6.35,4484,7.66,50.46,8.89,39.909999999999997,24.48,3.46,21.81]
[null,0.3,6.4,4528.5,7.66,50.23,8.9,40.08,24.45,3.49,21.85]
[null,0.3,6.45,4573,7.65,50,8.91,40.26,24.43,3.52,21.88]
[null,0.3,6.5,4617.6000000000004,7.65,49.77,8.93,40.43,24.4,3.55,21.92]
[null,0.3,6.55,4662.3,7.64,49.55,8.94,40.6,24.38,3.58,21.95]
[null,0.3,6.6,4707,7.64,49.33,8.9499999999999993,40.76,24.36,3.61,21.99]
[null,0.3,6.65,4751.8,7.64,49.11,8.9700000000000006,40.92,24.34,3.63,22.02]
[null,0.3,6.7,4796.7,7.63,48.88,8.98,41.08,24.31,3.66,22.05]
[null,0.3,6.75,4841.6000000000004,7.63,48.66,8.99,41.24,24.29,3.69,22.08]
[null,0.3,6.8,4884.1000000000004,7.2,46.55,7.87,39.65,24.27,3.72,20.95]
[]
[null,0.4,2.8,1677.5,9.36,61.41,6.81,19.04,27.12,1.49,25.98]
[null,0.4,2.85,1711.5,9.25,60.52,6.82,19.13,27.1,1.52,25.93]
[null,0.4,2.9,1745.8,9.15,59.99,6.85,19.329999999999998,27.07,1.54,25.84]
[null,0.4,2.95,1780,9.06,59.33,6.87,19.47,27.05,1.57,25.77]
[null,0.4,3,1814.4,8.9700000000000006,58.84,6.89,19.670000000000002,27.02,1.6,25.68]
[null,0.4,3.05,1848.9,8.8800000000000008,58.08,6.9,19.77,27,1.62,25.62]
[null,0.4,3.1,1883.5,8.8000000000000007,57.49,6.92,19.920000000000002,26.97,1.65,25.55]
[null,0.4,3.15,1918.1,8.7200000000000006,57.09,6.95,20.13,26.95,1.67,25.45]
[null,0.4,3.2,1952.9,8.65,56.42,6.96,20.239999999999998,26.92,1.7,25.39]
[null,0.4,3.25,1987.8,8.58,55.93,6.98,20.399999999999999,26.89,1.73,25.31]
[null,0.4,3.3,2022.7,8.51,55.61,7.01,20.63,26.86,1.75,25.22]
[null,0.4,3.35,2057.8000000000002,8.44,55.03,7.03,20.75,26.83,1.78,25.16]
[null,0.4,3.4,2093,8.3800000000000008,54.62,7.05,20.94,26.8,1.81,25.08]
[null,0.4,3.45,2128.3000000000002,8.33,54.39,7.08,21.19,26.78,1.83,24.98]
[null,0.4,3.5,2163.8000000000002,8.27,53.91,7.1,21.33,26.75,1.86,24.91]
[null,0.4,3.55,2199.3000000000002,8.2200000000000006,53.6,7.12,21.54,26.72,1.89,24.83]
[null,0.4,3.6,2235,8.17,53.46,7.15,21.82,26.68,1.91,24.73]
[null,0.4,3.65,2270.8000000000002,8.1300000000000008,53.07,7.17,21.99,26.65,1.94,24.66]
[null,0.4,3.7,2306.6999999999998,8.08,52.85,7.2,22.23,26.62,1.97,24.58]
[null,0.4,3.75,2342.8000000000002,8.0399999999999991,52.53,7.22,22.42,26.59,1.99,24.51]
[null,0.4,3.8,2379,8,52.51,7.26,22.75,26.56,2.02,24.41]
[null,0.4,3.85,2415.3000000000002,7.97,52.26,7.28,22.97,26.52,2.0499999999999998,24.33]
[null,0.4,3.9,2451.8000000000002,7.93,52.16,7.32,23.26,26.49,2.08,24.25]
[null,0.4,3.95,2488.5,7.9,51.97,7.34,23.5,26.46,2.1,24.17]
[null,0.4,4,2525.3000000000002,7.87,51.8,7.37,23.75,26.42,2.13,24.1]
[null,0.4,4.05,2562.1999999999998,7.85,51.92,7.41,24.15,26.39,2.16,23.99]
[null,0.4,4.0999999999999996,2599.4,7.82,51.81,7.45,24.43,26.35,2.1800000000000002,23.91]
[null,0.4,4.1500000000000004,2636.7,7.8,51.85,7.48,24.79,26.32,2.21,23.81]
[null,0.4,4.2,2674.2,7.78,51.81,7.52,25.1,26.28,2.2400000000000002,23.73]
[null,0.4,4.25,2711.9,7.76,51.79,7.56,25.44,26.25,2.27,23.64]
[null,0.4,4.3,2749.8,7.75,52.04,7.6,25.91,26.21,2.29,23.52]
[null,0.4,4.3499999999999996,2787.9,7.74,52.1,7.64,26.29,26.17,2.3199999999999998,23.42]
[null,0.4,4.4000000000000004,2826.2,7.73,52.22,7.69,26.69,26.13,2.35,23.32]
[null,0.4,4.45,2864.8,7.73,52.37,7.73,27.12,26.1,2.38,23.21]
[null,0.4,4.5,2903.6,7.73,52.69,7.79,27.65,26.06,2.4,23.07]
[null,0.4,4.55,2942.6,7.73,52.94,7.84,28.15,26.02,2.4300000000000002,22.95]
[null,0.4,4.5999999999999996,2982,7.74,53.23,7.89,28.67,25.98,2.46,22.82]
[null,0.4,4.6500000000000004,3021.6,7.76,53.53,7.95,29.21,25.93,2.4900000000000002,22.69]
[null,0.4,4.7,3061.5,7.77,54.05,8.02,29.88,25.89,2.52,22.53]
[null,0.4,4.75,3101.7,7.79,54.35,8.07,30.44,25.85,2.54,22.41]
[null,0.4,4.8,3142.2,7.81,54.63,8.1300000000000008,30.98,25.8,2.57,22.29]
[null,0.4,4.8499999999999996,3183,7.83,54.86,8.18,31.51,25.75,2.6,22.17]
[null,0.4,4.9000000000000004,3224,7.85,55.06,8.23,32.01,25.71,2.63,22.07]
[null,0.4,4.95,3265.3,7.86,55.31,8.2799999999999994,32.56,25.66,2.66,21.96]
[null,0.4,5,3306.8,7.87,55.4,8.32,33.01,25.61,2.69,21.88]
[null,0.4,5.05,3348.5,7.88,55.41,8.36,33.42,25.57,2.71,21.82]
[null,0.4,5.0999999999999996,3390.3,7.88,55.36,8.39,33.79,25.52,2.74,21.76]
[null,0.4,5.15,3432.4,7.88,55.27,8.42,34.130000000000003,25.47,2.77,21.72]
[null,0.4,5.2,3474.6,7.87,55.35,8.4600000000000009,34.58,25.43,2.8,21.65]
[null,0.4,5.25,3517,7.87,55.25,8.49,34.92,25.38,2.83,21.62]
[null,0.4,5.3,3559.5,7.86,55.13,8.52,35.24,25.34,2.86,21.59]
[null,0.4,5.35,3602.1,7.85,54.97,8.5399999999999991,35.53,25.29,2.89,21.57]
[null,0.4,5.4,3644.9,7.84,54.82,8.57,35.83,25.25,2.92,21.55]
[null,0.4,5.45,3687.8,7.83,54.65,8.59,36.11,25.21,2.94,21.54]
[null,0.4,5.5,3730.8,7.82,54.44,8.61,36.369999999999997,25.16,2.97,21.53]
[null,0.4,5.55,3773.9,7.81,54.38,8.64,36.72,25.12,3,21.5]
[null,0.4,5.6,3817.2,7.8,54.2,8.66,36.99,25.08,3.03,21.5]
[null,0.4,5.65,3860.6,7.79,54.01,8.68,37.25,25.04,3.06,21.5]
[null,0.4,5.7,3904,7.78,53.8,8.6999999999999993,37.49,25,3.09,21.51]
[null,0.4,5.75,3947.6,7.77,53.58,8.7200000000000006,37.729999999999997,24.96,3.12,21.52]
[null,0.4,5.8,3991.2,7.76,53.35,8.74,37.950000000000003,24.93,3.15,21.53]
[null,0.4,5.85,4034.9,7.75,53.12,8.75,38.17,24.89,3.17,21.55]
[null,0.4,5.9,4078.8,7.74,52.88,8.77,38.369999999999997,24.85,3.2,21.57]
[null,0.4,5.95,4122.6000000000004,7.73,52.63,8.7899999999999991,38.57,24.82,3.23,21.6]
[null,0.4,6,4166.6000000000004,7.72,52.38,8.8000000000000007,38.76,24.78,3.26,21.63]
[null,0.4,6.05,4210.6000000000004,7.71,52.13,8.81,38.950000000000003,24.75,3.29,21.65]
[null,0.4,6.1,4254.7,7.7,51.88,8.83,39.130000000000003,24.72,3.32,21.68]
[null,0.4,6.15,4298.8999999999996,7.7,51.63,8.84,39.32,24.69,3.35,21.72]
[null,0.4,6.2,4343.2,7.69,51.39,8.86,39.5,24.66,3.37,21.75]
[null,0.4,6.25,4387.5,7.68,51.15,8.8699999999999992,39.68,24.63,3.4,21.78]
[null,0.4,6.3,4431.8999999999996,7.67,50.92,8.8800000000000008,39.86,24.6,3.43,21.81]
[null,0.4,6.35,4476.3,7.67,50.68,8.9,40.04,24.57,3.46,21.85]
[null,0.4,6.4,4520.8,7.66,50.45,8.91,40.21,24.55,3.49,21.88]
[null,0.4,6.45,4565.3999999999996,7.66,50.22,8.92,40.380000000000003,24.52,3.52,21.91]
[null,0.4,6.5,4610.1000000000004,7.65,50,8.94,40.56,24.5,3.54,21.95]
[null,0.4,6.55,4654.8,7.65,49.77,8.9499999999999993,40.729999999999997,24.47,3.57,21.98]
[null,0.4,6.6,4699.6000000000004,7.65,49.54,8.9600000000000009,40.89,24.45,3.6,22.02]
[null,0.4,6.65,4744.3999999999996,7.64,49.31,8.9700000000000006,41.05,24.43,3.63,22.05]
[null,0.4,6.7,4789.3,7.64,49.09,8.99,41.21,24.4,3.66,22.08]
[null,0.4,6.75,4834.2,7.58,48.4,8.83,40.94,24.38,3.69,21.9]
[null,0.4,6.8,4876,7.21,46.76,7.88,39.79,24.36,3.71,20.98]
[]
[null,0.5,2.8,1677,9.34,60.9,6.79,18.87,27.23,1.49,26.03]
[null,0.5,2.85,1711,9.24,60.18,6.81,19.010000000000002,27.21,1.52,25.96]
[null,0.5,2.9,1745,9.14,59.33,6.82,19.100000000000001,27.18,1.54,25.9]
[null,0.5,2.95,1779.2,9.0500000000000007,58.82,6.85,19.29,27.16,1.57,25.81]
[null,0.5,3,1813.5,8.9499999999999993,58.18,6.87,19.440000000000001,27.13,1.6,25.74]
[null,0.5,3.05,1847.9,8.8699999999999992,57.72,6.89,19.63,27.11,1.62,25.65]
[null,0.5,3.1,1882.4,8.7899999999999991,56.99,6.9,19.73,27.08,1.65,25.59]
[null,0.5,3.15,1916.9,8.7100000000000009,56.44,6.92,19.88,27.05,1.67,25.52]
[null,0.5,3.2,1951.6,8.64,56.07,6.95,20.100000000000001,27.02,1.7,25.42]
[null,0.5,3.25,1986.4,8.56,55.43,6.96,20.2,26.99,1.73,25.36]
[null,0.5,3.3,2021.2,8.5,54.96,6.98,20.37,26.97,1.75,25.29]
[null,0.5,3.35,2056.1999999999998,8.43,54.68,7.01,20.6,26.94,1.78,25.19]
[null,0.5,3.4,2091.3000000000002,8.3699999999999992,54.13,7.03,20.72,26.91,1.81,25.13]
[null,0.5,3.45,2126.5,8.32,53.75,7.05,20.91,26.88,1.83,25.05]
[null,0.5,3.5,2161.8000000000002,8.26,53.55,7.08,21.17,26.85,1.86,24.96]
[null,0.5,3.55,2197.1999999999998,8.2100000000000009,53.11,7.1,21.31,26.81,1.89,24.89]
[null,0.5,3.6,2232.8000000000002,8.16,52.83,7.12,21.53,26.78,1.91,24.81]
[null,0.5,3.65,2268.5,8.11,52.72,7.15,21.81,26.75,1.94,24.72]
[null,0.5,3.7,2304.3000000000002,8.07,52.37,7.18,21.99,26.72,1.97,24.65]
[null,0.5,3.75,2340.1999999999998,8.0299999999999994,52.18,7.2,22.24,26.69,1.99,24.57]
[null,0.5,3.8,2376.3000000000002,7.99,51.89,7.23,22.44,26.65,2.02,24.5]
[null,0.5,3.85,2412.5,7.95,51.89,7.26,22.78,26.62,2.0499999999999998,24.4]
[null,0.5,3.9,2448.9,7.92,51.67,7.29,23,26.59,2.0699999999999998,24.33]
[null,0.5,3.95,2485.4,7.89,51.59,7.32,23.3,26.55,2.1,24.25]
[null,0.5,4,2522.1,7.86,51.42,7.35,23.55,26.52,2.13,24.17]
[null,0.5,4.05,2558.9,7.83,51.27,7.38,23.81,26.49,2.16,24.1]
[null,0.5,4.0999999999999996,2595.9,7.81,51.41,7.42,24.2,26.45,2.1800000000000002,23.99]
[null,0.5,4.1500000000000004,2633.1,7.78,51.32,7.45,24.49,26.42,2.21,23.92]
[null,0.5,4.2,2670.5,7.76,51.38,7.49,24.85,26.38,2.2400000000000002,23.82]
[null,0.5,4.25,2708,7.75,51.35,7.53,25.17,26.34,2.2599999999999998,23.74]
[null,0.5,4.3,2745.8,7.73,51.34,7.56,25.51,26.31,2.29,23.65]
[null,0.5,4.3499999999999996,2783.7,7.72,51.37,7.6,25.86,26.27,2.3199999999999998,23.56]
[null,0.5,4.4000000000000004,2821.8,7.71,51.67,7.65,26.36,26.23,2.35,23.43]
[null,0.5,4.45,2860.2,7.7,51.8,7.7,26.77,26.19,2.37,23.33]
[null,0.5,4.5,2898.8,7.7,51.96,7.74,27.21,26.16,2.4,23.22]
[null,0.5,4.55,2937.6,7.7,52.29,7.8,27.74,26.12,2.4300000000000002,23.09]
[null,0.5,4.5999999999999996,2976.7,7.71,52.55,7.85,28.24,26.08,2.46,22.97]
[null,0.5,4.6500000000000004,3016.1,7.72,52.84,7.9,28.77,26.03,2.48,22.85]
[null,0.5,4.7,3055.8,7.73,53.15,7.96,29.31,25.99,2.5099999999999998,22.72]
[null,0.5,4.75,3095.7,7.75,53.67,8.02,29.98,25.95,2.54,22.56]
[null,0.5,4.8,3136,7.77,53.99,8.08,30.54,25.9,2.57,22.44]
[null,0.5,4.8499999999999996,3176.5,7.79,54.27,8.14,31.09,25.86,2.6,22.32]
[null,0.5,4.9000000000000004,3217.4,7.81,54.51,8.19,31.62,25.81,2.63,22.21]
[null,0.5,4.95,3258.4,7.82,54.72,8.24,32.130000000000003,25.77,2.65,22.11]
[null,0.5,5,3299.7,7.84,54.98,8.2899999999999991,32.69,25.72,2.68,22]
[null,0.5,5.05,3341.3,7.85,55.08,8.33,33.14,25.68,2.71,21.92]
[null,0.5,5.0999999999999996,3383.1,7.86,55.11,8.3699999999999992,33.56,25.63,2.74,21.86]
[null,0.5,5.15,3425,7.86,55.08,8.4,33.93,25.58,2.77,21.81]
[null,0.5,5.2,3467.1,7.86,55.01,8.44,34.28,25.54,2.8,21.77]
[null,0.5,5.25,3509.3,7.85,55.09,8.4700000000000006,34.74,25.49,2.83,21.7]
[null,0.5,5.3,3551.8,7.85,55.01,8.5,35.090000000000003,25.44,2.85,21.67]
[null,0.5,5.35,3594.4,7.84,54.9,8.5299999999999994,35.409999999999997,25.4,2.88,21.64]
[null,0.5,5.4,3637.1,7.83,54.77,8.56,35.72,25.36,2.91,21.62]
[null,0.5,5.45,3679.9,7.82,54.62,8.58,36.020000000000003,25.31,2.94,21.6]
[null,0.5,5.5,3722.9,7.82,54.47,8.61,36.31,25.27,2.97,21.59]
[null,0.5,5.55,3766,7.81,54.29,8.6300000000000008,36.58,25.23,3,21.59]
[null,0.5,5.6,3809.2,7.8,54.22,8.66,36.94,25.19,3.03,21.56]
[null,0.5,5.65,3852.5,7.79,54.06,8.68,37.22,25.14,3.06,21.56]
[null,0.5,5.7,3896,7.78,53.9,8.6999999999999993,37.5,25.1,3.08,21.56]
[null,0.5,5.75,3939.6,7.77,53.71,8.7200000000000006,37.75,25.07,3.11,21.57]
[null,0.5,5.8,3983.2,7.76,53.5,8.74,37.99,25.03,3.14,21.58]
[null,0.5,5.85,4026.9,7.75,53.28,8.76,38.22,24.99,3.17,21.6]
[null,0.5,5.9,4070.8,7.74,53.05,8.77,38.44,24.95,3.2,21.62]
[null,0.5,5.95,4114.7,7.74,52.83,8.7899999999999991,38.65,24.92,3.23,21.64]
[null,0.5,6,4158.7,7.73,52.59,8.81,38.86,24.88,3.26,21.66]
[null,0.5,6.05,4202.7,7.72,52.34,8.82,39.049999999999997,24.85,3.28,21.69]
[null,0.5,6.1,4246.8999999999996,7.71,52.1,8.84,39.24,24.82,3.31,21.72]
[null,0.5,6.15,4291.1000000000004,7.7,51.86,8.85,39.43,24.79,3.34,21.75]
[null,0.5,6.2,4335.3999999999996,7.69,51.62,8.86,39.619999999999997,24.75,3.37,21.78]
[null,0.5,6.25,4379.7,7.69,51.38,8.8800000000000008,39.799999999999997,24.72,3.4,21.82]
[null,0.5,6.3,4424.2,7.68,51.14,8.89,39.979999999999997,24.7,3.43,21.85]
[null,0.5,6.35,4468.7,7.67,50.91,8.91,40.159999999999997,24.67,3.46,21.88]
[null,0.5,6.4,4513.2,7.67,50.67,8.92,40.340000000000003,24.64,3.48,21.91]
[null,0.5,6.45,4557.8999999999996,7.66,50.44,8.93,40.51,24.61,3.51,21.95]
[null,0.5,6.5,4602.6000000000004,7.66,50.21,8.9499999999999993,40.68,24.59,3.54,21.98]
[null,0.5,6.55,4647.3,7.65,49.98,8.9600000000000009,40.85,24.56,3.57,22.01]
[null,0.5,6.6,4692.1000000000004,7.65,49.75,8.9700000000000006,41.02,24.54,3.6,22.05]
[null,0.5,6.65,4737,7.65,49.52,8.98,41.17,24.52,3.63,22.08]
[null,0.5,6.7,4782,7.65,49.29,9,41.33,24.49,3.65,22.11]
[null,0.5,6.75,4826.5,7.49,48.09,8.6199999999999992,40.6,24.47,3.68,21.66]
[null,0.5,6.8,4867.8999999999996,7.21,46.99,7.89,39.94,24.44,3.71,21.02]
[]
[null,0.6,2.8,1676.5,9.33,60.56,6.78,18.75,27.35,1.49,26.05]
[null,0.6,2.85,1710.4,9.23,59.68,6.79,18.84,27.32,1.52,26]
[null,0.6,2.9,1744.4,9.1300000000000008,58.99,6.81,18.98,27.29,1.54,25.93]
[null,0.6,2.95,1778.5,9.0299999999999994,58.47,6.83,19.170000000000002,27.27,1.57,25.84]
[null,0.6,3,1812.7,8.94,57.69,6.85,19.260000000000002,27.24,1.6,25.78]
[null,0.6,3.05,1847,8.86,57.08,6.86,19.399999999999999,27.21,1.62,25.71]
[null,0.6,3.1,1881.3,8.7799999999999994,56.65,6.89,19.600000000000001,27.18,1.65,25.62]
[null,0.6,3.15,1915.8,8.6999999999999993,55.95,6.9,19.690000000000001,27.15,1.67,25.56]
[null,0.6,3.2,1950.4,8.6199999999999992,55.43,6.92,19.850000000000001,27.13,1.7,25.49]
[null,0.6,3.25,1985,8.5500000000000007,55.09,6.95,20.059999999999999,27.1,1.73,25.4]
[null,0.6,3.3,2019.8,8.49,54.48,6.96,20.170000000000002,27.07,1.75,25.34]
[null,0.6,3.35,2054.6999999999998,8.42,54.05,6.98,20.34,27.04,1.78,25.26]
[null,0.6,3.4,2089.6,8.36,53.79,7.01,20.57,27.01,1.81,25.17]
[null,0.6,3.45,2124.6999999999998,8.31,53.28,7.03,20.7,26.98,1.83,25.11]
[null,0.6,3.5,2159.9,8.25,52.94,7.05,20.9,26.94,1.86,25.03]
[null,0.6,3.55,2195.1999999999998,8.1999999999999993,52.77,7.08,21.16,26.91,1.89,24.94]
[null,0.6,3.6,2230.6999999999998,8.15,52.36,7.1,21.31,26.88,1.91,24.88]
[null,0.6,3.65,2266.3000000000002,8.1,52.11,7.13,21.53,26.85,1.94,24.8]
[null,0.6,3.7,2301.9,8.06,52.03,7.16,21.83,26.82,1.97,24.71]
[null,0.6,3.75,2337.8000000000002,8.02,51.71,7.18,22.01,26.78,1.99,24.64]
[null,0.6,3.8,2373.8000000000002,7.98,51.56,7.21,22.27,26.75,2.02,24.56]
[null,0.6,3.85,2409.9,7.94,51.29,7.23,22.48,26.72,2.0499999999999998,24.5]
[null,0.6,3.9,2446.1,7.91,51.32,7.27,22.82,26.68,2.0699999999999998,24.4]
[null,0.6,3.95,2482.5,7.88,51.12,7.3,23.05,26.65,2.1,24.33]
[null,0.6,4,2519.1,7.85,51.07,7.33,23.35,26.62,2.13,24.25]
[null,0.6,4.05,2555.8000000000002,7.82,50.92,7.36,23.6,26.58,2.15,24.18]
[null,0.6,4.0999999999999996,2592.6,7.79,50.79,7.39,23.87,26.55,2.1800000000000002,24.11]
[null,0.6,4.1500000000000004,2629.7,7.77,50.93,7.43,24.27,26.51,2.21,24]
[null,0.6,4.2,2666.9,7.75,50.86,7.46,24.56,26.48,2.23,23.92]
[null,0.6,4.25,2704.3,7.73,50.81,7.5,24.87,26.44,2.2599999999999998,23.85]
[null,0.6,4.3,2741.9,7.71,50.91,7.54,25.25,26.4,2.29,23.75]
[null,0.6,4.3499999999999996,2779.7,7.7,50.92,7.57,25.59,26.37,2.3199999999999998,23.66]
[null,0.6,4.4000000000000004,2817.6,7.69,50.96,7.61,25.94,26.33,2.34,23.58]
[null,0.6,4.45,2855.8,7.68,51.27,7.66,26.45,26.29,2.37,23.45]
[null,0.6,4.5,2894.2,7.67,51.4,7.71,26.86,26.25,2.4,23.35]
[null,0.6,4.55,2932.9,7.67,51.58,7.75,27.3,26.22,2.4300000000000002,23.24]
[null,0.6,4.5999999999999996,2971.8,7.67,51.91,7.81,27.84,26.18,2.4500000000000002,23.12]
[null,0.6,4.6500000000000004,3010.9,7.68,52.18,7.86,28.34,26.13,2.48,23]
[null,0.6,4.7,3050.4,7.69,52.49,7.91,28.87,26.09,2.5099999999999998,22.87]
[null,0.6,4.75,3090.1,7.71,52.8,7.97,29.42,26.05,2.54,22.75]
[null,0.6,4.8,3130.1,7.72,53.32,8.0399999999999991,30.09,26.01,2.57,22.6]
[null,0.6,4.8499999999999996,3170.4,7.74,53.64,8.09,30.65,25.96,2.59,22.47]
[null,0.6,4.9000000000000004,3211,7.76,53.93,8.15,31.21,25.92,2.62,22.36]
[null,0.6,4.95,3251.8,7.78,54.19,8.1999999999999993,31.74,25.87,2.65,22.25]
[null,0.6,5,3293,7.8,54.4,8.25,32.26,25.83,2.68,22.15]
[null,0.6,5.05,3334.3,7.82,54.68,8.3000000000000007,32.82,25.78,2.71,22.05]
[null,0.6,5.0999999999999996,3376,7.83,54.79,8.34,33.28,25.74,2.74,21.97]
[null,0.6,5.15,3417.8,7.84,54.83,8.3800000000000008,33.71,25.69,2.76,21.91]
[null,0.6,5.2,3459.8,7.84,54.82,8.42,34.090000000000003,25.64,2.79,21.86]
[null,0.6,5.25,3501.9,7.84,54.77,8.4499999999999993,34.450000000000003,25.6,2.82,21.82]
[null,0.6,5.3,3544.2,7.83,54.86,8.49,34.909999999999997,25.55,2.85,21.76]
[null,0.6,5.35,3586.8,7.83,54.8,8.52,35.270000000000003,25.51,2.88,21.72]
[null,0.6,5.4,3629.4,7.82,54.7,8.5500000000000007,35.6,25.46,2.91,21.7]
[null,0.6,5.45,3672.2,7.82,54.58,8.57,35.92,25.42,2.94,21.68]
[null,0.6,5.5,3715.1,7.81,54.45,8.6,36.229999999999997,25.37,2.97,21.66]
[null,0.6,5.55,3758.2,7.8,54.32,8.6199999999999992,36.53,25.33,2.99,21.65]
[null,0.6,5.6,3801.4,7.79,54.14,8.65,36.799999999999997,25.29,3.02,21.65]
[null,0.6,5.65,3844.7,7.79,54.1,8.67,37.17,25.25,3.05,21.63]
[null,0.6,5.7,3888.1,7.78,53.97,8.6999999999999993,37.47,25.21,3.08,21.63]
[null,0.6,5.75,3931.6,7.77,53.81,8.7200000000000006,37.75,25.17,3.11,21.63]
[null,0.6,5.8,3975.3,7.76,53.63,8.74,38.01,25.13,3.14,21.64]
[null,0.6,5.85,4019,7.75,53.43,8.76,38.26,25.09,3.17,21.65]
[null,0.6,5.9,4062.9,7.75,53.22,8.7799999999999994,38.49,25.05,3.19,21.67]
[null,0.6,5.95,4106.8,7.74,53,8.8000000000000007,38.72,25.02,3.22,21.69]
[null,0.6,6,4150.8,7.73,52.78,8.81,38.94,24.98,3.25,21.71]
[null,0.6,6.05,4194.8999999999996,7.72,52.55,8.83,39.15,24.95,3.28,21.73]
[null,0.6,6.1,4239.1000000000004,7.71,52.32,8.84,39.35,24.92,3.31,21.76]
[null,0.6,6.15,4283.3,7.71,52.08,8.86,39.54,24.88,3.34,21.79]
[null,0.6,6.2,4327.7,7.7,51.84,8.8699999999999992,39.729999999999997,24.85,3.37,21.82]
[null,0.6,6.25,4372.1000000000004,7.69,51.6,8.89,39.92,24.82,3.39,21.85]
[null,0.6,6.3,4416.5,7.69,51.37,8.9,40.1,24.79,3.42,21.88]
[null,0.6,6.35,4461.1000000000004,7.68,51.13,8.92,40.28,24.76,3.45,21.92]
[null,0.6,6.4,4505.7,7.67,50.89,8.93,40.46,24.73,3.48,21.95]
[null,0.6,6.45,4550.3,7.67,50.66,8.94,40.64,24.71,3.51,21.98]
[null,0.6,6.5,4595.1000000000004,7.67,50.43,8.9600000000000009,40.81,24.68,3.54,22.01]
[null,0.6,6.55,4639.8999999999996,7.66,50.19,8.9700000000000006,40.97,24.66,3.57,22.05]
[null,0.6,6.6,4684.8,7.66,49.96,8.98,41.14,24.63,3.59,22.08]
[null,0.6,6.65,4729.7,7.65,49.73,8.99,41.3,24.61,3.62,22.11]
[null,0.6,6.7,4774.7,7.65,49.5,9.01,41.46,24.58,3.65,22.14]
[null,0.6,6.75,4818.8,7.47,48.13,8.5399999999999991,40.58,24.56,3.68,21.59]
[null,0.6,6.8,4859.8999999999996,7.22,47.21,7.9,40.08,24.53,3.7,21.05]
[]
[null,0.7,2.8,1676.1,9.32,60.14,6.76,18.62,27.46,1.49,26.09]
[null,0.7,2.85,1709.9,9.2100000000000009,59.33,6.78,18.72,27.43,1.52,26.03]
[null,0.7,2.9,1743.8,9.1199999999999992,58.49,6.79,18.809999999999999,27.4,1.54,25.97]
[null,0.7,2.95,1777.8,9.02,57.83,6.81,18.940000000000001,27.37,1.57,25.9]
[null,0.7,3,1811.9,8.93,57.34,6.83,19.13,27.35,1.6,25.81]
[null,0.7,3.05,1846.1,8.85,56.59,6.85,19.22,27.32,1.62,25.76]
[null,0.7,3.1,1880.4,8.77,56.02,6.86,19.36,27.29,1.65,25.68]
[null,0.7,3.15,1914.7,8.69,55.62,6.89,19.559999999999999,27.26,1.68,25.59]
[null,0.7,3.2,1949.2,8.61,54.96,6.9,19.66,27.23,1.7,25.54]
[null,0.7,3.25,1983.8,8.5399999999999991,54.47,6.92,19.82,27.2,1.73,25.46]
[null,0.7,3.3,2018.4,8.48,54.16,6.95,20.03,27.17,1.75,25.37]
[null,0.7,3.35,2053.1999999999998,8.41,53.58,6.96,20.14,27.14,1.78,25.32]
[null,0.7,3.4,2088.1,8.35,53.19,6.98,20.32,27.11,1.81,25.24]
[null,0.7,3.45,2123,8.3000000000000007,52.96,7.01,20.56,27.07,1.83,25.15]
[null,0.7,3.5,2158.1,8.24,52.49,7.03,20.69,27.04,1.86,25.09]
[null,0.7,3.55,2193.4,8.19,52.18,7.05,20.89,27.01,1.89,25.02]
[null,0.7,3.6,2228.6999999999998,8.14,52.05,7.08,21.16,26.98,1.91,24.93]
[null,0.7,3.65,2264.1,8.09,51.67,7.1,21.32,26.95,1.94,24.87]
[null,0.7,3.7,2299.6999999999998,8.0500000000000007,51.45,7.13,21.55,26.91,1.97,24.79]
[null,0.7,3.75,2335.4,8.01,51.4,7.16,21.85,26.88,1.99,24.7]
[null,0.7,3.8,2371.3000000000002,7.97,51.11,7.19,22.05,26.85,2.02,24.64]
[null,0.7,3.85,2407.3000000000002,7.93,50.98,7.21,22.31,26.81,2.0499999999999998,24.56]
[null,0.7,3.9,2443.4,7.9,50.74,7.24,22.52,26.78,2.0699999999999998,24.5]
[null,0.7,3.95,2479.6999999999998,7.87,50.79,7.28,22.87,26.75,2.1,24.4]
[null,0.7,4,2516.1999999999998,7.83,50.61,7.3,23.1,26.71,2.13,24.34]
[null,0.7,4.05,2552.6999999999998,7.81,50.45,7.33,23.35,26.68,2.15,24.27]
[null,0.7,4.0999999999999996,2589.5,7.78,50.44,7.37,23.67,26.64,2.1800000000000002,24.18]
[null,0.7,4.1500000000000004,2626.4,7.76,50.33,7.4,23.94,26.61,2.21,24.12]
[null,0.7,4.2,2663.5,7.73,50.48,7.44,24.34,26.57,2.23,24.01]
[null,0.7,4.25,2700.7,7.71,50.42,7.47,24.64,26.54,2.2599999999999998,23.94]
[null,0.7,4.3,2738.2,7.7,50.39,7.51,24.95,26.5,2.29,23.86]
[null,0.7,4.3499999999999996,2775.8,7.68,50.5,7.55,25.33,26.46,2.31,23.76]
[null,0.7,4.4000000000000004,2813.6,7.67,50.52,7.58,25.67,26.43,2.34,23.68]
[null,0.7,4.45,2851.6,7.66,50.57,7.62,26.03,26.39,2.37,23.59]
[null,0.7,4.5,2889.9,7.65,50.9,7.67,26.54,26.35,2.4,23.47]
[null,0.7,4.55,2928.4,7.65,51.04,7.72,26.96,26.31,2.42,23.37]
[null,0.7,4.5999999999999996,2967,7.65,51.22,7.76,27.41,26.27,2.4500000000000002,23.27]
[null,0.7,4.6500000000000004,3006,7.65,51.56,7.82,27.94,26.23,2.48,23.14]
[null,0.7,4.7,3045.2,7.66,51.85,7.87,28.46,26.19,2.5099999999999998,23.02]
[null,0.7,4.75,3084.7,7.67,52.16,7.93,28.99,26.15,2.5299999999999998,22.9]
[null,0.7,4.8,3124.5,7.68,52.48,7.98,29.54,26.11,2.56,22.78]
[null,0.7,4.8499999999999996,3164.5,7.7,53,8.0500000000000007,30.21,26.07,2.59,22.63]
[null,0.7,4.9000000000000004,3204.9,7.72,53.33,8.1,30.78,26.02,2.62,22.51]
[null,0.7,4.95,3245.5,7.74,53.63,8.16,31.34,25.98,2.65,22.4]
[null,0.7,5,3286.5,7.76,53.89,8.2100000000000009,31.88,25.93,2.68,22.29]
[null,0.7,5.05,3327.6,7.78,54.12,8.26,32.4,25.89,2.7,22.2]
[null,0.7,5.0999999999999996,3369.1,7.8,54.4,8.31,32.97,25.84,2.73,22.1]
[null,0.7,5.15,3410.7,7.81,54.53,8.36,33.44,25.79,2.76,22.02]
[null,0.7,5.2,3452.6,7.82,54.59,8.4,33.869999999999997,25.75,2.79,21.96]
[null,0.7,5.25,3494.7,7.82,54.59,8.43,34.26,25.7,2.82,21.91]
[null,0.7,5.3,3536.9,7.82,54.55,8.4600000000000009,34.630000000000003,25.66,2.85,21.87]
[null,0.7,5.35,3579.3,7.82,54.47,8.49,34.979999999999997,25.61,2.88,21.84]
[null,0.7,5.4,3621.9,7.81,54.6,8.5299999999999994,35.46,25.57,2.9,21.78]
[null,0.7,5.45,3664.6,7.81,54.52,8.56,35.81,25.52,2.93,21.76]
[null,0.7,5.5,3707.5,7.8,54.42,8.59,36.130000000000003,25.48,2.96,21.74]
[null,0.7,5.55,3750.5,7.8,54.3,8.61,36.450000000000003,25.44,2.99,21.72]
[null,0.7,5.6,3793.6,7.79,54.2,8.64,36.770000000000003,25.39,3.02,21.72]
[null,0.7,5.65,3836.9,7.78,54.05,8.66,37.06,25.35,3.05,21.71]
[null,0.7,5.7,3880.3,7.78,53.99,8.69,37.42,25.31,3.08,21.7]
[null,0.7,5.75,3923.8,7.77,53.87,8.7200000000000006,37.72,25.27,3.1,21.69]
[null,0.7,5.8,3967.4,7.76,53.72,8.74,38.01,25.23,3.13,21.7]
[null,0.7,5.85,4011.2,7.75,53.56,8.76,38.28,25.19,3.16,21.7]
[null,0.7,5.9,4055,7.75,53.37,8.7799999999999994,38.54,25.16,3.19,21.72]
[null,0.7,5.95,4099,7.74,53.17,8.8000000000000007,38.78,25.12,3.22,21.73]
[null,0.7,6,4143,7.73,52.96,8.82,39.01,25.08,3.25,21.75]
[null,0.7,6.05,4187.1000000000004,7.73,52.75,8.83,39.229999999999997,25.05,3.28,21.78]
[null,0.7,6.1,4231.3,7.72,52.53,8.85,39.450000000000003,25.01,3.31,21.8]
[null,0.7,6.15,4275.6000000000004,7.71,52.29,8.8699999999999992,39.65,24.98,3.33,21.83]
[null,0.7,6.2,4320,7.7,52.06,8.8800000000000008,39.840000000000003,24.95,3.36,21.86]
[null,0.7,6.25,4364.3999999999996,7.7,51.82,8.9,40.03,24.92,3.39,21.89]
[null,0.7,6.3,4408.8999999999996,7.69,51.59,8.91,40.22,24.89,3.42,21.92]
[null,0.7,6.35,4453.5,7.69,51.35,8.92,40.4,24.86,3.45,21.95]
[null,0.7,6.4,4498.2,7.68,51.11,8.94,40.58,24.83,3.48,21.98]
[null,0.7,6.45,4542.8999999999996,7.68,50.88,8.9499999999999993,40.76,24.8,3.5,22.01]
[null,0.7,6.5,4587.7,7.67,50.64,8.9600000000000009,40.93,24.77,3.53,22.05]
[null,0.7,6.55,4632.5,7.67,50.4,8.98,41.09,24.75,3.56,22.08]
[null,0.7,6.6,4677.3999999999996,7.66,50.16,8.99,41.26,24.72,3.59,22.11]
[null,0.7,6.65,4722.3999999999996,7.66,49.93,9,41.42,24.7,3.62,22.14]
[null,0.7,6.7,4767.3999999999996,7.65,49.67,9,41.56,24.67,3.65,22.16]
[null,0.7,6.75,4811,7.45,48.22,8.4700000000000006,40.6,24.65,3.67,21.54]
[null,0.7,6.8,4851.8999999999996,7.22,47.43,7.91,40.22,24.62,3.7,21.09]
[]
[null,0.8,2.8,1675.7,9.31,59.8,6.75,18.5,27.57,1.49,26.11]
[null,0.8,2.85,1709.5,9.1999999999999993,58.92,6.76,18.579999999999998,27.54,1.52,26.06]
[null,0.8,2.9,1743.3,9.1,58.15,6.78,18.690000000000001,27.51,1.54,26]
[null,0.8,2.95,1777.2,9.01,57.34,6.79,18.77,27.48,1.57,25.94]
[null,0.8,3,1811.2,8.92,56.71,6.81,18.91,27.45,1.6,25.87]
[null,0.8,3.05,1845.3,8.84,56.26,6.83,19.100000000000001,27.42,1.62,25.78]
[null,0.8,3.1,1879.5,8.75,55.55,6.84,19.190000000000001,27.39,1.65,25.73]
[null,0.8,3.15,1913.7,8.68,55.01,6.86,19.329999999999998,27.36,1.68,25.66]
[null,0.8,3.2,1948.1,8.6,54.64,6.89,19.53,27.33,1.7,25.57]
[null,0.8,3.25,1982.6,8.5299999999999994,54.01,6.9,19.63,27.3,1.73,25.51]
[null,0.8,3.3,2017.1,8.4700000000000006,53.56,6.92,19.79,27.27,1.75,25.44]
[null,0.8,3.35,2051.8000000000002,8.4,53.28,6.95,20.010000000000002,27.24,1.78,25.35]
[null,0.8,3.4,2086.6,8.34,52.75,6.96,20.13,27.2,1.81,25.3]
[null,0.8,3.45,2121.4,8.2899999999999991,52.39,6.99,20.309999999999999,27.17,1.83,25.22]
[null,0.8,3.5,2156.4,8.23,52.19,7.01,20.56,27.14,1.86,25.14]
[null,0.8,3.55,2191.5,8.18,51.76,7.03,20.7,27.11,1.89,25.08]
[null,0.8,3.6,2226.8000000000002,8.1300000000000008,51.48,7.06,20.91,27.07,1.91,25.01]
[null,0.8,3.65,2262.1,8.09,51.38,7.09,21.18,27.04,1.94,24.92]
[null,0.8,3.7,2297.6,8.0399999999999991,51.03,7.11,21.35,27.01,1.97,24.86]
[null,0.8,3.75,2333.1999999999998,8,50.85,7.14,21.59,26.97,1.99,24.79]
[null,0.8,3.8,2369,7.96,50.55,7.16,21.78,26.94,2.02,24.73]
[null,0.8,3.85,2404.8000000000002,7.92,50.55,7.19,22.09,26.91,2.0499999999999998,24.64]
[null,0.8,3.9,2440.9,7.89,50.44,7.22,22.36,26.87,2.0699999999999998,24.56]
[null,0.8,3.95,2477,7.85,50.23,7.25,22.58,26.84,2.1,24.5]
[null,0.8,4,2513.4,7.82,50.29,7.28,22.93,26.8,2.13,24.41]
[null,0.8,4.05,2549.8000000000002,7.8,50.13,7.31,23.17,26.77,2.15,24.34]
[null,0.8,4.0999999999999996,2586.5,7.77,49.98,7.34,23.42,26.74,2.1800000000000002,24.28]
[null,0.8,4.1500000000000004,2623.3,7.74,49.99,7.38,23.74,26.7,2.21,24.19]
[null,0.8,4.2,2660.2,7.72,49.89,7.41,24.01,26.66,2.23,24.13]
[null,0.8,4.25,2697.3,7.7,50.06,7.45,24.42,26.63,2.2599999999999998,24.02]
[null,0.8,4.3,2734.6,7.68,50.01,7.48,24.72,26.59,2.29,23.95]
[null,0.8,4.3499999999999996,2772.1,7.67,49.99,7.52,25.03,26.56,2.31,23.87]
[null,0.8,4.4000000000000004,2809.8,7.65,50.11,7.56,25.42,26.52,2.34,23.78]
[null,0.8,4.45,2847.7,7.64,50.15,7.59,25.77,26.48,2.37,23.7]
[null,0.8,4.5,2885.7,7.63,50.21,7.63,26.13,26.45,2.39,23.61]
[null,0.8,4.55,2924,7.63,50.54,7.68,26.65,26.41,2.42,23.49]
[null,0.8,4.5999999999999996,2962.5,7.62,50.7,7.73,27.07,26.37,2.4500000000000002,23.39]
[null,0.8,4.6500000000000004,3001.3,7.62,50.9,7.78,27.52,26.33,2.48,23.29]
[null,0.8,4.7,3040.3,7.63,51.24,7.83,28.06,26.29,2.5,23.17]
[null,0.8,4.75,3079.6,7.64,51.53,7.88,28.58,26.25,2.5299999999999998,23.05]
[null,0.8,4.8,3119.1,7.65,51.85,7.94,29.12,26.21,2.56,22.94]
[null,0.8,4.8499999999999996,3158.9,7.66,52.18,7.99,29.67,26.17,2.59,22.82]
[null,0.8,4.9000000000000004,3199.1,7.68,52.7,8.06,30.35,26.12,2.62,22.67]
[null,0.8,4.95,3239.5,7.7,53.04,8.1199999999999992,30.92,26.08,2.64,22.55]
[null,0.8,5,3280.2,7.72,53.35,8.17,31.48,26.04,2.67,22.44]
[null,0.8,5.05,3321.2,7.74,53.62,8.2200000000000006,32.03,25.99,2.7,22.34]
[null,0.8,5.0999999999999996,3362.4,7.76,53.86,8.27,32.56,25.95,2.73,22.25]
[null,0.8,5.15,3403.9,7.78,54.14,8.33,33.130000000000003,25.9,2.76,22.15]
[null,0.8,5.2,3445.7,7.79,54.28,8.3699999999999992,33.61,25.85,2.79,22.07]
[null,0.8,5.25,3487.6,7.8,54.36,8.41,34.049999999999997,25.81,2.81,22.02]
[null,0.8,5.3,3529.7,7.8,54.38,8.4499999999999993,34.450000000000003,25.76,2.84,21.97]
[null,0.8,5.35,3572,7.8,54.35,8.48,34.83,25.72,2.87,21.93]
[null,0.8,5.4,3614.5,7.8,54.29,8.51,35.18,25.67,2.9,21.9]
[null,0.8,5.45,3657.2,7.8,54.43,8.5500000000000007,35.67,25.63,2.93,21.84]
[null,0.8,5.5,3700,7.8,54.36,8.58,36.020000000000003,25.58,2.96,21.82]
[null,0.8,5.55,3742.9,7.79,54.29,8.61,36.369999999999997,25.54,2.99,21.8]
[null,0.8,5.6,3786,7.78,54.19,8.6300000000000008,36.69,25.5,3.01,21.79]
[null,0.8,5.65,3829.3,7.78,54.09,8.66,37.020000000000003,25.46,3.04,21.78]
[null,0.8,5.7,3872.6,7.77,53.95,8.68,37.32,25.42,3.07,21.78]
[null,0.8,5.75,3916.1,7.77,53.89,8.7100000000000009,37.67,25.38,3.1,21.76]
[null,0.8,5.8,3959.7,7.76,53.78,8.74,37.99,25.34,3.13,21.76]
[null,0.8,5.85,4003.4,7.75,53.65,8.76,38.28,25.3,3.16,21.76]
[null,0.8,5.9,4047.3,7.75,53.49,8.7799999999999994,38.56,25.26,3.19,21.77]
[null,0.8,5.95,4091.2,7.74,53.32,8.8000000000000007,38.82,25.22,3.22,21.79]
[null,0.8,6,4135.3,7.73,53.13,8.82,39.07,25.18,3.24,21.8]
[null,0.8,6.05,4179.3999999999996,7.73,52.92,8.84,39.299999999999997,25.15,3.27,21.82]
[null,0.8,6.1,4223.7,7.72,52.72,8.86,39.53,25.11,3.3,21.84]
[null,0.8,6.15,4268,7.72,52.5,8.8699999999999992,39.75,25.08,3.33,21.87]
[null,0.8,6.2,4312.3999999999996,7.71,52.27,8.89,39.950000000000003,25.05,3.36,21.9]
[null,0.8,6.25,4356.8999999999996,7.7,52.04,8.9,40.14,25.02,3.39,21.93]
[null,0.8,6.3,4401.3999999999996,7.7,51.8,8.92,40.33,24.98,3.42,21.96]
[null,0.8,6.35,4446,7.69,51.57,8.93,40.520000000000003,24.95,3.44,21.99]
[null,0.8,6.4,4490.7,7.69,51.33,8.9499999999999993,40.700000000000003,24.92,3.47,22.02]
[null,0.8,6.45,4535.5,7.68,51.09,8.9600000000000009,40.869999999999997,24.9,3.5,22.05]
[null,0.8,6.5,4580.3,7.68,50.84,8.9700000000000006,41.04,24.87,3.53,22.08]
[null,0.8,6.55,4625.2,7.67,50.6,8.99,41.21,24.84,3.56,22.11]
[null,0.8,6.6,4670.1000000000004,7.67,50.37,9,41.38,24.82,3.59,22.14]
[null,0.8,6.65,4715.2,7.67,50.14,9.01,41.55,24.79,3.62,22.17]
[null,0.8,6.7,4760.1000000000004,7.6,49.45,8.86,41.29,24.76,3.64,21.99]
[null,0.8,6.75,4803.2,7.42,48.3,8.39,40.619999999999997,24.74,3.67,21.49]
[null,0.8,6.8,4844,7.23,47.65,7.92,40.36,24.71,3.7,21.12]
[]
[null,0.9,2.8,1675.3,9.2899999999999991,59.43,6.73,18.38,27.68,1.49,26.14]
[null,0.9,2.85,1709,9.19,58.58,6.75,18.47,27.65,1.52,26.08]
[null,0.9,2.9,1742.8,9.09,57.74,6.76,18.55,27.62,1.55,26.03]
[null,0.9,2.95,1776.6,9,57.01,6.78,18.649999999999999,27.59,1.57,25.97]
[null,0.9,3,1810.6,8.91,56.24,6.79,18.739999999999998,27.56,1.6,25.91]
[null,0.9,3.05,1844.5,8.83,55.65,6.81,18.87,27.52,1.62,25.84]
[null,0.9,3.1,1878.6,8.74,55.23,6.83,19.059999999999999,27.49,1.65,25.76]
[null,0.9,3.15,1912.8,8.67,54.55,6.84,19.149999999999999,27.46,1.68,25.7]
[null,0.9,3.2,1947.1,8.59,54.04,6.86,19.3,27.43,1.7,25.63]
[null,0.9,3.25,1981.4,8.5299999999999994,53.71,6.89,19.510000000000002,27.4,1.73,25.54]
[null,0.9,3.3,2015.9,8.4600000000000009,53.12,6.9,19.61,27.37,1.76,25.49]
[null,0.9,3.35,2050.5,8.4,52.71,6.92,19.78,27.33,1.78,25.42]
[null,0.9,3.4,2085.1,8.34,52.46,6.95,20,27.3,1.81,25.33]
[null,0.9,3.45,2119.9,8.2799999999999994,51.97,6.97,20.13,27.27,1.83,25.28]
[null,0.9,3.5,2154.8000000000002,8.2200000000000006,51.64,6.99,20.32,27.24,1.86,25.21]
[null,0.9,3.55,2189.8000000000002,8.17,51.48,7.02,20.57,27.2,1.89,25.12]
[null,0.9,3.6,2224.9,8.1199999999999992,51.08,7.04,20.72,27.17,1.91,25.07]
[null,0.9,3.65,2260.1999999999998,8.08,50.84,7.06,20.93,27.14,1.94,25]
[null,0.9,3.7,2295.6,8.0299999999999994,50.76,7.09,21.21,27.1,1.97,24.91]
[null,0.9,3.75,2331.1,7.99,50.44,7.12,21.39,27.07,1.99,24.86]
[null,0.9,3.8,2366.6999999999998,7.95,50.28,7.14,21.63,27.03,2.02,24.79]
[null,0.9,3.85,2402.5,7.91,50.01,7.17,21.83,27,2.04,24.73]
[null,0.9,3.9,2438.4,7.88,50.03,7.2,22.15,26.97,2.0699999999999998,24.64]
[null,0.9,3.95,2474.5,7.84,49.94,7.23,22.42,26.93,2.1,24.57]
[null,0.9,4,2510.6999999999998,7.81,49.75,7.26,22.64,26.9,2.12,24.51]
[null,0.9,4.05,2547,7.78,49.82,7.29,22.99,26.86,2.15,24.41]
[null,0.9,4.0999999999999996,2583.6,7.76,49.68,7.32,23.24,26.83,2.1800000000000002,24.35]
[null,0.9,4.1500000000000004,2620.1999999999998,7.73,49.55,7.35,23.49,26.79,2.2000000000000002,24.29]
[null,0.9,4.2,2657.1,7.71,49.57,7.38,23.82,26.76,2.23,24.2]
[null,0.9,4.25,2694.1,7.69,49.48,7.42,24.09,26.72,2.2599999999999998,24.14]
[null,0.9,4.3,2731.2,7.67,49.66,7.46,24.51,26.69,2.29,24.04]
[null,0.9,4.3499999999999996,2768.6,7.65,49.63,7.49,24.81,26.65,2.31,23.96]
[null,0.9,4.4000000000000004,2806.1,7.64,49.62,7.53,25.13,26.61,2.34,23.89]
[null,0.9,4.45,2843.9,7.63,49.75,7.57,25.52,26.58,2.37,23.8]
[null,0.9,4.5,2881.8,7.61,49.8,7.6,25.87,26.54,2.39,23.72]
[null,0.9,4.55,2919.9,7.61,49.88,7.64,26.24,26.5,2.42,23.63]
[null,0.9,4.5999999999999996,2958.2,7.6,50.22,7.7,26.76,26.46,2.4500000000000002,23.52]
[null,0.9,4.6500000000000004,2996.8,7.6,50.39,7.74,27.19,26.43,2.48,23.42]
[null,0.9,4.7,3035.6,7.6,50.59,7.79,27.65,26.39,2.5,23.32]
[null,0.9,4.75,3074.7,7.61,50.84,7.84,28.13,26.35,2.5299999999999998,23.22]
[null,0.9,4.8,3114,7.62,51.24,7.9,28.71,26.31,2.56,23.09]
[null,0.9,4.8499999999999996,3153.7,7.63,51.57,7.95,29.26,26.27,2.59,22.97]
[null,0.9,4.9000000000000004,3193.5,7.64,51.91,8.01,29.81,26.22,2.61,22.86]
[null,0.9,4.95,3233.7,7.66,52.24,8.06,30.38,26.18,2.64,22.74]
[null,0.9,5,3274.2,7.68,52.78,8.1300000000000008,31.07,26.14,2.67,22.6]
[null,0.9,5.05,3315,7.7,53.09,8.18,31.64,26.09,2.7,22.49]
[null,0.9,5.0999999999999996,3356,7.72,53.37,8.24,32.19,26.05,2.73,22.39]
[null,0.9,5.15,3397.3,7.74,53.62,8.2899999999999991,32.729999999999997,26,2.75,22.3]
[null,0.9,5.2,3438.9,7.76,53.91,8.34,33.299999999999997,25.96,2.78,22.2]
[null,0.9,5.25,3480.7,7.77,54.07,8.3800000000000008,33.79,25.91,2.81,22.13]
[null,0.9,5.3,3522.7,7.78,54.15,8.42,34.229999999999997,25.87,2.84,22.07]
[null,0.9,5.35,3564.9,7.79,54.19,8.4600000000000009,34.65,25.82,2.87,22.03]
[null,0.9,5.4,3607.3,7.79,54.18,8.49,35.03,25.78,2.9,21.99]
[null,0.9,5.45,3649.9,7.79,54.13,8.5299999999999994,35.39,25.73,2.93,21.96]
[null,0.9,5.5,3692.6,7.79,54.28,8.57,35.9,25.69,2.95,21.91]
[null,0.9,5.55,3735.5,7.78,54.24,8.6,36.26,25.65,2.98,21.89]
[null,0.9,5.6,3778.6,7.78,54.17,8.6300000000000008,36.61,25.6,3.01,21.87]
[null,0.9,5.65,3821.7,7.77,54.08,8.65,36.94,25.56,3.04,21.86]
[null,0.9,5.7,3865.1,7.77,53.99,8.68,37.270000000000003,25.52,3.07,21.85]
[null,0.9,5.75,3908.5,7.76,53.87,8.6999999999999993,37.58,25.48,3.1,21.85]
[null,0.9,5.8,3952.1,7.76,53.8,8.73,37.93,25.44,3.13,21.84]
[null,0.9,5.85,3995.8,7.75,53.71,8.76,38.26,25.4,3.15,21.83]
[null,0.9,5.9,4039.6,7.75,53.58,8.7799999999999994,38.56,25.36,3.18,21.84]
[null,0.9,5.95,4083.6,7.74,53.44,8.8000000000000007,38.85,25.32,3.21,21.84]
[null,0.9,6,4127.7,7.74,53.27,8.82,39.11,25.29,3.24,21.86]
[null,0.9,6.05,4171.8,7.73,53.09,8.84,39.36,25.25,3.27,21.87]
[null,0.9,6.1,4216.1000000000004,7.72,52.89,8.86,39.6,25.21,3.3,21.89]
[null,0.9,6.15,4260.3999999999996,7.72,52.68,8.8800000000000008,39.83,25.18,3.33,21.91]
[null,0.9,6.2,4304.8,7.71,52.47,8.9,40.04,25.15,3.36,21.94]
[null,0.9,6.25,4349.3,7.71,52.24,8.91,40.25,25.11,3.38,21.96]
[null,0.9,6.3,4393.8999999999996,7.7,52.01,8.93,40.44,25.08,3.41,21.99]
[null,0.9,6.35,4438.6000000000004,7.7,51.78,8.94,40.630000000000003,25.05,3.44,22.02]
[null,0.9,6.4,4483.3,7.69,51.53,8.9499999999999993,40.81,25.02,3.47,22.05]
[null,0.9,6.45,4528.1000000000004,7.69,51.29,8.9700000000000006,40.99,24.99,3.5,22.08]
[null,0.9,6.5,4573,7.68,51.05,8.98,41.16,24.96,3.53,22.11]
[null,0.9,6.55,4617.8999999999996,7.68,50.81,8.99,41.33,24.93,3.56,22.14]
[null,0.9,6.6,4662.8999999999996,7.68,50.58,9.01,41.5,24.91,3.58,22.17]
[null,0.9,6.65,4708,7.67,50.35,9.02,41.67,24.88,3.61,22.2]
[null,0.9,6.7,4752.6000000000004,7.56,49.33,8.73,41.13,24.86,3.64,21.86]
[null,0.9,6.75,4795.3999999999996,7.41,48.44,8.35,40.68,24.83,3.67,21.48]
[null,0.9,6.8,4836.1000000000004,7.23,47.86,7.93,40.49,24.8,3.69,21.16]
[]
[null,1,2.8,1675,9.2799999999999994,58.78,6.71,18.170000000000002,27.79,1.5,26.2]
[null,1,2.85,1708.7,9.18,58.22,6.73,18.350000000000001,27.76,1.52,26.11]
[null,1,2.9,1742.3,9.08,57.41,6.75,18.43,27.72,1.55,26.05]
[null,1,2.95,1776.1,8.99,56.61,6.76,18.510000000000002,27.69,1.57,26]
[null,1,3,1809.9,8.9,55.92,6.78,18.62,27.66,1.6,25.94]
[null,1,3.05,1843.8,8.82,55.19,6.79,18.7,27.63,1.63,25.88]
[null,1,3.1,1877.8,8.73,54.63,6.81,18.84,27.59,1.65,25.81]
[null,1,3.15,1911.9,8.66,54.24,6.83,19.03,27.56,1.68,25.73]
[null,1,3.2,1946.1,8.59,53.6,6.84,19.13,27.53,1.7,25.68]
[null,1,3.25,1980.4,8.52,53.14,6.86,19.28,27.5,1.73,25.61]
[null,1,3.3,2014.7,8.4499999999999993,52.84,6.89,19.489999999999998,27.46,1.76,25.52]
[null,1,3.35,2049.1999999999998,8.39,52.29,6.91,19.600000000000001,27.43,1.78,25.47]
[null,1,3.4,2083.8000000000002,8.33,51.91,6.93,19.77,27.4,1.81,25.4]
[null,1,3.45,2118.5,8.27,51.7,6.95,20.010000000000002,27.36,1.83,25.32]
[null,1,3.5,2153.3000000000002,8.2200000000000006,51.24,6.97,20.14,27.33,1.86,25.27]
[null,1,3.55,2188.1999999999998,8.16,50.95,6.99,20.329999999999998,27.3,1.89,25.2]
[null,1,3.6,2223.1999999999998,8.11,50.82,7.02,20.59,27.26,1.91,25.12]
[null,1,3.65,2258.4,8.07,50.45,7.04,20.75,27.23,1.94,25.06]
[null,1,3.7,2293.6,8.02,50.24,7.07,20.97,27.2,1.97,25]
[null,1,3.75,2329.1,7.98,50.19,7.1,21.26,27.16,1.99,24.91]
[null,1,3.8,2364.6,7.94,49.89,7.12,21.44,27.13,2.02,24.86]
[null,1,3.85,2400.3000000000002,7.9,49.76,7.15,21.69,27.09,2.04,24.79]
[null,1,3.9,2436.1,7.87,49.51,7.17,21.89,27.06,2.0699999999999998,24.74]
[null,1,3.95,2472,7.84,49.54,7.21,22.21,27.02,2.1,24.65]
[null,1,4,2508.1,7.8,49.34,7.23,22.43,26.99,2.12,24.59]
[null,1,4.05,2544.4,7.77,49.29,7.27,22.72,26.96,2.15,24.51]
[null,1,4.0999999999999996,2580.8000000000002,7.75,49.13,7.29,22.95,26.92,2.1800000000000002,24.46]
[null,1,4.1500000000000004,2617.4,7.72,49.25,7.33,23.32,26.89,2.2000000000000002,24.36]
[null,1,4.2,2654.1,7.7,49.13,7.36,23.58,26.85,2.23,24.3]
[null,1,4.25,2691,7.68,49.17,7.39,23.91,26.81,2.2599999999999998,24.22]
[null,1,4.3,2728,7.66,49.1,7.43,24.19,26.78,2.2799999999999998,24.15]
[null,1,4.3499999999999996,2765.2,7.64,49.28,7.47,24.6,26.74,2.31,24.05]
[null,1,4.4000000000000004,2802.6,7.62,49.27,7.5,24.91,26.71,2.34,23.98]
[null,1,4.45,2840.2,7.61,49.27,7.54,25.23,26.67,2.37,23.91]
[null,1,4.5,2878,7.6,49.42,7.58,25.63,26.63,2.39,23.82]
[null,1,4.55,2916,7.59,49.48,7.62,25.99,26.6,2.42,23.74]
[null,1,4.5999999999999996,2954.2,7.58,49.57,7.66,26.37,26.56,2.4500000000000002,23.66]
[null,1,4.6500000000000004,2992.6,7.58,49.92,7.71,26.89,26.52,2.4700000000000002,23.54]
[null,1,4.7,3031.2,7.58,50.09,7.75,27.32,26.48,2.5,23.45]
[null,1,4.75,3070.1,7.58,50.31,7.8,27.78,26.44,2.5299999999999998,23.35]
[null,1,4.8,3109.2,7.59,50.57,7.85,28.27,26.4,2.56,23.25]
[null,1,4.8499999999999996,3148.6,7.6,50.98,7.91,28.86,26.36,2.58,23.12]
[null,1,4.9000000000000004,3188.3,7.61,51.32,7.97,29.41,26.32,2.61,23.01]
[null,1,4.95,3228.3,7.63,51.66,8.02,29.97,26.28,2.64,22.9]
[null,1,5,3268.5,7.65,52,8.08,30.54,26.24,2.67,22.78]
[null,1,5.05,3309.1,7.67,52.54,8.14,31.24,26.19,2.7,22.64]
[null,1,5.0999999999999996,3349.9,7.69,52.86,8.1999999999999993,31.81,26.15,2.72,22.54]
[null,1,5.15,3391,7.71,53.15,8.25,32.369999999999997,26.11,2.75,22.44]
[null,1,5.2,3432.4,7.73,53.4,8.3000000000000007,32.909999999999997,26.06,2.78,22.35]
[null,1,5.25,3474.1,7.74,53.7,8.36,33.479999999999997,26.02,2.81,22.26]
[null,1,5.3,3515.9,7.76,53.87,8.4,33.979999999999997,25.97,2.84,22.19]
[null,1,5.35,3558,7.77,53.97,8.44,34.44,25.93,2.87,22.13]
[null,1,5.4,3600.3,7.77,54.01,8.48,34.86,25.88,2.89,22.09]
[null,1,5.45,3642.8,7.77,54.03,8.51,35.26,25.84,2.92,22.05]
[null,1,5.5,3685.4,7.77,54.01,8.5399999999999991,35.64,25.79,2.95,22.03]
[null,1,5.55,3728.2,7.77,54.15,8.58,36.130000000000003,25.75,2.98,21.98]
[null,1,5.6,3771.2,7.77,54.12,8.6199999999999992,36.51,25.71,3.01,21.95]
[null,1,5.65,3814.4,7.77,54.06,8.64,36.86,25.66,3.04,21.94]
[null,1,5.7,3857.7,7.76,53.98,8.67,37.200000000000003,25.62,3.07,21.93]
[null,1,5.75,3901.1,7.76,53.9,8.6999999999999993,37.54,25.58,3.09,21.92]
[null,1,5.8,3944.6,7.76,53.79,8.7200000000000006,37.85,25.54,3.12,21.92]
[null,1,5.85,3988.3,7.75,53.65,8.75,38.14,25.5,3.15,21.92]
[null,1,5.9,4032.1,7.75,53.64,8.7799999999999994,38.54,25.46,3.18,21.9]
[null,1,5.95,4076.1,7.74,53.53,8.8000000000000007,38.840000000000003,25.42,3.21,21.91]
[null,1,6,4120.1000000000004,7.74,53.39,8.82,39.130000000000003,25.39,3.24,21.91]
[null,1,6.05,4164.3,7.73,53.23,8.85,39.4,25.35,3.27,21.93]
[null,1,6.1,4208.5,7.73,53.05,8.86,39.659999999999997,25.31,3.29,21.94]
[null,1,6.15,4252.8999999999996,7.72,52.85,8.8800000000000008,39.89,25.28,3.32,21.96]
[null,1,6.2,4297.3999999999996,7.72,52.65,8.9,40.119999999999997,25.24,3.35,21.98]
[null,1,6.25,4341.8999999999996,7.71,52.44,8.92,40.340000000000003,25.21,3.38,22.01]
[null,1,6.3,4386.5,7.71,52.21,8.93,40.54,25.18,3.41,22.03]
[null,1,6.35,4431.2,7.7,51.98,8.9499999999999993,40.729999999999997,25.15,3.44,22.06]
[null,1,6.4,4476,7.7,51.73,8.9600000000000009,40.92,25.12,3.47,22.09]
[null,1,6.45,4520.8,7.69,51.49,8.98,41.09,25.09,3.5,22.11]
[null,1,6.5,4565.7,7.69,51.25,8.99,41.27,25.06,3.52,22.14]
[null,1,6.55,4610.7,7.69,51.02,9,41.45,25.03,3.55,22.17]
[null,1,6.6,4655.7,7.68,50.79,9.02,41.62,25,3.58,22.21]
[null,1,6.65,4700.8,7.68,50.55,9.0299999999999994,41.79,24.97,3.61,22.24]
[null,1,6.7,4745.1000000000004,7.52,49.35,8.65,41.09,24.95,3.64,21.79]
[null,1,6.75,4787.6000000000004,7.41,48.62,8.34,40.78,24.92,3.66,21.49]
[null,1,6.8,4828.2,7.24,48.08,7.94,40.619999999999997,24.89,3.69,21.19]
[]
[null,1.1000000000000001,2.8,1674.8,9.27,58.7,6.71,18.14,27.9,1.5,26.19]
[null,1.1000000000000001,2.85,1708.3,9.17,57.88,6.72,18.23,27.86,1.52,26.13]
[null,1.1000000000000001,2.9,1741.9,9.07,57.06,6.73,18.309999999999999,27.83,1.55,26.08]
[null,1.1000000000000001,2.95,1775.6,8.98,56.3,6.75,18.399999999999999,27.8,1.58,26.02]
[null,1.1000000000000001,3,1809.4,8.89,55.54,6.76,18.48,27.76,1.6,25.97]
[null,1.1000000000000001,3.05,1843.2,8.81,54.88,6.78,18.59,27.73,1.63,25.91]
[null,1.1000000000000001,3.1,1877.1,8.73,54.19,6.79,18.68,27.7,1.65,25.86]
[null,1.1000000000000001,3.15,1911.1,8.65,53.67,6.81,18.82,27.66,1.68,25.79]
[null,1.1000000000000001,3.2,1945.2,8.58,53.32,6.83,19.010000000000002,27.63,1.71,25.71]
[null,1.1000000000000001,3.25,1979.4,8.51,52.72,6.85,19.11,27.59,1.73,25.65]
[null,1.1000000000000001,3.3,2013.6,8.44,52.29,6.87,19.27,27.56,1.76,25.59]
[null,1.1000000000000001,3.35,2048,8.3800000000000008,52.03,6.89,19.489999999999998,27.53,1.78,25.51]
[null,1.1000000000000001,3.4,2082.5,8.32,51.52,6.91,19.61,27.49,1.81,25.46]
[null,1.1000000000000001,3.45,2117.1,8.26,51.18,6.93,19.78,27.46,1.84,25.39]
[null,1.1000000000000001,3.5,2151.8000000000002,8.2100000000000009,51,6.96,20.02,27.43,1.86,25.31]
[null,1.1000000000000001,3.55,2186.6,8.16,50.58,6.98,20.170000000000002,27.39,1.89,25.26]
[null,1.1000000000000001,3.6,2221.6,8.11,50.32,7,20.37,27.36,1.91,25.19]
[null,1.1000000000000001,3.65,2256.6,8.06,50.21,7.03,20.63,27.32,1.94,25.11]
[null,1.1000000000000001,3.7,2291.8000000000002,8.02,49.87,7.05,20.79,27.29,1.97,25.06]
[null,1.1000000000000001,3.75,2327.1,7.97,49.69,7.08,21.02,27.25,1.99,25]
[null,1.1000000000000001,3.8,2362.6,7.93,49.65,7.11,21.31,27.22,2.02,24.91]
[null,1.1000000000000001,3.85,2398.1,7.9,49.38,7.13,21.5,27.19,2.0499999999999998,24.86]
[null,1.1000000000000001,3.9,2433.9,7.86,49.26,7.16,21.75,27.15,2.0699999999999998,24.79]
[null,1.1000000000000001,3.95,2469.6999999999998,7.83,49.03,7.18,21.95,27.12,2.1,24.74]
[null,1.1000000000000001,4,2505.6999999999998,7.79,49.08,7.22,22.28,27.08,2.12,24.65]
[null,1.1000000000000001,4.05,2541.9,7.77,48.9,7.24,22.51,27.05,2.15,24.6]
[null,1.1000000000000001,4.0999999999999996,2578.1999999999998,7.74,48.86,7.27,22.8,27.01,2.1800000000000002,24.53]
[null,1.1000000000000001,4.1500000000000004,2614.6,7.71,48.72,7.3,23.03,26.98,2.2000000000000002,24.47]
[null,1.1000000000000001,4.2,2651.2,7.69,48.85,7.34,23.41,26.94,2.23,24.37]
[null,1.1000000000000001,4.25,2688,7.67,48.75,7.37,23.67,26.91,2.2599999999999998,24.31]
[null,1.1000000000000001,4.3,2724.9,7.65,48.79,7.41,24,26.87,2.2799999999999998,24.23]
[null,1.1000000000000001,4.3499999999999996,2762,7.63,48.74,7.44,24.29,26.83,2.31,24.17]
[null,1.1000000000000001,4.4000000000000004,2799.3,7.61,48.93,7.48,24.7,26.8,2.34,24.07]
[null,1.1000000000000001,4.45,2836.7,7.6,48.93,7.51,25.02,26.76,2.36,24]
[null,1.1000000000000001,4.5,2874.4,7.59,48.95,7.55,25.35,26.73,2.39,23.93]
[null,1.1000000000000001,4.55,2912.2,7.57,49.11,7.59,25.75,26.69,2.42,23.84]
[null,1.1000000000000001,4.5999999999999996,2950.3,7.57,49.19,7.63,26.12,26.65,2.4500000000000002,23.77]
[null,1.1000000000000001,4.6500000000000004,2988.5,7.56,49.29,7.67,26.5,26.61,2.4700000000000002,23.69]
[null,1.1000000000000001,4.7,3027,7.56,49.64,7.72,27.03,26.58,2.5,23.57]
[null,1.1000000000000001,4.75,3065.7,7.56,49.83,7.77,27.47,26.54,2.5299999999999998,23.48]
[null,1.1000000000000001,4.8,3104.7,7.56,50.06,7.82,27.93,26.5,2.5499999999999998,23.39]
[null,1.1000000000000001,4.8499999999999996,3143.8,7.57,50.33,7.87,28.43,26.46,2.58,23.29]
[null,1.1000000000000001,4.9000000000000004,3183.3,7.58,50.74,7.93,29.02,26.42,2.61,23.16]
[null,1.1000000000000001,4.95,3223.1,7.59,51.08,7.98,29.57,26.38,2.64,23.05]
[null,1.1000000000000001,5,3263.1,7.61,51.44,8.0399999999999991,30.14,26.34,2.67,22.94]
[null,1.1000000000000001,5.05,3303.4,7.63,51.79,8.09,30.71,26.29,2.69,22.83]
[null,1.1000000000000001,5.0999999999999996,3344.1,7.65,52.32,8.16,31.41,26.25,2.72,22.69]
[null,1.1000000000000001,5.15,3385,7.67,52.65,8.2100000000000009,31.99,26.21,2.75,22.59]
[null,1.1000000000000001,5.2,3426.2,7.69,52.94,8.27,32.549999999999997,26.16,2.78,22.5]
[null,1.1000000000000001,5.25,3467.6,7.71,53.21,8.32,33.1,26.12,2.81,22.41]
[null,1.1000000000000001,5.3,3509.4,7.73,53.43,8.3699999999999992,33.630000000000003,26.08,2.83,22.33]
[null,1.1000000000000001,5.35,3551.3,7.74,53.69,8.42,34.19,26.03,2.86,22.25]
[null,1.1000000000000001,5.4,3593.5,7.75,53.82,8.4600000000000009,34.659999999999997,25.99,2.89,22.2]
[null,1.1000000000000001,5.45,3635.9,7.76,53.89,8.5,35.1,25.94,2.92,22.15]
[null,1.1000000000000001,5.5,3678.4,7.76,53.91,8.5299999999999994,35.5,25.9,2.95,22.12]
[null,1.1000000000000001,5.55,3721.2,7.76,53.89,8.56,35.880000000000003,25.85,2.98,22.09]
[null,1.1000000000000001,5.6,3764.1,7.76,54.03,8.6,36.380000000000003,25.81,3.01,22.04]
[null,1.1000000000000001,5.65,3807.1,7.76,54.02,8.6300000000000008,36.76,25.77,3.03,22.02]
[null,1.1000000000000001,5.7,3850.4,7.76,53.97,8.66,37.119999999999997,25.73,3.06,22.01]
[null,1.1000000000000001,5.75,3893.8,7.76,53.9,8.69,37.47,25.68,3.09,22]
[null,1.1000000000000001,5.8,3937.3,7.75,53.82,8.7200000000000006,37.81,25.64,3.12,21.99]
[null,1.1000000000000001,5.85,3980.9,7.75,53.72,8.75,38.130000000000003,25.6,3.15,21.99]
[null,1.1000000000000001,5.9,4024.7,7.74,53.59,8.77,38.43,25.56,3.18,21.99]
[null,1.1000000000000001,5.95,4068.6,7.74,53.58,8.8000000000000007,38.82,25.53,3.21,21.98]
[null,1.1000000000000001,6,4112.7,7.74,53.47,8.82,39.130000000000003,25.49,3.23,21.98]
[null,1.1000000000000001,6.05,4156.8,7.73,53.34,8.85,39.42,25.45,3.26,21.99]
[null,1.1000000000000001,6.1,4201.1000000000004,7.73,53.18,8.8699999999999992,39.700000000000003,25.41,3.29,22]
[null,1.1000000000000001,6.15,4245.5,7.72,53.01,8.89,39.950000000000003,25.38,3.32,22.01]
[null,1.1000000000000001,6.2,4290,7.72,52.81,8.9,40.19,25.34,3.35,22.03]
[null,1.1000000000000001,6.25,4334.5,7.72,52.61,8.92,40.409999999999997,25.31,3.38,22.05]
[null,1.1000000000000001,6.3,4379.2,7.71,52.4,8.94,40.630000000000003,25.28,3.41,22.07]
[null,1.1000000000000001,6.35,4423.8999999999996,7.71,52.17,8.9499999999999993,40.83,25.24,3.44,22.1]
[null,1.1000000000000001,6.4,4468.7,7.7,51.93,8.9700000000000006,41.02,25.21,3.46,22.12]
[null,1.1000000000000001,6.45,4513.6000000000004,7.7,51.69,8.98,41.2,25.18,3.49,22.15]
[null,1.1000000000000001,6.5,4558.5,7.7,51.46,9,41.39,25.15,3.52,22.18]
[null,1.1000000000000001,6.55,4603.5,7.69,51.22,9.01,41.57,25.12,3.55,22.21]
[null,1.1000000000000001,6.6,4648.6000000000004,7.69,50.99,9.02,41.74,25.1,3.58,22.24]
[null,1.1000000000000001,6.65,4693.7,7.65,50.48,8.9499999999999993,41.67,25.07,3.61,22.15]
[null,1.1000000000000001,6.7,4737.6000000000004,7.53,49.53,8.65,41.19,25.04,3.63,21.81]
[null,1.1000000000000001,6.75,4779.8,7.38,48.76,8.2799999999999994,40.840000000000003,25.01,3.66,21.46]
[null,1.1000000000000001,6.8,4820.3999999999996,7.25,48.28,7.95,40.75,24.98,3.69,21.23]
[]
[null,1.2,2.8,1674.5,9.26,58.22,6.69,17.989999999999998,28,1.5,26.23]
[null,1.2,2.85,1708,9.16,57.51,6.7,18.11,27.97,1.53,26.16]
[null,1.2,2.9,1741.5,9.06,56.74,6.72,18.2,27.93,1.55,26.1]
[null,1.2,2.95,1775.2,8.9700000000000006,55.96,6.73,18.28,27.9,1.58,26.05]
[null,1.2,3,1808.8,8.8800000000000008,55.23,6.75,18.37,27.86,1.6,26]
[null,1.2,3.05,1842.6,8.8000000000000007,54.51,6.76,18.45,27.83,1.63,25.94]
[null,1.2,3.1,1876.4,8.7200000000000006,53.89,6.78,18.559999999999999,27.79,1.66,25.88]
[null,1.2,3.15,1910.3,8.64,53.25,6.79,18.66,27.76,1.68,25.83]
[null,1.2,3.2,1944.3,8.57,52.77,6.81,18.8,27.73,1.71,25.77]
[null,1.2,3.25,1978.4,8.5,52.45,6.83,19.010000000000002,27.69,1.73,25.69]
[null,1.2,3.3,2012.6,8.43,51.9,6.85,19.11,27.66,1.76,25.64]
[null,1.2,3.35,2046.9,8.3699999999999992,51.51,6.87,19.28,27.62,1.78,25.57]
[null,1.2,3.4,2081.3000000000002,8.31,51.28,6.9,19.5,27.59,1.81,25.49]
[null,1.2,3.45,2115.8000000000002,8.25,50.81,6.91,19.62,27.55,1.84,25.44]
[null,1.2,3.5,2150.4,8.1999999999999993,50.5,6.94,19.809999999999999,27.52,1.86,25.38]
[null,1.2,3.55,2185.1999999999998,8.15,50.35,6.96,20.059999999999999,27.48,1.89,25.3]
[null,1.2,3.6,2220,8.1,49.96,6.98,20.2,27.45,1.91,25.26]
[null,1.2,3.65,2255,8.0500000000000007,49.73,7.01,20.41,27.42,1.94,25.19]
[null,1.2,3.7,2290.1,8.01,49.65,7.04,20.68,27.38,1.97,25.11]
[null,1.2,3.75,2325.3000000000002,7.97,49.33,7.06,20.85,27.35,1.99,25.06]
[null,1.2,3.8,2360.6,7.93,49.17,7.08,21.08,27.31,2.02,25]
[null,1.2,3.85,2396.1,7.89,49.15,7.12,21.38,27.28,2.0499999999999998,24.92]
[null,1.2,3.9,2431.6999999999998,7.85,48.9,7.14,21.57,27.24,2.0699999999999998,24.87]
[null,1.2,3.95,2467.5,7.82,48.8,7.17,21.82,27.21,2.1,24.8]
[null,1.2,4,2503.4,7.79,48.59,7.19,22.03,27.17,2.12,24.75]
[null,1.2,4.05,2539.4,7.76,48.65,7.23,22.36,27.14,2.15,24.66]
[null,1.2,4.0999999999999996,2575.6,7.73,48.48,7.25,22.59,27.1,2.1800000000000002,24.61]
[null,1.2,4.1500000000000004,2612,7.7,48.46,7.28,22.88,27.07,2.2000000000000002,24.54]
[null,1.2,4.2,2648.5,7.68,48.33,7.31,23.12,27.03,2.23,24.48]
[null,1.2,4.25,2685.1,7.66,48.47,7.35,23.5,27,2.2599999999999998,24.39]
[null,1.2,4.3,2721.9,7.64,48.39,7.38,23.77,26.96,2.2799999999999998,24.33]
[null,1.2,4.3499999999999996,2758.9,7.62,48.44,7.42,24.11,26.92,2.31,24.25]
[null,1.2,4.4000000000000004,2796.1,7.6,48.41,7.45,24.4,26.89,2.34,24.19]
[null,1.2,4.45,2833.4,7.59,48.61,7.49,24.82,26.85,2.36,24.09]
[null,1.2,4.5,2870.9,7.57,48.63,7.53,25.14,26.82,2.39,24.03]
[null,1.2,4.55,2908.7,7.56,48.66,7.56,25.47,26.78,2.42,23.96]
[null,1.2,4.5999999999999996,2946.6,7.55,48.83,7.6,25.88,26.74,2.4500000000000002,23.87]
[null,1.2,4.6500000000000004,2984.7,7.55,48.92,7.64,26.25,26.71,2.4700000000000002,23.8]
[null,1.2,4.7,3023,7.54,49.03,7.69,26.64,26.67,2.5,23.72]
[null,1.2,4.75,3061.5,7.54,49.39,7.74,27.17,26.63,2.5299999999999998,23.61]
[null,1.2,4.8,3100.3,7.54,49.59,7.78,27.62,26.59,2.5499999999999998,23.52]
[null,1.2,4.8499999999999996,3139.3,7.54,49.83,7.83,28.09,26.55,2.58,23.42]
[null,1.2,4.9000000000000004,3178.6,7.55,50.11,7.88,28.59,26.51,2.61,23.33]
[null,1.2,4.95,3218.1,7.56,50.53,7.94,29.19,26.47,2.64,23.21]
[null,1.2,5,3258,7.58,50.88,8,29.75,26.43,2.66,23.1]
[null,1.2,5.05,3298.1,7.59,51.24,8.0500000000000007,30.32,26.39,2.69,22.99]
[null,1.2,5.0999999999999996,3338.5,7.61,51.59,8.11,30.9,26.35,2.72,22.88]
[null,1.2,5.15,3379.2,7.63,52.13,8.18,31.6,26.31,2.75,22.75]
[null,1.2,5.2,3420.2,7.65,52.46,8.23,32.18,26.26,2.78,22.65]
[null,1.2,5.25,3461.5,7.68,52.77,8.2799999999999994,32.75,26.22,2.8,22.56]
[null,1.2,5.3,3503,7.7,53.04,8.34,33.31,26.18,2.83,22.47]
[null,1.2,5.35,3544.8,7.71,53.28,8.3800000000000008,33.85,26.13,2.86,22.4]
[null,1.2,5.4,3586.9,7.73,53.56,8.44,34.42,26.09,2.89,22.32]
[null,1.2,5.45,3629.1,7.74,53.69,8.48,34.89,26.04,2.92,22.26]
[null,1.2,5.5,3671.6,7.75,53.76,8.51,35.340000000000003,26,2.95,22.22]
[null,1.2,5.55,3714.3,7.75,53.79,8.5500000000000007,35.75,25.96,2.97,22.19]
[null,1.2,5.6,3757.1,7.75,53.79,8.58,36.14,25.91,3,22.16]
[null,1.2,5.65,3800.1,7.75,53.93,8.6199999999999992,36.630000000000003,25.87,3.03,22.12]
[null,1.2,5.7,3843.3,7.75,53.92,8.65,37.020000000000003,25.83,3.06,22.09]
[null,1.2,5.75,3886.6,7.75,53.89,8.68,37.39,25.79,3.09,22.08]
[null,1.2,5.8,3930.1,7.75,53.82,8.7100000000000009,37.74,25.75,3.12,22.07]
[null,1.2,5.85,3973.7,7.75,53.75,8.74,38.08,25.71,3.15,22.06]
[null,1.2,5.9,4017.5,7.74,53.66,8.77,38.409999999999997,25.67,3.17,22.06]
[null,1.2,5.95,4061.3,7.74,53.54,8.7899999999999991,38.71,25.63,3.2,22.06]
[null,1.2,6,4105.3999999999996,7.74,53.52,8.82,39.1,25.59,3.23,22.05]
[null,1.2,6.05,4149.5,7.73,53.41,8.84,39.409999999999997,25.55,3.26,22.05]
[null,1.2,6.1,4193.8,7.73,53.28,8.8699999999999992,39.71,25.51,3.29,22.06]
[null,1.2,6.15,4238.1000000000004,7.73,53.13,8.89,39.979999999999997,25.48,3.32,22.07]
[null,1.2,6.2,4282.6000000000004,7.72,52.96,8.91,40.24,25.44,3.35,22.08]
[null,1.2,6.25,4327.2,7.72,52.76,8.93,40.47,25.41,3.38,22.1]
[null,1.2,6.3,4371.8999999999996,7.72,52.55,8.94,40.700000000000003,25.37,3.4,22.12]
[null,1.2,6.35,4416.6000000000004,7.71,52.34,8.9600000000000009,40.909999999999997,25.34,3.43,22.14]
[null,1.2,6.4,4461.5,7.71,52.12,8.98,41.11,25.31,3.46,22.16]
[null,1.2,6.45,4506.3999999999996,7.71,51.89,8.99,41.31,25.28,3.49,22.19]
[null,1.2,6.5,4551.3,7.7,51.66,9.01,41.5,25.25,3.52,22.22]
[null,1.2,6.55,4596.3999999999996,7.7,51.42,9.02,41.68,25.22,3.55,22.24]
[null,1.2,6.6,4641.5,7.7,51.19,9.0299999999999994,41.85,25.19,3.58,22.27]
[null,1.2,6.65,4686.5,7.63,50.48,8.8800000000000008,41.61,25.16,3.6,22.09]
[null,1.2,6.7,4730.1000000000004,7.51,49.58,8.58,41.18,25.13,3.63,21.76]
[null,1.2,6.75,4772.1000000000004,7.39,48.94,8.27,40.950000000000003,25.1,3.66,21.48]
[null,1.2,6.8,4812.7,7.25,48.49,7.96,40.869999999999997,25.07,3.68,21.26]
[]
[null,1.3,2.8,1674.3,9.25,58.02,6.68,17.920000000000002,28.11,1.5,26.24]
[null,1.3,2.85,1707.7,9.15,57.04,6.69,17.96,28.08,1.53,26.2]
[null,1.3,2.9,1741.2,9.0500000000000007,56.38,6.7,18.079999999999998,28.04,1.55,26.13]
[null,1.3,2.95,1774.7,8.9600000000000009,55.65,6.72,18.170000000000002,28,1.58,26.08]
[null,1.3,3,1808.3,8.8699999999999992,54.9,6.73,18.25,27.97,1.61,26.02]
[null,1.3,3.05,1842,8.7899999999999991,54.22,6.75,18.350000000000001,27.93,1.63,25.97]
[null,1.3,3.1,1875.8,8.7100000000000009,53.55,6.76,18.43,27.89,1.66,25.92]
[null,1.3,3.15,1909.6,8.6300000000000008,52.97,6.78,18.55,27.86,1.68,25.86]
[null,1.3,3.2,1943.5,8.56,52.37,6.79,18.649999999999999,27.82,1.71,25.81]
[null,1.3,3.25,1977.5,8.49,51.93,6.81,18.8,27.79,1.73,25.75]
[null,1.3,3.3,2011.6,8.43,51.65,6.84,19.010000000000002,27.75,1.76,25.67]
[null,1.3,3.35,2045.9,8.36,51.13,6.85,19.12,27.72,1.79,25.62]
[null,1.3,3.4,2080.1999999999998,8.3000000000000007,50.78,6.87,19.29,27.68,1.81,25.56]
[null,1.3,3.45,2114.6,8.25,50.59,6.9,19.52,27.65,1.84,25.48]
[null,1.3,3.5,2149.1,8.19,50.15,6.92,19.66,27.61,1.86,25.44]
[null,1.3,3.55,2183.8000000000002,8.14,49.88,6.94,19.850000000000001,27.58,1.89,25.38]
[null,1.3,3.6,2218.5,8.09,49.75,6.97,20.100000000000001,27.54,1.92,25.3]
[null,1.3,3.65,2253.4,8.0399999999999991,49.39,6.99,20.25,27.51,1.94,25.25]
[null,1.3,3.7,2288.4,8,49.18,7.01,20.46,27.47,1.97,25.19]
[null,1.3,3.75,2323.5,7.96,49.12,7.04,20.74,27.44,1.99,25.12]
[null,1.3,3.8,2358.8000000000002,7.92,48.83,7.07,20.91,27.4,2.02,25.07]
[null,1.3,3.85,2394.1999999999998,7.88,48.68,7.09,21.15,27.37,2.0499999999999998,25.01]
[null,1.3,3.9,2429.6999999999998,7.84,48.68,7.12,21.45,27.33,2.0699999999999998,24.93]
[null,1.3,3.95,2465.4,7.81,48.45,7.15,21.64,27.3,2.1,24.88]
[null,1.3,4,2501.1999999999998,7.78,48.36,7.18,21.9,27.26,2.13,24.81]
[null,1.3,4.05,2537.1,7.75,48.17,7.2,22.11,27.23,2.15,24.76]
[null,1.3,4.0999999999999996,2573.1999999999998,7.72,48.24,7.24,22.45,27.19,2.1800000000000002,24.68]
[null,1.3,4.1500000000000004,2609.5,7.69,48.09,7.26,22.68,27.16,2.2000000000000002,24.62]
[null,1.3,4.2,2645.8,7.67,48.08,7.3,22.97,27.12,2.23,24.55]
[null,1.3,4.25,2682.4,7.65,47.97,7.32,23.22,27.09,2.2599999999999998,24.5]
[null,1.3,4.3,2719.1,7.63,48.12,7.36,23.6,27.05,2.2799999999999998,24.41]
[null,1.3,4.3499999999999996,2756,7.61,48.05,7.39,23.88,27.01,2.31,24.35]
[null,1.3,4.4000000000000004,2793,7.59,48.12,7.43,24.22,26.98,2.34,24.27]
[null,1.3,4.45,2830.2,7.57,48.1,7.46,24.52,26.94,2.36,24.21]
[null,1.3,4.5,2867.6,7.56,48.09,7.5,24.82,26.91,2.39,24.15]
[null,1.3,4.55,2905.2,7.55,48.34,7.54,25.27,26.87,2.42,24.05]
[null,1.3,4.5999999999999996,2943,7.54,48.39,7.58,25.61,26.83,2.44,23.99]
[null,1.3,4.6500000000000004,2981,7.53,48.57,7.62,26.03,26.8,2.4700000000000002,23.9]
[null,1.3,4.7,3019.2,7.53,48.67,7.66,26.4,26.76,2.5,23.83]
[null,1.3,4.75,3057.6,7.52,48.8,7.7,26.8,26.72,2.5299999999999998,23.75]
[null,1.3,4.8,3096.2,7.52,48.96,7.74,27.21,26.69,2.5499999999999998,23.67]
[null,1.3,4.8499999999999996,3135,7.52,49.38,7.8,27.79,26.65,2.58,23.56]
[null,1.3,4.9000000000000004,3174.1,7.53,49.63,7.85,28.27,26.61,2.61,23.47]
[null,1.3,4.95,3213.5,7.54,49.91,7.9,28.77,26.57,2.64,23.37]
[null,1.3,5,3253.1,7.55,50.34,7.96,29.37,26.53,2.66,23.25]
[null,1.3,5.05,3293,7.56,50.69,8.01,29.94,26.49,2.69,23.15]
[null,1.3,5.0999999999999996,3333.2,7.58,51.06,8.07,30.52,26.45,2.72,23.04]
[null,1.3,5.15,3373.7,7.6,51.42,8.1300000000000008,31.1,26.41,2.75,22.93]
[null,1.3,5.2,3414.5,7.62,51.96,8.19,31.8,26.36,2.77,22.8]
[null,1.3,5.25,3455.6,7.64,52.29,8.25,32.39,26.32,2.8,22.71]
[null,1.3,5.3,3497,7.66,52.62,8.3000000000000007,32.979999999999997,26.28,2.83,22.62]
[null,1.3,5.35,3538.6,7.68,52.91,8.35,33.54,26.23,2.86,22.54]
[null,1.3,5.4,3580.5,7.7,53.15,8.4,34.08,26.19,2.89,22.46]
[null,1.3,5.45,3622.6,7.72,53.43,8.4499999999999993,34.65,26.15,2.92,22.38]
[null,1.3,5.5,3665,7.73,53.56,8.5,35.14,26.1,2.94,22.33]
[null,1.3,5.55,3707.5,7.73,53.65,8.5299999999999994,35.58,26.06,2.97,22.29]
[null,1.3,5.6,3750.3,7.74,53.69,8.57,36,26.02,3,22.26]
[null,1.3,5.65,3793.2,7.74,53.7,8.6,36.4,25.97,3.03,22.23]
[null,1.3,5.7,3836.3,7.74,53.83,8.64,36.89,25.93,3.06,22.19]
[null,1.3,5.75,3879.6,7.74,53.84,8.68,37.29,25.89,3.09,22.17]
[null,1.3,5.8,3923,7.74,53.81,8.7100000000000009,37.659999999999997,25.85,3.12,22.15]
[null,1.3,5.85,3966.6,7.74,53.75,8.73,38.020000000000003,25.81,3.14,22.14]
[null,1.3,5.9,4010.3,7.74,53.68,8.76,38.36,25.77,3.17,22.14]
[null,1.3,5.95,4054.2,7.74,53.6,8.7899999999999991,38.700000000000003,25.73,3.2,22.13]
[null,1.3,6,4098.2,7.74,53.48,8.81,39,25.69,3.23,22.13]
[null,1.3,6.05,4142.3,7.73,53.45,8.84,39.380000000000003,25.65,3.26,22.12]
[null,1.3,6.1,4186.5,7.73,53.35,8.8699999999999992,39.69,25.62,3.29,22.12]
[null,1.3,6.15,4230.8999999999996,7.73,53.22,8.89,39.99,25.58,3.32,22.13]
[null,1.3,6.2,4275.3999999999996,7.73,53.07,8.91,40.270000000000003,25.54,3.34,22.14]
[null,1.3,6.25,4320,7.72,52.9,8.93,40.520000000000003,25.51,3.37,22.15]
[null,1.3,6.3,4364.7,7.72,52.7,8.9499999999999993,40.75,25.47,3.4,22.16]
[null,1.3,6.35,4409.3999999999996,7.72,52.5,8.9700000000000006,40.98,25.44,3.43,22.18]
[null,1.3,6.4,4454.3,7.71,52.3,8.98,41.2,25.41,3.46,22.2]
[null,1.3,6.45,4499.2,7.71,52.08,9,41.41,25.38,3.49,22.23]
[null,1.3,6.5,4544.2,7.71,51.85,9.01,41.6,25.34,3.52,22.25]
[null,1.3,6.55,4589.3,7.71,51.62,9.0299999999999994,41.78,25.31,3.54,22.28]
[null,1.3,6.6,4634.5,7.7,51.38,9.0399999999999991,41.96,25.28,3.57,22.31]
[null,1.3,6.65,4679.2,7.6,50.47,8.8000000000000007,41.53,25.25,3.6,22.02]
[null,1.3,6.7,4722.5,7.49,49.69,8.5299999999999994,41.21,25.22,3.63,21.73]
[null,1.3,6.75,4764.3999999999996,7.37,49.08,8.23,41.01,25.19,3.65,21.47]
[null,1.3,6.8,4805,7.26,48.69,7.96,41,25.16,3.68,21.3]
[]
[null,1.4,2.8,1674.1,9.24,57.39,6.66,17.72,28.22,1.5,26.29]
[null,1.4,2.85,1707.5,9.14,56.85,6.68,17.89,28.18,1.53,26.21]
[null,1.4,2.9,1740.9,9.0399999999999991,56.07,6.69,17.97,28.14,1.56,26.16]
[null,1.4,2.95,1774.4,8.9499999999999993,55.3,6.7,18.05,28.1,1.58,26.1]
[null,1.4,3,1807.9,8.86,54.61,6.72,18.149999999999999,28.07,1.61,26.05]
[null,1.4,3.05,1841.5,8.7799999999999994,53.91,6.73,18.23,28.03,1.63,26]
[null,1.4,3.1,1875.2,8.6999999999999993,53.28,6.75,18.329999999999998,27.99,1.66,25.95]
[null,1.4,3.15,1909,8.6199999999999992,52.65,6.76,18.420000000000002,27.96,1.68,25.9]
[null,1.4,3.2,1942.8,8.5500000000000007,52.12,6.78,18.55,27.92,1.71,25.84]
[null,1.4,3.25,1976.7,8.48,51.69,6.8,18.7,27.88,1.74,25.78]
[null,1.4,3.3,2010.8,8.42,51.15,6.82,18.809999999999999,27.85,1.76,25.74]
[null,1.4,3.35,2044.9,8.36,50.91,6.84,19.03,27.81,1.79,25.66]
[null,1.4,3.4,2079.1,8.3000000000000007,50.43,6.86,19.149999999999999,27.78,1.81,25.61]
[null,1.4,3.45,2113.5,8.24,50.11,6.88,19.32,27.74,1.84,25.55]
[null,1.4,3.5,2147.9,8.19,49.95,6.91,19.559999999999999,27.7,1.87,25.48]
[null,1.4,3.55,2182.5,8.1300000000000008,49.55,6.93,19.7,27.67,1.89,25.44]
[null,1.4,3.6,2217.1,8.08,49.3,6.95,19.89,27.63,1.92,25.38]
[null,1.4,3.65,2251.9,8.0399999999999991,49.19,6.98,20.149999999999999,27.6,1.94,25.3]
[null,1.4,3.7,2286.9,7.99,48.86,7,20.309999999999999,27.56,1.97,25.26]
[null,1.4,3.75,2321.9,7.95,48.67,7.02,20.53,27.53,1.99,25.2]
[null,1.4,3.8,2357.1,7.91,48.63,7.05,20.81,27.49,2.02,25.12]
[null,1.4,3.85,2392.4,7.87,48.35,7.07,20.98,27.46,2.0499999999999998,25.08]
[null,1.4,3.9,2427.8000000000002,7.84,48.23,7.1,21.22,27.42,2.0699999999999998,25.01]
[null,1.4,3.95,2463.4,7.8,48.24,7.13,21.52,27.39,2.1,24.93]
[null,1.4,4,2499.1,7.77,48.02,7.16,21.72,27.35,2.13,24.89]
[null,1.4,4.05,2534.9,7.74,47.95,7.19,21.99,27.32,2.15,24.82]
[null,1.4,4.0999999999999996,2570.9,7.71,47.77,7.21,22.2,27.28,2.1800000000000002,24.77]
[null,1.4,4.1500000000000004,2607.1,7.69,47.86,7.25,22.54,27.25,2.2000000000000002,24.69]
[null,1.4,4.2,2643.4,7.66,47.72,7.28,22.78,27.21,2.23,24.64]
[null,1.4,4.25,2679.8,7.64,47.73,7.31,23.08,27.17,2.2599999999999998,24.57]
[null,1.4,4.3,2716.4,7.62,47.63,7.34,23.33,27.14,2.2799999999999998,24.52]
[null,1.4,4.3499999999999996,2753.2,7.6,47.79,7.38,23.72,27.1,2.31,24.43]
[null,1.4,4.4000000000000004,2790.1,7.58,47.74,7.41,23.99,27.07,2.34,24.37]
[null,1.4,4.45,2827.2,7.56,47.83,7.44,24.34,27.03,2.36,24.3]
[null,1.4,4.5,2864.5,7.55,47.82,7.48,24.64,27,2.39,24.24]
[null,1.4,4.55,2902,7.54,47.83,7.51,24.96,26.96,2.42,24.18]
[null,1.4,4.5999999999999996,2939.6,7.53,48.09,7.56,25.41,26.92,2.44,24.08]
[null,1.4,4.6500000000000004,2977.5,7.52,48.15,7.59,25.76,26.89,2.4700000000000002,24.02]
[null,1.4,4.7,3015.5,7.51,48.34,7.64,26.18,26.85,2.5,23.93]
[null,1.4,4.75,3053.8,7.51,48.45,7.68,26.56,26.81,2.5299999999999998,23.86]
[null,1.4,4.8,3092.3,7.5,48.59,7.72,26.96,26.78,2.5499999999999998,23.79]
[null,1.4,4.8499999999999996,3130.9,7.5,48.76,7.76,27.38,26.74,2.58,23.71]
[null,1.4,4.9000000000000004,3169.9,7.51,49.19,7.82,27.96,26.7,2.61,23.6]
[null,1.4,4.95,3209.1,7.51,49.44,7.87,28.45,26.66,2.63,23.51]
[null,1.4,5,3248.5,7.52,49.74,7.92,28.96,26.62,2.66,23.41]
[null,1.4,5.05,3288.2,7.53,50.17,7.98,29.57,26.58,2.69,23.3]
[null,1.4,5.0999999999999996,3328.2,7.55,50.53,8.0299999999999994,30.14,26.54,2.72,23.2]
[null,1.4,5.15,3368.5,7.57,50.9,8.09,30.72,26.5,2.74,23.09]
[null,1.4,5.2,3409.1,7.59,51.27,8.15,31.31,26.46,2.77,22.99]
[null,1.4,5.25,3450,7.61,51.82,8.2100000000000009,32.03,26.42,2.8,22.86]
[null,1.4,5.3,3491.1,7.63,52.17,8.27,32.619999999999997,26.38,2.83,22.77]
[null,1.4,5.35,3532.6,7.65,52.49,8.32,33.21,26.34,2.86,22.68]
[null,1.4,5.4,3574.3,7.67,52.78,8.3699999999999992,33.78,26.29,2.89,22.6]
[null,1.4,5.45,3616.3,7.69,53.02,8.42,34.32,26.25,2.91,22.53]
[null,1.4,5.5,3658.5,7.7,53.31,8.4700000000000006,34.9,26.21,2.94,22.45]
[null,1.4,5.55,3701,7.72,53.46,8.52,35.39,26.16,2.97,22.4]
[null,1.4,5.6,3743.6,7.72,53.55,8.5500000000000007,35.840000000000003,26.12,3,22.36]
[null,1.4,5.65,3786.5,7.73,53.6,8.59,36.270000000000003,26.08,3.03,22.33]
[null,1.4,5.7,3829.5,7.73,53.61,8.6199999999999992,36.67,26.03,3.06,22.31]
[null,1.4,5.75,3872.7,7.74,53.59,8.66,37.049999999999997,25.99,3.08,22.29]
[null,1.4,5.8,3916.1,7.74,53.76,8.6999999999999993,37.56,25.95,3.11,22.24]
[null,1.4,5.85,3959.6,7.74,53.73,8.73,37.94,25.91,3.14,22.22]
[null,1.4,5.9,4003.3,7.74,53.68,8.76,38.299999999999997,25.87,3.17,22.22]
[null,1.4,5.95,4047.1,7.74,53.61,8.7799999999999994,38.64,25.83,3.2,22.21]
[null,1.4,6,4091.1,7.73,53.53,8.81,38.979999999999997,25.79,3.23,22.2]
[null,1.4,6.05,4135.2,7.73,53.42,8.83,39.28,25.75,3.26,22.21]
[null,1.4,6.1,4179.3999999999996,7.73,53.38,8.86,39.65,25.72,3.28,22.19]
[null,1.4,6.15,4223.8,7.73,53.28,8.89,39.97,25.68,3.31,22.19]
[null,1.4,6.2,4268.2,7.73,53.15,8.91,40.26,25.64,3.34,22.2]
[null,1.4,6.25,4312.8,7.72,53,8.93,40.54,25.61,3.37,22.2]
[null,1.4,6.3,4357.5,7.72,52.83,8.9499999999999993,40.799999999999997,25.57,3.4,22.21]
[null,1.4,6.35,4402.3,7.72,52.65,8.9700000000000006,41.04,25.54,3.43,22.23]
[null,1.4,6.4,4447.2,7.72,52.45,8.99,41.27,25.5,3.46,22.25]
[null,1.4,6.45,4492.1000000000004,7.72,52.25,9,41.48,25.47,3.49,22.27]
[null,1.4,6.5,4537.2,7.71,52.03,9.02,41.69,25.44,3.51,22.29]
[null,1.4,6.55,4582.3,7.71,51.8,9.0299999999999994,41.88,25.41,3.54,22.31]
[null,1.4,6.6,4627.5,7.7,51.53,9.0399999999999991,42.03,25.38,3.57,22.32]
[null,1.4,6.65,4671.8999999999996,7.59,50.55,8.76,41.54,25.35,3.6,21.99]
[null,1.4,6.7,4715,7.5,49.85,8.52,41.29,25.32,3.63,21.75]
[null,1.4,6.75,4756.8,7.38,49.28,8.23,41.13,25.28,3.65,21.5]
[null,1.4,6.8,4797.3,7.27,48.9,7.97,41.12,25.25,3.68,21.34]
[]
[null,1.5,2.8,1674,9.23,57.06,6.64,17.61,28.32,1.51,26.32]
[null,1.5,2.85,1707.3,9.1300000000000008,56.54,6.67,17.78,28.28,1.53,26.23]
[null,1.5,2.9,1740.6,9.0299999999999994,55.75,6.68,17.86,28.25,1.56,26.18]
[null,1.5,2.95,1774,8.94,55.01,6.69,17.95,28.21,1.58,26.13]
[null,1.5,3,1807.5,8.85,54.28,6.71,18.03,28.17,1.61,26.08]
[null,1.5,3.05,1841,8.77,53.64,6.72,18.13,28.13,1.64,26.03]
[null,1.5,3.1,1874.6,8.69,52.99,6.74,18.22,28.09,1.66,25.98]
[null,1.5,3.15,1908.3,8.6199999999999992,52.4,6.75,18.329999999999998,28.05,1.69,25.93]
[null,1.5,3.2,1942.1,8.5399999999999991,51.81,6.77,18.43,28.02,1.71,25.88]
[null,1.5,3.25,1976,8.48,51.32,6.78,18.559999999999999,27.98,1.74,25.83]
[null,1.5,3.3,2009.9,8.41,50.93,6.8,18.72,27.94,1.76,25.77]
[null,1.5,3.35,2044,8.35,50.44,6.82,18.829999999999998,27.91,1.79,25.73]
[null,1.5,3.4,2078.1,8.2899999999999991,50.23,6.85,19.059999999999999,27.87,1.82,25.65]
[null,1.5,3.45,2112.4,8.23,49.79,6.86,19.18,27.83,1.84,25.61]
[null,1.5,3.5,2146.6999999999998,8.18,49.5,6.89,19.36,27.8,1.87,25.55]
[null,1.5,3.55,2181.1999999999998,8.1300000000000008,49.36,6.91,19.61,27.76,1.89,25.48]
[null,1.5,3.6,2215.8000000000002,8.08,48.98,6.93,19.75,27.72,1.92,25.44]
[null,1.5,3.65,2250.5,8.0299999999999994,48.75,6.96,19.95,27.69,1.94,25.38]
[null,1.5,3.7,2285.4,7.99,48.67,6.99,20.21,27.65,1.97,25.3]
[null,1.5,3.75,2320.3000000000002,7.94,48.36,7.01,20.37,27.62,2,25.26]
[null,1.5,3.8,2355.4,7.9,48.19,7.03,20.6,27.58,2.02,25.2]
[null,1.5,3.85,2390.6,7.87,48.16,7.06,20.88,27.55,2.0499999999999998,25.13]
[null,1.5,3.9,2426,7.83,47.91,7.08,21.06,27.51,2.0699999999999998,25.08]
[null,1.5,3.95,2461.5,7.8,47.79,7.11,21.3,27.48,2.1,25.02]
[null,1.5,4,2497.1,7.76,47.82,7.14,21.61,27.44,2.13,24.95]
[null,1.5,4.05,2532.8000000000002,7.73,47.62,7.17,21.81,27.4,2.15,24.9]
[null,1.5,4.0999999999999996,2568.6999999999998,7.7,47.56,7.2,22.08,27.37,2.1800000000000002,24.84]
[null,1.5,4.1500000000000004,2604.8000000000002,7.68,47.4,7.22,22.3,27.33,2.21,24.79]
[null,1.5,4.2,2641,7.65,47.5,7.26,22.64,27.3,2.23,24.71]
[null,1.5,4.25,2677.3,7.63,47.38,7.29,22.88,27.26,2.2599999999999998,24.66]
[null,1.5,4.3,2713.8,7.61,47.4,7.32,23.19,27.23,2.2799999999999998,24.59]
[null,1.5,4.3499999999999996,2750.5,7.59,47.32,7.35,23.45,27.19,2.31,24.54]
[null,1.5,4.4000000000000004,2787.3,7.57,47.5,7.39,23.84,27.16,2.34,24.45]
[null,1.5,4.45,2824.3,7.55,47.46,7.42,24.12,27.12,2.36,24.4]
[null,1.5,4.5,2861.5,7.54,47.56,7.46,24.48,27.08,2.39,24.32]
[null,1.5,4.55,2898.9,7.53,47.56,7.49,24.78,27.05,2.42,24.27]
[null,1.5,4.5999999999999996,2936.4,7.52,47.58,7.53,25.1,27.01,2.44,24.21]
[null,1.5,4.6500000000000004,2974.1,7.51,47.86,7.57,25.56,26.98,2.4700000000000002,24.11]
[null,1.5,4.7,3012.1,7.5,47.93,7.61,25.92,26.94,2.5,24.05]
[null,1.5,4.75,3050.2,7.49,48.02,7.65,26.28,26.9,2.5299999999999998,23.99]
[null,1.5,4.8,3088.5,7.49,48.26,7.69,26.73,26.87,2.5499999999999998,23.9]
[null,1.5,4.8499999999999996,3127.1,7.49,48.41,7.73,27.14,26.83,2.58,23.83]
[null,1.5,4.9000000000000004,3165.8,7.49,48.59,7.78,27.57,26.79,2.61,23.75]
[null,1.5,4.95,3204.9,7.49,49.02,7.83,28.15,26.75,2.63,23.64]
[null,1.5,5,3244.1,7.5,49.28,7.88,28.65,26.72,2.66,23.55]
[null,1.5,5.05,3283.7,7.51,49.59,7.94,29.17,26.68,2.69,23.46]
[null,1.5,5.0999999999999996,3323.5,7.52,50.02,7.99,29.77,26.64,2.72,23.35]
[null,1.5,5.15,3363.6,7.54,50.39,8.0500000000000007,30.35,26.6,2.74,23.25]
[null,1.5,5.2,3404,7.56,50.78,8.11,30.95,26.56,2.77,23.15]
[null,1.5,5.25,3444.6,7.58,51.16,8.17,31.55,26.52,2.8,23.05]
[null,1.5,5.3,3485.6,7.6,51.7,8.23,32.26,26.48,2.83,22.93]
[null,1.5,5.35,3526.9,7.62,52.05,8.2899999999999991,32.86,26.43,2.86,22.84]
[null,1.5,5.4,3568.4,7.64,52.38,8.34,33.450000000000003,26.39,2.88,22.75]
[null,1.5,5.45,3610.3,7.66,52.67,8.39,34.020000000000003,26.35,2.91,22.67]
[null,1.5,5.5,3652.3,7.68,52.92,8.44,34.57,26.31,2.94,22.6]
[null,1.5,5.55,3694.7,7.69,53.2,8.49,35.15,26.26,2.97,22.53]
[null,1.5,5.6,3737.2,7.71,53.36,8.5399999999999991,35.64,26.22,3,22.47]
[null,1.5,5.65,3780,7.72,53.46,8.57,36.11,26.18,3.03,22.43]
[null,1.5,5.7,3822.9,7.72,53.52,8.61,36.54,26.14,3.05,22.4]
[null,1.5,5.75,3866,7.73,53.53,8.64,36.94,26.09,3.08,22.38]
[null,1.5,5.8,3909.3,7.73,53.52,8.68,37.32,26.05,3.11,22.36]
[null,1.5,5.85,3952.8,7.73,53.68,8.7200000000000006,37.840000000000003,26.01,3.14,22.31]
[null,1.5,5.9,3996.4,7.73,53.66,8.75,38.22,25.97,3.17,22.3]
[null,1.5,5.95,4040.2,7.73,53.61,8.7799999999999994,38.57,25.93,3.2,22.29]
[null,1.5,6,4084.2,7.73,53.54,8.8000000000000007,38.92,25.89,3.23,22.28]
[null,1.5,6.05,4128.2,7.73,53.46,8.83,39.26,25.85,3.25,22.27]
[null,1.5,6.1,4172.3999999999996,7.73,53.35,8.85,39.56,25.82,3.28,22.28]
[null,1.5,6.15,4216.8,7.73,53.29,8.8800000000000008,39.909999999999997,25.78,3.31,22.27]
[null,1.5,6.2,4261.2,7.73,53.2,8.91,40.24,25.74,3.34,22.26]
[null,1.5,6.25,4305.8,7.73,53.08,8.93,40.53,25.71,3.37,22.26]
[null,1.5,6.3,4350.5,7.72,52.94,8.9499999999999993,40.82,25.67,3.4,22.27]
[null,1.5,6.35,4395.3,7.72,52.78,8.9700000000000006,41.08,25.64,3.43,22.28]
[null,1.5,6.4,4440.2,7.72,52.59,8.99,41.32,25.6,3.45,22.3]
[null,1.5,6.45,4485.1000000000004,7.72,52.39,9.01,41.55,25.57,3.48,22.31]
[null,1.5,6.5,4530.2,7.72,52.19,9.02,41.76,25.54,3.51,22.33]
[null,1.5,6.55,4575.3,7.72,51.97,9.0399999999999991,41.97,25.51,3.54,22.35]
[null,1.5,6.6,4620.5,7.68,51.49,8.9700000000000006,41.93,25.47,3.57,22.26]
[null,1.5,6.65,4664.6000000000004,7.56,50.55,8.68,41.49,25.44,3.6,21.93]
[null,1.5,6.7,4707.5,7.47,49.95,8.4600000000000009,41.32,25.41,3.62,21.72]
[null,1.5,6.75,4749.2,7.37,49.45,8.2100000000000009,41.22,25.38,3.65,21.52]
[null,1.5,6.8,4789.7,7.27,49.09,7.98,41.23,25.34,3.67,21.37]

{"sheet":"1","index":7,"n_rows":123,"n_cols":16,"rows_kept":123,"cut":false,"hidden":false,"merged":[]}
[]
[null,"F.O. 1 PS",null,null,null,null,"S.G.",0.86,"[t/m3]"]
[]
[null,"GAUGE","LCG","TCG","VCG","FSM (transv)","FSM (long)","Weight","Fill (%)","Trim=-1,5","Trim=1,0","Trim=-0,5","Trim=0","Trim=0,5","Trim=1,0","Trim=1,5"]
[null,null,"Fwd of AP","PS:+","Above BL"," "," "]
[null,"m","m","m","m","t·m","t·m","t",null,"m3","m3","m3","m3","m3","m3","m3"]
[null,0,33,3.72,1.02,0,0,{"$f":"M7*$H$2","v":8.6E-3},{"$f":"M7/$M$83*100","v":3.2237266279819474E-2},0.05,0.03,0.02,0.01,0,0,0]
[null,0.05,33,3.98,1.06,0,0.2,{"$f":"M8*$H$2","v":8.6000000000000007E-2},{"$f":"M8/$M$83*100","v":0.32237266279819476},0.19,0.15,0.12,0.1,0.08,0.06,0.05]
[null,0.1,33,4.2300000000000004,1.0900000000000001,1,1.2,0.24080000000000001,0.90264345583494532,0.41,0.36,0.32,0.28000000000000003,0.24,0.21,0.18]
[null,0.15,33,4.49,1.1200000000000001,4,3.2,0.47300000000000003,1.773049645390071,0.73,0.66,0.6,0.55000000000000004,0.49,0.45,0.4]
[null,0.2,33,4.74,1.1599999999999999,7,6,0.77400000000000002,2.9013539651837528,1.1100000000000001,1.04,0.97,0.9,0.84,0.77,0.72]
[null,0.25,32.99,4.9000000000000004,1.19,7,6.1,1.1093999999999999,4.1586073500967125,1.5,1.43,1.36,1.29,1.22,1.1499999999999999,1.0900000000000001]
[null,0.3,32.99,4.9800000000000004,1.21,7,6.2,1.4447999999999999,5.4158607350096712,1.89,1.82,1.75,1.68,1.61,1.54,1.47]
[null,0.35,32.979999999999997,5.03,1.24,7,6.3,1.7801999999999998,6.67311411992263,2.2799999999999998,2.21,2.14,2.0699999999999998,2,1.93,1.86]
[null,0.4,32.979999999999997,5.07,1.27,7,6.3,2.1156000000000001,7.9303675048355888,2.67,2.6,2.5299999999999998,2.46,2.39,2.3199999999999998,2.2599999999999998]
[null,0.45,32.979999999999997,5.0999999999999996,1.29,7,6.4,2.4510000000000001,9.1876208897485512,3.06,2.99,2.92,2.85,2.79,2.72,2.65]
[null,0.5,32.979999999999997,5.12,1.32,7,6.4,2.7949999999999999,10.477111540941328,3.46,3.39,3.32,3.25,3.18,3.11,3.04]
[null,0.55000000000000004,32.979999999999997,5.14,1.34,8,6.5,3.1303999999999998,11.734364925854287,3.85,3.78,3.71,3.64,3.57,3.5,3.44]
[null,0.6,32.979999999999997,5.15,1.37,8,6.5,3.4744000000000002,13.023855577047067,4.25,4.18,4.1100000000000003,4.04,3.97,3.9,3.83]
[null,0.65,32.979999999999997,5.16,1.39,8,6.6,3.8184000000000005,14.313346228239846,4.6500000000000004,4.58,4.51,4.4400000000000004,4.37,4.3,4.2300000000000004]
[null,0.7,32.979999999999997,5.18,1.42,8,6.6,4.1623999999999999,15.602836879432624,5.05,4.9800000000000004,4.91,4.84,4.7699999999999996,4.7,4.63]
[null,0.75,32.979999999999997,5.18,1.45,8,6.7,4.4978000000000007,16.860090264345583,5.45,5.38,5.31,5.23,5.16,5.09,5.0199999999999996]
[null,0.8,32.979999999999997,5.19,1.47,8,6.8,4.8503999999999996,18.181818181818183,5.85,5.78,5.71,5.64,5.57,5.49,5.42]
[null,0.85,32.979999999999997,5.2,1.5,8,6.8,5.1943999999999999,19.471308833010962,6.25,6.18,6.11,6.04,5.97,5.9,5.83]
[null,0.9,32.979999999999997,5.21,1.52,8,6.9,5.5384000000000002,20.760799484203741,6.65,6.58,6.51,6.44,6.37,6.3,6.23]
[null,0.95,32.979999999999997,5.22,1.55,8,6.9,5.8823999999999996,22.050290135396519,7.06,6.99,6.92,6.84,6.77,6.7,6.63]
[null,1,32.979999999999997,5.22,1.57,8,7,6.2350000000000003,23.372018052869116,7.46,7.39,7.32,7.25,7.18,7.11,7.04]
[null,1.05,32.979999999999997,5.23,1.6,8,7,6.5876000000000001,24.693745970341716,7.87,7.8,7.73,7.66,7.58,7.51,7.44]
[null,1.1000000000000001,32.979999999999997,5.23,1.62,8,7.1,6.9316000000000004,25.983236621534495,8.2799999999999994,8.2100000000000009,8.1300000000000008,8.06,7.99,7.92,7.85]
[null,1.1499999999999999,32.979999999999997,5.24,1.65,8,7.2,7.2842000000000002,27.304964539007091,8.69,8.6199999999999992,8.5399999999999991,8.4700000000000006,8.4,8.33,8.26]
[null,1.2,32.97,5.24,1.68,8,7.2,7.6368000000000009,28.626692456479692,9.1,9.0299999999999994,8.9499999999999993,8.8800000000000008,8.81,8.74,8.67]
[null,1.25,32.97,5.25,1.7,8,7.3,7.9893999999999989,29.948420373952288,9.51,9.44,9.36,9.2899999999999991,9.2200000000000006,9.15,9.08]
[null,1.3,32.97,5.25,1.73,9,7.3,8.3419999999999987,31.270148291424888,9.92,9.85,9.7799999999999994,9.6999999999999993,9.6300000000000008,9.56,9.49]
[null,1.35,32.97,5.26,1.75,9,7.4,8.7031999999999989,32.624113475177303,10.34,10.26,10.19,10.119999999999999,10.039999999999999,9.9700000000000006,9.9]
[null,1.4,32.97,5.26,1.78,9,7.5,9.0557999999999996,33.945841392649903,10.75,10.68,10.6,10.53,10.46,10.39,10.31]
[null,1.45,32.97,5.26,1.8,9,7.5,9.4169999999999998,35.299806576402318,11.17,11.09,11.02,10.95,10.87,10.8,10.73]
[null,1.5,32.97,5.27,1.83,9,7.6,9.7695999999999987,36.621534493874918,11.58,11.51,11.44,11.36,11.29,11.22,11.14]
[null,1.55,32.97,5.27,1.86,9,7.6,10.130799999999999,37.975499677627333,12,11.93,11.85,11.78,11.71,11.63,11.56]
[null,1.6,32.97,5.28,1.88,9,7.7,10.491999999999999,39.329464861379755,12.42,12.35,12.27,12.2,12.13,12.05,11.98]
[null,1.65,32.97,5.28,1.91,9,7.7,10.853199999999999,40.68343004513217,12.84,12.77,12.69,12.62,12.55,12.47,12.4]
[null,1.7,32.97,5.28,1.93,9,7.8,11.214399999999999,42.037395228884591,13.26,13.19,13.11,13.04,12.97,12.89,12.82]
[null,1.75,32.97,5.29,1.96,9,7.8,11.5756,43.391360412637013,13.68,13.61,13.54,13.46,13.39,13.31,13.24]
[null,1.8,32.97,5.29,1.98,9,7.9,11.9368,44.745325596389428,14.11,14.03,13.96,13.88,13.81,13.74,13.66]
[null,1.85,32.97,5.29,2.0099999999999998,9,7.9,12.3066,46.131528046421664,14.53,14.46,14.38,14.31,14.23,14.16,14.08]
[null,1.9,32.97,5.3,2.04,9,8,12.6678,47.485493230174079,14.95,14.88,14.81,14.73,14.66,14.58,14.51]
[null,1.95,32.97,5.3,2.06,9,8,13.037599999999999,48.871695680206315,15.38,15.31,15.23,15.16,15.08,15.01,14.93]
[null,2,32.97,5.3,2.09,9,8.1,13.3988,50.22566086395873,15.81,15.73,15.66,15.58,15.51,15.43,15.36]
[null,2.0499999999999998,32.979999999999997,5.31,2.11,9,8.1,13.768600000000001,51.61186331399098,16.23,16.16,16.079999999999998,16.010000000000002,15.93,15.86,15.79]
[null,2.1,32.979999999999997,5.31,2.14,9,8.1999999999999993,14.138400000000001,52.998065764023217,16.66,16.59,16.510000000000002,16.440000000000001,16.36,16.29,16.21]
[null,2.15,32.979999999999997,5.31,2.16,10,8.1999999999999993,14.5082,54.384268214055453,17.09,17.010000000000002,16.940000000000001,16.87,16.79,16.72,16.64]
[null,2.2000000000000002,32.979999999999997,5.31,2.19,10,8.1999999999999993,14.869399999999999,55.738233397807868,17.52,17.440000000000001,17.37,17.29,17.22,17.149999999999999,17.07]
[null,2.25,32.979999999999997,5.32,2.2200000000000002,10,8.3000000000000007,15.239199999999999,57.124435847840104,17.95,17.87,17.8,17.72,17.649999999999999,17.57,17.5]
[null,2.2999999999999998,32.979999999999997,5.32,2.2400000000000002,10,8.3000000000000007,15.608999999999998,58.51063829787234,18.38,18.3,18.23,18.149999999999999,18.079999999999998,18.010000000000002,17.93]
[null,2.35,32.979999999999997,5.32,2.27,10,8.4,15.987399999999999,59.929078014184398,18.809999999999999,18.739999999999998,18.66,18.59,18.510000000000002,18.440000000000001,18.36]
[null,2.4,32.979999999999997,5.33,2.29,10,8.4,16.357199999999999,61.315280464216634,19.239999999999998,19.170000000000002,19.09,19.02,18.940000000000001,18.87,18.79]
[null,2.4500000000000002,32.979999999999997,5.33,2.3199999999999998,10,8.4,16.727,62.701482914248871,19.68,19.600000000000001,19.53,19.45,19.38,19.3,19.23]
[null,2.5,32.979999999999997,5.33,2.35,10,8.5,17.096799999999998,64.087685364281114,20.11,20.03,19.96,19.88,19.809999999999999,19.73,19.66]
[null,2.5499999999999998,32.979999999999997,5.33,2.37,10,8.5,17.475200000000001,65.506125080593165,20.54,20.47,20.39,20.32,20.239999999999998,20.170000000000002,20.09]
[null,2.6,32.979999999999997,5.34,2.4,10,8.5,17.844999999999999,66.892327530625408,20.98,20.9,20.83,20.75,20.68,20.6,20.53]
[null,2.65,32.979999999999997,5.34,2.42,10,8.6,18.223400000000002,68.310767246937459,21.41,21.34,21.26,21.19,21.11,21.04,20.96]
[null,2.7,32.979999999999997,5.34,2.4500000000000002,10,8.6,18.5932,69.696969696969703,21.85,21.77,21.7,21.62,21.55,21.47,21.4]
[null,2.75,32.979999999999997,5.34,2.4700000000000002,10,8.6,18.971599999999999,71.115409413281753,22.28,22.21,22.13,22.06,21.98,21.91,21.83]
[null,2.8,32.979999999999997,5.34,2.5,10,8.6,19.341399999999997,72.501611863313983,22.72,22.64,22.57,22.49,22.42,22.34,22.27]
[null,2.85,32.979999999999997,5.35,2.5299999999999998,10,8.6999999999999993,19.719799999999999,73.920051579626048,23.16,23.08,23.01,22.93,22.86,22.78,22.71]
[null,2.9,32.979999999999997,5.35,2.5499999999999998,10,8.6999999999999993,20.098200000000002,75.338491295938098,23.59,23.52,23.44,23.37,23.29,23.22,23.14]
[null,2.95,32.979999999999997,5.35,2.58,10,8.6999999999999993,20.476599999999998,76.756931012250163,24.03,23.96,23.88,23.81,23.73,23.66,23.58]
[null,3,32.979999999999997,5.35,2.6,10,8.6999999999999993,20.846399999999999,78.143133462282393,24.47,24.39,24.32,24.24,24.17,24.09,24.02]
[null,3.05,32.979999999999997,5.35,2.63,10,8.6999999999999993,21.224799999999998,79.561573178594458,24.91,24.83,24.76,24.68,24.61,24.53,24.46]
[null,3.1,32.979999999999997,5.36,2.66,10,8.8000000000000007,21.603200000000001,80.980012894906523,25.35,25.27,25.2,25.12,25.05,24.97,24.9]
[null,3.15,32.979999999999997,5.36,2.68,10,8.8000000000000007,21.9816,82.398452611218559,25.79,25.71,25.64,25.56,25.49,25.41,25.33]
[null,3.2,32.979999999999997,5.36,2.71,10,8.8000000000000007,22.36,83.816892327530624,26.23,26.15,26.07,26,25.92,25.85,25.77]
[null,3.25,32.979999999999997,5.36,2.73,10,8.8000000000000007,{"$f":"M72*$H$2","v":22.738400000000002},{"$f":"M72/$M$83*100","v":85.235332043842675},26.66,26.59,26.51,26.44,26.36,26.29,26.21]
[null,3.3,32.979999999999997,5.36,2.76,10,8.8000000000000007,23.116799999999998,86.65377176015474,27.1,27.03,26.95,26.88,26.8,26.73,26.65]
[null,3.35,32.979999999999997,5.37,2.78,10,8.8000000000000007,23.495200000000001,88.072211476466805,27.54,27.47,27.39,27.32,27.24,27.17,27.09]
[null,3.4,32.979999999999997,5.37,2.81,10,8.8000000000000007,23.8736,89.490651192778856,27.98,27.91,27.83,27.76,27.68,27.61,27.53]
[null,3.45,32.979999999999997,5.37,2.84,10,8.9,24.251999999999999,90.909090909090907,28.43,28.35,28.27,28.2,28.12,28.05,27.97]
[null,3.5,32.979999999999997,5.37,2.86,10,8.9,24.630400000000002,92.327530625402972,28.87,28.79,28.72,28.64,28.57,28.49,28.41]
[null,3.55,32.979999999999997,5.37,2.89,10,8.9,25.008799999999997,93.745970341715022,29.31,29.23,29.16,29.08,29.01,28.93,28.86]
[null,3.6,32.979999999999997,5.37,2.91,10,8.9,25.3872,95.164410058027087,29.75,29.67,29.6,29.52,29.45,29.37,29.3]
[null,3.65,32.979999999999997,5.38,2.94,10,8.9,25.765599999999999,96.582849774339138,30.19,30.11,30.04,29.96,29.89,29.81,29.74]
[null,3.7,32.979999999999997,5.38,2.96,10,8.9,26.143999999999998,98.001289490651189,30.63,30.55,30.48,30.4,30.33,30.25,30.18]
[null,3.75,32.979999999999997,5.38,2.99,10,8.9,26.522400000000001,99.419729206963254,30.97,30.96,30.92,30.84,30.77,30.69,30.62]
[null,3.8,32.979999999999997,5.38,3,0,0,26.677199999999999,{"$f":"M83/$M$83*100+0.001","v":100.001},31.02,31.02,31.02,31.02,31.02,31.01,30.96]
[]
[null,null,"32.98","5.38","3.00",0,"0.1",null,null,"31.02","31.02","31.02","31.02","31.02","31.02","31.02"]
[null,null,"32.98","5.38","3.00",0,"0.1",null,null,"31.02","31.02","31.02","31.02","31.02","31.02","31.02"]
[null,null,"32.98","5.38","3.00",0,"0.1",null,null,"31.02","31.02","31.02","31.02","31.02","31.02","31.02"]
[null,null,"32.98","5.38","3.00",0,"0.1",null,null,"31.02","31.02","31.02","31.02","31.02","31.02","31.02"]
[null,null,"32.98","5.38","3.00",0,"0.1",null,null,"31.02","31.02","31.02","31.02","31.02","31.02","31.02"]
[null,null,"32.98","5.38","3.00",0,"0.1",null,null,"31.02","31.02","31.02","31.02","31.02","31.02","31.02"]
[null,null,"32.98","5.38","3.00",0,"0.1",null,null,"31.02","31.02","31.02","31.02","31.02","31.02","31.02"]
[null,null,"32.98","5.38","3.00",0,"0.1",null,null,"31.02","31.02","31.02","31.02","31.02","31.02","31.02"]
[null,null,"32.98","5.38","3.00",0,"0.1",null,null,"31.02","31.02","31.02","31.02","31.02","31.02","31.02"]
[null,null,"32.98","5.38","3.00",0,"0.1",null,null,"31.02","31.02","31.02","31.02","31.02","31.02","31.02"]
[null,null,"32.98","5.38","3.00",0,"0.1",null,null,"31.02","31.02","31.02","31.02","31.02","31.02","31.02"]
[null,null,"32.98","5.38","3.00",0,"0.1",null,null,"31.02","31.02","31.02","31.02","31.02","31.02","31.02"]
[null,null,"32.98","5.38","3.00",0,"0.1",null,null,"31.02","31.02","31.02","31.02","31.02","31.02","31.02"]
[null,null,"32.98","5.38","3.00",0,"0.1",null,null,"31.02","31.02","31.02","31.02","31.02","31.02","31.02"]
[null,null,"32.98","5.38","3.00",0,"0.1",null,null,"31.02","31.02","31.02","31.02","31.02","31.02","31.02"]
[null,null,"32.98","5.38","3.00",0,"0.1",null,null,"31.02","31.02","31.02","31.02","31.02","31.02","31.02"]
[null,null,"32.98","5.38","3.00",0,"0.1",null,null,"31.02","31.02","31.02","31.02","31.02","31.02","31.02"]
[null,null,"32.98","5.38","3.00",0,"0.1",null,null,"31.02","31.02","31.02","31.02","31.02","31.02","31.02"]
[null,null,"32.98","5.38","3.00",0,"0.1",null,null,"31.02","31.02","31.02","31.02","31.02","31.02","31.02"]
[null,null,"32.98","5.38","3.00",0,"0.1",null,null,"31.02","31.02","31.02","31.02","31.02","31.02","31.02"]
[null,null,"32.98","5.38","3.00",0,"0.1",null,null,"31.02","31.02","31.02","31.02","31.02","31.02","31.02"]
[null,null,"32.98","5.38","3.00",0,"0.1",null,null,"31.02","31.02","31.02","31.02","31.02","31.02","31.02"]
[null,null,"32.98","5.38","3.00",0,"0.1",null,null,"31.02","31.02","31.02","31.02","31.02","31.02","31.02"]
[null,null,"32.98","5.38","3.00",0,"0.1",null,null,"31.02","31.02","31.02","31.02","31.02","31.02","31.02"]
[null,null,"32.98","5.38","3.00",0,"0.1",null,null,"31.02","31.02","31.02","31.02","31.02","31.02","31.02"]
[null,null,"32.98","5.38","3.00",0,"0.1",null,null,"31.02","31.02","31.02","31.02","31.02","31.02","31.02"]
[null,null,"32.98","5.38","3.00",0,"0.1",null,null,"31.02","31.02","31.02","31.02","31.02","31.02","31.02"]
[null,null,"32.98","5.38","3.00",0,"0.1",null,null,"31.02","31.02","31.02","31.02","31.02","31.02","31.02"]
[null,null,"32.98","5.38","3.00",0,"0.1",null,null,"31.02","31.02","31.02","31.02","31.02","31.02","31.02"]
[null,null,"32.98","5.38","3.00",0,"0.1",null,null,"31.02","31.02","31.02","31.02","31.02","31.02","31.02"]
[null,null,"32.98","5.38","3.00",0,"0.1",null,null,"31.02","31.02","31.02","31.02","31.02","31.02","31.02"]
[null,null,"32.98","5.38","3.00",0,"0.1",null,null,"31.02","31.02","31.02","31.02","31.02","31.02","31.02"]
[null,null,"32.98","5.38","3.00",0,"0.1",null,null,"31.02","31.02","31.02","31.02","31.02","31.02","31.02"]
[null,null,"32.98","5.38","3.00",0,"0.1",null,null,"31.02","31.02","31.02","31.02","31.02","31.02","31.02"]
[null,null,"32.98","5.38","3.00",0,"0.1",null,null,"31.02","31.02","31.02","31.02","31.02","31.02","31.02"]
[null,null,"32.98","5.38","3.00",0,"0.1",null,null,"31.02","31.02","31.02","31.02","31.02","31.02","31.02"]
[null,null,"32.98","5.38","3.00",0,"0.1",null,null,"31.02","31.02","31.02","31.02","31.02","31.02","31.02"]
[null,null,"32.98","5.38","3.00",0,"0.1",null,null,"31.02","31.02","31.02","31.02","31.02","31.02","31.02"]
[null,null,"32.98","5.38","3.00",0,"0.1",null,null,"31.02","31.02","31.02","31.02","31.02","31.02","31.02"]

{"sheet":"2","index":8,"n_rows":164,"n_cols":16,"rows_kept":164,"cut":false,"hidden":false,"merged":[]}
[]
[null,"F.O. 1 SB",null,null,null,null,null,"S.G.",0.86,"[t/m3]"]
[]
[null,"GAUGE","LCG","TCG","VCG","FSM (transv)","FSM (long)","Weight","Fill (%)","Trim=-1,5","Trim=1,0","Trim=-0,5","Trim=0","Trim=0,5","Trim=1,0","Trim=1,5"]
[null,null,"Fwd of AP","PS:+","Above BL"," "," "]
[null,"m","m","m","m","t·m","t·m","t",null,"m3","m3","m3","m3","m3","m3","m3"]
[null,0,33,-3.72,1.02,0,0,{"$f":"M7*$I$2","v":8.6E-3},{"$f":"M7/$M$83*100","v":3.2237266279819474E-2},0.05,0.03,0.02,0.01,0,0,0]
[null,0.05,33,-3.98,1.06,0,0.2,{"$f":"M8*$I$2","v":8.6000000000000007E-2},{"$f":"M8/$M$83*100","v":0.32237266279819476},0.18,0.15,0.12,0.1,0.08,0.06,0.05]
[null,0.1,33,-4.2300000000000004,1.0900000000000001,1,1.2,0.24080000000000001,0.90264345583494532,0.41,0.36,0.32,0.28000000000000003,0.24,0.21,0.18]
[null,0.15,33,-4.49,1.1200000000000001,4,3.2,0.47300000000000003,1.773049645390071,0.73,0.66,0.6,0.55000000000000004,0.49,0.45,0.4]
[null,0.2,33,-4.74,1.1599999999999999,7,6,0.77400000000000002,2.9013539651837528,1.1100000000000001,1.04,0.97,0.9,0.84,0.77,0.71]
[null,0.25,32.99,-4.8899999999999997,1.19,7,6.1,1.1093999999999999,4.1586073500967125,1.5,1.43,1.36,1.29,1.22,1.1499999999999999,1.0900000000000001]
[null,0.3,32.99,-4.9800000000000004,1.21,7,6.2,1.4447999999999999,5.4158607350096712,1.89,1.82,1.75,1.68,1.61,1.54,1.47]
[null,0.35,32.979999999999997,-5.03,1.24,7,6.3,1.7801999999999998,6.67311411992263,2.2799999999999998,2.21,2.14,2.0699999999999998,2,1.93,1.86]
[null,0.4,32.979999999999997,-5.07,1.27,7,6.3,2.1156000000000001,7.9303675048355888,2.67,2.6,2.5299999999999998,2.46,2.39,2.3199999999999998,2.25]
[null,0.45,32.979999999999997,-5.0999999999999996,1.29,7,6.4,2.4510000000000001,9.1876208897485512,3.06,2.99,2.92,2.85,2.79,2.72,2.65]
[null,0.5,32.979999999999997,-5.12,1.32,7,6.4,2.7949999999999999,10.477111540941328,3.46,3.39,3.32,3.25,3.18,3.11,3.04]
[null,0.55000000000000004,32.979999999999997,-5.14,1.34,8,6.5,3.1303999999999998,11.734364925854287,3.85,3.78,3.71,3.64,3.57,3.5,3.43]
[null,0.6,32.979999999999997,-5.15,1.37,8,6.5,3.4744000000000002,13.023855577047067,4.25,4.18,4.1100000000000003,4.04,3.97,3.9,3.83]
[null,0.65,32.979999999999997,-5.16,1.39,8,6.6,3.8184000000000005,14.313346228239846,4.6500000000000004,4.58,4.51,4.4400000000000004,4.37,4.3,4.2300000000000004]
[null,0.7,32.979999999999997,-5.18,1.42,8,6.6,4.1538000000000004,15.570599613152805,5.05,4.97,4.9000000000000004,4.83,4.76,4.6900000000000004,4.62]
[null,0.75,32.979999999999997,-5.18,1.45,8,6.7,4.4978000000000007,16.860090264345583,5.45,5.37,5.3,5.23,5.16,5.09,5.0199999999999996]
[null,0.8,32.979999999999997,-5.19,1.47,8,6.8,4.8418000000000001,18.149580915538362,5.85,5.78,5.71,5.63,5.56,5.49,5.42]
[null,0.85,32.979999999999997,-5.2,1.5,8,6.8,5.1943999999999999,19.471308833010962,6.25,6.18,6.11,6.04,5.97,5.9,5.82]
[null,0.9,32.979999999999997,-5.21,1.52,8,6.9,5.5384000000000002,20.760799484203741,6.65,6.58,6.51,6.44,6.37,6.3,6.23]
[null,0.95,32.979999999999997,-5.22,1.55,8,6.9,5.8823999999999996,22.050290135396519,7.06,6.99,6.91,6.84,6.77,6.7,6.63]
[null,1,32.979999999999997,-5.22,1.57,8,7,6.2350000000000003,23.372018052869116,7.46,7.39,7.32,7.25,7.18,7.11,7.04]
[null,1.05,32.979999999999997,-5.23,1.6,8,7,6.5790000000000006,24.661508704061895,7.87,7.8,7.73,7.65,7.58,7.51,7.44]
[null,1.1000000000000001,32.979999999999997,-5.23,1.62,8,7.1,6.9316000000000004,25.983236621534495,8.2799999999999994,8.2100000000000009,8.1300000000000008,8.06,7.99,7.92,7.85]
[null,1.1499999999999999,32.979999999999997,-5.24,1.65,8,7.2,7.2842000000000002,27.304964539007091,8.69,8.61,8.5399999999999991,8.4700000000000006,8.4,8.33,8.26]
[null,1.2,32.97,-5.24,1.68,8,7.2,7.6368000000000009,28.626692456479692,9.1,9.02,8.9499999999999993,8.8800000000000008,8.81,8.74,8.66]
[null,1.25,32.97,-5.25,1.7,8,7.3,7.9893999999999989,29.948420373952288,9.51,9.44,9.36,9.2899999999999991,9.2200000000000006,9.15,9.08]
[null,1.3,32.97,-5.25,1.73,9,7.3,8.3419999999999987,31.270148291424888,9.92,9.85,9.7799999999999994,9.6999999999999993,9.6300000000000008,9.56,9.49]
[null,1.35,32.97,-5.26,1.75,9,7.4,8.7031999999999989,32.624113475177303,10.33,10.26,10.19,10.119999999999999,10.039999999999999,9.9700000000000006,9.9]
[null,1.4,32.97,-5.26,1.78,9,7.5,9.0557999999999996,33.945841392649903,10.75,10.68,10.6,10.53,10.46,10.39,10.31]
[null,1.45,32.97,-5.26,1.8,9,7.5,9.4169999999999998,35.299806576402318,11.17,11.09,11.02,10.95,10.87,10.8,10.73]
[null,1.5,32.97,-5.27,1.83,9,7.6,9.7695999999999987,36.621534493874918,11.58,11.51,11.44,11.36,11.29,11.22,11.14]
[null,1.55,32.97,-5.27,1.86,9,7.6,10.130799999999999,37.975499677627333,12,11.93,11.85,11.78,11.71,11.63,11.56]
[null,1.6,32.97,-5.28,1.88,9,7.7,10.491999999999999,39.329464861379755,12.42,12.35,12.27,12.2,12.13,12.05,11.98]
[null,1.65,32.97,-5.28,1.91,9,7.7,10.853199999999999,40.68343004513217,12.84,12.77,12.69,12.62,12.54,12.47,12.4]
[null,1.7,32.97,-5.28,1.93,9,7.8,11.214399999999999,42.037395228884591,13.26,13.19,13.11,13.04,12.97,12.89,12.82]
[null,1.75,32.97,-5.29,1.96,9,7.8,11.5756,43.391360412637013,13.68,13.61,13.53,13.46,13.39,13.31,13.24]
[null,1.8,32.97,-5.29,1.98,9,7.9,11.9368,44.745325596389428,14.1,14.03,13.96,13.88,13.81,13.73,13.66]
[null,1.85,32.97,-5.29,2.0099999999999998,9,7.9,12.3066,46.131528046421664,14.53,14.45,14.38,14.31,14.23,14.16,14.08]
[null,1.9,32.97,-5.3,2.04,9,8,12.6678,47.485493230174079,14.95,14.88,14.8,14.73,14.66,14.58,14.51]
[null,1.95,32.97,-5.3,2.06,9,8,13.037599999999999,48.871695680206315,15.38,15.3,15.23,15.16,15.08,15.01,14.93]
[null,2,32.97,-5.3,2.09,9,8.1,13.3988,50.22566086395873,15.8,15.73,15.66,15.58,15.51,15.43,15.36]
[null,2.0499999999999998,32.979999999999997,-5.31,2.11,9,8.1,13.768600000000001,51.61186331399098,16.23,16.16,16.079999999999998,16.010000000000002,15.93,15.86,15.79]
[null,2.1,32.979999999999997,-5.31,2.14,9,8.1999999999999993,14.138400000000001,52.998065764023217,16.66,16.59,16.510000000000002,16.440000000000001,16.36,16.29,16.21]
[null,2.15,32.979999999999997,-5.31,2.16,10,8.1999999999999993,14.499599999999999,54.352030947775631,17.09,17.010000000000002,16.940000000000001,16.86,16.79,16.72,16.64]
[null,2.2000000000000002,32.979999999999997,-5.31,2.19,10,8.1999999999999993,14.869399999999999,55.738233397807868,17.52,17.440000000000001,17.37,17.29,17.22,17.14,17.07]
[null,2.25,32.979999999999997,-5.32,2.2200000000000002,10,8.3000000000000007,15.239199999999999,57.124435847840104,17.95,17.87,17.8,17.72,17.649999999999999,17.57,17.5]
[null,2.2999999999999998,32.979999999999997,-5.32,2.2400000000000002,10,8.3000000000000007,15.608999999999998,58.51063829787234,18.38,18.3,18.23,18.149999999999999,18.079999999999998,18,17.93]
[null,2.35,32.979999999999997,-5.32,2.27,10,8.4,15.987399999999999,59.929078014184398,18.809999999999999,18.73,18.66,18.59,18.510000000000002,18.440000000000001,18.36]
[null,2.4,32.979999999999997,-5.33,2.29,10,8.4,16.357199999999999,61.315280464216634,19.239999999999998,19.170000000000002,19.09,19.02,18.940000000000001,18.87,18.79]
[null,2.4500000000000002,32.979999999999997,-5.33,2.3199999999999998,10,8.4,16.727,62.701482914248871,19.670000000000002,19.600000000000001,19.52,19.45,19.37,19.3,19.22]
[null,2.5,32.979999999999997,-5.33,2.35,10,8.5,17.096799999999998,64.087685364281114,20.11,20.03,19.96,19.88,19.809999999999999,19.73,19.66]
[null,2.5499999999999998,32.979999999999997,-5.33,2.37,10,8.5,17.475200000000001,65.506125080593165,20.54,20.47,20.39,20.32,20.239999999999998,20.170000000000002,20.09]
[null,2.6,32.979999999999997,-5.34,2.4,10,8.5,17.844999999999999,66.892327530625408,20.98,20.9,20.83,20.75,20.68,20.6,20.53]
[null,2.65,32.979999999999997,-5.34,2.42,10,8.6,18.223400000000002,68.310767246937459,21.41,21.34,21.26,21.19,21.11,21.04,20.96]
[null,2.7,32.979999999999997,-5.34,2.4500000000000002,10,8.6,18.5932,69.696969696969703,21.85,21.77,21.7,21.62,21.55,21.47,21.4]
[null,2.75,32.979999999999997,-5.34,2.4700000000000002,10,8.6,18.971599999999999,71.115409413281753,22.28,22.21,22.13,22.06,21.98,21.91,21.83]
[null,2.8,32.979999999999997,-5.34,2.5,10,8.6,19.341399999999997,72.501611863313983,22.72,22.64,22.57,22.49,22.42,22.34,22.27]
[null,2.85,32.979999999999997,-5.35,2.5299999999999998,10,8.6999999999999993,19.719799999999999,73.920051579626048,23.16,23.08,23.01,22.93,22.86,22.78,22.7]
[null,2.9,32.979999999999997,-5.35,2.5499999999999998,10,8.6999999999999993,20.098200000000002,75.338491295938098,23.59,23.52,23.44,23.37,23.29,23.22,23.14]
[null,2.95,32.979999999999997,-5.35,2.58,10,8.6999999999999993,20.476599999999998,76.756931012250163,24.03,23.96,23.88,23.81,23.73,23.65,23.58]
[null,3,32.979999999999997,-5.35,2.6,10,8.6999999999999993,20.846399999999999,78.143133462282393,24.47,24.39,24.32,24.24,24.17,24.09,24.02]
[null,3.05,32.979999999999997,-5.35,2.63,10,8.6999999999999993,21.224799999999998,79.561573178594458,24.91,24.83,24.76,24.68,24.61,24.53,24.46]
[null,3.1,32.979999999999997,-5.36,2.66,10,8.8000000000000007,21.603200000000001,80.980012894906523,25.35,25.27,25.2,25.12,25.05,24.97,24.89]
[null,3.15,32.979999999999997,-5.36,2.68,10,8.8000000000000007,21.9816,82.398452611218559,25.79,25.71,25.63,25.56,25.48,25.41,25.33]
[null,3.2,32.979999999999997,-5.36,2.71,10,8.8000000000000007,22.36,83.816892327530624,26.22,26.15,26.07,26,25.92,25.85,25.77]
[null,3.25,32.979999999999997,-5.36,2.73,10,8.8000000000000007,{"$f":"M72*$I$2","v":22.738400000000002},{"$f":"M72/$M$83*100","v":85.235332043842675},26.66,26.59,26.51,26.44,26.36,26.29,26.21]
[null,3.3,32.979999999999997,-5.36,2.76,10,8.8000000000000007,23.116799999999998,86.65377176015474,27.1,27.03,26.95,26.88,26.8,26.73,26.65]
[null,3.35,32.979999999999997,-5.37,2.78,10,8.8000000000000007,23.495200000000001,88.072211476466805,27.54,27.47,27.39,27.32,27.24,27.17,27.09]
[null,3.4,32.979999999999997,-5.37,2.81,10,8.8000000000000007,23.8736,89.490651192778856,27.98,27.91,27.83,27.76,27.68,27.61,27.53]
[null,3.45,32.979999999999997,-5.37,2.84,10,8.9,24.251999999999999,90.909090909090907,28.42,28.35,28.27,28.2,28.12,28.05,27.97]
[null,3.5,32.979999999999997,-5.37,2.86,10,8.9,24.630400000000002,92.327530625402972,28.86,28.79,28.71,28.64,28.56,28.49,28.41]
[null,3.55,32.979999999999997,-5.37,2.89,10,8.9,25.008799999999997,93.745970341715022,29.31,29.23,29.16,29.08,29,28.93,28.85]
[null,3.6,32.979999999999997,-5.37,2.91,10,8.9,25.3872,95.164410058027087,29.75,29.67,29.6,29.52,29.45,29.37,29.3]
[null,3.65,32.979999999999997,-5.38,2.94,10,8.9,25.765599999999999,96.582849774339138,30.19,30.11,30.04,29.96,29.89,29.81,29.74]
[null,3.7,32.979999999999997,-5.38,2.96,10,8.9,26.143999999999998,98.001289490651189,30.63,30.55,30.48,30.4,30.33,30.25,30.18]
[null,3.75,32.979999999999997,-5.38,2.99,10,8.9,26.522400000000001,99.419729206963254,30.97,30.96,30.92,30.84,30.77,30.69,30.62]
[null,3.8,32.979999999999997,-5.38,3,0,0,26.677199999999999,{"$f":"M83/$M$83*100+0.001","v":100.001},31.02,31.02,31.02,31.02,31.02,31.01,30.96]
[]
[]
[]
[]
[]
[]
[]
[]
[]
[]
[]
[]
[]
[]
[]
[]
[]
[]
[]
[]
[]
[]
[]
[]
[]
[]
[]
[]
[]
[]
[]
[]
[]
[]
[]
[]
[]
[]
[]
[]
[]
[]
[]
[]
[]
[]
[]
[]
[]
[]
[]
[]
[]
[]
[]
[]
[]
[]
[]
[]
[]
[]
[]
[]
[]
[]
[]
[]
[]
[]
[]
[]
[]
[]
[]
[]
[]
[]
[]
[]
[null,null,null,null,null,null,null,null,null,100]

{"sheet":"3","index":9,"n_rows":123,"n_cols":16,"rows_kept":123,"cut":false,"hidden":false,"merged":[]}
[]
[null,"F.O.1 C",null,null,null,null,null,"S,G,",0.86,"[t/m3]"]
[]
[null,"GAUGE","LCG","TCG","VCG","FSM (transv)","FSM (long)","Weight","Fill (%)","Trim=-1,5","Trim=1,0","Trim=-0,5","Trim=0","Trim=0,5","Trim=1,0","Trim=1,5"]
[null,null,"Fwd of AP","PS:+","Above BL"," "," "]
[null,"m","m","m","m","t·m","t·m","t",null,"m3","m3","m3","m3","m3","m3","m3"]
[null,0,26.1,0,1.02,0,0,{"$f":"M7*$I$2","v":0.45580000000000004},{"$f":"M7/$M$123*100","v":0.51798279906176714},1.68,1.3,0.91,0.53,0.17,7.0000000000000007E-2,0.04]
[null,0.05,26.1,0,1.04,25,21.9,{"$f":"M8*$I$2","v":1.2125999999999999},{"$f":"M8/$M$123*100","v":1.3780297107114934},2.56,2.1800000000000002,1.8,1.41,1.03,0.65,0.4]
[null,0.1,26.1,0,1.07,25,21.9,{"$f":"M9*$I$2","v":1.9694},2.2380766223612198,3.45,3.06,2.68,2.29,1.91,1.53,1.1399999999999999]
[null,0.15,26.1,0,1.0900000000000001,25,21.9,2.7347999999999999,3.1078967943706024,4.33,3.94,3.56,3.18,2.79,2.41,2.02]
[null,0.2,26.1,0,1.1100000000000001,25,21.9,3.4915999999999996,3.9679437060203284,5.21,4.83,4.4400000000000004,4.0599999999999996,3.67,3.29,2.9]
[null,0.25,26.1,0,1.1399999999999999,25,21.9,4.2484000000000002,4.8279906176700553,6.09,5.71,5.32,4.9400000000000004,4.5599999999999996,4.17,3.79]
[null,0.3,26.1,0,1.1599999999999999,25,21.9,5.0052000000000003,5.6880375293197813,6.97,6.59,6.21,5.82,5.44,5.05,4.67]
[null,0.35,26.1,0,1.19,25,21.9,5.7620000000000005,6.5480844409695083,7.86,7.47,7.09,6.7,6.32,5.94,5.55]
[null,0.4,26.1,0,1.21,25,21.9,6.5274000000000001,7.4179046129788899,8.74,8.35,7.97,7.59,7.2,6.82,6.43]
[null,0.45,26.1,0,1.24,25,21.9,7.2842000000000002,8.2779515246286177,9.6199999999999992,9.24,8.85,8.4700000000000006,8.08,7.7,7.32]
[null,0.5,26.1,0,1.27,25,21.9,8.0410000000000004,9.1379984362783429,10.5,10.119999999999999,9.73,9.35,8.9700000000000006,8.58,8.1999999999999993]
[null,0.55000000000000004,26.1,0,1.29,25,21.9,8.7978000000000005,9.9980453479280698,11.38,11,10.62,10.23,9.85,9.4600000000000009,9.08]
[null,0.6,26.1,0,1.31,25,21.9,9.5545999999999989,10.858092259577795,12.27,11.88,11.5,11.11,10.73,10.35,9.9600000000000009]
[null,0.65,26.1,0,1.34,25,21.9,10.32,11.727912431587178,13.15,12.76,12.38,12,11.61,11.23,10.84]
[null,0.7,26.1,0,1.37,25,21.9,11.0768,12.587959343236903,14.03,13.65,13.26,12.88,12.49,12.11,11.73]
[null,0.75,26.1,0,1.39,25,21.9,11.833599999999999,13.44800625488663,14.91,14.53,14.14,13.76,13.38,12.99,12.61]
[null,0.8,26.1,0,1.42,25,21.9,12.590400000000001,14.308053166536357,15.79,15.41,15.03,14.64,14.26,13.87,13.49]
[null,0.85,26.1,0,1.44,25,21.9,13.347199999999999,15.168100078186084,16.68,16.29,15.91,15.52,15.14,14.76,14.37]
[null,0.9,26.1,0,1.46,25,21.9,14.1126,16.037920250195466,17.559999999999999,17.170000000000002,16.79,16.41,16.02,15.64,15.25]
[null,0.95,26.1,0,1.49,25,21.9,14.869399999999999,16.897967161845191,18.440000000000001,18.059999999999999,17.670000000000002,17.29,16.899999999999999,16.52,16.14]
[null,1,26.1,0,1.51,25,21.9,15.626200000000001,17.75801407349492,19.32,18.940000000000001,18.55,18.170000000000002,17.79,17.399999999999999,17.02]
[null,1.05,26.1,0,1.54,25,21.9,16.382999999999999,18.618060985144645,20.2,19.82,19.440000000000001,19.05,18.670000000000002,18.28,17.899999999999999]
[null,1.1000000000000001,26.1,0,1.56,25,21.9,17.139800000000001,19.478107896794373,21.09,20.7,20.32,19.93,19.55,19.170000000000002,18.78]
[null,1.1499999999999999,26.1,0,1.59,25,21.9,17.905200000000001,20.347928068803757,21.97,21.58,21.2,20.82,20.43,20.05,19.66]
[null,1.2,26.1,0,1.62,25,21.9,18.661999999999999,21.207974980453482,22.85,22.47,22.08,21.7,21.31,20.93,20.55]
[null,1.25,26.1,0,1.64,25,21.9,19.418799999999997,22.068021892103207,23.73,23.35,22.96,22.58,22.2,21.81,21.43]
[null,1.3,26.1,0,1.67,25,21.9,20.175599999999999,22.928068803752936,24.62,24.23,23.85,23.46,23.08,22.69,22.31]
[null,1.35,26.1,0,1.69,25,21.9,20.932400000000001,23.788115715402661,25.5,25.11,24.73,24.34,23.96,23.58,23.19]
[null,1.4,26.1,0,1.72,25,21.9,21.697800000000001,24.657935887412041,26.38,25.99,25.61,25.23,24.84,24.46,24.07]
[null,1.45,26.1,0,1.74,25,21.9,22.454599999999999,25.517982799061766,27.26,26.88,26.49,26.11,25.72,25.34,24.96]
[null,1.5,26.1,0,1.76,25,21.9,23.211399999999998,26.378029710711491,28.14,27.76,27.37,26.99,26.61,26.22,25.84]
[null,1.55,26.1,0,1.79,25,21.9,23.9682,27.238076622361223,29.03,28.64,28.26,27.87,27.49,27.1,26.72]
[null,1.6,26.1,0,1.82,25,21.9,24.724999999999998,28.098123534010949,29.91,29.52,29.14,28.75,28.37,27.99,27.6]
[null,1.65,26.1,0,1.84,25,21.9,25.490400000000001,28.967943706020332,30.79,30.41,30.02,29.64,29.25,28.87,28.48]
[null,1.7,26.1,0,1.86,25,21.9,26.247199999999999,29.827990617670057,31.67,31.29,30.9,30.52,30.13,29.75,29.37]
[null,1.75,26.1,0,1.89,25,21.9,27.003999999999998,30.688037529319782,32.549999999999997,32.17,31.79,31.4,31.02,30.63,30.25]
[null,1.8,26.1,0,1.92,25,21.9,27.7608,31.548084440969511,33.44,33.049999999999997,32.67,32.28,31.9,31.51,31.13]
[null,1.85,26.1,0,1.94,25,21.9,28.526199999999999,32.417904612978894,34.32,33.93,33.549999999999997,33.17,32.78,32.4,32.01]
[null,1.9,26.1,0,1.97,25,21.9,29.282999999999998,33.277951524628612,35.200000000000003,34.82,34.43,34.049999999999997,33.659999999999997,33.28,32.89]
[null,1.95,26.1,0,1.99,25,21.9,30.0398,34.137998436278345,36.08,35.700000000000003,35.31,34.93,34.549999999999997,34.159999999999997,33.78]
[null,2,26.1,0,2.0099999999999998,25,21.9,30.796600000000002,34.998045347928077,36.96,36.58,36.200000000000003,35.81,35.43,35.04,34.659999999999997]
[null,2.0499999999999998,26.1,0,2.04,25,21.9,31.553399999999996,35.858092259577795,37.85,37.46,37.08,36.69,36.31,35.92,35.54]
[null,2.1,26.1,0,2.0699999999999998,25,21.9,32.318799999999996,36.727912431587178,38.729999999999997,38.340000000000003,37.96,37.58,37.19,36.81,36.42]
[null,2.15,26.1,0,2.09,25,21.9,33.075600000000001,37.587959343236911,39.61,39.229999999999997,38.840000000000003,38.46,38.07,37.69,37.299999999999997]
[null,2.2000000000000002,26.1,0,2.12,25,21.9,33.8324,38.448006254886636,40.49,40.11,39.72,39.340000000000003,38.96,38.57,38.19]
[null,2.25,26.1,0,2.14,25,21.9,34.589199999999998,39.308053166536354,41.37,40.99,40.61,40.22,39.840000000000003,39.450000000000003,39.07]
[null,2.2999999999999998,26.1,0,2.16,25,21.9,35.346000000000004,40.168100078186086,42.26,41.87,41.49,41.1,40.72,40.340000000000003,39.950000000000003]
[null,2.35,26.1,0,2.19,25,21.9,36.111400000000003,41.037920250195469,43.14,42.75,42.37,41.99,41.6,41.22,40.83]
[null,2.4,26.1,0,2.2200000000000002,25,21.9,36.868199999999995,41.897967161845187,44.02,43.64,43.25,42.87,42.48,42.1,41.72]
[null,2.4500000000000002,26.1,0,2.2400000000000002,25,21.9,37.625,42.75801407349492,44.9,44.52,44.13,43.75,43.37,42.98,42.6]
[null,2.5,26.1,0,2.2599999999999998,25,21.9,38.381799999999998,43.618060985144652,45.78,45.4,45.02,44.63,44.25,43.86,43.48]
[null,2.5499999999999998,26.1,0,2.29,25,21.9,39.138599999999997,44.47810789679437,46.67,46.28,45.9,45.51,45.13,44.75,44.36]
[null,2.6,26.1,0,2.3199999999999998,25,21.9,39.903999999999996,45.347928068803753,47.55,47.16,46.78,46.4,46.01,45.63,45.24]
[null,2.65,26.1,0,2.34,25,21.9,40.660800000000002,46.207974980453479,48.43,48.05,47.66,47.28,46.89,46.51,46.13]
[null,2.7,26.1,0,2.37,25,21.9,41.417599999999993,47.068021892103204,49.31,48.93,48.54,48.16,47.78,47.39,47.01]
[null,2.75,26.1,0,2.39,25,21.9,42.174399999999999,47.928068803752936,50.19,49.81,49.43,49.04,48.66,48.27,47.89]
[null,2.8,26.1,0,2.41,25,21.9,42.931200000000004,48.788115715402661,51.08,50.69,50.31,49.92,49.54,49.16,48.77]
[null,2.85,26.1,0,2.44,25,21.9,43.696600000000004,49.657935887412044,51.96,51.57,51.19,50.81,50.42,50.04,49.65]
[null,2.9,26.1,0,2.4700000000000002,25,21.9,44.453399999999995,50.51798279906177,52.84,52.46,52.07,51.69,51.3,50.92,50.54]
[null,2.95,26.1,0,2.4900000000000002,25,21.9,45.2102,51.378029710711495,53.72,53.34,52.95,52.57,52.19,51.8,51.42]
[null,3,26.1,0,2.52,25,21.9,45.966999999999999,52.238076622361227,54.6,54.22,53.84,53.45,53.07,52.68,52.3]
[null,3.05,26.1,0,2.54,25,21.9,46.723799999999997,53.098123534010945,55.49,55.1,54.72,54.33,53.95,53.57,53.18]
[null,3.1,26.1,0,2.56,25,21.9,47.489199999999997,53.967943706020328,56.37,55.98,55.6,55.22,54.83,54.45,54.06]
[null,3.15,26.1,0,2.59,25,21.9,48.246000000000002,54.827990617670061,57.25,56.87,56.48,56.1,55.71,55.33,54.95]
[null,3.2,26.1,0,2.61,25,21.9,49.002799999999993,55.688037529319779,58.13,57.75,57.36,56.98,56.6,56.21,55.83]
[null,3.25,26.1,0,2.64,25,21.9,49.759599999999999,{"$f":"M72/$M$123*100","v":56.548084440969518},59.01,58.63,58.25,57.86,57.48,57.09,56.71]
[null,3.3,26.1,0,2.67,25,21.9,{"$f":"M73*$I$2","v":50.516400000000004},57.408131352619243,59.9,59.51,59.13,58.74,58.36,57.98,57.59]
[null,3.35,26.1,0,2.69,25,21.9,51.281800000000004,58.277951524628627,60.78,60.39,60.01,59.63,59.24,58.86,58.47]
[null,3.4,26.1,0,2.71,25,21.9,52.038599999999995,59.137998436278352,61.66,61.28,60.89,60.51,60.12,59.74,59.36]
[null,3.45,26.1,0,2.74,25,21.9,52.795400000000001,59.998045347928077,62.54,62.16,61.77,61.39,61.01,60.62,60.24]
[null,3.5,26.1,0,2.77,25,21.9,53.552199999999999,60.858092259577802,63.43,63.04,62.66,62.27,61.89,61.5,61.12]
[null,3.55,26.1,0,2.79,25,21.9,54.308999999999997,61.718139171227527,64.31,63.92,63.54,63.15,62.77,62.39,62]
[null,3.6,26.1,0,2.81,25,21.9,55.074400000000004,62.587959343236911,65.19,64.81,64.42,64.040000000000006,63.65,63.27,62.88]
[null,3.65,26.1,0,2.84,25,21.9,55.831200000000003,63.448006254886636,66.069999999999993,65.69,65.3,64.92,64.53,64.150000000000006,63.77]
[null,3.7,26.1,0,2.86,25,21.9,56.587999999999994,64.308053166536354,66.95,66.569999999999993,66.19,65.8,65.42,65.03,64.650000000000006]
[null,3.75,26.1,0,2.89,25,21.9,57.344800000000006,65.1681000781861,67.84,67.45,67.069999999999993,66.680000000000007,66.3,65.91,65.53]
[null,3.8,26.1,0,2.92,25,21.9,58.110199999999992,66.037920250195455,68.72,68.33,67.95,67.569999999999993,67.180000000000007,66.8,66.41]
[null,3.85,26.1,0,2.94,25,21.9,58.867000000000004,66.897967161845202,69.599999999999994,69.22,68.83,68.45,68.06,67.680000000000007,67.290000000000006]
[null,3.9,26.1,0,2.97,25,21.9,59.623799999999996,67.75801407349492,70.48,70.099999999999994,69.709999999999994,69.33,68.94,68.56,68.180000000000007]
[null,3.95,26.1,0,2.99,25,21.9,60.380599999999994,68.618060985144652,71.36,70.98,70.599999999999994,70.209999999999994,69.83,69.44,69.06]
[null,4,26.1,0,3.02,25,21.9,61.1374,69.478107896794384,72.25,71.86,71.48,71.09,70.709999999999994,70.319999999999993,69.94]
[null,4.05,26.1,0,3.04,25,21.9,61.902799999999999,70.347928068803768,73.13,72.739999999999995,72.36,71.98,71.59,71.209999999999994,70.819999999999993]
[null,4.0999999999999996,26.1,0,3.06,25,21.9,62.659599999999998,71.207974980453486,74.010000000000005,73.63,73.239999999999995,72.86,72.47,72.09,71.7]
[null,4.1500000000000004,26.1,0,3.09,25,21.9,63.416399999999996,72.068021892103204,74.89,74.510000000000005,74.12,73.739999999999995,73.36,72.97,72.59]
[null,4.2,26.1,0,3.11,25,21.9,64.173200000000008,72.92806880375295,75.77,75.39,75.010000000000005,74.62,74.239999999999995,73.849999999999994,73.47]
[null,4.25,26.1,0,3.14,25,21.9,64.929999999999993,73.788115715402654,76.66,76.27,75.89,75.5,75.12,74.739999999999995,74.349999999999994]
[null,4.3,26.1,0,3.16,25,21.9,65.695400000000006,74.657935887412037,77.540000000000006,77.150000000000006,76.77,76.39,76,75.62,75.23]
[null,4.3499999999999996,26.1,0,3.19,25,21.9,66.452199999999991,75.51798279906177,78.42,78.040000000000006,77.650000000000006,77.27,76.88,76.5,76.12]
[null,4.4000000000000004,26.1,0,3.22,25,21.9,67.209000000000003,76.378029710711502,79.3,78.92,78.53,78.150000000000006,77.77,77.38,77]
[null,4.45,26.1,0,3.24,25,21.9,67.965800000000002,77.238076622361234,80.180000000000007,79.8,79.42,79.03,78.650000000000006,78.260000000000005,77.88]
[null,4.5,26.1,0,3.26,25,21.9,68.7226,78.098123534010938,81.069999999999993,80.680000000000007,80.3,79.91,79.53,79.150000000000006,78.760000000000005]
[null,4.55,26.1,0,3.29,25,21.9,69.488,78.967943706020321,81.95,81.56,81.180000000000007,80.8,80.41,80.03,79.64]
[null,4.5999999999999996,26.1,0,3.31,25,21.9,70.244799999999998,79.827990617670068,82.83,82.45,82.06,81.680000000000007,81.290000000000006,80.91,80.53]
[null,4.6500000000000004,26.1,0,3.34,25,21.9,71.001599999999996,80.688037529319786,83.71,83.33,82.94,82.56,82.18,81.790000000000006,81.41]
[null,4.7,26.1,0,3.36,25,21.9,71.758399999999995,81.548084440969518,84.59,84.21,83.83,83.44,83.06,82.67,82.29]
[null,4.75,26.1,0,3.39,25,21.9,72.515199999999993,82.408131352619236,85.48,85.09,84.71,84.32,83.94,83.56,83.17]
[null,4.8,26.1,0,3.42,25,21.9,73.280599999999993,83.277951524628619,86.36,85.97,85.59,85.21,84.82,84.44,84.05]
[null,4.8499999999999996,26.1,0,3.44,25,21.9,74.037400000000005,84.137998436278352,87.24,86.86,86.47,86.09,85.7,85.32,84.94]
[null,4.9000000000000004,26.1,0,3.47,25,21.9,74.794200000000004,84.99804534792807,88.12,87.74,87.35,86.97,86.59,86.2,85.82]
[null,4.95,26.1,0,3.49,25,21.9,75.550999999999988,85.858092259577802,89,88.62,88.24,87.85,87.47,87.08,86.7]
[null,5,26.1,0,3.52,25,21.9,76.3078,86.71813917122752,89.89,89.5,89.12,88.73,88.35,87.97,87.58]
[null,5.05,26.1,0,3.54,25,21.9,77.0732,87.587959343236903,90.77,90.38,90,89.62,89.23,88.85,88.46]
[null,5.0999999999999996,26.1,0,3.57,25,21.9,77.83,88.448006254886636,91.65,91.27,90.88,90.5,90.11,89.73,89.35]
[null,5.15,26.1,0,3.59,25,21.9,78.586799999999997,89.308053166536354,92.53,92.15,91.76,91.38,91,90.61,90.23]
[null,5.2,26.1,0,3.62,25,21.9,79.343600000000009,90.1681000781861,93.41,93.03,92.65,92.26,91.88,91.49,91.11]
[null,5.25,26.1,0,3.64,25,21.9,80.100399999999993,91.028146989835818,94.3,93.91,93.53,93.14,92.76,92.38,91.99]
[null,5.3,26.1,0,3.67,25,21.9,80.865799999999993,91.897967161845202,95.18,94.79,94.41,94.03,93.64,93.26,92.87]
[null,5.35,26.1,0,3.69,25,21.9,81.622599999999991,92.75801407349492,96.06,95.68,95.29,94.91,94.52,94.14,93.76]
[null,5.4,26.1,0,3.71,25,21.9,82.379400000000004,93.618060985144652,96.94,96.56,96.17,95.79,95.41,95.02,94.64]
[null,5.45,26.1,0,3.74,25,21.9,83.136200000000002,94.478107896794384,97.83,97.44,97.06,96.67,96.29,95.9,95.52]
[null,5.5,26.1,0,3.77,25,21.9,83.893000000000001,95.338154808444102,98.71,98.32,97.94,97.55,97.17,96.79,96.4]
[null,5.55,26.1,0,3.79,25,21.9,84.6584,96.207974980453486,99.59,99.21,98.82,98.44,98.05,97.67,97.28]
[null,5.6,26.1,0,3.82,25,21.9,85.415199999999999,97.068021892103204,100.47,100.09,99.7,99.32,98.93,98.55,98.17]
[null,5.65,26.1,0,3.84,25,21.9,86.171999999999997,97.92806880375295,101.35,100.97,100.59,100.2,99.82,99.43,99.05]
[null,5.7,26.1,0,3.87,25,21.9,86.928799999999995,98.788115715402654,102.02,101.83,101.47,101.08,100.7,100.31,99.93]
[null,5.75,26.1,0,3.89,25,21.9,87.685599999999994,99.648162627052386,102.3,102.29,102.25,101.96,101.58,101.2,100.81]
[null,5.77,26.1,0,3.9,0,0,87.995199999999997,100,102.32,102.32,102.32,102.32,101.93,101.55,101.17]

{"sheet":"4","index":10,"n_rows":47,"n_cols":16,"rows_kept":47,"cut":false,"hidden":false,"merged":[]}
[]
[null,"F.O. 2 PS",null,null,null,null,null,"S.G.",0.86,"[t/m3]"]
[]
[null,"GAUGE","LCG","TCG","VCG","FSM (transv)","FSM (long)","Weight","Fill (%)","Trim=-1,5","Trim=1,0","Trim=-0,5","Trim=0","Trim=0,5","Trim=1,0","Trim=1,5"]
[null,null,"Fwd of AP","PS:+","Above BL"," "," "]
[null,"m","m","m","m","t·m","t·m","t",null,"m3","m3","m3","m3","m3","m3","m3"]
[null,0,31.49,5.47,4.8,0,0,{"$f":"M7*$I$2","v":0},{"$f":"M7/$M$47*100","v":0},0,0,0,0,0,0,0]
[null,4.9999999999999822E-2,31.5,5.47,4.83,20,41.5,{"$f":"M8*$I$2","v":0.86},{"$f":"M8/$M$47*100","v":2.5195263290501386},1,1,1,1,1,1,1]
[null,0.10000000000000053,31.5,5.47,4.8499999999999996,20,41.5,{"$f":"M9*$I$2","v":1.7114},5.0138573948097758,1.99,1.99,1.99,1.99,1.99,1.99,1.99]
[null,0.15000000000000036,31.5,5.47,4.88,20,41.5,2.5627999999999997,7.5081884605694134,2.98,2.98,2.98,2.98,2.98,2.98,2.98]
[null,0.20000000000000018,31.5,5.47,4.9000000000000004,20,41.5,3.4142000000000001,10.002519526329051,3.97,3.97,3.97,3.97,3.97,3.97,3.97]
[null,0.25,31.5,5.47,4.93,20,41.5,4.2741999999999996,12.522045855379188,4.97,4.97,4.97,4.97,4.97,4.97,4.97]
[null,0.29999999999999982,31.5,5.47,4.95,20,41.5,5.1255999999999995,15.016376921138827,5.96,5.96,5.96,5.96,5.96,5.96,5.96]
[null,0.35000000000000053,31.5,5.47,4.9800000000000004,20,41.5,5.9770000000000003,17.510707986898463,6.95,6.95,6.95,6.95,6.95,6.95,6.95]
[null,0.40000000000000036,31.5,5.47,5,20,41.5,6.8284000000000002,20.005039052658102,7.94,7.94,7.94,7.94,7.94,7.94,7.94]
[null,0.45000000000000018,31.5,5.48,5.03,20,41.5,7.6797999999999993,22.499370118417737,8.93,8.93,8.93,8.93,8.93,8.93,8.93]
[null,0.5,31.5,5.47,5.05,20,41.5,8.5397999999999996,25.018896447467874,9.93,9.93,9.93,9.93,9.93,9.93,9.93]
[null,0.54999999999999982,31.5,5.47,5.08,20,41.5,9.3911999999999995,27.513227513227516,10.92,10.92,10.92,10.92,10.92,10.92,10.92]
[null,0.60000000000000053,31.5,5.47,5.0999999999999996,20,41.5,10.242599999999999,30.007558578987155,11.91,11.91,11.91,11.91,11.91,11.91,11.91]
[null,0.65000000000000036,31.5,5.47,5.13,20,41.5,11.093999999999999,32.50188964474679,12.9,12.9,12.9,12.9,12.9,12.9,12.9]
[null,0.70000000000000018,31.5,5.47,5.15,20,41.5,11.954000000000001,35.021415973796927,13.9,13.9,13.9,13.9,13.9,13.9,13.9]
[null,0.75,31.5,5.48,5.18,20,41.5,12.805400000000001,37.515747039556565,14.89,14.89,14.89,14.89,14.89,14.89,14.89]
[null,0.79999999999999982,31.5,5.47,5.2,20,41.5,13.6568,40.010078105316204,15.88,15.88,15.88,15.88,15.88,15.88,15.88]
[null,0.85000000000000053,31.5,5.47,5.23,20,41.5,14.5082,42.504409171075842,16.87,16.87,16.87,16.87,16.87,16.87,16.87]
[null,0.90000000000000036,31.5,5.47,5.25,20,41.5,15.359599999999999,44.998740236835474,17.86,17.86,17.86,17.86,17.86,17.86,17.86]
[null,0.95000000000000018,31.5,5.47,5.28,20,41.5,16.2196,47.518266565885611,18.86,18.86,18.86,18.86,18.86,18.86,18.86]
[null,1,31.5,5.47,5.3,20,41.5,17.071000000000002,50.012597631645264,19.850000000000001,19.850000000000001,19.850000000000001,19.850000000000001,19.850000000000001,19.850000000000001,19.850000000000001]
[null,1.0499999999999998,31.5,5.47,5.33,20,41.5,17.9224,52.506928697404888,20.84,20.84,20.84,20.84,20.84,20.84,20.84]
[null,1.1000000000000005,31.5,5.48,5.35,20,41.5,18.773799999999998,55.001259763164526,21.83,21.83,21.83,21.83,21.83,21.83,21.83]
[null,1.1500000000000004,31.5,5.47,5.38,20,41.5,19.633799999999997,57.520786092214657,22.83,22.83,22.83,22.83,22.83,22.83,22.83]
[null,1.2000000000000002,31.5,5.47,5.4,20,41.5,20.485199999999999,60.015117157974309,23.82,23.82,23.82,23.82,23.82,23.82,23.82]
[null,1.25,31.5,5.48,5.43,20,41.5,21.336599999999997,62.509448223733941,24.81,24.81,24.81,24.81,24.81,24.81,24.81]
[null,1.2999999999999998,31.5,5.47,5.45,20,41.5,22.187999999999999,65.003779289493579,25.8,25.8,25.8,25.8,25.8,25.8,25.8]
[null,1.3500000000000005,31.5,5.47,5.48,20,41.5,23.039400000000001,67.498110355253218,26.79,26.79,26.79,26.79,26.79,26.79,26.79]
[null,1.4000000000000004,31.5,5.48,5.5,20,41.5,23.8994,70.017636684303355,27.79,27.79,27.79,27.79,27.79,27.79,27.79]
[null,1.4500000000000002,31.5,5.47,5.53,20,41.5,24.750800000000002,72.511967750062993,28.78,28.78,28.78,28.78,28.78,28.78,28.78]
[null,1.5,31.5,5.47,5.55,20,41.5,25.6022,75.006298815822632,29.77,29.77,29.77,29.77,29.77,29.77,29.77]
[null,1.5499999999999998,31.5,5.47,5.58,20,41.5,26.453600000000002,77.50062988158227,30.76,30.76,30.76,30.76,30.76,30.76,30.76]
[null,1.6000000000000005,31.5,5.47,5.6,20,41.5,27.313600000000001,80.020156210632408,31.76,31.76,31.76,31.76,31.76,31.76,31.76]
[null,1.6500000000000004,31.5,5.48,5.63,20,41.5,28.164999999999999,82.514487276392046,32.75,32.75,32.75,32.75,32.75,32.75,32.75]
[null,1.7000000000000002,31.5,5.48,5.65,20,41.5,29.016400000000001,85.008818342151685,33.74,33.74,33.74,33.74,33.74,33.74,33.74]
[null,1.75,31.5,5.47,5.68,20,41.5,29.867799999999995,87.503149407911309,34.729999999999997,34.729999999999997,34.729999999999997,34.729999999999997,34.729999999999997,34.729999999999997,34.729999999999997]
[null,1.7999999999999998,31.5,5.47,5.7,20,41.5,30.719199999999997,89.997480473670947,35.72,35.72,35.72,35.72,35.72,35.72,35.72]
[null,1.8500000000000005,31.5,5.47,5.73,20,41.5,31.5792,92.517006802721085,36.72,36.72,36.72,36.72,36.72,36.72,36.72]
[null,1.9000000000000004,31.5,5.47,5.75,20,41.5,32.430599999999998,95.011337868480737,37.71,37.71,37.71,37.71,37.71,37.71,37.71]
[null,1.9500000000000002,31.5,5.47,5.78,20,41.5,33.282000000000004,97.505668934240376,38.700000000000003,38.700000000000003,38.700000000000003,38.700000000000003,38.700000000000003,38.700000000000003,38.700000000000003]
[null,2,31.5,5.47,5.8,0,0,34.133399999999995,100,39.69,39.69,39.69,39.69,39.69,39.69,39.69]

{"sheet":"5","index":11,"n_rows":47,"n_cols":16,"rows_kept":47,"cut":false,"hidden":false,"merged":[]}
[]
[null,"F.O. 2 SB",null,null,null,null,null,"S.G.",0.86,"[t/m3]"]
[]
[null,"GAUGE","LCG","TCG","VCG","FSM (transv)","FSM (long)","Weight","Fill (%)","Trim=-1,5","Trim=1,0","Trim=-0,5","Trim=0","Trim=0,5","Trim=1,0","Trim=1,5"]
[null,null,"Fwd of AP","PS:+","Above BL"," "," "]
[null,"m","m","m","m","t·m","t·m","t",null,"m3","m3","m3","m3","m3","m3","m3"]
[null,0,31.49,-5.47,4.8,0,0,{"$f":"M7*$I$2","v":0},{"$f":"M7/$M$47*100","v":0},0,0,0,0,0,0,0]
[null,4.9999999999999822E-2,31.5,-5.47,4.83,20,41.5,{"$f":"M8*$I$2","v":0.86},{"$f":"M8/$M$47*100","v":2.5195263290501386},1,1,1,1,1,1,1]
[null,0.10000000000000053,31.5,-5.47,4.8499999999999996,20,41.5,{"$f":"M9*$I$2","v":1.7114},5.0138573948097758,1.99,1.99,1.99,1.99,1.99,1.99,1.99]
[null,0.15000000000000036,31.5,-5.47,4.88,20,41.5,2.5627999999999997,7.5081884605694134,2.98,2.98,2.98,2.98,2.98,2.98,2.98]
[null,0.20000000000000018,31.5,-5.47,4.9000000000000004,20,41.5,3.4142000000000001,10.002519526329051,3.97,3.97,3.97,3.97,3.97,3.97,3.97]
[null,0.25,31.5,-5.47,4.93,20,41.5,4.2741999999999996,12.522045855379188,4.97,4.97,4.97,4.97,4.97,4.97,4.97]
[null,0.29999999999999982,31.5,-5.47,4.95,20,41.5,5.1255999999999995,15.016376921138827,5.96,5.96,5.96,5.96,5.96,5.96,5.96]
[null,0.35000000000000053,31.5,-5.47,4.9800000000000004,20,41.5,5.9770000000000003,17.510707986898463,6.95,6.95,6.95,6.95,6.95,6.95,6.95]
[null,0.40000000000000036,31.5,-5.47,5,20,41.5,6.8284000000000002,20.005039052658102,7.94,7.94,7.94,7.94,7.94,7.94,7.94]
[null,0.45000000000000018,31.5,-5.48,5.03,20,41.5,7.6797999999999993,22.499370118417737,8.93,8.93,8.93,8.93,8.93,8.93,8.93]
[null,0.5,31.5,-5.47,5.05,20,41.5,8.5397999999999996,25.018896447467874,9.93,9.93,9.93,9.93,9.93,9.93,9.93]
[null,0.54999999999999982,31.5,-5.47,5.08,20,41.5,9.3911999999999995,27.513227513227516,10.92,10.92,10.92,10.92,10.92,10.92,10.92]
[null,0.60000000000000053,31.5,-5.47,5.0999999999999996,20,41.5,10.242599999999999,30.007558578987155,11.91,11.91,11.91,11.91,11.91,11.91,11.91]
[null,0.65000000000000036,31.5,-5.47,5.13,20,41.5,11.093999999999999,32.50188964474679,12.9,12.9,12.9,12.9,12.9,12.9,12.9]
[null,0.70000000000000018,31.5,-5.47,5.15,20,41.5,11.954000000000001,35.021415973796927,13.9,13.9,13.9,13.9,13.9,13.9,13.9]
[null,0.75,31.5,-5.48,5.18,20,41.5,12.805400000000001,37.515747039556565,14.89,14.89,14.89,14.89,14.89,14.89,14.89]
[null,0.79999999999999982,31.5,-5.47,5.2,20,41.5,13.6568,40.010078105316204,15.88,15.88,15.88,15.88,15.88,15.88,15.88]
[null,0.85000000000000053,31.5,-5.47,5.23,20,41.5,14.5082,42.504409171075842,16.87,16.87,16.87,16.87,16.87,16.87,16.87]
[null,0.90000000000000036,31.5,-5.47,5.25,20,41.5,15.359599999999999,44.998740236835474,17.86,17.86,17.86,17.86,17.86,17.86,17.86]
[null,0.95000000000000018,31.5,-5.47,5.28,20,41.5,16.2196,47.518266565885611,18.86,18.86,18.86,18.86,18.86,18.86,18.86]
[null,1,31.5,-5.47,5.3,20,41.5,17.071000000000002,50.012597631645264,19.850000000000001,19.850000000000001,19.850000000000001,19.850000000000001,19.850000000000001,19.850000000000001,19.850000000000001]
[null,1.0499999999999998,31.5,-5.47,5.33,20,41.5,17.9224,52.506928697404888,20.84,20.84,20.84,20.84,20.84,20.84,20.84]
[null,1.1000000000000005,31.5,-5.48,5.35,20,41.5,18.773799999999998,55.001259763164526,21.83,21.83,21.83,21.83,21.83,21.83,21.83]
[null,1.1500000000000004,31.5,-5.47,5.38,20,41.5,19.633799999999997,57.520786092214657,22.83,22.83,22.83,22.83,22.83,22.83,22.83]
[null,1.2000000000000002,31.5,-5.47,5.4,20,41.5,20.485199999999999,60.015117157974309,23.82,23.82,23.82,23.82,23.82,23.82,23.82]
[null,1.25,31.5,-5.48,5.43,20,41.5,21.336599999999997,62.509448223733941,24.81,24.81,24.81,24.81,24.81,24.81,24.81]
[null,1.2999999999999998,31.5,-5.47,5.45,20,41.5,22.187999999999999,65.003779289493579,25.8,25.8,25.8,25.8,25.8,25.8,25.8]
[null,1.3500000000000005,31.5,-5.47,5.48,20,41.5,23.039400000000001,67.498110355253218,26.79,26.79,26.79,26.79,26.79,26.79,26.79]
[null,1.4000000000000004,31.5,-5.48,5.5,20,41.5,23.8994,70.017636684303355,27.79,27.79,27.79,27.79,27.79,27.79,27.79]
[null,1.4500000000000002,31.5,-5.47,5.53,20,41.5,24.750800000000002,72.511967750062993,28.78,28.78,28.78,28.78,28.78,28.78,28.78]
[null,1.5,31.5,-5.47,5.55,20,41.5,25.6022,75.006298815822632,29.77,29.77,29.77,29.77,29.77,29.77,29.77]
[null,1.5499999999999998,31.5,-5.47,5.58,20,41.5,26.453600000000002,77.50062988158227,30.76,30.76,30.76,30.76,30.76,30.76,30.76]
[null,1.6000000000000005,31.5,-5.47,5.6,20,41.5,27.313600000000001,80.020156210632408,31.76,31.76,31.76,31.76,31.76,31.76,31.76]
[null,1.6500000000000004,31.5,-5.48,5.63,20,41.5,28.164999999999999,82.514487276392046,32.75,32.75,32.75,32.75,32.75,32.75,32.75]
[null,1.7000000000000002,31.5,-5.48,5.65,20,41.5,29.016400000000001,85.008818342151685,33.74,33.74,33.74,33.74,33.74,33.74,33.74]
[null,1.75,31.5,-5.47,5.68,20,41.5,29.867799999999995,87.503149407911309,34.729999999999997,34.729999999999997,34.729999999999997,34.729999999999997,34.729999999999997,34.729999999999997,34.729999999999997]
[null,1.7999999999999998,31.5,-5.47,5.7,20,41.5,30.719199999999997,89.997480473670947,35.72,35.72,35.72,35.72,35.72,35.72,35.72]
[null,1.8500000000000005,31.5,-5.47,5.73,20,41.5,31.5792,92.517006802721085,36.72,36.72,36.72,36.72,36.72,36.72,36.72]
[null,1.9000000000000004,31.5,-5.47,5.75,20,41.5,32.430599999999998,95.011337868480737,37.71,37.71,37.71,37.71,37.71,37.71,37.71]
[null,1.9500000000000002,31.5,-5.47,5.78,20,41.5,33.282000000000004,97.505668934240376,38.700000000000003,38.700000000000003,38.700000000000003,38.700000000000003,38.700000000000003,38.700000000000003,38.700000000000003]
[null,2,31.5,-5.47,5.8,0,0,34.133399999999995,100,39.69,39.69,39.69,39.69,39.69,39.69,39.69]

{"sheet":"6","index":12,"n_rows":83,"n_cols":16,"rows_kept":83,"cut":false,"hidden":false,"merged":[]}
[]
[null,"F.O. 3 PS",null,null,null,null,null,"S.G.",0.86,"[t/m3]"]
[]
[null,"GAUGE","LCG","TCG","VCG","FSM (transv)","FSM (long)","Weight","Fill (%)","Trim=-1,5","Trim=1,0","Trim=-0,5","Trim=0","Trim=0,5","Trim=1,0","Trim=1,5"]
[null,null,"Fwd of AP","PS:+","Above BL"," "," "]
[null,"m","m","m","m","t·m","t·m","t",null,"m3","m3","m3","m3","m3","m3","m3"]
[null,2.0000000000000018E-2,30.31,3.67,1.02,0,0.4,{"$f":"M7*$I$2","v":0},{"$f":"M7/$M$83*100","v":0},0,0,0,0,0,0,0]
[null,7.0000000000000062E-2,30.3,3.93,1.05,0.2,1.9,{"$f":"M8*$I$2","v":7.7399999999999997E-2},{"$f":"M8/$M$83*100","v":0.22255192878338279},0.09,0.09,0.09,0.09,0.09,0.09,0.09]
[null,0.12000000000000011,30.3,4.18,1.08,1.1000000000000001,3.3,{"$f":"M9*$I$2","v":0.24939999999999998},0.71711177052423347,0.28999999999999998,0.28999999999999998,0.28999999999999998,0.28999999999999998,0.28999999999999998,0.28999999999999998,0.28999999999999998]
[null,0.16999999999999993,30.3,4.4400000000000004,1.1200000000000001,3.4,4.8,0.52459999999999996,1.5084075173095945,0.61,0.61,0.61,0.61,0.61,0.61,0.61]
[null,0.21999999999999997,30.3,4.7,1.1499999999999999,7.5,6.2,0.88580000000000003,2.5469831849653812,1.03,1.03,1.03,1.03,1.03,1.03,1.03]
[null,0.27,30.3,4.93,1.18,10.8,7,1.3416000000000001,3.8575667655786359,1.56,1.56,1.56,1.56,1.56,1.56,1.56]
[null,0.32000000000000006,30.3,5.07,1.21,10.8,7,1.8145999999999998,5.2176063303659745,2.11,2.11,2.11,2.11,2.11,2.11,2.11]
[null,0.37000000000000011,30.29,5.15,1.24,10.8,7,2.2789999999999999,6.5529179030662714,2.65,2.65,2.65,2.65,2.65,2.65,2.65]
[null,0.41999999999999993,30.29,5.2,1.27,10.9,7,2.7520000000000002,7.9129574678536114,3.2,3.2,3.2,3.2,3.2,3.2,3.2]
[null,0.47,30.29,5.24,1.29,10.9,7,3.2250000000000001,9.2729970326409514,3.75,3.75,3.75,3.75,3.75,3.75,3.75]
[null,0.52,30.29,5.27,1.32,10.9,7,3.6894,10.608308605341248,4.29,4.29,4.29,4.29,4.29,4.29,4.29]
[null,0.57000000000000006,30.29,5.29,1.34,10.9,7,4.1623999999999999,11.968348170128586,4.84,4.84,4.84,4.84,4.84,4.84,4.84]
[null,0.62000000000000011,30.29,5.31,1.37,11,7,4.6353999999999997,13.328387734915925,5.39,5.39,5.39,5.39,5.39,5.39,5.39]
[null,0.66999999999999993,30.29,5.32,1.39,11,7,5.1084000000000005,14.688427299703266,5.94,5.94,5.94,5.94,5.94,5.94,5.94]
[null,0.72,30.29,5.34,1.42,11,7.1,5.5814000000000004,16.048466864490603,6.49,6.49,6.49,6.49,6.49,6.49,6.49]
[null,0.77,30.29,5.35,1.45,11,7.1,6.0544000000000002,17.408506429277942,7.04,7.04,7.04,7.04,7.04,7.04,7.04]
[null,0.82000000000000006,30.29,5.36,1.47,11,7.1,6.5274000000000001,18.768545994065285,7.59,7.59,7.59,7.59,7.59,7.59,7.59]
[null,0.87000000000000011,30.29,5.36,1.5,11,7.1,7.0004,20.128585558852624,8.14,8.14,8.14,8.14,8.14,8.14,8.14]
[null,0.91999999999999993,30.29,5.37,1.52,11.1,7.1,7.4733999999999998,21.488625123639959,8.69,8.69,8.69,8.69,8.69,8.69,8.69]
[null,0.97,30.29,5.38,1.55,11.1,7.1,7.9463999999999997,22.848664688427299,9.24,9.24,9.24,9.24,9.24,9.24,9.24]
[null,1.02,30.29,5.38,1.57,11.1,7.1,8.4193999999999996,24.208704253214638,9.7899999999999991,9.7899999999999991,9.7899999999999991,9.7899999999999991,9.7899999999999991,9.7899999999999991,9.7899999999999991]
[null,1.0699999999999998,30.29,5.39,1.6,11.1,7.1,8.8924000000000003,25.568743818001977,10.34,10.34,10.34,10.34,10.34,10.34,10.34]
[null,1.1200000000000001,30.3,5.39,1.62,11.1,7.1,9.3654000000000011,26.928783382789323,10.89,10.89,10.89,10.89,10.89,10.89,10.89]
[null,1.17,30.3,5.39,1.65,11.1,7.1,9.8384,28.288822947576659,11.44,11.44,11.44,11.44,11.44,11.44,11.44]
[null,1.2200000000000002,30.3,5.4,1.67,11.1,7.1,10.311400000000001,29.648862512363998,11.99,11.99,11.99,11.99,11.99,11.99,11.99]
[null,1.27,30.3,5.4,1.7,11.1,7.1,10.7844,31.008902077151333,12.54,12.54,12.54,12.54,12.54,12.54,12.54]
[null,1.3199999999999998,30.3,5.4,1.72,11.1,7.1,11.266,32.39366963402572,13.1,13.1,13.1,13.1,13.1,13.1,13.1]
[null,1.37,30.3,5.41,1.75,11.1,7.1,11.739000000000001,33.753709198813056,13.65,13.65,13.65,13.65,13.65,13.65,13.65]
[null,1.42,30.3,5.41,1.77,11.1,7.1,12.212,35.113748763600391,14.2,14.2,14.2,14.2,14.2,14.2,14.2]
[null,1.4700000000000002,30.3,5.41,1.8,11.1,7.1,12.685,36.473788328387734,14.75,14.75,14.75,14.75,14.75,14.75,14.75]
[null,1.52,30.3,5.42,1.82,11.1,7.1,13.158000000000001,37.833827893175076,15.3,15.3,15.3,15.3,15.3,15.3,15.3]
[null,1.5699999999999998,30.3,5.42,1.85,11.1,7.1,13.631,39.193867457962419,15.85,15.85,15.85,15.85,15.85,15.85,15.85]
[null,1.62,30.3,5.42,1.87,11.1,7.1,14.103999999999999,40.553907022749755,16.399999999999999,16.399999999999999,16.399999999999999,16.399999999999999,16.399999999999999,16.399999999999999,16.399999999999999]
[null,1.67,30.3,5.42,1.9,11.1,7.1,14.577,41.91394658753709,16.95,16.95,16.95,16.95,16.95,16.95,16.95]
[null,1.7200000000000002,30.3,5.42,1.92,11.1,7.1,15.058600000000002,43.298714144411484,17.510000000000002,17.510000000000002,17.510000000000002,17.510000000000002,17.510000000000002,17.510000000000002,17.510000000000002]
[null,1.77,30.3,5.42,1.95,11.1,7.1,15.531599999999999,44.658753709198812,18.059999999999999,18.059999999999999,18.059999999999999,18.059999999999999,18.059999999999999,18.059999999999999,18.059999999999999]
[null,1.8199999999999998,30.3,5.43,1.97,11.1,7.1,16.0046,46.018793273986155,18.61,18.61,18.61,18.61,18.61,18.61,18.61]
[null,1.87,30.3,5.43,2,11.1,7.1,16.477599999999999,47.378832838773491,19.16,19.16,19.16,19.16,19.16,19.16,19.16]
[null,1.92,30.3,5.43,2.02,11.1,7.1,16.950600000000001,48.738872403560833,19.71,19.71,19.71,19.71,19.71,19.71,19.71]
[null,1.9700000000000002,30.3,5.43,2.0499999999999998,11.1,7.1,17.4236,50.098911968348183,20.260000000000002,20.260000000000002,20.260000000000002,20.260000000000002,20.260000000000002,20.260000000000002,20.260000000000002]
[null,2.02,30.3,5.43,2.0699999999999998,11.1,7.1,17.896599999999999,51.458951533135512,20.81,20.81,20.81,20.81,20.81,20.81,20.81]
[null,2.0699999999999998,30.3,5.43,2.1,11.1,7.1,18.369599999999998,52.818991097922854,21.36,21.36,21.36,21.36,21.36,21.36,21.36]
[null,2.12,30.3,5.43,2.12,11.1,7.1,18.851200000000002,54.203758654797241,21.92,21.92,21.92,21.92,21.92,21.92,21.92]
[null,2.17,30.3,5.43,2.15,11.1,7.1,19.324199999999998,55.563798219584569,22.47,22.47,22.47,22.47,22.47,22.47,22.47]
[null,2.2200000000000002,30.3,5.44,2.17,11.1,7.1,19.7972,56.923837784371912,23.02,23.02,23.02,23.02,23.02,23.02,23.02]
[null,2.27,30.3,5.44,2.2000000000000002,11.1,7.1,20.270199999999999,58.283877349159255,23.57,23.57,23.57,23.57,23.57,23.57,23.57]
[null,2.3199999999999998,30.3,5.44,2.2200000000000002,11.1,7.1,20.743200000000002,59.64391691394659,24.12,24.12,24.12,24.12,24.12,24.12,24.12]
[null,2.37,30.3,5.44,2.25,11.1,7.1,21.216200000000001,61.003956478733933,24.67,24.67,24.67,24.67,24.67,24.67,24.67]
[null,2.42,30.3,5.44,2.27,11.1,7.1,21.6892,62.363996043521261,25.22,25.22,25.22,25.22,25.22,25.22,25.22]
[null,2.4700000000000002,30.3,5.44,2.2999999999999998,11.1,7.1,22.162199999999999,63.724035608308604,25.77,25.77,25.77,25.77,25.77,25.77,25.77]
[null,2.52,30.3,5.44,2.3199999999999998,11.1,7.1,22.643799999999999,65.108803165182977,26.33,26.33,26.33,26.33,26.33,26.33,26.33]
[null,2.57,30.3,5.44,2.35,11.1,7.1,23.116799999999998,66.468842729970319,26.88,26.88,26.88,26.88,26.88,26.88,26.88]
[null,2.62,30.3,5.44,2.37,11.1,7.1,23.5898,67.828882294757662,27.43,27.43,27.43,27.43,27.43,27.43,27.43]
[null,2.67,30.3,5.44,2.4,11.1,7.1,24.062799999999999,69.188921859545005,27.98,27.98,27.98,27.98,27.98,27.98,27.98]
[null,2.72,30.3,5.44,2.42,11.1,7.1,24.535800000000002,70.548961424332347,28.53,28.53,28.53,28.53,28.53,28.53,28.53]
[null,2.77,30.3,5.44,2.4500000000000002,11.1,7.1,25.008799999999997,71.90900098911969,29.08,29.08,29.08,29.08,29.08,29.08,29.08]
[null,2.82,30.3,5.44,2.4700000000000002,11.1,7.1,25.4818,73.269040553907033,29.63,29.63,29.63,29.63,29.63,29.63,29.63]
[null,2.87,30.3,5.44,2.5,11.1,7.1,25.954799999999999,74.629080118694375,30.18,30.18,30.18,30.18,30.18,30.18,30.18]
[null,2.92,30.3,5.45,2.52,11.1,7.1,26.436399999999999,76.013847675568741,30.74,30.74,30.74,30.74,30.74,30.74,30.74]
[null,2.97,30.3,5.45,2.5499999999999998,11.1,7.1,26.909399999999998,77.373887240356083,31.29,31.29,31.29,31.29,31.29,31.29,31.29]
[null,3.0199999999999996,30.3,5.45,2.57,11.1,7.1,27.382400000000001,78.733926805143426,31.84,31.84,31.84,31.84,31.84,31.84,31.84]
[null,3.0700000000000003,30.3,5.45,2.6,11.1,7.1,27.855399999999999,80.093966369930769,32.39,32.39,32.39,32.39,32.39,32.39,32.39]
[null,3.12,30.3,5.45,2.62,11.1,7.1,28.328399999999998,81.454005934718097,32.94,32.94,32.94,32.94,32.94,32.94,32.94]
[null,3.17,30.3,5.45,2.65,11.1,7.1,28.801400000000001,82.814045499505454,33.49,33.49,33.49,33.49,33.49,33.49,33.49]
[null,3.2199999999999998,30.3,5.45,2.67,11.1,7.1,29.2744,84.174085064292782,34.04,34.04,34.04,34.04,34.04,34.04,34.04]
[null,3.2699999999999996,30.3,5.45,2.7,11.1,7.1,29.747400000000003,{"$f":"M72/$M$83*100","v":85.534124629080139},34.590000000000003,34.590000000000003,34.590000000000003,34.590000000000003,34.590000000000003,34.590000000000003,34.590000000000003]
[null,3.3200000000000003,30.3,5.45,2.72,11.1,7.1,{"$f":"M73*$I$2","v":30.228999999999999},86.918892185954505,35.15,35.15,35.15,35.15,35.15,35.15,35.15]
[null,3.37,30.3,5.45,2.75,11.1,7.1,30.702000000000002,88.278931750741847,35.700000000000003,35.700000000000003,35.700000000000003,35.700000000000003,35.700000000000003,35.700000000000003,35.700000000000003]
[null,3.42,30.3,5.45,2.77,11.1,7.1,31.175000000000001,89.638971315529176,36.25,36.25,36.25,36.25,36.25,36.25,36.25]
[null,3.4699999999999998,30.3,5.45,2.8,11.1,7.1,31.647999999999996,90.999010880316504,36.799999999999997,36.799999999999997,36.799999999999997,36.799999999999997,36.799999999999997,36.799999999999997,36.799999999999997]
[null,3.5199999999999996,30.3,5.45,2.82,11.1,7.1,32.121000000000002,92.359050445103861,37.35,37.35,37.35,37.35,37.35,37.35,37.35]
[null,3.5700000000000003,30.3,5.45,2.85,11.1,7.1,32.594000000000001,93.719090009891204,37.9,37.9,37.9,37.9,37.9,37.9,37.9]
[null,3.62,30.3,5.45,2.87,11.1,7.1,33.067,95.079129574678547,38.450000000000003,38.450000000000003,38.450000000000003,38.450000000000003,38.450000000000003,38.450000000000003,38.450000000000003]
[null,3.67,30.3,5.45,2.9,11.1,7.1,33.54,96.439169139465889,39,39,39,39,39,39,39]
[null,3.7199999999999998,30.3,5.45,2.92,11.1,7.1,34.021599999999999,97.823936696340269,39.56,39.56,39.56,39.56,39.56,39.56,39.56]
[null,3.7699999999999996,30.3,5.45,2.95,11.1,7.1,34.494599999999998,99.183976261127611,40.11,40.11,40.11,40.11,40.11,40.11,40.11]
[null,3.8,30.3,5.45,2.96,0.85,0,34.778399999999998,100,40.44,40.44,40.44,40.44,40.44,40.44,40.44]

{"sheet":"7","index":13,"n_rows":83,"n_cols":16,"rows_kept":83,"cut":false,"hidden":false,"merged":[]}
[]
[null,"F.O. 3 SB",null,null,null,null,null,"S.G.",0.86,"[t/m3]"]
[]
[null,"GAUGE","LCG","TCG","VCG","FSM (transv)","FSM (long)","Weight","Fill (%)","Trim=-1,5","Trim=1,0","Trim=-0,5","Trim=0","Trim=0,5","Trim=1,0","Trim=1,5"]
[null,null,"Fwd of AP","PS:+","Above BL"," "," "]
[null,"m","m","m","m","t·m","t·m","t",null,"m3","m3","m3","m3","m3","m3","m3"]
[null,2.0000000000000018E-2,30.31,-3.67,1.02,0,0.4,{"$f":"M7*$I$2","v":0},{"$f":"M7/$M$83*100","v":0},0,0,0,0,0,0,0]
[null,7.0000000000000062E-2,30.3,-3.93,1.05,0.2,1.9,{"$f":"M8*$I$2","v":7.7399999999999997E-2},{"$f":"M8/$M$83*100","v":0.22255192878338279},0.09,0.09,0.09,0.09,0.09,0.09,0.09]
[null,0.12000000000000011,30.3,-4.18,1.08,1.1000000000000001,3.3,{"$f":"M9*$I$2","v":0.24939999999999998},0.71711177052423347,0.28999999999999998,0.28999999999999998,0.28999999999999998,0.28999999999999998,0.28999999999999998,0.28999999999999998,0.28999999999999998]
[null,0.16999999999999993,30.3,-4.4400000000000004,1.1200000000000001,3.4,4.8,0.52459999999999996,1.5084075173095945,0.61,0.61,0.61,0.61,0.61,0.61,0.61]
[null,0.21999999999999997,30.3,-4.7,1.1499999999999999,7.5,6.2,0.88580000000000003,2.5469831849653812,1.03,1.03,1.03,1.03,1.03,1.03,1.03]
[null,0.27,30.3,-4.93,1.18,10.8,7,1.3416000000000001,3.8575667655786359,1.56,1.56,1.56,1.56,1.56,1.56,1.56]
[null,0.32000000000000006,30.3,-5.07,1.21,10.8,7,1.8145999999999998,5.2176063303659745,2.11,2.11,2.11,2.11,2.11,2.11,2.11]
[null,0.37000000000000011,30.29,-5.15,1.24,10.8,7,2.2789999999999999,6.5529179030662714,2.65,2.65,2.65,2.65,2.65,2.65,2.65]
[null,0.41999999999999993,30.29,-5.2,1.27,10.9,7,2.7520000000000002,7.9129574678536114,3.2,3.2,3.2,3.2,3.2,3.2,3.2]
[null,0.47,30.29,-5.24,1.29,10.9,7,3.2250000000000001,9.2729970326409514,3.75,3.75,3.75,3.75,3.75,3.75,3.75]
[null,0.52,30.29,-5.27,1.32,10.9,7,3.6894,10.608308605341248,4.29,4.29,4.29,4.29,4.29,4.29,4.29]
[null,0.57000000000000006,30.29,-5.29,1.34,10.9,7,4.1623999999999999,11.968348170128586,4.84,4.84,4.84,4.84,4.84,4.84,4.84]
[null,0.62000000000000011,30.29,-5.31,1.37,11,7,4.6353999999999997,13.328387734915925,5.39,5.39,5.39,5.39,5.39,5.39,5.39]
[null,0.66999999999999993,30.29,-5.32,1.39,11,7,5.1084000000000005,14.688427299703266,5.94,5.94,5.94,5.94,5.94,5.94,5.94]
[null,0.72,30.29,-5.34,1.42,11,7.1,5.5814000000000004,16.048466864490603,6.49,6.49,6.49,6.49,6.49,6.49,6.49]
[null,0.77,30.29,-5.35,1.45,11,7.1,6.0544000000000002,17.408506429277942,7.04,7.04,7.04,7.04,7.04,7.04,7.04]
[null,0.82000000000000006,30.29,-5.36,1.47,11,7.1,6.5274000000000001,18.768545994065285,7.59,7.59,7.59,7.59,7.59,7.59,7.59]
[null,0.87000000000000011,30.29,-5.36,1.5,11,7.1,7.0004,20.128585558852624,8.14,8.14,8.14,8.14,8.14,8.14,8.14]
[null,0.91999999999999993,30.29,-5.37,1.52,11.1,7.1,7.4733999999999998,21.488625123639959,8.69,8.69,8.69,8.69,8.69,8.69,8.69]
[null,0.97,30.29,-5.38,1.55,11.1,7.1,7.9463999999999997,22.848664688427299,9.24,9.24,9.24,9.24,9.24,9.24,9.24]
[null,1.02,30.29,-5.38,1.57,11.1,7.1,8.4193999999999996,24.208704253214638,9.7899999999999991,9.7899999999999991,9.7899999999999991,9.7899999999999991,9.7899999999999991,9.7899999999999991,9.7899999999999991]
[null,1.0699999999999998,30.29,-5.39,1.6,11.1,7.1,8.8924000000000003,25.568743818001977,10.34,10.34,10.34,10.34,10.34,10.34,10.34]
[null,1.1200000000000001,30.3,-5.39,1.62,11.1,7.1,9.3654000000000011,26.928783382789323,10.89,10.89,10.89,10.89,10.89,10.89,10.89]
[null,1.17,30.3,-5.39,1.65,11.1,7.1,9.8384,28.288822947576659,11.44,11.44,11.44,11.44,11.44,11.44,11.44]
[null,1.2200000000000002,30.3,-5.4,1.67,11.1,7.1,10.311400000000001,29.648862512363998,11.99,11.99,11.99,11.99,11.99,11.99,11.99]
[null,1.27,30.3,-5.4,1.7,11.1,7.1,10.7844,31.008902077151333,12.54,12.54,12.54,12.54,12.54,12.54,12.54]
[null,1.3199999999999998,30.3,-5.4,1.72,11.1,7.1,11.266,32.39366963402572,13.1,13.1,13.1,13.1,13.1,13.1,13.1]
[null,1.37,30.3,-5.41,1.75,11.1,7.1,11.739000000000001,33.753709198813056,13.65,13.65,13.65,13.65,13.65,13.65,13.65]
[null,1.42,30.3,-5.41,1.77,11.1,7.1,12.212,35.113748763600391,14.2,14.2,14.2,14.2,14.2,14.2,14.2]
[null,1.4700000000000002,30.3,-5.41,1.8,11.1,7.1,12.685,36.473788328387734,14.75,14.75,14.75,14.75,14.75,14.75,14.75]
[null,1.52,30.3,-5.42,1.82,11.1,7.1,13.158000000000001,37.833827893175076,15.3,15.3,15.3,15.3,15.3,15.3,15.3]
[null,1.5699999999999998,30.3,-5.42,1.85,11.1,7.1,13.631,39.193867457962419,15.85,15.85,15.85,15.85,15.85,15.85,15.85]
[null,1.62,30.3,-5.42,1.87,11.1,7.1,14.103999999999999,40.553907022749755,16.399999999999999,16.399999999999999,16.399999999999999,16.399999999999999,16.399999999999999,16.399999999999999,16.399999999999999]
[null,1.67,30.3,-5.42,1.9,11.1,7.1,14.577,41.91394658753709,16.95,16.95,16.95,16.95,16.95,16.95,16.95]
[null,1.7200000000000002,30.3,-5.42,1.92,11.1,7.1,15.058600000000002,43.298714144411484,17.510000000000002,17.510000000000002,17.510000000000002,17.510000000000002,17.510000000000002,17.510000000000002,17.510000000000002]
[null,1.77,30.3,-5.42,1.95,11.1,7.1,15.531599999999999,44.658753709198812,18.059999999999999,18.059999999999999,18.059999999999999,18.059999999999999,18.059999999999999,18.059999999999999,18.059999999999999]
[null,1.8199999999999998,30.3,-5.43,1.97,11.1,7.1,16.0046,46.018793273986155,18.61,18.61,18.61,18.61,18.61,18.61,18.61]
[null,1.87,30.3,-5.43,2,11.1,7.1,16.477599999999999,47.378832838773491,19.16,19.16,19.16,19.16,19.16,19.16,19.16]
[null,1.92,30.3,-5.43,2.02,11.1,7.1,16.950600000000001,48.738872403560833,19.71,19.71,19.71,19.71,19.71,19.71,19.71]
[null,1.9700000000000002,30.3,-5.43,2.0499999999999998,11.1,7.1,17.4236,50.098911968348183,20.260000000000002,20.260000000000002,20.260000000000002,20.260000000000002,20.260000000000002,20.260000000000002,20.260000000000002]
[null,2.02,30.3,-5.43,2.0699999999999998,11.1,7.1,17.896599999999999,51.458951533135512,20.81,20.81,20.81,20.81,20.81,20.81,20.81]
[null,2.0699999999999998,30.3,-5.43,2.1,11.1,7.1,18.369599999999998,52.818991097922854,21.36,21.36,21.36,21.36,21.36,21.36,21.36]
[null,2.12,30.3,-5.43,2.12,11.1,7.1,18.851200000000002,54.203758654797241,21.92,21.92,21.92,21.92,21.92,21.92,21.92]
[null,2.17,30.3,-5.43,2.15,11.1,7.1,19.324199999999998,55.563798219584569,22.47,22.47,22.47,22.47,22.47,22.47,22.47]
[null,2.2200000000000002,30.3,-5.44,2.17,11.1,7.1,19.7972,56.923837784371912,23.02,23.02,23.02,23.02,23.02,23.02,23.02]
[null,2.27,30.3,-5.44,2.2000000000000002,11.1,7.1,20.270199999999999,58.283877349159255,23.57,23.57,23.57,23.57,23.57,23.57,23.57]
[null,2.3199999999999998,30.3,-5.44,2.2200000000000002,11.1,7.1,20.743200000000002,59.64391691394659,24.12,24.12,24.12,24.12,24.12,24.12,24.12]
[null,2.37,30.3,-5.44,2.25,11.1,7.1,21.216200000000001,61.003956478733933,24.67,24.67,24.67,24.67,24.67,24.67,24.67]
[null,2.42,30.3,-5.44,2.27,11.1,7.1,21.6892,62.363996043521261,25.22,25.22,25.22,25.22,25.22,25.22,25.22]
[null,2.4700000000000002,30.3,-5.44,2.2999999999999998,11.1,7.1,22.162199999999999,63.724035608308604,25.77,25.77,25.77,25.77,25.77,25.77,25.77]
[null,2.52,30.3,-5.44,2.3199999999999998,11.1,7.1,22.643799999999999,65.108803165182977,26.33,26.33,26.33,26.33,26.33,26.33,26.33]
[null,2.57,30.3,-5.44,2.35,11.1,7.1,23.116799999999998,66.468842729970319,26.88,26.88,26.88,26.88,26.88,26.88,26.88]
[null,2.62,30.3,-5.44,2.37,11.1,7.1,23.5898,67.828882294757662,27.43,27.43,27.43,27.43,27.43,27.43,27.43]
[null,2.67,30.3,-5.44,2.4,11.1,7.1,24.062799999999999,69.188921859545005,27.98,27.98,27.98,27.98,27.98,27.98,27.98]
[null,2.72,30.3,-5.44,2.42,11.1,7.1,24.535800000000002,70.548961424332347,28.53,28.53,28.53,28.53,28.53,28.53,28.53]
[null,2.77,30.3,-5.44,2.4500000000000002,11.1,7.1,25.008799999999997,71.90900098911969,29.08,29.08,29.08,29.08,29.08,29.08,29.08]
[null,2.82,30.3,-5.44,2.4700000000000002,11.1,7.1,25.4818,73.269040553907033,29.63,29.63,29.63,29.63,29.63,29.63,29.63]
[null,2.87,30.3,-5.44,2.5,11.1,7.1,25.954799999999999,74.629080118694375,30.18,30.18,30.18,30.18,30.18,30.18,30.18]
[null,2.92,30.3,-5.45,2.52,11.1,7.1,26.436399999999999,76.013847675568741,30.74,30.74,30.74,30.74,30.74,30.74,30.74]
[null,2.97,30.3,-5.45,2.5499999999999998,11.1,7.1,26.909399999999998,77.373887240356083,31.29,31.29,31.29,31.29,31.29,31.29,31.29]
[null,3.0199999999999996,30.3,-5.45,2.57,11.1,7.1,27.382400000000001,78.733926805143426,31.84,31.84,31.84,31.84,31.84,31.84,31.84]
[null,3.0700000000000003,30.3,-5.45,2.6,11.1,7.1,27.855399999999999,80.093966369930769,32.39,32.39,32.39,32.39,32.39,32.39,32.39]
[null,3.12,30.3,-5.45,2.62,11.1,7.1,28.328399999999998,81.454005934718097,32.94,32.94,32.94,32.94,32.94,32.94,32.94]
[null,3.17,30.3,-5.45,2.65,11.1,7.1,28.801400000000001,82.814045499505454,33.49,33.49,33.49,33.49,33.49,33.49,33.49]
[null,3.2199999999999998,30.3,-5.45,2.67,11.1,7.1,29.2744,84.174085064292782,34.04,34.04,34.04,34.04,34.04,34.04,34.04]
[null,3.2699999999999996,30.3,-5.45,2.7,11.1,7.1,29.747400000000003,{"$f":"M72/$M$83*100","v":85.534124629080139},34.590000000000003,34.590000000000003,34.590000000000003,34.590000000000003,34.590000000000003,34.590000000000003,34.590000000000003]
[null,3.3200000000000003,30.3,-5.45,2.72,11.1,7.1,{"$f":"M73*$I$2","v":30.228999999999999},86.918892185954505,35.15,35.15,35.15,35.15,35.15,35.15,35.15]
[null,3.37,30.3,-5.45,2.75,11.1,7.1,30.702000000000002,88.278931750741847,35.700000000000003,35.700000000000003,35.700000000000003,35.700000000000003,35.700000000000003,35.700000000000003,35.700000000000003]
[null,3.42,30.3,-5.45,2.77,11.1,7.1,31.175000000000001,89.638971315529176,36.25,36.25,36.25,36.25,36.25,36.25,36.25]
[null,3.4699999999999998,30.3,-5.45,2.8,11.1,7.1,31.647999999999996,90.999010880316504,36.799999999999997,36.799999999999997,36.799999999999997,36.799999999999997,36.799999999999997,36.799999999999997,36.799999999999997]
[null,3.5199999999999996,30.3,-5.45,2.82,11.1,7.1,32.121000000000002,92.359050445103861,37.35,37.35,37.35,37.35,37.35,37.35,37.35]
[null,3.5700000000000003,30.3,-5.45,2.85,11.1,7.1,32.594000000000001,93.719090009891204,37.9,37.9,37.9,37.9,37.9,37.9,37.9]
[null,3.62,30.3,-5.45,2.87,11.1,7.1,33.067,95.079129574678547,38.450000000000003,38.450000000000003,38.450000000000003,38.450000000000003,38.450000000000003,38.450000000000003,38.450000000000003]
[null,3.67,30.3,-5.45,2.9,11.1,7.1,33.54,96.439169139465889,39,39,39,39,39,39,39]
[null,3.7199999999999998,30.3,-5.45,2.92,11.1,7.1,34.021599999999999,97.823936696340269,39.56,39.56,39.56,39.56,39.56,39.56,39.56]
[null,3.7699999999999996,30.3,-5.45,2.95,11.1,7.1,34.494599999999998,99.183976261127611,40.11,40.11,40.11,40.11,40.11,40.11,40.11]
[null,3.8,30.3,-5.45,2.96,11.1,0,34.778399999999998,100,40.44,40.44,40.44,40.44,40.44,40.44,40.44]

{"sheet":"8","index":14,"n_rows":28,"n_cols":16,"rows_kept":28,"cut":false,"hidden":false,"merged":[]}
[]
[null,"F.O. 4 PS",null,null,null,null,null,"S.G.",0.86,"[t/m3]"]
[]
[null,"GAUGE","LCG","TCG","VCG","FSM (transv)","FSM (long)","Weight","Fill (%)","Trim=-1,5","Trim=1,0","Trim=-0,5","Trim=0","Trim=0,5","Trim=1,0","Trim=1,5"]
[null,null,"Fwd of AP","PS:+","Above BL"," "," "]
[null,"m","m","m","m","t·m","t·m","t",null,"m3","m3","m3","m3","m3","m3","m3"]
[null,0,31.5,1.8,0.02,0,0,{"$f":"M7*$I$2","v":0},{"$f":"M7/$M$28*100","v":0},0,0,0,0,0,0,0]
[null,0.05,31.5,1.8,0.04,21,17.7,{"$f":"M8*$I$2","v":0.81699999999999995},{"$f":"M8/$M$28*100","v":4.9868766404199469},0.95,0.95,0.95,0.95,0.95,0.95,0.95]
[null,0.1,31.5,1.8,7.0000000000000007E-2,21,17.7,{"$f":"M9*$I$2","v":1.6425999999999998},10.026246719160104,1.91,1.91,1.91,1.91,1.91,1.91,1.91]
[null,0.15,31.5,1.8,0.09,21,17.7,2.4596,15.013123359580053,2.86,2.86,2.86,2.86,2.86,2.86,2.86]
[null,0.2,31.5,1.8,0.12,21,17.7,3.2766000000000002,20,3.81,3.81,3.81,3.81,3.81,3.81,3.81]
[null,0.25,31.5,1.8,0.14000000000000001,21,17.7,4.0935999999999995,24.986876640419943,4.76,4.76,4.76,4.76,4.76,4.76,4.76]
[null,0.3,31.5,1.8,0.17,21,17.7,4.9192,30.026246719160106,5.72,5.72,5.72,5.72,5.72,5.72,5.72]
[null,0.35,31.5,1.8,0.19,21,17.7,5.7362000000000002,35.01312335958005,6.67,6.67,6.67,6.67,6.67,6.67,6.67]
[null,0.4,31.5,1.8,0.22,21,17.7,6.5532000000000004,40,7.62,7.62,7.62,7.62,7.62,7.62,7.62]
[null,0.45,31.5,1.8,0.24,21,17.7,7.3702000000000005,44.98687664041995,8.57,8.57,8.57,8.57,8.57,8.57,8.57]
[null,0.5,31.5,1.8,0.27,21,17.7,8.1958000000000002,50.026246719160092,9.5299999999999994,9.5299999999999994,9.5299999999999994,9.5299999999999994,9.5299999999999994,9.5299999999999994,9.5299999999999994]
[null,0.55000000000000004,31.5,1.8,0.28999999999999998,21,17.7,9.0128000000000004,55.01312335958005,10.48,10.48,10.48,10.48,10.48,10.48,10.48]
[null,0.6,31.5,1.8,0.32,21,17.7,9.8297999999999988,60,11.43,11.43,11.43,11.43,11.43,11.43,11.43]
[null,0.65,31.5,1.8,0.34,21,17.7,10.6554,65.039370078740149,12.39,12.39,12.39,12.39,12.39,12.39,12.39]
[null,0.7,31.5,1.8,0.37,21,17.7,11.4724,70.026246719160099,13.34,13.34,13.34,13.34,13.34,13.34,13.34]
[null,0.75,31.5,1.8,0.39,21,17.7,12.289399999999999,75.01312335958005,14.29,14.29,14.29,14.29,14.29,14.29,14.29]
[null,0.8,31.5,1.8,0.42,21,17.7,13.106400000000001,80,15.24,15.24,15.24,15.24,15.24,15.24,15.24]
[null,0.85,31.5,1.8,0.44,21,17.7,13.931999999999999,85.039370078740149,16.2,16.2,16.2,16.2,16.2,16.2,16.2]
[null,0.9,31.5,1.8,0.47,21,17.7,14.748999999999999,90.026246719160099,17.149999999999999,17.149999999999999,17.149999999999999,17.149999999999999,17.149999999999999,17.149999999999999,17.149999999999999]
[null,0.95,31.5,1.8,0.49,21,17.7,15.566000000000001,95.01312335958005,18.100000000000001,18.100000000000001,18.100000000000001,18.100000000000001,18.100000000000001,18.100000000000001,18.100000000000001]
[null,1,31.5,1.8,0.5,2,1.4,16.382999999999999,100,19.05,19.05,19.05,19.05,19.05,19.05,19.05]
[null,1.01,31.5,1.8,0.5,0,0,{"$f":"M28*$I$2","v":16.382999999999999},{"$f":"M28/$M$28*100","v":100},19.05,19.05,19.05,19.05,19.05,19.05,19.05]

{"sheet":"9","index":15,"n_rows":122,"n_cols":16,"rows_kept":122,"cut":false,"hidden":false,"merged":[]}
[]
[null,"H.F.O 1 PS",null,null,null,null,null,"S.G.",0.98,"[t/m3]"]
[]
[null,"GAUGE","LCG","TCG","VCG","FSM (transv)","FSM (long)","Weight","Fill (%)","Trim=-1,5","Trim=1,0","Trim=-0,5","Trim=0","Trim=0,5","Trim=1,0","Trim=1,5"]
[null,null,"Fwd of AP","PS:+","Above BL"," "," "]
[null,"m","m","m","m","t·m","t·m","t",null,"m3","m3","m3","m3","m3","m3","m3"]
[null,0,26.05,3.83,1.04,0,0.1,{"$f":"M7*$I$2","v":7.8399999999999997E-2},{"$f":"M7/$M$122*100","v":7.0959730353024664E-2},0.02,0.02,0.03,0.08,0.19,0.35,0.57999999999999996]
[null,0.05,26.02,4.08,1.07,1,1.3,{"$f":"M8*$I$2","v":0.3528},{"$f":"M8/$M$122*100","v":0.31931878658861096},0.11,0.14000000000000001,0.22,0.36,0.55000000000000004,0.81,1.1200000000000001]
[null,0.1,26.02,4.34,1.1000000000000001,5,4.7,{"$f":"M9*$I$2","v":0.82319999999999993},0.745077168706759,0.33,0.44,0.61,0.84,1.1299999999999999,1.48,1.87]
[null,0.15,26.02,4.5999999999999996,1.1399999999999999,12,11.5,1.4994000000000001,1.3571048430015966,0.75,0.95,1.21,1.53,1.91,2.33,2.76]
[null,0.2,26.02,4.8499999999999996,1.17,23,22.8,2.3715999999999999,2.1465318431789959,1.37,1.66,2.02,2.42,2.86,3.3,3.74]
[null,0.25,26.02,5.03,1.2,23,22.8,3.3515999999999999,3.0335284725918044,2.1800000000000002,2.56,2.98,3.42,3.85,4.29,4.7300000000000004]
[null,0.3,26.02,5.13,1.23,23,22.8,4.3217999999999996,3.9116551357104843,3.11,3.54,3.97,4.41,4.8499999999999996,5.29,5.72]
[null,0.35,26.02,5.2,1.25,23,22.8,5.2919999999999998,4.7897817988291651,4.09,4.53,4.97,5.4,5.84,6.28,6.72]
[null,0.4,26.02,5.24,1.28,23,22.8,6.2720000000000002,5.6767784282419731,5.09,5.52,5.96,6.4,6.84,7.27,7.71]
[null,0.45,26.02,5.27,1.31,23,22.8,7.2421999999999995,6.5549050913606539,6.08,6.52,6.96,7.39,7.83,8.27,8.6999999999999993]
[null,0.5,26.02,5.3,1.33,23,22.8,8.2222000000000008,7.4419017207734628,7.07,7.51,7.95,8.39,8.82,9.26,9.6999999999999993]
[null,0.55000000000000004,26.02,5.31,1.36,23,22.8,9.192400000000001,8.3200283838921418,8.07,8.51,8.94,9.3800000000000008,9.82,10.25,10.69]
[null,0.6,26.02,5.33,1.38,23,22.8,10.162599999999999,9.1981550470108218,9.06,9.5,9.94,10.37,10.81,11.25,11.69]
[null,0.65,26.02,5.34,1.41,23,22.8,11.1426,10.085151676423628,10.06,10.49,10.93,11.37,11.8,12.24,12.68]
[null,0.7,26.02,5.35,1.44,23,22.8,12.1128,10.96327833954231,11.05,11.49,11.92,12.36,12.8,13.24,13.67]
[null,0.75,26.02,5.36,1.46,23,22.8,13.092799999999999,11.850274968955118,12.04,12.48,12.92,13.36,13.79,14.23,14.67]
[null,0.8,26.02,5.37,1.49,23,22.8,14.062999999999999,12.728401632073799,13.04,13.47,13.91,14.35,14.79,15.22,15.66]
[null,0.85,26.02,5.38,1.51,23,22.8,15.033199999999999,13.606528295192479,14.03,14.47,14.91,15.34,15.78,16.22,16.649999999999999]
[null,0.9,26.02,5.38,1.54,23,22.8,16.013200000000001,14.493524924605286,15.03,15.46,15.9,16.34,16.77,17.21,17.649999999999999]
[null,0.95,26.02,5.39,1.56,23,22.8,16.9834,15.371651587723967,16.02,16.46,16.89,17.329999999999998,17.77,18.2,18.64]
[null,1,26.02,5.39,1.59,23,22.8,17.953600000000002,16.249778250842649,17.010000000000002,17.45,17.89,18.32,18.760000000000002,19.2,19.64]
[null,1.05,26.02,5.4,1.61,23,22.8,18.933599999999998,17.136774880255455,18.010000000000002,18.440000000000001,18.88,19.32,19.760000000000002,20.190000000000001,20.63]
[null,1.1000000000000001,26.02,5.4,1.64,23,22.8,19.903799999999997,18.014901543374133,19,19.440000000000001,19.87,20.309999999999999,20.75,21.19,21.62]
[null,1.1499999999999999,26.02,5.4,1.66,23,22.8,20.883799999999997,18.901898172786943,19.989999999999998,20.43,20.87,21.31,21.74,22.18,22.62]
[null,1.2,26.02,5.41,1.69,23,22.8,21.853999999999999,19.780024835905625,20.99,21.43,21.86,22.3,22.74,23.17,23.61]
[null,1.25,26.02,5.41,1.71,23,22.8,22.824199999999998,20.658151499024306,21.98,22.42,22.86,23.29,23.73,24.17,24.6]
[null,1.3,26.02,5.41,1.74,23,22.8,23.804199999999998,21.545148128437113,22.98,23.41,23.85,24.29,24.72,25.16,25.6]
[null,1.35,26.02,5.42,1.76,23,22.8,24.7744,22.423274791555794,23.97,24.41,24.84,25.28,25.72,26.16,26.59]
[null,1.4,26.02,5.42,1.79,23,22.8,25.744599999999998,23.301401454674473,24.96,25.4,25.84,26.27,26.71,27.15,27.59]
[null,1.45,26.02,5.42,1.81,23,22.8,26.724599999999999,24.188398084087282,25.96,26.39,26.83,27.27,27.71,28.14,28.58]
[null,1.5,26.02,5.42,1.84,23,22.8,27.694800000000001,25.066524747205964,26.95,27.39,27.83,28.26,28.7,29.14,29.57]
[null,1.55,26.02,5.42,1.86,23,22.8,28.674800000000001,25.95352137661877,27.94,28.38,28.82,29.26,29.69,30.13,30.57]
[null,1.6,26.02,5.43,1.89,23,22.8,29.645,26.831648039737448,28.94,29.38,29.81,30.25,30.69,31.12,31.56]
[null,1.65,26.02,5.43,1.91,23,22.8,30.615199999999998,27.709774702856127,29.93,30.37,30.81,31.24,31.68,32.119999999999997,32.56]
[null,1.7,26.02,5.43,1.94,23,22.8,31.595200000000002,28.59677133226894,30.93,31.36,31.8,32.24,32.67,33.11,33.549999999999997]
[null,1.75,26.02,5.43,1.96,23,22.8,32.565399999999997,29.474897995387618,31.92,32.36,32.79,33.229999999999997,33.67,34.11,34.54]
[null,1.8,26.02,5.43,1.99,23,22.8,33.545399999999994,30.361894624800424,32.909999999999997,33.35,33.79,34.229999999999997,34.659999999999997,35.1,35.54]
[null,1.85,26.02,5.43,2.0099999999999998,23,22.8,34.515599999999999,31.240021287919106,33.909999999999997,34.340000000000003,34.78,35.22,35.659999999999997,36.090000000000003,36.53]
[null,1.9,26.02,5.43,2.04,23,22.8,35.485799999999998,32.118147951037791,34.9,35.340000000000003,35.78,36.21,36.65,37.090000000000003,37.520000000000003]
[null,1.95,26.02,5.43,2.06,23,22.8,36.465800000000002,33.005144580450597,35.9,36.33,36.770000000000003,37.21,37.64,38.08,38.520000000000003]
[null,2,26.02,5.44,2.09,23,22.8,37.436,33.883271243569283,36.89,37.33,37.76,38.200000000000003,38.64,39.07,39.51]
[null,2.0499999999999998,26.02,5.44,2.11,23,22.8,38.406199999999998,34.761397906687954,37.880000000000003,38.32,38.76,39.19,39.630000000000003,40.07,40.51]
[null,2.1,26.02,5.44,2.14,23,22.8,39.386199999999995,35.648394536100767,38.880000000000003,39.31,39.75,40.19,40.630000000000003,41.06,41.5]
[null,2.15,26.02,5.44,2.16,23,22.8,40.356400000000001,36.526521199219445,39.869999999999997,40.31,40.74,41.18,41.62,42.06,42.49]
[null,2.2000000000000002,26.02,5.44,2.19,23,22.8,41.336399999999998,37.413517828632251,40.86,41.3,41.74,42.18,42.61,43.05,43.49]
[null,2.25,26.02,5.44,2.21,23,22.8,42.306600000000003,38.291644491750937,41.86,42.3,42.73,43.17,43.61,44.04,44.48]
[null,2.2999999999999998,26.02,5.44,2.2400000000000002,23,22.8,43.276799999999994,39.169771154869608,42.85,43.29,43.73,44.16,44.6,45.04,45.47]
[null,2.35,26.02,5.44,2.2599999999999998,23,22.8,44.256799999999998,40.056767784282421,43.85,44.28,44.72,45.16,45.59,46.03,46.47]
[null,2.4,26.02,5.44,2.29,23,22.8,45.226999999999997,40.934894447401099,44.84,45.28,45.71,46.15,46.59,47.02,47.46]
[null,2.4500000000000002,26.02,5.44,2.31,23,22.8,46.197200000000002,41.813021110519784,45.83,46.27,46.71,47.14,47.58,48.02,48.46]
[null,2.5,26.02,5.44,2.34,23,22.8,47.177199999999999,42.700017739932591,46.83,47.26,47.7,48.14,48.58,49.01,49.45]
[null,2.5499999999999998,26.02,5.44,2.36,23,22.8,48.147400000000005,43.578144403051269,47.82,48.26,48.69,49.13,49.57,50.01,50.44]
[null,2.6,26.02,5.44,2.39,23,22.8,49.127400000000002,44.465141032464075,48.81,49.25,49.69,50.13,50.56,51,51.44]
[null,2.65,26.02,5.45,2.41,23,22.8,50.0976,45.343267695582753,49.81,50.25,50.68,51.12,51.56,51.99,52.43]
[null,2.7,26.02,5.45,2.44,23,22.8,51.067799999999998,46.221394358701438,50.8,51.24,51.68,52.11,52.55,52.99,53.42]
[null,2.75,26.02,5.45,2.46,23,22.8,52.047799999999995,47.108390988114245,51.8,52.23,52.67,53.11,53.54,53.98,54.42]
[null,2.8,26.02,5.45,2.4900000000000002,23,22.8,53.018000000000001,47.98651765123293,52.79,53.23,53.66,54.1,54.54,54.98,55.41]
[null,2.85,26.02,5.45,2.5099999999999998,23,22.8,53.988199999999999,48.864644314351615,53.78,54.22,54.66,55.09,55.53,55.97,56.41]
[null,2.9,26.02,5.45,2.54,23,22.8,54.968200000000003,49.751640943764421,54.78,55.21,55.65,56.09,56.53,56.96,57.4]
[null,2.95,26.02,5.45,2.56,23,22.8,55.938399999999994,50.629767606883092,55.77,56.21,56.65,57.08,57.52,57.96,58.39]
[null,3,26.02,5.45,2.59,23,22.8,56.918399999999998,51.516764236295899,56.76,57.2,57.64,58.08,58.51,58.95,59.39]
[null,3.05,26.02,5.45,2.61,23,22.8,57.888599999999997,52.394890899414584,57.76,58.2,58.63,59.07,59.51,59.94,60.38]
[null,3.1,26.02,5.45,2.64,23,22.8,58.858800000000002,53.273017562533262,58.75,59.19,59.63,60.06,60.5,60.94,61.38]
[null,3.15,26.02,5.45,2.66,23,22.8,59.838799999999999,54.160014191946068,59.75,60.18,60.62,61.06,61.49,61.93,62.37]
[null,3.2,26.02,5.45,2.69,23,22.8,60.808999999999997,55.038140855064754,60.74,61.18,61.61,62.05,62.49,62.93,63.36]
[null,3.25,26.02,5.45,2.71,23,22.8,61.788999999999994,{"$f":"M72/$M$122*100","v":55.92513748447756},61.73,62.17,62.61,63.05,63.48,63.92,64.36]
[null,3.3,26.02,5.45,2.74,23,22.8,{"$f":"M73*$I$2","v":62.759200000000007},56.803264147596245,62.73,63.16,63.6,64.040000000000006,64.48,64.91,65.349999999999994]
[null,3.35,26.02,5.45,2.76,23,22.8,63.729399999999998,57.68139081071493,63.72,64.16,64.599999999999994,65.03,65.47,65.91,66.34]
[null,3.4,26.02,5.45,2.79,23,22.8,64.709400000000002,58.568387440127736,64.72,65.150000000000006,65.59,66.03,66.459999999999994,66.900000000000006,67.34]
[null,3.45,26.02,5.45,2.81,23,22.8,65.679599999999994,59.446514103246408,65.709999999999994,66.150000000000006,66.58,67.02,67.459999999999994,67.89,68.33]
[null,3.5,26.02,5.45,2.84,23,22.8,66.649799999999999,60.324640766365093,66.7,67.14,67.58,68.010000000000005,68.45,68.89,69.33]
[null,3.55,26.02,5.45,2.86,23,22.8,67.629800000000003,61.211637395777906,67.7,68.13,68.569999999999993,69.010000000000005,69.45,69.88,70.319999999999993]
[null,3.6,26.02,5.45,2.89,23,22.8,68.599999999999994,62.089764058896577,68.69,69.13,69.56,70,70.44,70.88,71.31]
[null,3.65,26.02,5.45,2.91,23,22.8,69.58,62.976760688309383,69.680000000000007,70.12,70.56,71,71.430000000000007,71.87,72.31]
[null,3.7,26.02,5.45,2.94,23,22.8,70.55019999999999,63.854887351428061,70.680000000000007,71.12,71.55,71.989999999999995,72.430000000000007,72.86,73.3]
[null,3.75,26.02,5.45,2.96,23,22.8,71.520400000000009,64.733014014546754,71.67,72.11,72.55,72.98,73.42,73.86,74.290000000000006]
[null,3.8,26.02,5.45,2.99,23,22.8,72.500399999999999,65.62001064395956,72.67,73.099999999999994,73.540000000000006,73.98,74.41,74.849999999999994,75.290000000000006]
[null,3.85,26.02,5.45,3.01,23,22.8,73.470600000000005,66.498137307078224,73.66,74.099999999999994,74.53,74.97,75.41,75.849999999999994,76.28]
[null,3.9,26.02,5.46,3.04,23,22.8,74.440799999999996,67.376263970196916,74.650000000000006,75.09,75.53,75.959999999999994,76.400000000000006,76.84,77.28]
[null,3.95,26.02,5.46,3.06,23,22.8,75.420799999999986,68.263260599609723,75.650000000000006,76.08,76.52,76.959999999999994,77.400000000000006,77.83,78.27]
[null,4,26.02,5.46,3.09,23,22.8,76.391000000000005,69.141387262728401,76.64,77.08,77.52,77.95,78.39,78.83,79.260000000000005]
[null,4.05,26.02,5.46,3.11,23,22.8,77.370999999999995,70.028383892141207,77.63,78.069999999999993,78.510000000000005,78.95,79.38,79.819999999999993,80.260000000000005]
[null,4.0999999999999996,26.02,5.46,3.14,23,22.8,78.341200000000001,70.906510555259899,78.63,79.069999999999993,79.5,79.94,80.38,80.81,81.25]
[null,4.1500000000000004,26.02,5.46,3.16,23,22.8,79.311400000000006,71.784637218378577,79.62,80.06,80.5,80.930000000000007,81.37,81.81,82.24]
[null,4.2,26.02,5.46,3.19,23,22.8,80.29140000000001,72.671633847791384,80.62,81.05,81.489999999999995,81.93,82.36,82.8,83.24]
[null,4.25,26.02,5.46,3.21,23,22.8,81.261600000000001,73.549760510910062,81.61,82.05,82.48,82.92,83.36,83.8,84.23]
[null,4.3,26.02,5.46,3.24,23,22.8,82.231799999999993,74.42788717402874,82.6,83.04,83.48,83.91,84.35,84.79,85.23]
[null,4.3499999999999996,26.02,5.46,3.26,23,22.8,83.211799999999997,75.314883803441546,83.6,84.03,84.47,84.91,85.35,85.78,86.22]
[null,4.4000000000000004,26.02,5.46,3.29,23,22.8,84.182000000000002,76.193010466560239,84.59,85.03,85.47,85.9,86.34,86.78,87.21]
[null,4.45,26.02,5.46,3.31,23,22.8,85.162000000000006,77.080007095973045,85.58,86.02,86.46,86.9,87.33,87.77,88.21]
[null,4.5,26.02,5.46,3.34,23,22.8,86.132199999999997,77.958133759091723,86.58,87.02,87.45,87.89,88.33,88.76,89.2]
[null,4.55,26.02,5.46,3.36,23,22.8,87.102399999999989,78.836260422210387,87.57,88.01,88.45,88.88,89.32,89.76,90.2]
[null,4.5999999999999996,26.02,5.46,3.39,23,22.8,88.082399999999993,79.723257051623207,88.57,89,89.44,89.88,90.31,90.75,91.19]
[null,4.6500000000000004,26.02,5.46,3.41,23,22.8,89.052599999999998,80.601383714741885,89.56,90,90.43,90.87,91.31,91.75,92.18]
[null,4.7,26.02,5.46,3.44,23,22.8,90.032600000000002,81.488380344154692,90.55,90.99,91.43,91.87,92.3,92.74,93.18]
[null,4.75,26.02,5.46,3.46,23,22.8,91.002799999999993,82.36650700727337,91.55,91.98,92.42,92.86,93.3,93.73,94.17]
[null,4.8,26.02,5.46,3.49,23,22.8,91.972999999999999,83.244633670392048,92.54,92.98,93.42,93.85,94.29,94.73,95.16]
[null,4.8499999999999996,26.02,5.46,3.51,23,22.8,92.952999999999989,84.131630299804854,93.54,93.97,94.41,94.85,95.28,95.72,96.16]
[null,4.9000000000000004,26.02,5.46,3.54,23,22.8,93.923200000000008,85.009756962923547,94.53,94.97,95.4,95.84,96.28,96.71,97.15]
[null,4.95,26.02,5.46,3.56,23,22.8,94.8934,85.887883626042225,95.52,95.96,96.4,96.83,97.27,97.71,98.15]
[null,5,26.02,5.46,3.59,23,22.8,95.87339999999999,86.774880255455031,96.52,96.95,97.39,97.83,98.27,98.7,99.14]
[null,5.05,26.02,5.46,3.61,23,22.8,96.843599999999995,87.653006918573709,97.51,97.95,98.38,98.82,99.26,99.7,100.13]
[null,5.0999999999999996,26.02,5.46,3.64,23,22.8,97.823599999999985,88.540003547986515,98.5,98.94,99.38,99.82,100.25,100.69,101.13]
[null,5.15,26.02,5.46,3.66,23,22.8,98.793800000000005,89.418130211105208,99.5,99.94,100.37,100.81,101.25,101.68,102.12]
[null,5.2,26.02,5.46,3.69,23,22.8,99.763999999999996,90.296256874223886,100.49,100.93,101.37,101.8,102.24,102.68,103.11]
[null,5.25,26.02,5.46,3.71,23,22.8,100.744,91.183253503636692,101.49,101.92,102.36,102.8,103.23,103.67,104.11]
[null,5.3,26.02,5.46,3.74,23,22.8,101.71420000000001,92.061380166755384,102.48,102.92,103.35,103.79,104.23,104.67,105.1]
[null,5.35,26.02,5.46,3.76,23,22.8,102.6844,92.939506829874048,103.47,103.91,104.35,104.78,105.22,105.66,106.1]
[null,5.4,26.02,5.46,3.79,23,22.8,103.6644,93.826503459286855,104.47,104.9,105.34,105.78,106.22,106.65,107.09]
[null,5.45,26.02,5.46,3.81,23,22.8,104.63459999999999,94.704630122405533,105.46,105.9,106.34,106.77,107.21,107.65,108.08]
[null,5.5,26.02,5.46,3.84,23,22.8,105.6146,95.591626751818353,106.45,106.89,107.33,107.77,108.2,108.64,109.08]
[null,5.55,26.02,5.46,3.86,23,22.8,106.5848,96.469753414937031,107.45,107.89,108.32,108.76,109.2,109.63,110.07]
[null,5.6,26.02,5.46,3.89,23,22.8,107.55499999999999,97.347880078055709,108.44,108.88,109.32,109.75,110.19,110.63,111.07]
[null,5.65,26.02,5.46,3.91,23,22.8,108.535,98.234876707468516,109.44,109.87,110.31,110.75,111.18,111.62,111.93]
[null,5.7,26.02,5.46,3.94,23,22.8,109.50519999999999,99.113003370587194,110.43,110.87,111.3,111.74,112.18,112.41,112.49]
[null,5.75,26.02,5.46,3.96,0,0,110.48519999999999,100,111.41,111.85,112.29,112.74,112.73,112.73,112.72]

{"sheet":"10","index":16,"n_rows":122,"n_cols":16,"rows_kept":122,"cut":false,"hidden":false,"merged":[]}
[]
[null,"H.F.O 1 SB",null,null,null,null,null,"S.G.",0.98,"[t/m3]"]
[]
[null,"GAUGE","LCG","TCG","VCG","FSM (transv)","FSM (long)","Weight","Fill (%)","Trim=-1,5","Trim=1,0","Trim=-0,5","Trim=0","Trim=0,5","Trim=1,0","Trim=1,5"]
[null,null,"Fwd of AP","PS:+","Above BL"," "," "]
[null,"m","m","m","m","t·m","t·m","t",null,"m3","m3","m3","m3","m3","m3","m3"]
[null,0,26.05,-3.83,1.04,0,0.1,{"$f":"M7*$I$2","v":7.8399999999999997E-2},{"$f":"M7/$M$122*100","v":7.0959730353024664E-2},0.02,0.02,0.03,0.08,0.19,0.35,0.57999999999999996]
[null,0.05,26.02,-4.08,1.07,1,1.3,{"$f":"M8*$I$2","v":0.3528},{"$f":"M8/$M$122*100","v":0.31931878658861096},0.11,0.14000000000000001,0.22,0.36,0.55000000000000004,0.81,1.1200000000000001]
[null,0.1,26.02,-4.34,1.1000000000000001,5,4.7,0.82319999999999993,0.745077168706759,0.33,0.44,0.61,0.84,1.1299999999999999,1.48,1.87]
[null,0.15,26.02,-4.5999999999999996,1.1399999999999999,12,11.5,1.4994000000000001,1.3571048430015966,0.75,0.95,1.21,1.53,1.91,2.33,2.76]
[null,0.2,26.02,-4.8499999999999996,1.17,23,22.8,2.3715999999999999,2.1465318431789959,1.37,1.66,2.02,2.42,2.86,3.3,3.74]
[null,0.25,26.02,-5.03,1.2,23,22.8,3.3515999999999999,3.0335284725918044,2.1800000000000002,2.56,2.98,3.42,3.85,4.29,4.7300000000000004]
[null,0.3,26.02,-5.13,1.23,23,22.8,4.3217999999999996,3.9116551357104843,3.11,3.54,3.97,4.41,4.8499999999999996,5.29,5.72]
[null,0.35,26.02,-5.2,1.25,23,22.8,5.2919999999999998,4.7897817988291651,4.09,4.53,4.97,5.4,5.84,6.28,6.72]
[null,0.4,26.02,-5.24,1.28,23,22.8,6.2720000000000002,5.6767784282419731,5.09,5.52,5.96,6.4,6.84,7.27,7.71]
[null,0.45,26.02,-5.27,1.31,23,22.8,7.2421999999999995,6.5549050913606539,6.08,6.52,6.96,7.39,7.83,8.27,8.6999999999999993]
[null,0.5,26.02,-5.3,1.33,23,22.8,8.2222000000000008,7.4419017207734628,7.07,7.51,7.95,8.39,8.82,9.26,9.6999999999999993]
[null,0.55000000000000004,26.02,-5.31,1.36,23,22.8,9.192400000000001,8.3200283838921418,8.07,8.51,8.94,9.3800000000000008,9.82,10.25,10.69]
[null,0.6,26.02,-5.33,1.38,23,22.8,10.162599999999999,9.1981550470108218,9.06,9.5,9.94,10.37,10.81,11.25,11.69]
[null,0.65,26.02,-5.34,1.41,23,22.8,11.1426,10.085151676423628,10.06,10.49,10.93,11.37,11.8,12.24,12.68]
[null,0.7,26.02,-5.35,1.44,23,22.8,12.1128,10.96327833954231,11.05,11.49,11.92,12.36,12.8,13.24,13.67]
[null,0.75,26.02,-5.36,1.46,23,22.8,13.092799999999999,11.850274968955118,12.04,12.48,12.92,13.36,13.79,14.23,14.67]
[null,0.8,26.02,-5.37,1.49,23,22.8,14.062999999999999,12.728401632073799,13.04,13.47,13.91,14.35,14.79,15.22,15.66]
[null,0.85,26.02,-5.38,1.51,23,22.8,15.033199999999999,13.606528295192479,14.03,14.47,14.91,15.34,15.78,16.22,16.649999999999999]
[null,0.9,26.02,-5.38,1.54,23,22.8,16.013200000000001,14.493524924605286,15.03,15.46,15.9,16.34,16.77,17.21,17.649999999999999]
[null,0.95,26.02,-5.39,1.56,23,22.8,16.9834,15.371651587723967,16.02,16.46,16.89,17.329999999999998,17.77,18.2,18.64]
[null,1,26.02,-5.39,1.59,23,22.8,17.953600000000002,16.249778250842649,17.010000000000002,17.45,17.89,18.32,18.760000000000002,19.2,19.64]
[null,1.05,26.02,-5.4,1.61,23,22.8,18.933599999999998,17.136774880255455,18.010000000000002,18.440000000000001,18.88,19.32,19.760000000000002,20.190000000000001,20.63]
[null,1.1000000000000001,26.02,-5.4,1.64,23,22.8,19.903799999999997,18.014901543374133,19,19.440000000000001,19.87,20.309999999999999,20.75,21.19,21.62]
[null,1.1499999999999999,26.02,-5.4,1.66,23,22.8,20.883799999999997,18.901898172786943,19.989999999999998,20.43,20.87,21.31,21.74,22.18,22.62]
[null,1.2,26.02,-5.41,1.69,23,22.8,21.853999999999999,19.780024835905625,20.99,21.43,21.86,22.3,22.74,23.17,23.61]
[null,1.25,26.02,-5.41,1.71,23,22.8,22.824199999999998,20.658151499024306,21.98,22.42,22.86,23.29,23.73,24.17,24.6]
[null,1.3,26.02,-5.41,1.74,23,22.8,23.804199999999998,21.545148128437113,22.98,23.41,23.85,24.29,24.72,25.16,25.6]
[null,1.35,26.02,-5.42,1.76,23,22.8,24.7744,22.423274791555794,23.97,24.41,24.84,25.28,25.72,26.16,26.59]
[null,1.4,26.02,-5.42,1.79,23,22.8,25.744599999999998,23.301401454674473,24.96,25.4,25.84,26.27,26.71,27.15,27.59]
[null,1.45,26.02,-5.42,1.81,23,22.8,26.724599999999999,24.188398084087282,25.96,26.39,26.83,27.27,27.71,28.14,28.58]
[null,1.5,26.02,-5.42,1.84,23,22.8,27.694800000000001,25.066524747205964,26.95,27.39,27.83,28.26,28.7,29.14,29.57]
[null,1.55,26.02,-5.42,1.86,23,22.8,28.674800000000001,25.95352137661877,27.94,28.38,28.82,29.26,29.69,30.13,30.57]
[null,1.6,26.02,-5.43,1.89,23,22.8,29.645,26.831648039737448,28.94,29.38,29.81,30.25,30.69,31.12,31.56]
[null,1.65,26.02,-5.43,1.91,23,22.8,30.615199999999998,27.709774702856127,29.93,30.37,30.81,31.24,31.68,32.119999999999997,32.56]
[null,1.7,26.02,-5.43,1.94,23,22.8,31.595200000000002,28.59677133226894,30.93,31.36,31.8,32.24,32.67,33.11,33.549999999999997]
[null,1.75,26.02,-5.43,1.96,23,22.8,32.565399999999997,29.474897995387618,31.92,32.36,32.79,33.229999999999997,33.67,34.11,34.54]
[null,1.8,26.02,-5.43,1.99,23,22.8,33.545399999999994,30.361894624800424,32.909999999999997,33.35,33.79,34.229999999999997,34.659999999999997,35.1,35.54]
[null,1.85,26.02,-5.43,2.0099999999999998,23,22.8,34.515599999999999,31.240021287919106,33.909999999999997,34.340000000000003,34.78,35.22,35.659999999999997,36.090000000000003,36.53]
[null,1.9,26.02,-5.43,2.04,23,22.8,35.485799999999998,32.118147951037791,34.9,35.340000000000003,35.78,36.21,36.65,37.090000000000003,37.520000000000003]
[null,1.95,26.02,-5.43,2.06,23,22.8,36.465800000000002,33.005144580450597,35.9,36.33,36.770000000000003,37.21,37.64,38.08,38.520000000000003]
[null,2,26.02,-5.44,2.09,23,22.8,37.436,33.883271243569283,36.89,37.33,37.76,38.200000000000003,38.64,39.07,39.51]
[null,2.0499999999999998,26.02,-5.44,2.11,23,22.8,38.406199999999998,34.761397906687954,37.880000000000003,38.32,38.76,39.19,39.630000000000003,40.07,40.51]
[null,2.1,26.02,-5.44,2.14,23,22.8,39.386199999999995,35.648394536100767,38.880000000000003,39.31,39.75,40.19,40.630000000000003,41.06,41.5]
[null,2.15,26.02,-5.44,2.16,23,22.8,40.356400000000001,36.526521199219445,39.869999999999997,40.31,40.74,41.18,41.62,42.06,42.49]
[null,2.2000000000000002,26.02,-5.44,2.19,23,22.8,41.336399999999998,37.413517828632251,40.86,41.3,41.74,42.18,42.61,43.05,43.49]
[null,2.25,26.02,-5.44,2.21,23,22.8,42.306600000000003,38.291644491750937,41.86,42.3,42.73,43.17,43.61,44.04,44.48]
[null,2.2999999999999998,26.02,-5.44,2.2400000000000002,23,22.8,43.276799999999994,39.169771154869608,42.85,43.29,43.73,44.16,44.6,45.04,45.47]
[null,2.35,26.02,-5.44,2.2599999999999998,23,22.8,44.256799999999998,40.056767784282421,43.85,44.28,44.72,45.16,45.59,46.03,46.47]
[null,2.4,26.02,-5.44,2.29,23,22.8,45.226999999999997,40.934894447401099,44.84,45.28,45.71,46.15,46.59,47.02,47.46]
[null,2.4500000000000002,26.02,-5.44,2.31,23,22.8,46.197200000000002,41.813021110519784,45.83,46.27,46.71,47.14,47.58,48.02,48.46]
[null,2.5,26.02,-5.44,2.34,23,22.8,47.177199999999999,42.700017739932591,46.83,47.26,47.7,48.14,48.58,49.01,49.45]
[null,2.5499999999999998,26.02,-5.44,2.36,23,22.8,48.147400000000005,43.578144403051269,47.82,48.26,48.69,49.13,49.57,50.01,50.44]
[null,2.6,26.02,-5.44,2.39,23,22.8,49.127400000000002,44.465141032464075,48.81,49.25,49.69,50.13,50.56,51,51.44]
[null,2.65,26.02,-5.45,2.41,23,22.8,50.0976,45.343267695582753,49.81,50.25,50.68,51.12,51.56,51.99,52.43]
[null,2.7,26.02,-5.45,2.44,23,22.8,51.067799999999998,46.221394358701438,50.8,51.24,51.68,52.11,52.55,52.99,53.42]
[null,2.75,26.02,-5.45,2.46,23,22.8,52.047799999999995,47.108390988114245,51.8,52.23,52.67,53.11,53.54,53.98,54.42]
[null,2.8,26.02,-5.45,2.4900000000000002,23,22.8,53.018000000000001,47.98651765123293,52.79,53.23,53.66,54.1,54.54,54.98,55.41]
[null,2.85,26.02,-5.45,2.5099999999999998,23,22.8,53.988199999999999,48.864644314351615,53.78,54.22,54.66,55.09,55.53,55.97,56.41]
[null,2.9,26.02,-5.45,2.54,23,22.8,54.968200000000003,49.751640943764421,54.78,55.21,55.65,56.09,56.53,56.96,57.4]
[null,2.95,26.02,-5.45,2.56,23,22.8,55.938399999999994,50.629767606883092,55.77,56.21,56.65,57.08,57.52,57.96,58.39]
[null,3,26.02,-5.45,2.59,23,22.8,56.918399999999998,51.516764236295899,56.76,57.2,57.64,58.08,58.51,58.95,59.39]
[null,3.05,26.02,-5.45,2.61,23,22.8,57.888599999999997,52.394890899414584,57.76,58.2,58.63,59.07,59.51,59.94,60.38]
[null,3.1,26.02,-5.45,2.64,23,22.8,58.858800000000002,53.273017562533262,58.75,59.19,59.63,60.06,60.5,60.94,61.38]
[null,3.15,26.02,-5.45,2.66,23,22.8,59.838799999999999,54.160014191946068,59.75,60.18,60.62,61.06,61.49,61.93,62.37]
[null,3.2,26.02,-5.45,2.69,23,22.8,60.808999999999997,55.038140855064754,60.74,61.18,61.61,62.05,62.49,62.93,63.36]
[null,3.25,26.02,-5.45,2.71,23,22.8,{"$f":"M72*$I$2","v":61.788999999999994},{"$f":"M72/$M$122*100","v":55.92513748447756},61.73,62.17,62.61,63.05,63.48,63.92,64.36]
[null,3.3,26.02,-5.45,2.74,23,22.8,62.759200000000007,56.803264147596245,62.73,63.16,63.6,64.040000000000006,64.48,64.91,65.349999999999994]
[null,3.35,26.02,-5.45,2.76,23,22.8,63.729399999999998,57.68139081071493,63.72,64.16,64.599999999999994,65.03,65.47,65.91,66.34]
[null,3.4,26.02,-5.45,2.79,23,22.8,64.709400000000002,58.568387440127736,64.72,65.150000000000006,65.59,66.03,66.459999999999994,66.900000000000006,67.34]
[null,3.45,26.02,-5.45,2.81,23,22.8,65.679599999999994,59.446514103246408,65.709999999999994,66.150000000000006,66.58,67.02,67.459999999999994,67.89,68.33]
[null,3.5,26.02,-5.45,2.84,23,22.8,66.649799999999999,60.324640766365093,66.7,67.14,67.58,68.010000000000005,68.45,68.89,69.33]
[null,3.55,26.02,-5.45,2.86,23,22.8,67.629800000000003,61.211637395777906,67.7,68.13,68.569999999999993,69.010000000000005,69.45,69.88,70.319999999999993]
[null,3.6,26.02,-5.45,2.89,23,22.8,68.599999999999994,62.089764058896577,68.69,69.13,69.56,70,70.44,70.88,71.31]
[null,3.65,26.02,-5.45,2.91,23,22.8,69.58,62.976760688309383,69.680000000000007,70.12,70.56,71,71.430000000000007,71.87,72.31]
[null,3.7,26.02,-5.45,2.94,23,22.8,70.55019999999999,63.854887351428061,70.680000000000007,71.12,71.55,71.989999999999995,72.430000000000007,72.86,73.3]
[null,3.75,26.02,-5.45,2.96,23,22.8,71.520400000000009,64.733014014546754,71.67,72.11,72.55,72.98,73.42,73.86,74.290000000000006]
[null,3.8,26.02,-5.45,2.99,23,22.8,72.500399999999999,65.62001064395956,72.67,73.099999999999994,73.540000000000006,73.98,74.41,74.849999999999994,75.290000000000006]
[null,3.85,26.02,-5.45,3.01,23,22.8,73.470600000000005,66.498137307078224,73.66,74.099999999999994,74.53,74.97,75.41,75.849999999999994,76.28]
[null,3.9,26.02,-5.46,3.04,23,22.8,74.440799999999996,67.376263970196916,74.650000000000006,75.09,75.53,75.959999999999994,76.400000000000006,76.84,77.28]
[null,3.95,26.02,-5.46,3.06,23,22.8,75.420799999999986,68.263260599609723,75.650000000000006,76.08,76.52,76.959999999999994,77.400000000000006,77.83,78.27]
[null,4,26.02,-5.46,3.09,23,22.8,76.391000000000005,69.141387262728401,76.64,77.08,77.52,77.95,78.39,78.83,79.260000000000005]
[null,4.05,26.02,-5.46,3.11,23,22.8,77.370999999999995,70.028383892141207,77.63,78.069999999999993,78.510000000000005,78.95,79.38,79.819999999999993,80.260000000000005]
[null,4.0999999999999996,26.02,-5.46,3.14,23,22.8,78.341200000000001,70.906510555259899,78.63,79.069999999999993,79.5,79.94,80.38,80.81,81.25]
[null,4.1500000000000004,26.02,-5.46,3.16,23,22.8,79.311400000000006,71.784637218378577,79.62,80.06,80.5,80.930000000000007,81.37,81.81,82.24]
[null,4.2,26.02,-5.46,3.19,23,22.8,80.29140000000001,72.671633847791384,80.62,81.05,81.489999999999995,81.93,82.36,82.8,83.24]
[null,4.25,26.02,-5.46,3.21,23,22.8,81.261600000000001,73.549760510910062,81.61,82.05,82.48,82.92,83.36,83.8,84.23]
[null,4.3,26.02,-5.46,3.24,23,22.8,82.231799999999993,74.42788717402874,82.6,83.04,83.48,83.91,84.35,84.79,85.23]
[null,4.3499999999999996,26.02,-5.46,3.26,23,22.8,83.211799999999997,75.314883803441546,83.6,84.03,84.47,84.91,85.35,85.78,86.22]
[null,4.4000000000000004,26.02,-5.46,3.29,23,22.8,84.182000000000002,76.193010466560239,84.59,85.03,85.47,85.9,86.34,86.78,87.21]
[null,4.45,26.02,-5.46,3.31,23,22.8,85.162000000000006,77.080007095973045,85.58,86.02,86.46,86.9,87.33,87.77,88.21]
[null,4.5,26.02,-5.46,3.34,23,22.8,86.132199999999997,77.958133759091723,86.58,87.02,87.45,87.89,88.33,88.76,89.2]
[null,4.55,26.02,-5.46,3.36,23,22.8,87.102399999999989,78.836260422210387,87.57,88.01,88.45,88.88,89.32,89.76,90.2]
[null,4.5999999999999996,26.02,-5.46,3.39,23,22.8,88.082399999999993,79.723257051623207,88.57,89,89.44,89.88,90.31,90.75,91.19]
[null,4.6500000000000004,26.02,-5.46,3.41,23,22.8,89.052599999999998,80.601383714741885,89.56,90,90.43,90.87,91.31,91.75,92.18]
[null,4.7,26.02,-5.46,3.44,23,22.8,90.032600000000002,81.488380344154692,90.55,90.99,91.43,91.87,92.3,92.74,93.18]
[null,4.75,26.02,-5.46,3.46,23,22.8,91.002799999999993,82.36650700727337,91.55,91.98,92.42,92.86,93.3,93.73,94.17]
[null,4.8,26.02,-5.46,3.49,23,22.8,91.972999999999999,83.244633670392048,92.54,92.98,93.42,93.85,94.29,94.73,95.16]
[null,4.8499999999999996,26.02,-5.46,3.51,23,22.8,92.952999999999989,84.131630299804854,93.54,93.97,94.41,94.85,95.28,95.72,96.16]
[null,4.9000000000000004,26.02,-5.46,3.54,23,22.8,93.923200000000008,85.009756962923547,94.53,94.97,95.4,95.84,96.28,96.71,97.15]
[null,4.95,26.02,-5.46,3.56,23,22.8,94.8934,85.887883626042225,95.52,95.96,96.4,96.83,97.27,97.71,98.15]
[null,5,26.02,-5.46,3.59,23,22.8,95.87339999999999,86.774880255455031,96.52,96.95,97.39,97.83,98.27,98.7,99.14]
[null,5.05,26.02,-5.46,3.61,23,22.8,96.843599999999995,87.653006918573709,97.51,97.95,98.38,98.82,99.26,99.7,100.13]
[null,5.0999999999999996,26.02,-5.46,3.64,23,22.8,97.823599999999985,88.540003547986515,98.5,98.94,99.38,99.82,100.25,100.69,101.13]
[null,5.15,26.02,-5.46,3.66,23,22.8,98.793800000000005,89.418130211105208,99.5,99.94,100.37,100.81,101.25,101.68,102.12]
[null,5.2,26.02,-5.46,3.69,23,22.8,99.763999999999996,90.296256874223886,100.49,100.93,101.37,101.8,102.24,102.68,103.11]
[null,5.25,26.02,-5.46,3.71,23,22.8,100.744,91.183253503636692,101.49,101.92,102.36,102.8,103.23,103.67,104.11]
[null,5.3,26.02,-5.46,3.74,23,22.8,101.71420000000001,92.061380166755384,102.48,102.92,103.35,103.79,104.23,104.67,105.1]
[null,5.35,26.02,-5.46,3.76,23,22.8,102.6844,92.939506829874048,103.47,103.91,104.35,104.78,105.22,105.66,106.1]
[null,5.4,26.02,-5.46,3.79,23,22.8,103.6644,93.826503459286855,104.47,104.9,105.34,105.78,106.22,106.65,107.09]
[null,5.45,26.02,-5.46,3.81,23,22.8,104.63459999999999,94.704630122405533,105.46,105.9,106.34,106.77,107.21,107.65,108.08]
[null,5.5,26.02,-5.46,3.84,23,22.8,105.6146,95.591626751818353,106.45,106.89,107.33,107.77,108.2,108.64,109.08]
[null,5.55,26.02,-5.46,3.86,23,22.8,106.5848,96.469753414937031,107.45,107.89,108.32,108.76,109.2,109.63,110.07]
[null,5.6,26.02,-5.46,3.89,23,22.8,107.55499999999999,97.347880078055709,108.44,108.88,109.32,109.75,110.19,110.63,111.07]
[null,5.65,26.02,-5.46,3.91,23,22.8,108.535,98.234876707468516,109.44,109.87,110.31,110.75,111.18,111.62,111.93]
[null,5.7,26.02,-5.46,3.94,23,22.8,109.50519999999999,99.113003370587194,110.43,110.87,111.3,111.74,112.18,112.41,112.49]
[null,5.75,26.02,-5.46,3.96,0,0,{"$f":"M122*$I$2","v":110.48519999999999},{"$f":"M122/$M$122*100","v":100},111.41,111.85,112.29,112.74,112.73,112.73,112.72]

{"sheet":"11","index":17,"n_rows":122,"n_cols":16,"rows_kept":122,"cut":false,"hidden":false,"merged":[]}
[]
[null,"H.F.O 2 PS",null,null,null,null,null,"S.G.",0.98,"[t/m3]"]
[]
[null,"GAUGE","LCG","TCG","VCG","FSM (transv)","FSM (long)","Weight","Fill (%)","Trim=-1,5","Trim=1,0","Trim=-0,5","Trim=0","Trim=0,5","Trim=1,0","Trim=1,5"]
[null,null,"Fwd of AP","PS:+","Above BL"," "," "]
[null,"m","m","m","m","t·m","t·m","t",null,"m3","m3","m3","m3","m3","m3","m3"]
[null,0,20.91,3.82,1.04,0,0.1,{"$f":"M7*$I$2","v":6.8600000000000008E-2},{"$f":"M7/$M$122*100","v":6.9965017491254375E-2},0.02,0.02,0.03,7.0000000000000007E-2,0.14000000000000001,0.26,0.41]
[null,0.05,20.85,4.08,1.07,1,1.2,{"$f":"M8*$I$2","v":0.31359999999999999},{"$f":"M8/$M$122*100","v":0.31984007996002001},0.11,0.14000000000000001,0.21,0.32,0.46,0.64,0.86]
[null,0.1,20.85,4.34,1.1000000000000001,4,4.2,{"$f":"M9*$I$2","v":0.73499999999999999},0.7496251874062968,0.34,0.44,0.56999999999999995,0.75,0.96,1.21,1.49]
[null,0.15,20.85,4.59,1.1399999999999999,10,10.199999999999999,1.3328,1.359320339830085,0.75,0.91,1.1200000000000001,1.36,1.64,1.95,2.27]
[null,0.2,20.85,4.8499999999999996,1.17,21,20.3,2.1069999999999998,2.148925537231384,1.34,1.57,1.84,2.15,2.48,2.8,3.13]
[null,0.25,20.85,5.03,1.2,21,20.3,2.9693999999999998,3.0284857571214392,2.09,2.39,2.71,3.03,3.36,3.68,4.01]
[null,0.3,20.85,5.13,1.23,21,20.3,3.8317999999999999,3.9080459770114944,2.94,3.26,3.59,3.91,4.24,4.57,4.8899999999999997]
[null,0.35,20.85,5.2,1.25,21,20.3,4.7039999999999997,4.7976011994003001,3.82,4.1500000000000004,4.47,4.8,5.12,5.45,5.77]
[null,0.4,20.85,5.24,1.28,21,20.3,5.5663999999999998,5.6771614192903543,4.7,5.03,5.35,5.68,6,6.33,6.66]
[null,0.45,20.85,5.27,1.31,21,20.3,6.4287999999999998,6.5567216391804104,5.58,5.91,6.24,6.56,6.89,7.21,7.54]
[null,0.5,20.85,5.29,1.33,21,20.3,7.2911999999999999,7.4362818590704647,6.47,6.79,7.12,7.44,7.77,8.09,8.42]
[null,0.55000000000000004,20.85,5.31,1.36,21,20.3,8.1536000000000008,8.3158420789605199,7.35,7.67,8,8.32,8.65,8.98,9.3000000000000007]
[null,0.6,20.85,5.33,1.38,21,20.3,9.0258000000000003,9.2053973013493255,8.23,8.56,8.8800000000000008,9.2100000000000009,9.5299999999999994,9.86,10.18]
[null,0.65,20.85,5.34,1.41,21,20.3,9.8881999999999994,10.084957521239382,9.11,9.44,9.76,10.09,10.41,10.74,11.07]
[null,0.7,20.85,5.35,1.44,21,20.3,10.7506,10.964517741129436,9.99,10.32,10.65,10.97,11.3,11.62,11.95]
[null,0.75,20.85,5.36,1.46,21,20.3,11.613,11.84407796101949,10.88,11.2,11.53,11.85,12.18,12.5,12.83]
[null,0.8,20.85,5.37,1.49,21,20.3,12.4754,12.723638180909546,11.76,12.08,12.41,12.73,13.06,13.39,13.71]
[null,0.85,20.85,5.38,1.51,21,20.3,13.347599999999998,13.613193403298352,12.64,12.97,13.29,13.62,13.94,14.27,14.59]
[null,0.9,20.85,5.38,1.54,21,20.3,14.209999999999999,14.492753623188406,13.52,13.85,14.17,14.5,14.82,15.15,15.48]
[null,0.95,20.85,5.39,1.56,21,20.3,15.0724,15.37231384307846,14.4,14.73,15.06,15.38,15.71,16.03,16.36]
[null,1,20.85,5.39,1.59,21,20.3,15.934800000000001,16.251874062968518,15.29,15.61,15.94,16.260000000000002,16.59,16.91,17.239999999999998]
[null,1.05,20.85,5.4,1.61,21,20.3,16.7972,17.131434282858571,16.170000000000002,16.489999999999998,16.82,17.14,17.47,17.8,18.12]
[null,1.1000000000000001,20.85,5.4,1.64,21,20.3,17.6694,18.020989505247378,17.05,17.38,17.7,18.03,18.350000000000001,18.68,19]
[null,1.1499999999999999,20.85,5.4,1.66,21,20.3,18.5318,18.900549725137434,17.93,18.260000000000002,18.579999999999998,18.91,19.23,19.559999999999999,19.89]
[null,1.2,20.85,5.41,1.69,21,20.3,19.394199999999998,19.780109945027487,18.809999999999999,19.14,19.47,19.79,20.12,20.440000000000001,20.77]
[null,1.25,20.85,5.41,1.71,21,20.3,20.256600000000002,20.659670164917543,19.7,20.02,20.350000000000001,20.67,21,21.32,21.65]
[null,1.3,20.85,5.41,1.74,21,20.3,21.119,21.539230384807599,20.58,20.9,21.23,21.55,21.88,22.21,22.53]
[null,1.35,20.85,5.42,1.76,21,20.3,21.991199999999999,22.428785607196403,21.46,21.79,22.11,22.44,22.76,23.09,23.41]
[null,1.4,20.85,5.42,1.79,21,20.3,22.8536,23.308345827086459,22.34,22.67,22.99,23.32,23.64,23.97,24.3]
[null,1.45,20.85,5.42,1.81,21,20.3,23.715999999999998,24.187906046976511,23.22,23.55,23.88,24.2,24.53,24.85,25.18]
[null,1.5,20.85,5.42,1.84,21,20.3,24.578399999999998,25.067466266866568,24.11,24.43,24.76,25.08,25.41,25.73,26.06]
[null,1.55,20.85,5.42,1.86,21,20.3,25.440799999999999,25.947026486756624,24.99,25.31,25.64,25.96,26.29,26.62,26.94]
[null,1.6,20.85,5.43,1.89,21,20.3,26.313000000000002,26.836581709145431,25.87,26.2,26.52,26.85,27.17,27.5,27.82]
[null,1.65,20.85,5.43,1.91,21,20.3,27.1754,27.71614192903548,26.75,27.08,27.4,27.73,28.05,28.38,28.71]
[null,1.7,20.85,5.43,1.94,21,20.3,28.037799999999997,28.59570214892554,27.63,27.96,28.29,28.61,28.94,29.26,29.59]
[null,1.75,20.85,5.43,1.96,21,20.3,28.900199999999998,29.475262368815592,28.52,28.84,29.17,29.49,29.82,30.14,30.47]
[null,1.8,20.85,5.43,1.99,21,20.3,29.762599999999999,30.354822588705648,29.4,29.72,30.05,30.37,30.7,31.03,31.35]
[null,1.85,20.85,5.43,2.0099999999999998,21,20.3,30.634800000000002,31.244377811094452,30.28,30.61,30.93,31.26,31.58,31.91,32.229999999999997]
[null,1.9,20.85,5.43,2.04,21,20.3,31.497199999999999,32.123938030984512,31.16,31.49,31.81,32.14,32.46,32.79,33.119999999999997]
[null,1.95,20.85,5.43,2.06,21,20.3,32.3596,33.003498250874571,32.04,32.369999999999997,32.700000000000003,33.020000000000003,33.35,33.67,34]
[null,2,20.85,5.44,2.09,21,20.3,33.222000000000001,33.883058470764617,32.93,33.25,33.58,33.9,34.229999999999997,34.549999999999997,34.880000000000003]
[null,2.0499999999999998,20.85,5.44,2.11,21,20.3,34.084400000000002,34.762618690654676,33.81,34.130000000000003,34.46,34.78,35.11,35.44,35.76]
[null,2.1,20.85,5.44,2.14,21,20.3,34.956600000000002,35.652173913043484,34.69,35.020000000000003,35.340000000000003,35.67,35.99,36.32,36.64]
[null,2.15,20.85,5.44,2.16,21,20.3,35.818999999999996,36.531734132933529,35.57,35.9,36.22,36.549999999999997,36.869999999999997,37.200000000000003,37.53]
[null,2.2000000000000002,20.85,5.44,2.19,21,20.3,36.681399999999996,37.411294352823589,36.450000000000003,36.78,37.11,37.43,37.76,38.08,38.409999999999997]
[null,2.25,20.85,5.44,2.21,21,20.3,37.543800000000005,38.290854572713648,37.340000000000003,37.659999999999997,37.99,38.31,38.64,38.96,39.29]
[null,2.2999999999999998,20.85,5.44,2.2400000000000002,21,20.3,38.406199999999998,39.170414792603694,38.22,38.54,38.869999999999997,39.19,39.520000000000003,39.85,40.17]
[null,2.35,20.85,5.44,2.2599999999999998,21,20.3,39.278399999999998,40.059970014992501,39.1,39.43,39.75,40.08,40.4,40.729999999999997,41.05]
[null,2.4,20.85,5.44,2.29,21,20.3,40.140799999999999,40.939530234882561,39.979999999999997,40.31,40.630000000000003,40.96,41.28,41.61,41.94]
[null,2.4500000000000002,20.85,5.44,2.31,21,20.3,41.0032,41.819090454772621,40.86,41.19,41.52,41.84,42.17,42.49,42.82]
[null,2.5,20.85,5.44,2.34,21,20.3,41.865600000000001,42.698650674662666,41.75,42.07,42.4,42.72,43.05,43.37,43.7]
[null,2.5499999999999998,20.85,5.44,2.36,21,20.3,42.728000000000002,43.578210894552726,42.63,42.95,43.28,43.6,43.93,44.26,44.58]
[null,2.6,20.85,5.44,2.39,21,20.3,43.600200000000001,44.467766116941533,43.51,43.84,44.16,44.49,44.81,45.14,45.46]
[null,2.65,20.85,5.45,2.41,21,20.3,44.462599999999995,45.347326336831586,44.39,44.72,45.04,45.37,45.69,46.02,46.35]
[null,2.7,20.85,5.45,2.44,21,20.3,45.324999999999996,46.226886556721638,45.27,45.6,45.93,46.25,46.58,46.9,47.23]
[null,2.75,20.85,5.45,2.46,21,20.3,46.187400000000004,47.106446776611698,46.16,46.48,46.81,47.13,47.46,47.78,48.11]
[null,2.8,20.85,5.45,2.4900000000000002,21,20.3,47.049799999999998,47.98600699650175,47.04,47.36,47.69,48.01,48.34,48.67,48.99]
[null,2.85,20.85,5.45,2.5099999999999998,21,20.3,47.921999999999997,48.875562218890558,47.92,48.25,48.57,48.9,49.22,49.55,49.87]
[null,2.9,20.85,5.45,2.54,21,20.3,48.784399999999998,49.75512243878061,48.8,49.13,49.45,49.78,50.1,50.43,50.76]
[null,2.95,20.85,5.45,2.56,21,20.3,49.646799999999999,50.634682658670663,49.68,50.01,50.34,50.66,50.99,51.31,51.64]
[null,3,20.85,5.45,2.59,21,20.3,50.5092,51.514242878560722,50.57,50.89,51.22,51.54,51.87,52.19,52.52]
[null,3.05,20.85,5.45,2.61,21,20.3,51.371600000000001,52.393803098450775,51.45,51.77,52.1,52.42,52.75,53.08,53.4]
[null,3.1,20.85,5.45,2.64,21,20.3,52.2438,53.283358320839582,52.33,52.66,52.98,53.31,53.63,53.96,54.28]
[null,3.15,20.85,5.45,2.66,21,20.3,53.106199999999994,54.162918540729635,53.21,53.54,53.86,54.19,54.51,54.84,55.17]
[null,3.2,20.85,5.45,2.69,21,20.3,53.968600000000002,55.042478760619694,54.09,54.42,54.75,55.07,55.4,55.72,56.05]
[null,3.25,20.85,5.45,2.71,21,20.3,54.831000000000003,{"$f":"M72/$M$122*100","v":55.922038980509747},54.98,55.3,55.63,55.95,56.28,56.6,56.93]
[null,3.3,20.85,5.45,2.74,21,20.3,{"$f":"M73*$I$2","v":55.693399999999997},56.801599200399799,55.86,56.18,56.51,56.83,57.16,57.49,57.81]
[null,3.35,20.85,5.45,2.76,21,20.3,56.565599999999996,57.691154422788607,56.74,57.07,57.39,57.72,58.04,58.37,58.69]
[null,3.4,20.85,5.45,2.79,21,20.3,57.427999999999997,58.570714642678666,57.62,57.95,58.27,58.6,58.92,59.25,59.58]
[null,3.45,20.85,5.45,2.81,21,20.3,58.290399999999998,59.450274862568719,58.5,58.83,59.16,59.48,59.81,60.13,60.46]
[null,3.5,20.85,5.45,2.84,21,20.3,59.152799999999999,60.329835082458771,59.39,59.71,60.04,60.36,60.69,61.01,61.34]
[null,3.55,20.85,5.45,2.86,21,20.3,60.0152,61.209395302348838,60.27,60.59,60.92,61.24,61.57,61.9,62.22]
[null,3.6,20.85,5.45,2.89,21,20.3,60.8874,62.098950524737639,61.15,61.48,61.8,62.13,62.45,62.78,63.1]
[null,3.65,20.85,5.45,2.91,21,20.3,61.7498,62.978510744627691,62.03,62.36,62.68,63.01,63.33,63.66,63.99]
[null,3.7,20.85,5.45,2.94,21,20.3,62.612200000000001,63.858070964517744,62.91,63.24,63.57,63.89,64.22,64.540000000000006,64.87]
[null,3.75,20.85,5.45,2.96,21,20.3,63.474599999999995,64.737631184407789,63.8,64.12,64.45,64.77,65.099999999999994,65.42,65.75]
[null,3.8,20.85,5.45,2.99,21,20.3,64.337000000000003,65.617191404297856,64.680000000000007,65,65.33,65.650000000000006,65.98,66.31,66.63]
[null,3.85,20.85,5.45,3.01,21,20.3,65.20920000000001,66.506746626686663,65.56,65.89,66.209999999999994,66.540000000000006,66.86,67.19,67.510000000000005]
[null,3.9,20.85,5.46,3.04,21,20.3,66.071600000000004,67.386306846576716,66.44,66.77,67.09,67.42,67.739999999999995,68.069999999999993,68.400000000000006]
[null,3.95,20.85,5.46,3.06,21,20.3,66.933999999999997,68.265867066466768,67.319999999999993,67.650000000000006,67.98,68.3,68.63,68.95,69.28]
[null,4,20.85,5.46,3.09,21,20.3,67.796400000000006,69.145427286356835,68.209999999999994,68.53,68.86,69.180000000000007,69.510000000000005,69.83,70.16]
[null,4.05,20.85,5.46,3.11,21,20.3,68.658799999999999,70.024987506246887,69.09,69.41,69.739999999999995,70.06,70.39,70.72,71.040000000000006]
[null,4.0999999999999996,20.85,5.46,3.14,21,20.3,69.531000000000006,70.914542728635695,69.97,70.3,70.62,70.95,71.27,71.599999999999994,71.92]
[null,4.1500000000000004,20.85,5.46,3.16,21,20.3,70.3934,71.794102948525733,70.849999999999994,71.180000000000007,71.5,71.83,72.150000000000006,72.48,72.81]
[null,4.2,20.85,5.46,3.19,21,20.3,71.255799999999994,72.673663168415786,71.73,72.06,72.39,72.709999999999994,73.040000000000006,73.36,73.69]
[null,4.25,20.85,5.46,3.21,21,20.3,72.118200000000002,73.553223388305852,72.62,72.94,73.27,73.59,73.92,74.239999999999995,74.569999999999993]
[null,4.3,20.85,5.46,3.24,21,20.3,72.980599999999995,74.432783608195905,73.5,73.819999999999993,74.150000000000006,74.47,74.8,75.13,75.45]
[null,4.3499999999999996,20.85,5.46,3.26,21,20.3,73.852800000000002,75.322338830584712,74.38,74.709999999999994,75.03,75.36,75.680000000000007,76.010000000000005,76.33]
[null,4.4000000000000004,20.85,5.46,3.29,21,20.3,74.715199999999996,76.201899050474765,75.260000000000005,75.59,75.91,76.239999999999995,76.56,76.89,77.22]
[null,4.45,20.85,5.46,3.31,21,20.3,75.577600000000004,77.081459270364832,76.14,76.47,76.8,77.12,77.45,77.77,78.099999999999994]
[null,4.5,20.85,5.46,3.34,21,20.3,76.44,77.961019490254884,77.03,77.349999999999994,77.680000000000007,78,78.33,78.650000000000006,78.98]
[null,4.55,20.85,5.46,3.36,21,20.3,77.302399999999992,78.840579710144922,77.91,78.23,78.56,78.88,79.209999999999994,79.540000000000006,79.86]
[null,4.5999999999999996,20.85,5.46,3.39,21,20.3,78.174599999999998,79.73013493253373,78.790000000000006,79.12,79.44,79.77,80.09,80.42,80.739999999999995]
[null,4.6500000000000004,20.85,5.46,3.41,21,20.3,79.037000000000006,80.609695152423797,79.67,80,80.319999999999993,80.650000000000006,80.97,81.3,81.63]
[null,4.7,20.85,5.46,3.44,21,20.3,79.8994,81.489255372313849,80.55,80.88,81.209999999999994,81.53,81.86,82.18,82.51]
[null,4.75,20.85,5.46,3.46,21,20.3,80.761799999999994,82.368815592203887,81.44,81.760000000000005,82.09,82.41,82.74,83.06,83.39]
[null,4.8,20.85,5.46,3.49,21,20.3,81.624200000000002,83.248375812093968,82.32,82.64,82.97,83.29,83.62,83.95,84.27]
[null,4.8499999999999996,20.85,5.46,3.51,21,20.3,82.496400000000008,84.137931034482776,83.2,83.53,83.85,84.18,84.5,84.83,85.15]
[null,4.9000000000000004,20.85,5.46,3.54,21,20.3,83.358800000000002,85.017491254372828,84.08,84.41,84.73,85.06,85.38,85.71,86.04]
[null,4.95,20.85,5.46,3.56,21,20.3,84.221199999999996,85.897051474262867,84.96,85.29,85.62,85.94,86.27,86.59,86.92]
[null,5,20.85,5.46,3.59,21,20.3,85.08359999999999,86.776611694152919,85.85,86.17,86.5,86.82,87.15,87.47,87.8]
[null,5.05,20.85,5.46,3.61,21,20.3,85.945999999999998,87.656171914042986,86.73,87.05,87.38,87.7,88.03,88.36,88.68]
[null,5.0999999999999996,20.85,5.46,3.64,21,20.3,86.818200000000004,88.545727136431793,87.61,87.94,88.26,88.59,88.91,89.24,89.56]
[null,5.15,20.85,5.46,3.66,21,20.3,87.680599999999998,89.425287356321832,88.49,88.82,89.14,89.47,89.79,90.12,90.45]
[null,5.2,20.85,5.46,3.69,21,20.3,88.542999999999992,90.304847576211884,89.37,89.7,90.03,90.35,90.68,91,91.33]
[null,5.25,20.85,5.46,3.71,21,20.3,89.4054,91.184407796101951,90.26,90.58,90.91,91.23,91.56,91.88,92.21]
[null,5.3,20.85,5.46,3.74,21,20.3,90.267799999999994,92.063968015992003,91.14,91.46,91.79,92.11,92.44,92.77,93.09]
[null,5.35,20.85,5.46,3.76,21,20.3,91.14,92.953523238380811,92.02,92.35,92.67,93,93.32,93.65,93.97]
[null,5.4,20.85,5.46,3.79,21,20.3,92.002399999999994,93.833083458270863,92.9,93.23,93.55,93.88,94.2,94.53,94.86]
[null,5.45,20.85,5.46,3.81,21,20.3,92.864800000000002,94.71264367816093,93.78,94.11,94.44,94.76,95.09,95.41,95.74]
[null,5.5,20.85,5.46,3.84,21,20.3,93.727199999999996,95.592203898050983,94.67,94.99,95.32,95.64,95.97,96.29,96.62]
[null,5.55,20.85,5.46,3.86,21,20.3,94.58959999999999,96.471764117941035,95.55,95.87,96.2,96.52,96.85,97.18,97.5]
[null,5.6,20.85,5.46,3.89,21,20.3,95.461799999999997,97.361319340329828,96.43,96.76,97.08,97.41,97.73,98.06,98.38]
[null,5.65,20.85,5.46,3.91,21,20.3,96.324200000000005,98.240879560219895,97.31,97.64,97.96,98.29,98.61,98.94,99.23]
[null,5.7,20.85,5.46,3.94,21,20.3,97.186599999999999,99.120439780109947,98.19,98.52,98.85,99.17,99.5,99.72,99.8]
[null,5.75,20.85,5.46,3.96,0,0,98.048999999999992,100,99.06,99.39,99.72,100.05,100.05,100.05,100.04]

{"sheet":"12","index":18,"n_rows":122,"n_cols":16,"rows_kept":122,"cut":false,"hidden":false,"merged":[]}
[]
[null,"H.F.O 2 SB",null,null,null,null,null,"S.G.",0.98,"[t/m3]"]
[]
[null,"GAUGE","LCG","TCG","VCG","FSM (transv)","FSM (long)","Weight","Fill (%)","Trim=-1,5","Trim=1,0","Trim=-0,5","Trim=0","Trim=0,5","Trim=1,0","Trim=1,5"]
[null,null,"Fwd of AP","PS:+","Above BL"," "," "]
[null,"m","m","m","m","t·m","t·m","t",null,"m3","m3","m3","m3","m3","m3","m3"]
[null,0,20.91,-3.82,1.04,0,0.1,{"$f":"M7*$I$2","v":6.8600000000000008E-2},{"$f":"M7/$M$122*100","v":6.9965017491254375E-2},0.02,0.02,0.03,7.0000000000000007E-2,0.15,0.26,0.41]
[null,0.05,20.85,-4.08,1.07,1,1.2,{"$f":"M8*$I$2","v":0.31359999999999999},{"$f":"M8/$M$122*100","v":0.31984007996002001},0.11,0.14000000000000001,0.21,0.32,0.46,0.64,0.86]
[null,0.1,20.85,-4.34,1.1000000000000001,4,4.2,{"$f":"M9*$I$2","v":0.73499999999999999},{"$f":"M9/$M$122*100","v":0.7496251874062968},0.34,0.44,0.56999999999999995,0.75,0.96,1.21,1.49]
[null,0.15,20.85,-4.59,1.1399999999999999,10,10.199999999999999,1.3328,1.359320339830085,0.75,0.92,1.1200000000000001,1.36,1.64,1.95,2.27]
[null,0.2,20.85,-4.8499999999999996,1.17,21,20.3,2.1069999999999998,2.148925537231384,1.34,1.57,1.84,2.15,2.48,2.8,3.13]
[null,0.25,20.85,-5.03,1.2,21,20.3,2.9693999999999998,3.0284857571214392,2.09,2.39,2.71,3.03,3.36,3.68,4.01]
[null,0.3,20.85,-5.13,1.23,21,20.3,3.8317999999999999,3.9080459770114944,2.94,3.26,3.59,3.91,4.24,4.57,4.8899999999999997]
[null,0.35,20.85,-5.2,1.25,21,20.3,4.7039999999999997,4.7976011994003001,3.82,4.1500000000000004,4.47,4.8,5.12,5.45,5.77]
[null,0.4,20.85,-5.24,1.28,21,20.3,5.5663999999999998,5.6771614192903543,4.7,5.03,5.35,5.68,6,6.33,6.66]
[null,0.45,20.85,-5.27,1.31,21,20.3,6.4287999999999998,6.5567216391804104,5.58,5.91,6.24,6.56,6.89,7.21,7.54]
[null,0.5,20.85,-5.29,1.33,21,20.3,7.2911999999999999,7.4362818590704647,6.47,6.79,7.12,7.44,7.77,8.09,8.42]
[null,0.55000000000000004,20.85,-5.31,1.36,21,20.3,8.1536000000000008,8.3158420789605199,7.35,7.67,8,8.32,8.65,8.98,9.3000000000000007]
[null,0.6,20.85,-5.33,1.38,21,20.3,9.0258000000000003,9.2053973013493255,8.23,8.56,8.8800000000000008,9.2100000000000009,9.5299999999999994,9.86,10.18]
[null,0.65,20.85,-5.34,1.41,21,20.3,9.8881999999999994,10.084957521239382,9.11,9.44,9.76,10.09,10.41,10.74,11.07]
[null,0.7,20.85,-5.35,1.44,21,20.3,10.7506,10.964517741129436,9.99,10.32,10.65,10.97,11.3,11.62,11.95]
[null,0.75,20.85,-5.36,1.46,21,20.3,11.613,11.84407796101949,10.88,11.2,11.53,11.85,12.18,12.5,12.83]
[null,0.8,20.85,-5.37,1.49,21,20.3,12.4754,12.723638180909546,11.76,12.08,12.41,12.73,13.06,13.39,13.71]
[null,0.85,20.85,-5.38,1.51,21,20.3,13.347599999999998,13.613193403298352,12.64,12.97,13.29,13.62,13.94,14.27,14.59]
[null,0.9,20.85,-5.38,1.54,21,20.3,14.209999999999999,14.492753623188406,13.52,13.85,14.17,14.5,14.82,15.15,15.48]
[null,0.95,20.85,-5.39,1.56,21,20.3,15.0724,15.37231384307846,14.4,14.73,15.06,15.38,15.71,16.03,16.36]
[null,1,20.85,-5.39,1.59,21,20.3,15.934800000000001,16.251874062968518,15.29,15.61,15.94,16.260000000000002,16.59,16.91,17.239999999999998]
[null,1.05,20.85,-5.4,1.61,21,20.3,16.7972,17.131434282858571,16.170000000000002,16.489999999999998,16.82,17.14,17.47,17.8,18.12]
[null,1.1000000000000001,20.85,-5.4,1.64,21,20.3,17.6694,18.020989505247378,17.05,17.38,17.7,18.03,18.350000000000001,18.68,19]
[null,1.1499999999999999,20.85,-5.4,1.66,21,20.3,18.5318,18.900549725137434,17.93,18.260000000000002,18.579999999999998,18.91,19.23,19.559999999999999,19.89]
[null,1.2,20.85,-5.41,1.69,21,20.3,19.394199999999998,19.780109945027487,18.809999999999999,19.14,19.47,19.79,20.12,20.440000000000001,20.77]
[null,1.25,20.85,-5.41,1.71,21,20.3,20.256600000000002,20.659670164917543,19.7,20.02,20.350000000000001,20.67,21,21.32,21.65]
[null,1.3,20.85,-5.41,1.74,21,20.3,21.119,21.539230384807599,20.58,20.9,21.23,21.55,21.88,22.21,22.53]
[null,1.35,20.85,-5.42,1.76,21,20.3,21.991199999999999,22.428785607196403,21.46,21.79,22.11,22.44,22.76,23.09,23.41]
[null,1.4,20.85,-5.42,1.79,21,20.3,22.8536,23.308345827086459,22.34,22.67,22.99,23.32,23.64,23.97,24.3]
[null,1.45,20.85,-5.42,1.81,21,20.3,23.715999999999998,24.187906046976511,23.22,23.55,23.88,24.2,24.53,24.85,25.18]
[null,1.5,20.85,-5.42,1.84,21,20.3,24.578399999999998,25.067466266866568,24.11,24.43,24.76,25.08,25.41,25.73,26.06]
[null,1.55,20.85,-5.42,1.86,21,20.3,25.440799999999999,25.947026486756624,24.99,25.31,25.64,25.96,26.29,26.62,26.94]
[null,1.6,20.85,-5.43,1.89,21,20.3,26.313000000000002,26.836581709145431,25.87,26.2,26.52,26.85,27.17,27.5,27.82]
[null,1.65,20.85,-5.43,1.91,21,20.3,27.1754,27.71614192903548,26.75,27.08,27.4,27.73,28.05,28.38,28.71]
[null,1.7,20.85,-5.43,1.94,21,20.3,28.037799999999997,28.59570214892554,27.63,27.96,28.29,28.61,28.94,29.26,29.59]
[null,1.75,20.85,-5.43,1.96,21,20.3,28.900199999999998,29.475262368815592,28.52,28.84,29.17,29.49,29.82,30.14,30.47]
[null,1.8,20.85,-5.43,1.99,21,20.3,29.762599999999999,30.354822588705648,29.4,29.72,30.05,30.37,30.7,31.03,31.35]
[null,1.85,20.85,-5.43,2.0099999999999998,21,20.3,30.634800000000002,31.244377811094452,30.28,30.61,30.93,31.26,31.58,31.91,32.229999999999997]
[null,1.9,20.85,-5.43,2.04,21,20.3,31.497199999999999,32.123938030984512,31.16,31.49,31.81,32.14,32.46,32.79,33.119999999999997]
[null,1.95,20.85,-5.43,2.06,21,20.3,32.3596,33.003498250874571,32.04,32.369999999999997,32.700000000000003,33.020000000000003,33.35,33.67,34]
[null,2,20.85,-5.44,2.09,21,20.3,33.222000000000001,33.883058470764617,32.93,33.25,33.58,33.9,34.229999999999997,34.549999999999997,34.880000000000003]
[null,2.0499999999999998,20.85,-5.44,2.11,21,20.3,34.084400000000002,34.762618690654676,33.81,34.130000000000003,34.46,34.78,35.11,35.44,35.76]
[null,2.1,20.85,-5.44,2.14,21,20.3,34.956600000000002,35.652173913043484,34.69,35.020000000000003,35.340000000000003,35.67,35.99,36.32,36.64]
[null,2.15,20.85,-5.44,2.16,21,20.3,35.818999999999996,36.531734132933529,35.57,35.9,36.22,36.549999999999997,36.869999999999997,37.200000000000003,37.53]
[null,2.2000000000000002,20.85,-5.44,2.19,21,20.3,36.681399999999996,37.411294352823589,36.450000000000003,36.78,37.11,37.43,37.76,38.08,38.409999999999997]
[null,2.25,20.85,-5.44,2.21,21,20.3,37.543800000000005,38.290854572713648,37.340000000000003,37.659999999999997,37.99,38.31,38.64,38.96,39.29]
[null,2.2999999999999998,20.85,-5.44,2.2400000000000002,21,20.3,38.406199999999998,39.170414792603694,38.22,38.54,38.869999999999997,39.19,39.520000000000003,39.85,40.17]
[null,2.35,20.85,-5.44,2.2599999999999998,21,20.3,39.278399999999998,40.059970014992501,39.1,39.43,39.75,40.08,40.4,40.729999999999997,41.05]
[null,2.4,20.85,-5.44,2.29,21,20.3,40.140799999999999,40.939530234882561,39.979999999999997,40.31,40.630000000000003,40.96,41.28,41.61,41.94]
[null,2.4500000000000002,20.85,-5.44,2.31,21,20.3,41.0032,41.819090454772621,40.86,41.19,41.52,41.84,42.17,42.49,42.82]
[null,2.5,20.85,-5.44,2.34,21,20.3,41.865600000000001,42.698650674662666,41.75,42.07,42.4,42.72,43.05,43.37,43.7]
[null,2.5499999999999998,20.85,-5.44,2.36,21,20.3,42.728000000000002,43.578210894552726,42.63,42.95,43.28,43.6,43.93,44.26,44.58]
[null,2.6,20.85,-5.44,2.39,21,20.3,43.600200000000001,44.467766116941533,43.51,43.84,44.16,44.49,44.81,45.14,45.46]
[null,2.65,20.85,-5.45,2.41,21,20.3,44.462599999999995,45.347326336831586,44.39,44.72,45.04,45.37,45.69,46.02,46.35]
[null,2.7,20.85,-5.45,2.44,21,20.3,45.324999999999996,46.226886556721638,45.27,45.6,45.93,46.25,46.58,46.9,47.23]
[null,2.75,20.85,-5.45,2.46,21,20.3,46.187400000000004,47.106446776611698,46.16,46.48,46.81,47.13,47.46,47.78,48.11]
[null,2.8,20.85,-5.45,2.4900000000000002,21,20.3,47.049799999999998,47.98600699650175,47.04,47.36,47.69,48.01,48.34,48.67,48.99]
[null,2.85,20.85,-5.45,2.5099999999999998,21,20.3,47.921999999999997,48.875562218890558,47.92,48.25,48.57,48.9,49.22,49.55,49.87]
[null,2.9,20.85,-5.45,2.54,21,20.3,48.784399999999998,49.75512243878061,48.8,49.13,49.45,49.78,50.1,50.43,50.76]
[null,2.95,20.85,-5.45,2.56,21,20.3,49.646799999999999,50.634682658670663,49.68,50.01,50.34,50.66,50.99,51.31,51.64]
[null,3,20.85,-5.45,2.59,21,20.3,50.5092,51.514242878560722,50.57,50.89,51.22,51.54,51.87,52.19,52.52]
[null,3.05,20.85,-5.45,2.61,21,20.3,51.371600000000001,52.393803098450775,51.45,51.77,52.1,52.42,52.75,53.08,53.4]
[null,3.1,20.85,-5.45,2.64,21,20.3,52.2438,53.283358320839582,52.33,52.66,52.98,53.31,53.63,53.96,54.28]
[null,3.15,20.85,-5.45,2.66,21,20.3,53.106199999999994,54.162918540729635,53.21,53.54,53.86,54.19,54.51,54.84,55.17]
[null,3.2,20.85,-5.45,2.69,21,20.3,53.968600000000002,55.042478760619694,54.09,54.42,54.75,55.07,55.4,55.72,56.05]
[null,3.25,20.85,-5.45,2.71,21,20.3,54.831000000000003,55.922038980509747,54.98,55.3,55.63,55.95,56.28,56.6,56.93]
[null,3.3,20.85,-5.45,2.74,21,20.3,{"$f":"M73*$I$2","v":55.693399999999997},{"$f":"M73/$M$122*100","v":56.801599200399799},55.86,56.18,56.51,56.83,57.16,57.49,57.81]
[null,3.35,20.85,-5.45,2.76,21,20.3,56.565599999999996,57.691154422788607,56.74,57.07,57.39,57.72,58.04,58.37,58.69]
[null,3.4,20.85,-5.45,2.79,21,20.3,57.427999999999997,58.570714642678666,57.62,57.95,58.27,58.6,58.92,59.25,59.58]
[null,3.45,20.85,-5.45,2.81,21,20.3,58.290399999999998,59.450274862568719,58.5,58.83,59.16,59.48,59.81,60.13,60.46]
[null,3.5,20.85,-5.45,2.84,21,20.3,59.152799999999999,60.329835082458771,59.39,59.71,60.04,60.36,60.69,61.01,61.34]
[null,3.55,20.85,-5.45,2.86,21,20.3,60.0152,61.209395302348838,60.27,60.59,60.92,61.24,61.57,61.9,62.22]
[null,3.6,20.85,-5.45,2.89,21,20.3,60.8874,62.098950524737639,61.15,61.48,61.8,62.13,62.45,62.78,63.1]
[null,3.65,20.85,-5.45,2.91,21,20.3,61.7498,62.978510744627691,62.03,62.36,62.68,63.01,63.33,63.66,63.99]
[null,3.7,20.85,-5.45,2.94,21,20.3,62.612200000000001,63.858070964517744,62.91,63.24,63.57,63.89,64.22,64.540000000000006,64.87]
[null,3.75,20.85,-5.45,2.96,21,20.3,63.474599999999995,64.737631184407789,63.8,64.12,64.45,64.77,65.099999999999994,65.42,65.75]
[null,3.8,20.85,-5.45,2.99,21,20.3,64.337000000000003,65.617191404297856,64.680000000000007,65,65.33,65.650000000000006,65.98,66.31,66.63]
[null,3.85,20.85,-5.45,3.01,21,20.3,65.20920000000001,66.506746626686663,65.56,65.89,66.209999999999994,66.540000000000006,66.86,67.19,67.510000000000005]
[null,3.9,20.85,-5.46,3.04,21,20.3,66.071600000000004,67.386306846576716,66.44,66.77,67.09,67.42,67.739999999999995,68.069999999999993,68.400000000000006]
[null,3.95,20.85,-5.46,3.06,21,20.3,66.933999999999997,68.265867066466768,67.319999999999993,67.650000000000006,67.98,68.3,68.63,68.95,69.28]
[null,4,20.85,-5.46,3.09,21,20.3,67.796400000000006,69.145427286356835,68.209999999999994,68.53,68.86,69.180000000000007,69.510000000000005,69.83,70.16]
[null,4.05,20.85,-5.46,3.11,21,20.3,68.658799999999999,70.024987506246887,69.09,69.41,69.739999999999995,70.06,70.39,70.72,71.040000000000006]
[null,4.0999999999999996,20.85,-5.46,3.14,21,20.3,69.531000000000006,70.914542728635695,69.97,70.3,70.62,70.95,71.27,71.599999999999994,71.92]
[null,4.1500000000000004,20.85,-5.46,3.16,21,20.3,70.3934,71.794102948525733,70.849999999999994,71.180000000000007,71.5,71.83,72.150000000000006,72.48,72.81]
[null,4.2,20.85,-5.46,3.19,21,20.3,71.255799999999994,72.673663168415786,71.73,72.06,72.39,72.709999999999994,73.040000000000006,73.36,73.69]
[null,4.25,20.85,-5.46,3.21,21,20.3,72.118200000000002,73.553223388305852,72.62,72.94,73.27,73.59,73.92,74.239999999999995,74.569999999999993]
[null,4.3,20.85,-5.46,3.24,21,20.3,72.980599999999995,74.432783608195905,73.5,73.819999999999993,74.150000000000006,74.47,74.8,75.13,75.45]
[null,4.3499999999999996,20.85,-5.46,3.26,21,20.3,73.852800000000002,75.322338830584712,74.38,74.709999999999994,75.03,75.36,75.680000000000007,76.010000000000005,76.33]
[null,4.4000000000000004,20.85,-5.46,3.29,21,20.3,74.715199999999996,76.201899050474765,75.260000000000005,75.59,75.91,76.239999999999995,76.56,76.89,77.22]
[null,4.45,20.85,-5.46,3.31,21,20.3,75.577600000000004,77.081459270364832,76.14,76.47,76.8,77.12,77.45,77.77,78.099999999999994]
[null,4.5,20.85,-5.46,3.34,21,20.3,76.44,77.961019490254884,77.03,77.349999999999994,77.680000000000007,78,78.33,78.650000000000006,78.98]
[null,4.55,20.85,-5.46,3.36,21,20.3,77.302399999999992,78.840579710144922,77.91,78.23,78.56,78.88,79.209999999999994,79.540000000000006,79.86]
[null,4.5999999999999996,20.85,-5.46,3.39,21,20.3,78.174599999999998,79.73013493253373,78.790000000000006,79.12,79.44,79.77,80.09,80.42,80.739999999999995]
[null,4.6500000000000004,20.85,-5.46,3.41,21,20.3,79.037000000000006,80.609695152423797,79.67,80,80.319999999999993,80.650000000000006,80.97,81.3,81.63]
[null,4.7,20.85,-5.46,3.44,21,20.3,79.8994,81.489255372313849,80.55,80.88,81.209999999999994,81.53,81.86,82.18,82.51]
[null,4.75,20.85,-5.46,3.46,21,20.3,80.761799999999994,82.368815592203887,81.44,81.760000000000005,82.09,82.41,82.74,83.06,83.39]
[null,4.8,20.85,-5.46,3.49,21,20.3,81.624200000000002,83.248375812093968,82.32,82.64,82.97,83.29,83.62,83.95,84.27]
[null,4.8499999999999996,20.85,-5.46,3.51,21,20.3,82.496400000000008,84.137931034482776,83.2,83.53,83.85,84.18,84.5,84.83,85.15]
[null,4.9000000000000004,20.85,-5.46,3.54,21,20.3,83.358800000000002,85.017491254372828,84.08,84.41,84.73,85.06,85.38,85.71,86.04]
[null,4.95,20.85,-5.46,3.56,21,20.3,84.221199999999996,85.897051474262867,84.96,85.29,85.62,85.94,86.27,86.59,86.92]
[null,5,20.85,-5.46,3.59,21,20.3,85.08359999999999,86.776611694152919,85.85,86.17,86.5,86.82,87.15,87.47,87.8]
[null,5.05,20.85,-5.46,3.61,21,20.3,85.945999999999998,87.656171914042986,86.73,87.05,87.38,87.7,88.03,88.36,88.68]
[null,5.0999999999999996,20.85,-5.46,3.64,21,20.3,86.818200000000004,88.545727136431793,87.61,87.94,88.26,88.59,88.91,89.24,89.56]
[null,5.15,20.85,-5.46,3.66,21,20.3,87.680599999999998,89.425287356321832,88.49,88.82,89.14,89.47,89.79,90.12,90.45]
[null,5.2,20.85,-5.46,3.69,21,20.3,88.542999999999992,90.304847576211884,89.37,89.7,90.03,90.35,90.68,91,91.33]
[null,5.25,20.85,-5.46,3.71,21,20.3,89.4054,91.184407796101951,90.26,90.58,90.91,91.23,91.56,91.88,92.21]
[null,5.3,20.85,-5.46,3.74,21,20.3,90.267799999999994,92.063968015992003,91.14,91.46,91.79,92.11,92.44,92.77,93.09]
[null,5.35,20.85,-5.46,3.76,21,20.3,91.14,92.953523238380811,92.02,92.35,92.67,93,93.32,93.65,93.97]
[null,5.4,20.85,-5.46,3.79,21,20.3,92.002399999999994,93.833083458270863,92.9,93.23,93.55,93.88,94.2,94.53,94.86]
[null,5.45,20.85,-5.46,3.81,21,20.3,92.864800000000002,94.71264367816093,93.78,94.11,94.44,94.76,95.09,95.41,95.74]
[null,5.5,20.85,-5.46,3.84,21,20.3,93.727199999999996,95.592203898050983,94.67,94.99,95.32,95.64,95.97,96.29,96.62]
[null,5.55,20.85,-5.46,3.86,21,20.3,94.58959999999999,96.471764117941035,95.55,95.87,96.2,96.52,96.85,97.18,97.5]
[null,5.6,20.85,-5.46,3.89,21,20.3,95.461799999999997,97.361319340329828,96.43,96.76,97.08,97.41,97.73,98.06,98.38]
[null,5.65,20.85,-5.46,3.91,21,20.3,96.324200000000005,98.240879560219895,97.31,97.64,97.96,98.29,98.61,98.94,99.23]
[null,5.7,20.85,-5.46,3.94,21,20.3,97.186599999999999,99.120439780109947,98.19,98.52,98.85,99.17,99.5,99.72,99.8]
[null,5.75,20.85,-5.46,3.96,0,0,98.048999999999992,100,99.06,99.39,99.72,100.05,100.05,100.04,100.04]

{"sheet":"13","index":19,"n_rows":123,"n_cols":16,"rows_kept":123,"cut":false,"hidden":false,"merged":[]}
[]
[null,"H.F.O 2 C",null,null,null,null,null,"S.G.",0.98,"[t/m3]"]
[]
[null,"GAUGE","LCG","TCG","VCG","FSM (transv)","FSM (long)","Weight","Fill (%)","Trim=-1,5","Trim=1,0","Trim=-0,5","Trim=0","Trim=0,5","Trim=1,0","Trim=1,5"]
[null,null,"Fwd of AP","PS:+","Above BL"," "," "]
[null,"m","m","m","m","t·m","t·m","t",null,"m3","m3","m3","m3","m3","m3","m3"]
[null,0,21,0,1.02,0,0,{"$f":"M7*$I$2","v":0.51939999999999997},{"$f":"M7/$M$123*100","v":0.51793218020130949},1.66,1.28,0.91,0.53,0.18,0.08,0.05]
[null,0.05,21,0,1.04,25,25,{"$f":"M8*$I$2","v":1.3817999999999999},{"$f":"M8/$M$123*100","v":1.3778950454412195},2.54,2.16,1.79,1.41,1.04,0.66,0.42]
[null,0.1,21,0,1.06,25,25,{"$f":"M9*$I$2","v":2.2442000000000002},2.23785791068113,3.42,3.05,2.67,2.29,1.92,1.54,1.17]
[null,0.15,21,0,1.0900000000000001,25,25,3.1164000000000001,3.1075930812078574,4.3,3.93,3.55,3.18,2.8,2.42,2.0499999999999998]
[null,0.2,21,0,1.1100000000000001,25,25,3.9787999999999997,3.9675559464477663,5.19,4.8099999999999996,4.43,4.0599999999999996,3.68,3.31,2.93]
[null,0.25,21,0,1.1399999999999999,25,25,4.8412000000000006,4.8275188116876775,6.07,5.69,5.32,4.9400000000000004,4.5599999999999996,4.1900000000000004,3.81]
[null,0.3,21,0,1.1599999999999999,25,25,5.7035999999999998,5.6874816769275878,6.95,6.57,6.2,5.82,5.45,5.07,4.6900000000000004]
[null,0.35,21,0,1.19,25,25,6.5659999999999998,6.547444542167498,7.83,7.46,7.08,6.7,6.33,5.95,5.58]
[null,0.4,21,0,1.22,25,25,7.4382000000000001,7.4171797126942245,8.7100000000000009,8.34,7.96,7.59,7.21,6.83,6.46]
[null,0.45,21,0,1.24,25,25,8.3006000000000011,8.2771425779341357,9.6,9.2200000000000006,8.84,8.4700000000000006,8.09,7.72,7.34]
[null,0.5,21,0,1.27,25,25,9.1630000000000003,9.137105443174045,10.48,10.1,9.73,9.35,8.9700000000000006,8.6,8.2200000000000006]
[null,0.55000000000000004,21,0,1.29,25,25,10.025399999999999,9.9970683084139562,11.36,10.99,10.61,10.23,9.86,9.48,9.1]
[null,0.6,21,0,1.31,25,25,10.897599999999999,10.866803478940682,12.24,11.87,11.49,11.12,10.74,10.36,9.99]
[null,0.65,21,0,1.34,25,25,11.76,11.726766344180591,13.13,12.75,12.37,12,11.62,11.25,10.87]
[null,0.7,21,0,1.37,25,25,12.622400000000001,12.586729209420502,14.01,13.63,13.26,12.88,12.5,12.13,11.75]
[null,0.75,21,0,1.39,25,25,13.4848,13.446692074660413,14.89,14.51,14.14,13.76,13.39,13.01,12.63]
[null,0.8,21,0,1.41,25,25,14.347200000000001,14.306654939900323,15.77,15.4,15.02,14.64,14.27,13.89,13.52]
[null,0.85,21,0,1.44,25,25,15.219399999999998,15.176390110427048,16.649999999999999,16.28,15.9,15.53,15.15,14.77,14.4]
[null,0.9,21,0,1.46,25,25,16.081800000000001,16.036352975666958,17.54,17.16,16.78,16.41,16.03,15.66,15.28]
[null,0.95,21,0,1.49,25,25,16.944199999999999,16.896315840906869,18.420000000000002,18.04,17.670000000000002,17.29,16.91,16.54,16.16]
[null,1,21,0,1.51,25,25,17.806600000000003,17.756278706146784,19.3,18.920000000000002,18.55,18.170000000000002,17.8,17.420000000000002,17.04]
[null,1.05,21,0,1.54,25,25,18.669,18.616241571386691,20.18,19.809999999999999,19.43,19.05,18.68,18.3,17.93]
[null,1.1000000000000001,21,0,1.56,25,25,19.5412,19.485976741913419,21.06,20.69,20.309999999999999,19.940000000000001,19.559999999999999,19.18,18.809999999999999]
[null,1.1499999999999999,21,0,1.59,25,25,20.403600000000001,20.34593960715333,21.95,21.57,21.19,20.82,20.440000000000001,20.07,19.690000000000001]
[null,1.2,21,0,1.61,25,25,21.265999999999998,21.205902472393237,22.83,22.45,22.08,21.7,21.33,20.95,20.57]
[null,1.25,21,0,1.64,25,25,22.128399999999999,22.065865337633149,23.71,23.34,22.96,22.58,22.21,21.83,21.46]
[null,1.3,21,0,1.66,25,25,23.000599999999999,22.935600508159872,24.59,24.22,23.84,23.47,23.09,22.71,22.34]
[null,1.35,21,0,1.69,25,25,23.863,23.795563373399787,25.48,25.1,24.72,24.35,23.97,23.6,23.22]
[null,1.4,21,0,1.71,25,25,24.7254,24.655526238639698,26.36,25.98,25.61,25.23,24.85,24.48,24.1]
[null,1.45,21,0,1.74,25,25,25.587799999999998,25.515489103879606,27.24,26.86,26.49,26.11,25.74,25.36,24.98]
[null,1.5,21,0,1.77,25,25,26.450199999999999,26.375451969119514,28.12,27.75,27.37,26.99,26.62,26.24,25.87]
[null,1.55,21,0,1.79,25,25,27.322399999999998,27.245187139646244,29,28.63,28.25,27.88,27.5,27.12,26.75]
[null,1.6,21,0,1.82,25,25,28.184800000000003,28.105150004886152,29.89,29.51,29.13,28.76,28.38,28.01,27.63]
[null,1.65,21,0,1.84,25,25,29.0472,28.965112870126063,30.77,30.39,30.02,29.64,29.26,28.89,28.51]
[null,1.7,21,0,1.87,25,25,29.909599999999998,29.825075735365974,31.65,31.27,30.9,30.52,30.15,29.77,29.39]
[null,1.75,21,0,1.89,25,25,30.771999999999998,30.685038600605878,32.53,32.159999999999997,31.78,31.4,31.03,30.65,30.28]
[null,1.8,21,0,1.92,25,25,31.644199999999998,31.554773771132609,33.409999999999997,33.04,32.659999999999997,32.29,31.91,31.53,31.16]
[null,1.85,21,0,1.94,25,25,32.506599999999999,32.414736636372524,34.299999999999997,33.92,33.549999999999997,33.17,32.79,32.42,32.04]
[null,1.9,21,0,1.96,25,25,33.369,33.274699501612425,35.18,34.799999999999997,34.43,34.049999999999997,33.68,33.299999999999997,32.92]
[null,1.95,21,0,1.99,25,25,34.231400000000001,34.134662366852339,36.06,35.69,35.31,34.93,34.56,34.18,33.81]
[null,2,21,0,2.0099999999999998,25,25,35.1036,35.00439753737907,36.94,36.57,36.19,35.82,35.44,35.06,34.69]
[null,2.0499999999999998,21,0,2.04,25,25,35.966000000000001,35.864360402618985,37.83,37.450000000000003,37.07,36.700000000000003,36.32,35.950000000000003,35.57]
[null,2.1,21,0,2.0699999999999998,25,25,36.828399999999995,36.724323267858885,38.71,38.33,37.96,37.58,37.200000000000003,36.83,36.450000000000003]
[null,2.15,21,0,2.09,25,25,37.690800000000003,37.5842861330988,39.590000000000003,39.21,38.840000000000003,38.46,38.090000000000003,37.71,37.33]
[null,2.2000000000000002,21,0,2.11,25,25,38.553200000000004,38.444248998338715,40.47,40.1,39.72,39.340000000000003,38.97,38.590000000000003,38.22]
[null,2.25,21,0,2.14,25,25,39.425399999999996,39.313984168865431,41.35,40.98,40.6,40.229999999999997,39.85,39.47,39.1]
[null,2.2999999999999998,21,0,2.17,25,25,40.287799999999997,40.173947034105346,42.24,41.86,41.48,41.11,40.729999999999997,40.36,39.979999999999997]
[null,2.35,21,0,2.19,25,25,41.150199999999998,41.033909899345254,43.12,42.74,42.37,41.99,41.61,41.24,40.86]
[null,2.4,21,0,2.21,25,25,42.012599999999999,41.893872764585169,44,43.62,43.25,42.87,42.5,42.12,41.74]
[null,2.4500000000000002,21,0,2.2400000000000002,25,25,42.875,42.753835629825076,44.88,44.51,44.13,43.75,43.38,43,42.63]
[null,2.5,21,0,2.27,25,25,43.747199999999999,43.6235708003518,45.77,45.39,45.01,44.64,44.26,43.89,43.51]
[null,2.5499999999999998,21,0,2.29,25,25,44.6096,44.483533665591715,46.65,46.27,45.9,45.52,45.14,44.77,44.39]
[null,2.6,21,0,2.3199999999999998,25,25,45.472000000000001,45.343496530831622,47.53,47.15,46.78,46.4,46.03,45.65,45.27]
[null,2.65,21,0,2.34,25,25,46.334400000000002,46.203459396071537,48.41,48.04,47.66,47.28,46.91,46.53,46.16]
[null,2.7,21,0,2.37,25,25,47.206600000000002,47.073194566598261,49.29,48.92,48.54,48.17,47.79,47.41,47.04]
[null,2.75,21,0,2.39,25,25,48.068999999999996,47.933157431838168,50.18,49.8,49.42,49.05,48.67,48.3,47.92]
[null,2.8,21,0,2.42,25,25,48.931399999999996,48.793120297078083,51.06,50.68,50.31,49.93,49.55,49.18,48.8]
[null,2.85,21,0,2.44,25,25,49.793800000000005,49.653083162317998,51.94,51.56,51.19,50.81,50.44,50.06,49.68]
[null,2.9,21,0,2.46,25,25,50.656199999999998,50.513046027557898,52.82,52.45,52.07,51.69,51.32,50.94,50.57]
[null,2.95,21,0,2.4900000000000002,25,25,51.528399999999998,51.382781198084629,53.7,53.33,52.95,52.58,52.2,51.82,51.45]
[null,3,21,0,2.5099999999999998,25,25,52.390799999999999,52.242744063324544,54.59,54.21,53.83,53.46,53.08,52.71,52.33]
[null,3.05,21,0,2.54,25,25,53.2532,53.102706928564444,55.47,55.09,54.72,54.34,53.96,53.59,53.21]
[null,3.1,21,0,2.57,25,25,54.115600000000001,53.962669793804366,56.35,55.97,55.6,55.22,54.85,54.47,54.09]
[null,3.15,21,0,2.59,25,25,54.9878,54.832404964331083,57.23,56.86,56.48,56.11,55.73,55.35,54.98]
[null,3.2,21,0,2.61,25,25,55.850200000000001,55.692367829570998,58.12,57.74,57.36,56.99,56.61,56.24,55.86]
[null,3.25,21,0,2.64,25,25,56.712599999999995,{"$f":"M72/$M$123*100","v":56.552330694810905},59,58.62,58.25,57.87,57.49,57.12,56.74]
[null,3.3,21,0,2.66,25,25,{"$f":"M73*$I$2","v":57.574999999999996},57.41229356005082,59.88,59.5,59.13,58.75,58.38,58,57.62]
[null,3.35,21,0,2.69,25,25,58.437400000000004,58.272256425290728,60.76,60.39,60.01,59.63,59.26,58.88,58.51]
[null,3.4,21,0,2.71,25,25,59.309600000000003,59.141991595817458,61.64,61.27,60.89,60.52,60.14,59.76,59.39]
[null,3.45,21,0,2.74,25,25,60.171999999999997,60.001954461057359,62.53,62.15,61.77,61.4,61.02,60.65,60.27]
[null,3.5,21,0,2.76,25,25,61.034399999999998,60.861917326297274,63.41,63.03,62.66,62.28,61.9,61.53,61.15]
[null,3.55,21,0,2.79,25,25,61.896799999999999,61.721880191537181,64.290000000000006,63.91,63.54,63.16,62.79,62.41,62.03]
[null,3.6,21,0,2.81,25,25,62.759200000000007,62.581843056777096,65.17,64.8,64.42,64.040000000000006,63.67,63.29,62.92]
[null,3.65,21,0,2.84,25,25,63.631400000000006,63.451578227303827,66.05,65.680000000000007,65.3,64.930000000000007,64.55,64.17,63.8]
[null,3.7,21,0,2.87,25,25,64.493800000000007,64.311541092543735,66.94,66.56,66.180000000000007,65.81,65.430000000000007,65.06,64.680000000000007]
[null,3.75,21,0,2.89,25,25,65.356200000000001,65.171503957783642,67.819999999999993,67.44,67.069999999999993,66.69,66.31,65.94,65.56]
[null,3.8,21,0,2.91,25,25,66.218599999999995,66.03146682302355,68.7,68.33,67.95,67.569999999999993,67.2,66.819999999999993,66.45]
[null,3.85,21,0,2.94,25,25,67.090799999999987,66.901201993550274,69.58,69.209999999999994,68.83,68.459999999999994,68.08,67.7,67.33]
[null,3.9,21,0,2.97,25,25,67.953199999999995,67.761164858790195,70.47,70.09,69.709999999999994,69.34,68.959999999999994,68.59,68.209999999999994]
[null,3.95,21,0,2.99,25,25,68.815600000000003,68.621127724030089,71.349999999999994,70.97,70.599999999999994,70.22,69.84,69.47,69.09]
[null,4,21,0,3.02,25,25,69.677999999999997,69.481090589269996,72.23,71.849999999999994,71.48,71.099999999999994,70.73,70.349999999999994,69.97]
[null,4.05,21,0,3.04,25,25,70.540400000000005,70.341053454509932,73.11,72.739999999999995,72.36,71.98,71.61,71.23,70.86]
[null,4.0999999999999996,21,0,3.06,25,25,71.412599999999998,71.210788625036642,73.989999999999995,73.62,73.239999999999995,72.87,72.489999999999995,72.11,71.739999999999995]
[null,4.1500000000000004,21,0,3.09,25,25,72.275000000000006,72.07075149027655,74.88,74.5,74.12,73.75,73.37,73,72.62]
[null,4.2,21,0,3.11,25,25,73.1374,72.930714355516471,75.760000000000005,75.38,75.010000000000005,74.63,74.25,73.88,73.5]
[null,4.25,21,0,3.14,25,25,73.999800000000008,73.790677220756379,76.64,76.260000000000005,75.89,75.510000000000005,75.14,74.760000000000005,74.38]
[null,4.3,21,0,3.16,25,25,74.862200000000001,74.650640085996287,77.52,77.150000000000006,76.77,76.39,76.02,75.64,75.27]
[null,4.3499999999999996,21,0,3.19,25,25,75.734399999999994,75.520375256523025,78.400000000000006,78.03,77.650000000000006,77.28,76.900000000000006,76.52,76.150000000000006]
[null,4.4000000000000004,21,0,3.21,25,25,76.596800000000002,76.380338121762918,79.290000000000006,78.91,78.540000000000006,78.16,77.78,77.41,77.03]
[null,4.45,21,0,3.24,25,25,77.45920000000001,77.24030098700284,80.17,79.790000000000006,79.42,79.040000000000006,78.67,78.290000000000006,77.91]
[null,4.5,21,0,3.27,25,25,78.321600000000004,78.100263852242747,81.05,80.680000000000007,80.3,79.92,79.55,79.17,78.8]
[null,4.55,21,0,3.29,25,25,79.193799999999996,78.969999022769471,81.93,81.56,81.180000000000007,80.81,80.430000000000007,80.05,79.680000000000007]
[null,4.5999999999999996,21,0,3.31,25,25,80.05619999999999,79.829961888009379,82.82,82.44,82.06,81.69,81.31,80.94,80.56]
[null,4.6500000000000004,21,0,3.34,25,25,80.918599999999998,80.689924753249286,83.7,83.32,82.95,82.57,82.19,81.819999999999993,81.44]
[null,4.7,21,0,3.37,25,25,81.781000000000006,81.549887618489208,84.58,84.2,83.83,83.45,83.08,82.7,82.32]
[null,4.75,21,0,3.39,25,25,82.6434,82.409850483729102,85.46,85.09,84.71,84.33,83.96,83.58,83.21]
[null,4.8,21,0,3.42,25,25,83.515599999999992,83.27958565425584,86.34,85.97,85.59,85.22,84.84,84.46,84.09]
[null,4.8499999999999996,21,0,3.44,25,25,84.377999999999986,84.139548519495747,87.23,86.85,86.47,86.1,85.72,85.35,84.97]
[null,4.9000000000000004,21,0,3.46,25,25,85.240400000000008,84.999511384735655,88.11,87.73,87.36,86.98,86.6,86.23,85.85]
[null,4.95,21,0,3.49,25,25,86.102800000000002,85.859474249975563,88.99,88.61,88.24,87.86,87.49,87.11,86.73]
[null,5,21,0,3.52,25,25,86.965199999999996,86.719437115215484,89.87,89.5,89.12,88.74,88.37,87.99,87.62]
[null,5.05,21,0,3.54,25,25,87.837399999999988,87.589172285742194,90.76,90.38,90,89.63,89.25,88.88,88.5]
[null,5.0999999999999996,21,0,3.56,25,25,88.69980000000001,88.44913515098213,91.64,91.26,90.89,90.51,90.13,89.76,89.38]
[null,5.15,21,0,3.59,25,25,89.562200000000004,89.309098016222038,92.52,92.14,91.77,91.39,91.02,90.64,90.26]
[null,5.2,21,0,3.62,25,25,90.424599999999998,90.169060881461931,93.4,93.03,92.65,92.27,91.9,91.52,91.15]
[null,5.25,21,0,3.64,25,25,91.29679999999999,91.038796051988655,94.28,93.91,93.53,93.16,92.78,92.4,92.03]
[null,5.3,21,0,3.66,25,25,92.159199999999998,91.898758917228591,95.17,94.79,94.41,94.04,93.66,93.29,92.91]
[null,5.35,21,0,3.69,25,25,93.021600000000007,92.758721782468484,96.05,95.67,95.3,94.92,94.54,94.17,93.79]
[null,5.4,21,0,3.71,25,25,93.884,93.618684647708392,96.93,96.55,96.18,95.8,95.43,95.05,94.67]
[null,5.45,21,0,3.74,25,25,94.746400000000008,94.478647512948314,97.81,97.44,97.06,96.68,96.31,95.93,95.56]
[null,5.5,21,0,3.77,25,25,95.618599999999986,95.348382683475023,98.69,98.32,97.94,97.57,97.19,96.81,96.44]
[null,5.55,21,0,3.79,25,25,96.480999999999995,96.208345548714945,99.58,99.2,98.82,98.45,98.07,97.7,97.32]
[null,5.6,21,0,3.82,25,25,97.343400000000003,97.068308413954853,100.46,100.08,99.71,99.33,98.95,98.58,98.2]
[null,5.65,21,0,3.84,25,25,98.205799999999996,97.92827127919476,101.34,100.96,100.59,100.21,99.84,99.46,99.08]
[null,5.7,21,0,3.86,25,25,99.077999999999989,98.798006449721484,102.02,101.83,101.47,101.1,100.72,100.34,99.97]
[null,5.75,21,0,3.89,25,25,99.940399999999997,99.657969314961406,102.31,102.3,102.26,101.98,101.6,101.23,100.85]
[null,5.77,21,0,3.9,0,0,100.2834,{"$f":"M123/$M$123*100","v":100},102.33,102.33,102.33,102.33,101.95,101.58,101.2]

{"sheet":"14","index":20,"n_rows":123,"n_cols":16,"rows_kept":123,"cut":false,"hidden":false,"merged":[]}
[]
[null,"H.F.O 3 PS",null,null,null,null,null,"S.G.",0.98,"[t/m3]"]
[]
[null,"GAUGE","LCG","TCG","VCG","FSM (transv)","FSM (long)","Weight","Fill (%)","Trim=-1,5","Trim=1,0","Trim=-0,5","Trim=0","Trim=0,5","Trim=1,0","Trim=1,5"]
[null,null,"Fwd of AP","PS:+","Above BL"," "," "]
[null,"m","m","m","m","t·m","t·m","t",null,"m3","m3","m3","m3","m3","m3","m3"]
[null,0,16.399999999999999,3.77,1.03,0,0,{"$f":"M7*$I$2","v":3.9199999999999999E-2},{"$f":"M7/$M$123*100","v":4.0209087253719342E-2},0.33,0.19,0.1,0.04,0.01,0.01,0]
[null,0.05,16.32,4.0199999999999996,1.06,1,0.8,{"$f":"M8*$I$2","v":0.21559999999999999},{"$f":"M8/$M$123*100","v":0.22114997989545634},0.74,0.52,0.35,0.22,0.14000000000000001,0.08,0.06]
[null,0.1,16.29,4.28,1.1000000000000001,3,3.1,{"$f":"M9*$I$2","v":0.56839999999999991},0.58303176517893041,1.29,1.03,0.79,0.57999999999999996,0.43,0.31,0.22]
[null,0.15,16.260000000000002,4.53,1.1299999999999999,8,7.9,1.0976000000000001,1.1258544431041417,1.97,1.67,1.38,1.1200000000000001,0.88,0.69,0.54]
[null,0.2,16.260000000000002,4.75,1.1599999999999999,14,13.5,1.764,1.8094089264173705,2.73,2.41,2.1,1.8,1.51,1.25,1.03]
[null,0.25,16.260000000000002,4.9000000000000004,1.19,16,15.3,2.4989999999999997,2.5633293124246075,3.52,3.19,2.87,2.5499999999999998,2.25,1.96,1.68]
[null,0.3,16.25,4.99,1.22,16,16,3.2731999999999997,3.3574587856855644,4.34,4,3.66,3.34,3.02,2.71,2.41]
[null,0.35,16.239999999999998,5.0599999999999996,1.25,17,16.7,4.0473999999999997,4.1515882589465214,5.17,4.82,4.47,4.13,3.8,3.48,3.17]
[null,0.4,16.23,5.0999999999999996,1.28,18,17.3,4.851,4.9758745476477682,6.01,5.65,5.3,4.95,4.6100000000000003,4.28,3.95]
[null,0.45,16.22,5.14,1.3,18,17.8,5.6644000000000005,5.8102131081624444,6.86,6.5,6.13,5.78,5.43,5.09,4.75]
[null,0.5,16.21,5.17,1.33,19,18.3,6.4875999999999996,6.654603940490551,7.72,7.35,6.98,6.62,6.26,5.91,5.56]
[null,0.55000000000000004,16.2,5.2,1.36,19,18.8,7.3205999999999998,7.5090470446320863,8.59,8.2200000000000006,7.84,7.47,7.11,6.74,6.39]
[null,0.6,16.190000000000001,5.22,1.38,20,19.2,8.1633999999999993,8.3735424205870519,9.4700000000000006,9.09,8.7100000000000009,8.33,7.96,7.59,7.23]
[null,0.65,16.190000000000001,5.24,1.41,20,19.5,9.016,9.248090068355447,10.34,9.9600000000000009,9.58,9.1999999999999993,8.82,8.4499999999999993,8.08]
[null,0.7,16.18,5.26,1.44,20,19.8,9.8686000000000007,10.122637716123844,11.22,10.84,10.45,10.07,9.69,9.31,8.94]
[null,0.75,16.170000000000002,5.28,1.46,20,20,10.7212,10.997185363892239,12.1,11.71,11.33,10.94,10.56,10.18,9.8000000000000007]
[null,0.8,16.16,5.29,1.49,21,20.2,11.583600000000001,11.881785283474064,12.98,12.59,12.21,11.82,11.44,11.05,10.67]
[null,0.85,16.149999999999999,5.31,1.52,21,20.3,12.446,12.766385203055888,13.87,13.48,13.09,12.7,12.31,11.93,11.55]
[null,0.9,16.149999999999999,5.32,1.54,21,20.3,13.308400000000001,13.650985122637715,14.75,14.36,13.97,13.58,13.19,12.81,12.42]
[null,0.95,16.14,5.33,1.57,21,20.3,14.1708,14.535585042219543,15.63,15.24,14.85,14.46,14.07,13.69,13.3]
[null,1,16.13,5.33,1.59,21,20.3,15.042999999999999,15.430237233614797,16.52,16.13,15.74,15.35,14.96,14.57,14.18]
[null,1.05,16.13,5.34,1.62,21,20.3,15.9054,16.314837153196624,17.399999999999999,17.010000000000002,16.62,16.23,15.84,15.45,15.06]
[null,1.1000000000000001,16.13,5.35,1.64,21,20.3,16.767799999999998,17.199437072778448,18.29,17.899999999999999,17.5,17.11,16.72,16.329999999999998,15.94]
[null,1.1499999999999999,16.12,5.36,1.67,21,20.3,17.64,18.0940892641737,19.170000000000002,18.78,18.39,18,17.61,17.22,16.829999999999998]
[null,1.2,16.12,5.36,1.7,21,20.3,18.502399999999998,18.978689183755527,20.05,19.66,19.27,18.88,18.489999999999998,18.100000000000001,17.71]
[null,1.25,16.12,5.37,1.72,21,20.3,19.374600000000001,19.873341375150783,20.94,20.55,20.16,19.77,19.38,18.989999999999998,18.600000000000001]
[null,1.3,16.11,5.37,1.75,21,20.3,20.236999999999998,20.757941294732607,21.82,21.43,21.04,20.65,20.260000000000002,19.87,19.48]
[null,1.35,16.11,5.37,1.77,21,20.3,21.099399999999999,21.642541214314434,22.7,22.31,21.92,21.53,21.14,20.75,20.36]
[null,1.4,16.11,5.38,1.8,21,20.3,21.971600000000002,22.53719340570969,23.59,23.2,22.81,22.42,22.03,21.64,21.25]
[null,1.45,16.11,5.38,1.82,21,20.3,22.834,23.421793325291514,24.47,24.08,23.69,23.3,22.91,22.52,22.13]
[null,1.5,16.100000000000001,5.39,1.85,21,20.3,23.706199999999999,24.316445516686773,25.36,24.97,24.58,24.19,23.79,23.4,23.01]
[null,1.55,16.100000000000001,5.39,1.87,21,20.3,24.5686,25.2010454362686,26.24,25.85,25.46,25.07,24.68,24.29,23.9]
[null,1.6,16.100000000000001,5.39,1.9,21,20.3,25.430999999999997,26.085645355850424,27.12,26.73,26.34,25.95,25.56,25.17,24.78]
[null,1.65,16.100000000000001,5.39,1.92,21,20.3,26.3032,26.980297547245673,28.01,27.62,27.23,26.84,26.45,26.06,25.67]
[null,1.7,16.100000000000001,5.4,1.95,21,20.3,27.165599999999998,27.8648974668275,28.89,28.5,28.11,27.72,27.33,26.94,26.55]
[null,1.75,16.100000000000001,5.4,1.97,21,20.3,28.028000000000002,28.749497386409328,29.77,29.38,28.99,28.6,28.21,27.82,27.43]
[null,1.8,16.09,5.4,2,21,20.3,28.900199999999998,29.64414957780458,30.66,30.27,29.88,29.49,29.1,28.71,28.32]
[null,1.85,16.09,5.4,2.02,21,20.3,29.762599999999999,30.528749497386411,31.54,31.15,30.76,30.37,29.98,29.59,29.2]
[null,1.9,16.09,5.41,2.0499999999999998,21,20.3,30.634800000000002,31.423401688781667,32.43,32.04,31.65,31.26,30.87,30.48,30.08]
[null,1.95,16.09,5.41,2.0699999999999998,21,20.3,31.497199999999999,32.30800160836349,33.31,32.92,32.53,32.14,31.75,31.36,30.97]
[null,2,16.09,5.41,2.1,21,20.3,32.3596,33.192601527945321,34.19,33.799999999999997,33.409999999999997,33.020000000000003,32.630000000000003,32.24,31.85]
[null,2.0499999999999998,16.09,5.41,2.12,21,20.3,33.231799999999993,34.087253719340566,35.08,34.69,34.299999999999997,33.909999999999997,33.520000000000003,33.130000000000003,32.74]
[null,2.1,16.09,5.41,2.15,21,20.3,34.094200000000001,34.971853638922397,35.96,35.57,35.18,34.79,34.4,34.01,33.619999999999997]
[null,2.15,16.09,5.41,2.1800000000000002,21,20.3,34.956600000000002,35.856453558504221,36.85,36.450000000000003,36.06,35.67,35.28,34.89,34.5]
[null,2.2000000000000002,16.09,5.42,2.2000000000000002,21,20.3,35.828800000000001,36.751105749899473,37.729999999999997,37.340000000000003,36.950000000000003,36.56,36.17,35.78,35.39]
[null,2.25,16.079999999999998,5.42,2.23,21,20.3,36.691199999999995,37.635705669481304,38.61,38.22,37.83,37.44,37.049999999999997,36.659999999999997,36.270000000000003]
[null,2.2999999999999998,16.079999999999998,5.42,2.25,21,20.3,37.563399999999994,38.530357860876556,39.5,39.11,38.72,38.33,37.94,37.549999999999997,37.159999999999997]
[null,2.35,16.079999999999998,5.42,2.2799999999999998,21,20.3,38.425800000000002,39.41495778045838,40.380000000000003,39.99,39.6,39.21,38.82,38.43,38.04]
[null,2.4,16.079999999999998,5.42,2.2999999999999998,21,20.3,39.288200000000003,40.299557700040211,41.26,40.869999999999997,40.479999999999997,40.090000000000003,39.700000000000003,39.31,38.92]
[null,2.4500000000000002,16.079999999999998,5.42,2.33,21,20.3,40.160399999999996,41.194209891435456,42.15,41.76,41.37,40.98,40.590000000000003,40.200000000000003,39.81]
[null,2.5,16.079999999999998,5.42,2.35,21,20.3,41.022799999999997,42.078809811017287,43.03,42.64,42.25,41.86,41.47,41.08,40.69]
[null,2.5499999999999998,16.079999999999998,5.42,2.38,21,20.3,41.885200000000005,42.963409730599118,43.92,43.53,43.14,42.74,42.35,41.96,41.57]
[null,2.6,16.079999999999998,5.43,2.4,21,20.3,42.757400000000004,43.858061921994377,44.8,44.41,44.02,43.63,43.24,42.85,42.46]
[null,2.65,16.079999999999998,5.43,2.4300000000000002,21,20.3,43.619799999999998,44.742661841576194,45.68,45.29,44.9,44.51,44.12,43.73,43.34]
[null,2.7,16.079999999999998,5.43,2.4500000000000002,21,20.3,44.491999999999997,45.637314032971446,46.57,46.18,45.79,45.4,45.01,44.62,44.23]
[null,2.75,16.079999999999998,5.43,2.48,21,20.3,45.354399999999998,46.521913952553277,47.45,47.06,46.67,46.28,45.89,45.5,45.11]
[null,2.8,16.079999999999998,5.43,2.5,21,20.3,46.216799999999999,47.4065138721351,48.33,47.94,47.55,47.16,46.77,46.38,45.99]
[null,2.85,16.079999999999998,5.43,2.5299999999999998,21,20.3,47.088999999999999,48.301166063530353,49.22,48.83,48.44,48.05,47.66,47.27,46.88]
[null,2.9,16.079999999999998,5.43,2.5499999999999998,21,20.3,47.9514,49.185765983112177,50.1,49.71,49.32,48.93,48.54,48.15,47.76]
[null,2.95,16.079999999999998,5.43,2.58,21,20.3,48.823599999999999,50.080418174507436,50.99,50.6,50.21,49.82,49.43,49.03,48.64]
[null,3,16.079999999999998,5.43,2.6,21,20.3,49.686,50.965018094089267,51.87,51.48,51.09,50.7,50.31,49.92,49.53]
[null,3.05,16.079999999999998,5.43,2.63,21,20.3,50.548400000000001,51.849618013671083,52.75,52.36,51.97,51.58,51.19,50.8,50.41]
[null,3.1,16.07,5.43,2.65,21,20.3,51.4206,52.744270205066343,53.64,53.25,52.86,52.47,52.08,51.69,51.3]
[null,3.15,16.07,5.43,2.68,21,20.3,52.283000000000001,53.628870124648166,54.52,54.13,53.74,53.35,52.96,52.57,52.18]
[null,3.2,16.07,5.44,2.7,21,20.3,53.145399999999995,54.513470044229997,55.4,55.01,54.62,54.23,53.84,53.45,53.06]
[null,3.25,16.07,5.44,2.73,21,20.3,54.017599999999995,{"$f":"M72/$M$123*100","v":55.408122235625243},56.29,55.9,55.51,55.12,54.73,54.34,53.95]
[null,3.3,16.07,5.44,2.75,21,20.3,{"$f":"M73*$I$2","v":54.879999999999995},56.292722155207073,57.17,56.78,56.39,56,55.61,55.22,54.83]
[null,3.35,16.07,5.44,2.78,21,20.3,55.752200000000002,57.187374346602326,58.06,57.67,57.28,56.89,56.5,56.11,55.72]
[null,3.4,16.07,5.44,2.8,21,20.3,56.614600000000003,58.071974266184156,58.94,58.55,58.16,57.77,57.38,56.99,56.6]
[null,3.45,16.07,5.44,2.83,21,20.3,57.476999999999997,58.956574185765973,59.82,59.43,59.04,58.65,58.26,57.87,57.48]
[null,3.5,16.07,5.44,2.85,21,20.3,58.349199999999996,59.85122637716124,60.71,60.32,59.93,59.54,59.15,58.76,58.37]
[null,3.55,16.07,5.44,2.88,21,20.3,59.211599999999997,60.73582629674307,61.59,61.2,60.81,60.42,60.03,59.64,59.25]
[null,3.6,16.07,5.44,2.9,21,20.3,60.073999999999998,61.620426216324887,62.48,62.09,61.69,61.3,60.91,60.52,60.13]
[null,3.65,16.07,5.44,2.93,21,20.3,60.946199999999997,62.515078407720139,63.36,62.97,62.58,62.19,61.8,61.41,61.02]
[null,3.7,16.07,5.44,2.95,21,20.3,61.808599999999998,63.39967832730197,64.239999999999995,63.85,63.46,63.07,62.68,62.29,61.9]
[null,3.75,16.07,5.44,2.98,21,20.3,62.680799999999998,64.294330518697222,65.13,64.739999999999995,64.349999999999994,63.96,63.57,63.18,62.79]
[null,3.8,16.07,5.44,3,21,20.3,63.543199999999999,65.178930438279053,66.010000000000005,65.62,65.23,64.84,64.45,64.06,63.67]
[null,3.85,16.07,5.44,3.03,21,20.3,64.405599999999993,66.063530357860884,66.89,66.5,66.11,65.72,65.33,64.94,64.55]
[null,3.9,16.07,5.44,3.05,21,20.3,65.277799999999999,66.958182549256122,67.78,67.39,67,66.61,66.22,65.83,65.44]
[null,3.95,16.07,5.44,3.08,21,20.3,66.140199999999993,67.842782468837953,68.66,68.27,67.88,67.489999999999995,67.099999999999994,66.709999999999994,66.319999999999993]
[null,4,16.07,5.44,3.1,21,20.3,67.0124,68.737434660233205,69.55,69.16,68.77,68.38,67.98,67.59,67.2]
[null,4.05,16.07,5.44,3.13,21,20.3,67.874800000000008,69.622034579815036,70.430000000000007,70.040000000000006,69.650000000000006,69.260000000000005,68.87,68.48,68.09]
[null,4.0999999999999996,16.07,5.44,3.15,21,20.3,68.737200000000001,70.506634499396853,71.31,70.92,70.53,70.14,69.75,69.36,68.97]
[null,4.1500000000000004,16.07,5.44,3.18,21,20.3,69.609399999999994,71.401286690792119,72.2,71.81,71.42,71.03,70.64,70.25,69.86]
[null,4.2,16.07,5.45,3.2,21,20.3,70.471800000000002,72.285886610373936,73.08,72.69,72.3,71.91,71.52,71.13,70.739999999999995]
[null,4.25,16.07,5.45,3.23,21,20.3,71.33420000000001,73.170486529955767,73.959999999999994,73.569999999999993,73.180000000000007,72.790000000000006,72.400000000000006,72.010000000000005,71.62]
[null,4.3,16.07,5.45,3.25,21,20.3,72.206400000000002,74.065138721351033,74.849999999999994,74.459999999999994,74.069999999999993,73.680000000000007,73.290000000000006,72.900000000000006,72.510000000000005]
[null,4.3499999999999996,16.07,5.45,3.28,21,20.3,73.068799999999996,74.94973864093285,75.73,75.34,74.95,74.56,74.17,73.78,73.39]
[null,4.4000000000000004,16.07,5.45,3.3,21,20.3,73.941000000000003,75.844390832328102,76.62,76.23,75.84,75.45,75.06,74.67,74.27]
[null,4.45,16.07,5.45,3.33,21,20.3,74.803399999999996,76.728990751909933,77.5,77.11,76.72,76.33,75.94,75.55,75.16]
[null,4.5,16.07,5.45,3.35,21,20.3,75.66579999999999,77.61359067149175,78.38,77.989999999999995,77.599999999999994,77.209999999999994,76.819999999999993,76.430000000000007,76.040000000000006]
[null,4.55,16.07,5.45,3.38,21,20.3,76.537999999999997,78.508242862887002,79.27,78.88,78.489999999999995,78.099999999999994,77.709999999999994,77.319999999999993,76.930000000000007]
[null,4.5999999999999996,16.07,5.45,3.4,21,20.3,77.400400000000005,79.392842782468847,80.150000000000006,79.760000000000005,79.37,78.98,78.59,78.2,77.81]
[null,4.6500000000000004,16.07,5.45,3.43,21,20.3,78.262799999999999,80.277442702050664,81.040000000000006,80.64,80.25,79.86,79.47,79.08,78.69]
[null,4.7,16.07,5.45,3.45,21,20.3,79.135000000000005,81.172094893445916,81.92,81.53,81.14,80.75,80.36,79.97,79.58]
[null,4.75,16.07,5.45,3.48,21,20.3,79.997399999999999,82.056694813027747,82.8,82.41,82.02,81.63,81.239999999999995,80.849999999999994,80.459999999999994]
[null,4.8,16.07,5.45,3.5,21,20.3,80.869599999999991,82.951347004422999,83.69,83.3,82.91,82.52,82.13,81.739999999999995,81.349999999999994]
[null,4.8499999999999996,16.07,5.45,3.53,21,20.3,81.731999999999999,83.835946924004816,84.57,84.18,83.79,83.4,83.01,82.62,82.23]
[null,4.9000000000000004,16.07,5.45,3.55,21,20.3,82.594399999999993,84.720546843586646,85.45,85.06,84.67,84.28,83.89,83.5,83.11]
[null,4.95,16.07,5.45,3.58,21,20.3,83.4666,85.615199034981899,86.34,85.95,85.56,85.17,84.78,84.39,84]
[null,5,16.07,5.45,3.6,21,20.3,84.328999999999994,86.499798954563715,87.22,86.83,86.44,86.05,85.66,85.27,84.88]
[null,5.05,16.059999999999999,5.45,3.63,21,20.3,85.191400000000002,87.38439887414556,88.11,87.72,87.33,86.93,86.54,86.15,85.76]
[null,5.0999999999999996,16.059999999999999,5.45,3.65,21,20.3,86.063599999999994,88.279051065540799,88.99,88.6,88.21,87.82,87.43,87.04,86.65]
[null,5.15,16.059999999999999,5.45,3.68,21,20.3,86.926000000000002,89.163650985122629,89.87,89.48,89.09,88.7,88.31,87.92,87.53]
[null,5.2,16.059999999999999,5.45,3.7,21,20.3,87.798200000000008,90.058303176517896,90.76,90.37,89.98,89.59,89.2,88.81,88.42]
[null,5.25,16.059999999999999,5.45,3.73,21,20.3,88.660600000000002,90.942903096099712,91.64,91.25,90.86,90.47,90.08,89.69,89.3]
[null,5.3,16.059999999999999,5.45,3.75,21,20.3,89.522999999999996,91.827503015681529,92.52,92.13,91.74,91.35,90.96,90.57,90.18]
[null,5.35,16.059999999999999,5.45,3.78,21,20.3,90.395199999999988,92.722155207076796,93.41,93.02,92.63,92.24,91.85,91.46,91.07]
[null,5.4,16.059999999999999,5.45,3.8,21,20.3,91.257599999999996,93.606755126658626,94.29,93.9,93.51,93.12,92.73,92.34,91.95]
[null,5.45,16.059999999999999,5.45,3.83,21,20.3,92.129800000000003,94.501407318053879,95.18,94.79,94.4,94.01,93.62,93.22,92.83]
[null,5.5,16.059999999999999,5.45,3.85,21,20.3,92.992199999999997,95.38600723763571,96.06,95.67,95.28,94.89,94.5,94.11,93.72]
[null,5.55,16.059999999999999,5.45,3.88,21,20.3,93.854599999999991,96.270607157217526,96.94,96.55,96.16,95.77,95.38,94.99,94.6]
[null,5.6,16.059999999999999,5.45,3.9,21,20.3,94.726799999999997,97.165259348612778,97.83,97.44,97.05,96.66,96.27,95.88,95.49]
[null,5.65,16.059999999999999,5.45,3.93,21,20.3,95.589200000000005,98.049859268194623,98.67,98.32,97.93,97.54,97.15,96.76,96.37]
[null,5.7,16.059999999999999,5.45,3.95,21,20.3,96.451599999999999,98.93445918777644,99.24,99.12,98.81,98.42,98.03,97.64,97.25]
[null,5.75,16.059999999999999,5.45,3.98,21,20.3,97.323800000000006,99.829111379171692,99.47,99.47,99.46,99.31,98.92,98.53,98.14]
[null,5.76,16.059999999999999,5.45,3.98,0,0,97.490400000000008,100,99.48,99.48,99.48,99.48,99.09,98.7,98.31]

{"sheet":"15","index":21,"n_rows":123,"n_cols":16,"rows_kept":123,"cut":false,"hidden":false,"merged":[]}
[]
[null,"H.F.O 3 SB",null,null,null,null,null,"S.G.",0.98,"[t/m3]"]
[]
[null,"GAUGE","LCG","TCG","VCG","FSM (transv)","FSM (long)","Weight","Fill (%)","Trim=-1,5","Trim=1,0","Trim=-0,5","Trim=0","Trim=0,5","Trim=1,0","Trim=1,5"]
[null,null,"Fwd of AP","PS:+","Above BL"," "," "]
[null,"m","m","m","m","t·m","t·m","t",null,"m3","m3","m3","m3","m3","m3","m3"]
[null,0,16.399999999999999,-3.77,1.03,0,0,{"$f":"M7*$I$2","v":3.9199999999999999E-2},{"$f":"M7/$M$123*100","v":4.0209087253719342E-2},0.33,0.19,0.1,0.04,0.01,0.01,0]
[null,0.05,16.32,-4.0199999999999996,1.06,1,0.8,{"$f":"M8*$I$2","v":0.21559999999999999},{"$f":"M8/$M$123*100","v":0.22114997989545634},0.74,0.52,0.35,0.22,0.14000000000000001,0.08,0.06]
[null,0.1,16.29,-4.28,1.1000000000000001,3,3.1,{"$f":"M9*$I$2","v":0.56839999999999991},0.58303176517893041,1.29,1.03,0.79,0.57999999999999996,0.43,0.31,0.22]
[null,0.15,16.260000000000002,-4.53,1.1299999999999999,8,7.9,1.0976000000000001,1.1258544431041417,1.97,1.67,1.38,1.1200000000000001,0.88,0.69,0.54]
[null,0.2,16.260000000000002,-4.75,1.1599999999999999,14,13.5,1.764,1.8094089264173705,2.73,2.41,2.1,1.8,1.51,1.25,1.03]
[null,0.25,16.260000000000002,-4.9000000000000004,1.19,16,15.3,2.4989999999999997,2.5633293124246075,3.52,3.19,2.87,2.5499999999999998,2.25,1.96,1.68]
[null,0.3,16.25,-4.99,1.22,16,16,3.2731999999999997,3.3574587856855644,4.34,4,3.66,3.34,3.02,2.71,2.41]
[null,0.35,16.239999999999998,-5.0599999999999996,1.25,17,16.7,4.0473999999999997,4.1515882589465214,5.17,4.82,4.47,4.13,3.8,3.48,3.17]
[null,0.4,16.23,-5.0999999999999996,1.28,18,17.3,4.851,4.9758745476477682,6.01,5.65,5.3,4.95,4.6100000000000003,4.28,3.95]
[null,0.45,16.22,-5.14,1.3,18,17.8,5.6644000000000005,5.8102131081624444,6.86,6.5,6.13,5.78,5.43,5.09,4.75]
[null,0.5,16.21,-5.17,1.33,19,18.3,6.4875999999999996,6.654603940490551,7.72,7.35,6.98,6.62,6.26,5.91,5.56]
[null,0.55000000000000004,16.2,-5.2,1.36,19,18.8,7.3205999999999998,7.5090470446320863,8.59,8.2200000000000006,7.84,7.47,7.11,6.74,6.39]
[null,0.6,16.190000000000001,-5.22,1.38,20,19.2,8.1633999999999993,8.3735424205870519,9.4700000000000006,9.09,8.7100000000000009,8.33,7.96,7.59,7.23]
[null,0.65,16.190000000000001,-5.24,1.41,20,19.5,9.016,9.248090068355447,10.34,9.9600000000000009,9.58,9.1999999999999993,8.82,8.4499999999999993,8.08]
[null,0.7,16.18,-5.26,1.44,20,19.8,9.8686000000000007,10.122637716123844,11.22,10.84,10.45,10.07,9.69,9.31,8.94]
[null,0.75,16.170000000000002,-5.28,1.46,20,20,10.7212,10.997185363892239,12.1,11.71,11.33,10.94,10.56,10.18,9.8000000000000007]
[null,0.8,16.16,-5.29,1.49,21,20.2,11.583600000000001,11.881785283474064,12.98,12.59,12.21,11.82,11.44,11.05,10.67]
[null,0.85,16.149999999999999,-5.31,1.52,21,20.3,12.446,12.766385203055888,13.87,13.48,13.09,12.7,12.31,11.93,11.55]
[null,0.9,16.149999999999999,-5.32,1.54,21,20.3,13.308400000000001,13.650985122637715,14.75,14.36,13.97,13.58,13.19,12.81,12.42]
[null,0.95,16.14,-5.33,1.57,21,20.3,14.1708,14.535585042219543,15.63,15.24,14.85,14.46,14.07,13.69,13.3]
[null,1,16.13,-5.33,1.59,0,0,15.042999999999999,15.430237233614797,16.52,16.13,15.74,15.35,14.96,14.57,14.18]
[null,1.05,16.13,-5.34,1.62,21,20.3,15.9054,16.314837153196624,17.399999999999999,17.010000000000002,16.62,16.23,15.84,15.45,15.06]
[null,1.1000000000000001,16.13,-5.35,1.64,21,20.3,16.767799999999998,17.199437072778448,18.29,17.899999999999999,17.5,17.11,16.72,16.329999999999998,15.94]
[null,1.1499999999999999,16.12,-5.36,1.67,21,20.3,17.64,18.0940892641737,19.170000000000002,18.78,18.39,18,17.61,17.22,16.829999999999998]
[null,1.2,16.12,-5.36,1.7,21,20.3,18.502399999999998,18.978689183755527,20.05,19.66,19.27,18.88,18.489999999999998,18.100000000000001,17.71]
[null,1.25,16.12,-5.37,1.72,21,20.3,19.374600000000001,19.873341375150783,20.94,20.55,20.16,19.77,19.38,18.989999999999998,18.600000000000001]
[null,1.3,16.11,-5.37,1.75,21,20.3,20.236999999999998,20.757941294732607,21.82,21.43,21.04,20.65,20.260000000000002,19.87,19.48]
[null,1.35,16.11,-5.37,1.77,21,20.3,21.099399999999999,21.642541214314434,22.7,22.31,21.92,21.53,21.14,20.75,20.36]
[null,1.4,16.11,-5.38,1.8,21,20.3,21.971600000000002,22.53719340570969,23.59,23.2,22.81,22.42,22.03,21.64,21.25]
[null,1.45,16.11,-5.38,1.82,21,20.3,22.834,23.421793325291514,24.47,24.08,23.69,23.3,22.91,22.52,22.13]
[null,1.5,16.100000000000001,-5.39,1.85,21,20.3,23.706199999999999,24.316445516686773,25.36,24.97,24.58,24.19,23.79,23.4,23.01]
[null,1.55,16.100000000000001,-5.39,1.87,21,20.3,24.5686,25.2010454362686,26.24,25.85,25.46,25.07,24.68,24.29,23.9]
[null,1.6,16.100000000000001,-5.39,1.9,21,20.3,25.430999999999997,26.085645355850424,27.12,26.73,26.34,25.95,25.56,25.17,24.78]
[null,1.65,16.100000000000001,-5.39,1.92,21,20.3,26.3032,26.980297547245673,28.01,27.62,27.23,26.84,26.45,26.06,25.67]
[null,1.7,16.100000000000001,-5.4,1.95,21,20.3,27.165599999999998,27.8648974668275,28.89,28.5,28.11,27.72,27.33,26.94,26.55]
[null,1.75,16.100000000000001,-5.4,1.97,21,20.3,28.028000000000002,28.749497386409328,29.77,29.38,28.99,28.6,28.21,27.82,27.43]
[null,1.8,16.09,-5.4,2,21,20.3,28.900199999999998,29.64414957780458,30.66,30.27,29.88,29.49,29.1,28.71,28.32]
[null,1.85,16.09,-5.4,2.02,21,20.3,29.762599999999999,30.528749497386411,31.54,31.15,30.76,30.37,29.98,29.59,29.2]
[null,1.9,16.09,-5.41,2.0499999999999998,21,20.3,30.634800000000002,31.423401688781667,32.43,32.04,31.65,31.26,30.87,30.48,30.08]
[null,1.95,16.09,-5.41,2.0699999999999998,21,20.3,31.497199999999999,32.30800160836349,33.31,32.92,32.53,32.14,31.75,31.36,30.97]
[null,2,16.09,-5.41,2.1,21,20.3,32.3596,33.192601527945321,34.19,33.799999999999997,33.409999999999997,33.020000000000003,32.630000000000003,32.24,31.85]
[null,2.0499999999999998,16.09,-5.41,2.12,21,20.3,33.231799999999993,34.087253719340566,35.08,34.69,34.299999999999997,33.909999999999997,33.520000000000003,33.130000000000003,32.74]
[null,2.1,16.09,-5.41,2.15,21,20.3,34.094200000000001,34.971853638922397,35.96,35.57,35.18,34.79,34.4,34.01,33.619999999999997]
[null,2.15,16.09,-5.41,2.1800000000000002,21,20.3,34.956600000000002,35.856453558504221,36.85,36.450000000000003,36.06,35.67,35.28,34.89,34.5]
[null,2.2000000000000002,16.09,-5.42,2.2000000000000002,21,20.3,35.828800000000001,36.751105749899473,37.729999999999997,37.340000000000003,36.950000000000003,36.56,36.17,35.78,35.39]
[null,2.25,16.079999999999998,-5.42,2.23,21,20.3,36.691199999999995,37.635705669481304,38.61,38.22,37.83,37.44,37.049999999999997,36.659999999999997,36.270000000000003]
[null,2.2999999999999998,16.079999999999998,-5.42,2.25,21,20.3,37.563399999999994,38.530357860876556,39.5,39.11,38.72,38.33,37.94,37.549999999999997,37.159999999999997]
[null,2.35,16.079999999999998,-5.42,2.2799999999999998,21,20.3,38.425800000000002,39.41495778045838,40.380000000000003,39.99,39.6,39.21,38.82,38.43,38.04]
[null,2.4,16.079999999999998,-5.42,2.2999999999999998,21,20.3,39.288200000000003,40.299557700040211,41.26,40.869999999999997,40.479999999999997,40.090000000000003,39.700000000000003,39.31,38.92]
[null,2.4500000000000002,16.079999999999998,-5.42,2.33,21,20.3,40.160399999999996,41.194209891435456,42.15,41.76,41.37,40.98,40.590000000000003,40.200000000000003,39.81]
[null,2.5,16.079999999999998,-5.42,2.35,21,20.3,41.022799999999997,42.078809811017287,43.03,42.64,42.25,41.86,41.47,41.08,40.69]
[null,2.5499999999999998,16.079999999999998,-5.42,2.38,21,20.3,41.885200000000005,42.963409730599118,43.92,43.53,43.14,42.74,42.35,41.96,41.57]
[null,2.6,16.079999999999998,-5.43,2.4,21,20.3,42.757400000000004,43.858061921994377,44.8,44.41,44.02,43.63,43.24,42.85,42.46]
[null,2.65,16.079999999999998,-5.43,2.4300000000000002,21,20.3,43.619799999999998,44.742661841576194,45.68,45.29,44.9,44.51,44.12,43.73,43.34]
[null,2.7,16.079999999999998,-5.43,2.4500000000000002,21,20.3,44.491999999999997,45.637314032971446,46.57,46.18,45.79,45.4,45.01,44.62,44.23]
[null,2.75,16.079999999999998,-5.43,2.48,21,20.3,45.354399999999998,46.521913952553277,47.45,47.06,46.67,46.28,45.89,45.5,45.11]
[null,2.8,16.079999999999998,-5.43,2.5,21,20.3,46.216799999999999,47.4065138721351,48.33,47.94,47.55,47.16,46.77,46.38,45.99]
[null,2.85,16.079999999999998,-5.43,2.5299999999999998,21,20.3,47.088999999999999,48.301166063530353,49.22,48.83,48.44,48.05,47.66,47.27,46.88]
[null,2.9,16.079999999999998,-5.43,2.5499999999999998,21,20.3,47.9514,49.185765983112177,50.1,49.71,49.32,48.93,48.54,48.15,47.76]
[null,2.95,16.079999999999998,-5.43,2.58,21,20.3,48.823599999999999,50.080418174507436,50.99,50.6,50.21,49.82,49.43,49.03,48.64]
[null,3,16.079999999999998,-5.43,2.6,21,20.3,49.686,50.965018094089267,51.87,51.48,51.09,50.7,50.31,49.92,49.53]
[null,3.05,16.079999999999998,-5.43,2.63,21,20.3,50.548400000000001,51.849618013671083,52.75,52.36,51.97,51.58,51.19,50.8,50.41]
[null,3.1,16.07,-5.43,2.65,21,20.3,51.4206,52.744270205066343,53.64,53.25,52.86,52.47,52.08,51.69,51.3]
[null,3.15,16.07,-5.43,2.68,21,20.3,52.283000000000001,53.628870124648166,54.52,54.13,53.74,53.35,52.96,52.57,52.18]
[null,3.2,16.07,-5.44,2.7,21,20.3,53.145399999999995,54.513470044229997,55.4,55.01,54.62,54.23,53.84,53.45,53.06]
[null,3.25,16.07,-5.44,2.73,21,20.3,54.017599999999995,{"$f":"M72/$M$123*100","v":55.408122235625243},56.29,55.9,55.51,55.12,54.73,54.34,53.95]
[null,3.3,16.07,-5.44,2.75,21,20.3,{"$f":"M73*$I$2","v":54.879999999999995},56.292722155207073,57.17,56.78,56.39,56,55.61,55.22,54.83]
[null,3.35,16.07,-5.44,2.78,21,20.3,55.752200000000002,57.187374346602326,58.06,57.67,57.28,56.89,56.5,56.11,55.72]
[null,3.4,16.07,-5.44,2.8,21,20.3,56.614600000000003,58.071974266184156,58.94,58.55,58.16,57.77,57.38,56.99,56.6]
[null,3.45,16.07,-5.44,2.83,21,20.3,57.476999999999997,58.956574185765973,59.82,59.43,59.04,58.65,58.26,57.87,57.48]
[null,3.5,16.07,-5.44,2.85,21,20.3,58.349199999999996,59.85122637716124,60.71,60.32,59.93,59.54,59.15,58.76,58.37]
[null,3.55,16.07,-5.44,2.88,21,20.3,59.211599999999997,60.73582629674307,61.59,61.2,60.81,60.42,60.03,59.64,59.25]
[null,3.6,16.07,-5.44,2.9,21,20.3,60.073999999999998,61.620426216324887,62.48,62.09,61.69,61.3,60.91,60.52,60.13]
[null,3.65,16.07,-5.44,2.93,21,20.3,60.946199999999997,62.515078407720139,63.36,62.97,62.58,62.19,61.8,61.41,61.02]
[null,3.7,16.07,-5.44,2.95,21,20.3,61.808599999999998,63.39967832730197,64.239999999999995,63.85,63.46,63.07,62.68,62.29,61.9]
[null,3.75,16.07,-5.44,2.98,21,20.3,62.680799999999998,64.294330518697222,65.13,64.739999999999995,64.349999999999994,63.96,63.57,63.18,62.79]
[null,3.8,16.07,-5.44,3,21,20.3,63.543199999999999,65.178930438279053,66.010000000000005,65.62,65.23,64.84,64.45,64.06,63.67]
[null,3.85,16.07,-5.44,3.03,21,20.3,64.405599999999993,66.063530357860884,66.89,66.5,66.11,65.72,65.33,64.94,64.55]
[null,3.9,16.07,-5.44,3.05,21,20.3,65.277799999999999,66.958182549256122,67.78,67.39,67,66.61,66.22,65.83,65.44]
[null,3.95,16.07,-5.44,3.08,21,20.3,66.140199999999993,67.842782468837953,68.66,68.27,67.88,67.489999999999995,67.099999999999994,66.709999999999994,66.319999999999993]
[null,4,16.07,-5.44,3.1,21,20.3,67.0124,68.737434660233205,69.55,69.16,68.77,68.38,67.98,67.59,67.2]
[null,4.05,16.07,-5.44,3.13,21,20.3,67.874800000000008,69.622034579815036,70.430000000000007,70.040000000000006,69.650000000000006,69.260000000000005,68.87,68.48,68.09]
[null,4.0999999999999996,16.07,-5.44,3.15,21,20.3,68.737200000000001,70.506634499396853,71.31,70.92,70.53,70.14,69.75,69.36,68.97]
[null,4.1500000000000004,16.07,-5.44,3.18,21,20.3,69.609399999999994,71.401286690792119,72.2,71.81,71.42,71.03,70.64,70.25,69.86]
[null,4.2,16.07,-5.45,3.2,21,20.3,70.471800000000002,72.285886610373936,73.08,72.69,72.3,71.91,71.52,71.13,70.739999999999995]
[null,4.25,16.07,-5.45,3.23,21,20.3,71.33420000000001,73.170486529955767,73.959999999999994,73.569999999999993,73.180000000000007,72.790000000000006,72.400000000000006,72.010000000000005,71.62]
[null,4.3,16.07,-5.45,3.25,21,20.3,72.206400000000002,74.065138721351033,74.849999999999994,74.459999999999994,74.069999999999993,73.680000000000007,73.290000000000006,72.900000000000006,72.510000000000005]
[null,4.3499999999999996,16.07,-5.45,3.28,21,20.3,73.068799999999996,74.94973864093285,75.73,75.34,74.95,74.56,74.17,73.78,73.39]
[null,4.4000000000000004,16.07,-5.45,3.3,21,20.3,73.941000000000003,75.844390832328102,76.62,76.23,75.84,75.45,75.06,74.67,74.27]
[null,4.45,16.07,-5.45,3.33,21,20.3,74.803399999999996,76.728990751909933,77.5,77.11,76.72,76.33,75.94,75.55,75.16]
[null,4.5,16.07,-5.45,3.35,21,20.3,75.66579999999999,77.61359067149175,78.38,77.989999999999995,77.599999999999994,77.209999999999994,76.819999999999993,76.430000000000007,76.040000000000006]
[null,4.55,16.07,-5.45,3.38,21,20.3,76.537999999999997,78.508242862887002,79.27,78.88,78.489999999999995,78.099999999999994,77.709999999999994,77.319999999999993,76.930000000000007]
[null,4.5999999999999996,16.07,-5.45,3.4,21,20.3,77.400400000000005,79.392842782468847,80.150000000000006,79.760000000000005,79.37,78.98,78.59,78.2,77.81]
[null,4.6500000000000004,16.07,-5.45,3.43,21,20.3,78.262799999999999,80.277442702050664,81.040000000000006,80.64,80.25,79.86,79.47,79.08,78.69]
[null,4.7,16.07,-5.45,3.45,21,20.3,79.135000000000005,81.172094893445916,81.92,81.53,81.14,80.75,80.36,79.97,79.58]
[null,4.75,16.07,-5.45,3.48,21,20.3,79.997399999999999,82.056694813027747,82.8,82.41,82.02,81.63,81.239999999999995,80.849999999999994,80.459999999999994]
[null,4.8,16.07,-5.45,3.5,21,20.3,80.869599999999991,82.951347004422999,83.69,83.3,82.91,82.52,82.13,81.739999999999995,81.349999999999994]
[null,4.8499999999999996,16.07,-5.45,3.53,21,20.3,81.731999999999999,83.835946924004816,84.57,84.18,83.79,83.4,83.01,82.62,82.23]
[null,4.9000000000000004,16.07,-5.45,3.55,21,20.3,82.594399999999993,84.720546843586646,85.45,85.06,84.67,84.28,83.89,83.5,83.11]
[null,4.95,16.07,-5.45,3.58,21,20.3,83.4666,85.615199034981899,86.34,85.95,85.56,85.17,84.78,84.39,84]
[null,5,16.07,-5.45,3.6,21,20.3,84.328999999999994,86.499798954563715,87.22,86.83,86.44,86.05,85.66,85.27,84.88]
[null,5.05,16.059999999999999,-5.45,3.63,21,20.3,85.191400000000002,87.38439887414556,88.11,87.72,87.33,86.93,86.54,86.15,85.76]
[null,5.0999999999999996,16.059999999999999,-5.45,3.65,21,20.3,86.063599999999994,88.279051065540799,88.99,88.6,88.21,87.82,87.43,87.04,86.65]
[null,5.15,16.059999999999999,-5.45,3.68,21,20.3,86.926000000000002,89.163650985122629,89.87,89.48,89.09,88.7,88.31,87.92,87.53]
[null,5.2,16.059999999999999,-5.45,3.7,21,20.3,87.798200000000008,90.058303176517896,90.76,90.37,89.98,89.59,89.2,88.81,88.42]
[null,5.25,16.059999999999999,-5.45,3.73,21,20.3,88.660600000000002,90.942903096099712,91.64,91.25,90.86,90.47,90.08,89.69,89.3]
[null,5.3,16.059999999999999,-5.45,3.75,21,20.3,89.522999999999996,91.827503015681529,92.52,92.13,91.74,91.35,90.96,90.57,90.18]
[null,5.35,16.059999999999999,-5.45,3.78,21,20.3,90.395199999999988,92.722155207076796,93.41,93.02,92.63,92.24,91.85,91.46,91.07]
[null,5.4,16.059999999999999,-5.45,3.8,21,20.3,91.257599999999996,93.606755126658626,94.29,93.9,93.51,93.12,92.73,92.34,91.95]
[null,5.45,16.059999999999999,-5.45,3.83,21,20.3,92.129800000000003,94.501407318053879,95.18,94.79,94.4,94.01,93.62,93.22,92.83]
[null,5.5,16.059999999999999,-5.45,3.85,21,20.3,92.992199999999997,95.38600723763571,96.06,95.67,95.28,94.89,94.5,94.11,93.72]
[null,5.55,16.059999999999999,-5.45,3.88,21,20.3,93.854599999999991,96.270607157217526,96.94,96.55,96.16,95.77,95.38,94.99,94.6]
[null,5.6,16.059999999999999,-5.45,3.9,21,20.3,94.726799999999997,97.165259348612778,97.83,97.44,97.05,96.66,96.27,95.88,95.49]
[null,5.65,16.059999999999999,-5.45,3.93,21,20.3,95.589200000000005,98.049859268194623,98.67,98.32,97.93,97.54,97.15,96.76,96.37]
[null,5.7,16.059999999999999,-5.45,3.95,21,20.3,96.451599999999999,98.93445918777644,99.24,99.12,98.81,98.42,98.03,97.64,97.25]
[null,5.75,16.059999999999999,-5.45,3.98,21,20.3,97.323800000000006,99.829111379171692,99.47,99.47,99.46,99.31,98.92,98.53,98.14]
[null,5.76,16.059999999999999,-5.45,3.98,0,0,97.490400000000008,100,99.48,99.48,99.48,99.48,99.09,98.7,98.31]

{"sheet":"16","index":22,"n_rows":123,"n_cols":16,"rows_kept":123,"cut":false,"hidden":false,"merged":[]}
[]
[null,"H.F.O 4 PS",null,null,null,null,null,"S.G.",0.98,"[t/m3]"]
[]
[null,"GAUGE","LCG","TCG","VCG","FSM (transv)","FSM (long)","Weight","Fill (%)","Trim=-1,5","Trim=1,0","Trim=-0,5","Trim=0","Trim=0,5","Trim=1,0","Trim=1,5"]
[null,null,"Fwd of AP","PS:+","Above BL"," "," "]
[null,"m","m","m","m","t·m","t·m","t",null,"m3","m3","m3","m3","m3","m3","m3"]
[null,0,13.54,4.24,1.3,0,0.3,{"$f":"M7*$I$2","v":4.9000000000000002E-2},{"$f":"M7/$M$117*100","v":5.5169369965794995E-2},0.05,0.05,0.05,0.05,0.05,0.05,0.06]
[null,0.05,13.47,4.3600000000000003,1.33,1,0.5,{"$f":"M8*$I$2","v":0.10779999999999999},{"$f":"M8/$M$117*100","v":0.12137261392474899},0.11,0.11,0.11,0.11,0.11,0.11,0.11]
[null,0.1,13.41,4.45,1.37,1,0.8,{"$f":"M9*$I$2","v":0.1764},0.19860973187686196,0.19,0.19,0.18,0.18,0.18,0.18,0.18]
[null,0.15,13.34,4.5199999999999996,1.41,1,1.1000000000000001,0.27440000000000003,0.30894847180845197,0.28999999999999998,0.28999999999999998,0.28999999999999998,0.28000000000000003,0.28000000000000003,0.28000000000000003,0.27]
[null,0.2,13.29,4.57,1.44,1,1.4,0.40179999999999999,0.45238883371951893,0.43,0.42,0.41,0.41,0.4,0.4,0.39]
[null,0.25,13.23,4.6100000000000003,1.48,2,1.7,0.54880000000000007,0.61789694361690395,0.59,0.57999999999999996,0.56999999999999995,0.56000000000000005,0.55000000000000004,0.54,0.53]
[null,0.3,13.17,4.6399999999999997,1.51,2,2,0.71539999999999992,0.80547280150060685,0.78,0.76,0.74,0.73,0.72,0.7,0.69]
[null,0.35,13.11,4.67,1.54,2,2.2999999999999998,0.91139999999999999,1.0261502813637868,0.99,0.97,0.95,0.93,0.91,0.89,0.87]
[null,0.4,13.05,4.6900000000000004,1.58,3,2.7,1.127,1.2688955092132848,1.24,1.21,1.18,1.1499999999999999,1.1299999999999999,1.1000000000000001,1.08]
[null,0.45,13,4.71,1.61,3,3.1,1.3719999999999999,1.5447423590422598,1.51,1.47,1.43,1.4,1.37,1.34,1.31]
[null,0.5,12.94,4.7300000000000004,1.65,4,3.6,1.6365999999999998,1.8426569568575528,1.81,1.76,1.72,1.67,1.64,1.6,1.57]
[null,0.55000000000000004,12.89,4.75,1.68,4,4.3,1.9403999999999999,2.184707050645482,2.14,2.08,2.0299999999999998,1.98,1.93,1.89,1.85]
[null,0.6,12.84,4.7699999999999996,1.72,5,5,2.2637999999999998,2.5488248924197285,2.5,2.4300000000000002,2.37,2.31,2.25,2.2000000000000002,2.15]
[null,0.65,12.78,4.79,1.75,6,5.8,2.6166,2.9460443561734526,2.89,2.81,2.74,2.67,2.6,2.54,2.4900000000000002]
[null,0.7,12.73,4.8099999999999996,1.78,7,6.6,2.9988000000000001,3.3763654419066533,3.31,3.22,3.14,3.06,2.98,2.91,2.85]
[null,0.75,12.68,4.83,1.82,7,7.3,3.4104000000000001,3.8397881496193316,3.77,3.66,3.57,3.48,3.39,3.31,3.24]
[null,0.8,12.63,4.8499999999999996,1.85,8,8.1,3.8415999999999997,4.325278605318327,4.25,4.1399999999999997,4.03,3.92,3.83,3.74,3.65]
[null,0.85,12.58,4.87,1.89,9,8.8000000000000007,4.3120000000000003,4.8549045569899603,4.7699999999999996,4.6399999999999997,4.51,4.4000000000000004,4.29,4.1900000000000004,4.09]
[null,0.9,12.53,4.8899999999999997,1.92,10,9.5,4.8020000000000005,5.4065982566479098,5.32,5.17,5.03,4.9000000000000004,4.78,4.67,4.5599999999999996]
[null,0.95,12.49,4.9000000000000004,1.96,10,10.3,5.3311999999999999,6.0024274522784955,5.9,5.73,5.58,5.44,5.3,5.17,5.05]
[null,1,12.44,4.92,1.99,11,11,5.88,6.6203243958953992,6.5,6.32,6.15,6,5.85,5.71,5.57]
[null,1.05,12.39,4.93,2.02,12,11.7,6.4484000000000004,7.260289087498621,7.14,6.94,6.76,6.58,6.42,6.27,6.12]
[null,1.1000000000000001,12.34,4.95,2.06,13,12.4,7.056,7.9443892750744789,7.81,7.59,7.39,7.2,7.02,6.85,6.69]
[null,1.1499999999999999,12.29,4.96,2.09,13,13.2,7.6831999999999994,8.6505572106366539,8.5,8.27,8.0500000000000007,7.84,7.65,7.46,7.29]
[null,1.2,12.25,4.97,2.13,14,13.9,8.3398000000000003,9.3898267681783079,9.2100000000000009,8.9700000000000006,8.74,8.51,8.3000000000000007,8.1,7.91]
[null,1.25,12.2,4.99,2.16,15,14.4,9.0258000000000003,10.16219794769944,9.9499999999999993,9.69,9.4499999999999993,9.2100000000000009,8.98,8.77,8.56]
[null,1.3,12.16,5,2.19,15,14.9,9.7313999999999989,10.956636875206884,10.7,10.44,10.18,9.93,9.69,9.4600000000000009,9.23]
[null,1.35,12.11,5.01,2.23,16,15.4,10.4566,11.773143550700652,11.48,11.2,10.93,10.67,10.41,10.17,9.93]
[null,1.4,12.07,5.0199999999999996,2.2599999999999998,16,15.9,11.2014,12.611717974180737,12.28,11.98,11.7,11.43,11.16,10.9,10.65]
[null,1.45,12.04,5.03,2.29,17,16.3,11.9658,13.472360145647139,13.09,12.79,12.49,12.21,11.93,11.66,11.4]
[null,1.5,12,5.04,2.3199999999999998,17,16.8,12.74,14.344036191106699,13.92,13.61,13.3,13,12.71,12.43,12.16]
[null,1.55,11.96,5.0599999999999996,2.36,18,17.2,13.5436,15.248813858545738,14.77,14.44,14.13,13.82,13.51,13.22,12.94]
[null,1.6,11.93,5.07,2.39,18,17.600000000000001,14.356999999999999,16.164625399977933,15.63,15.3,14.97,14.65,14.34,14.03,13.73]
[null,1.65,11.9,5.08,2.42,18,18,15.19,17.102504689396447,16.510000000000002,16.170000000000002,15.83,15.5,15.17,14.86,14.55]
[null,1.7,11.87,5.09,2.4500000000000002,19,18.399999999999999,16.032799999999998,18.051417852808122,17.41,17.05,16.7,16.36,16.02,15.7,15.38]
[null,1.75,11.84,5.0999999999999996,2.48,19,18.8,16.895199999999999,19.022398764206113,18.309999999999999,17.95,17.59,17.239999999999998,16.89,16.55,16.22]
[null,1.8,11.81,5.1100000000000003,2.5099999999999998,20,19.2,17.767399999999999,20.004413549597263,19.23,18.86,18.489999999999998,18.13,17.77,17.43,17.09]
[null,1.85,11.78,5.12,2.5499999999999998,20,19.5,18.6494,20.997462208981577,20.16,19.78,19.399999999999999,19.03,18.670000000000002,18.309999999999999,17.96]
[null,1.9,11.76,5.13,2.58,20,19.899999999999999,19.550999999999998,22.012578616352201,21.11,20.71,20.329999999999998,19.95,19.57,19.21,18.850000000000001]
[null,1.95,11.73,5.14,2.61,21,20.2,20.4526,23.027695023722831,22.06,21.66,21.26,20.87,20.49,20.12,19.75]
[null,2,11.71,5.15,2.64,21,20.6,21.373799999999999,24.064879179079774,23.02,22.61,22.21,21.81,21.42,21.04,20.66]
[null,2.0499999999999998,11.68,5.16,2.67,21,20.9,22.3048,25.113097208429885,23.98,23.57,23.16,22.76,22.36,21.97,21.59]
[null,2.1,11.66,5.17,2.7,22,21.2,23.2456,26.172349111773141,24.96,24.54,24.13,23.72,23.31,22.91,22.52]
[null,2.15,11.64,5.18,2.73,22,21.5,24.186399999999999,27.231601015116407,25.94,25.51,25.1,24.68,24.27,23.86,23.47]
[null,2.2000000000000002,11.62,5.19,2.76,22,21.8,25.136999999999997,28.30188679245283,26.92,26.5,26.07,25.65,25.24,24.82,24.42]
[null,2.25,11.6,5.2,2.79,22,22,26.097399999999997,29.383206443782413,27.92,27.48,27.05,26.63,26.21,25.79,25.38]
[null,2.2999999999999998,11.58,5.21,2.82,23,22.3,27.0578,30.464526095111992,28.91,28.47,28.04,27.61,27.19,26.76,26.35]
[null,2.35,11.56,5.22,2.85,23,22.5,28.028000000000002,31.556879620434735,29.91,29.47,29.03,28.6,28.17,27.74,27.32]
[null,2.4,11.54,5.23,2.88,23,22.7,28.998200000000001,32.649233145757478,30.9,30.47,30.03,29.59,29.16,28.73,28.3]
[null,2.4500000000000002,11.53,5.24,2.91,23,22.8,29.978200000000001,33.752620545073377,31.9,31.46,31.02,30.59,30.15,29.72,29.29]
[null,2.5,11.51,5.24,2.93,23,22.9,30.948399999999999,34.84497407039612,32.9,32.46,32.020000000000003,31.58,31.15,30.71,30.28]
[null,2.5499999999999998,11.5,5.25,2.96,23,23,31.928399999999996,35.948361469712012,33.9,33.46,33.020000000000003,32.58,32.14,31.71,31.27]
[null,2.6,11.48,5.26,2.99,23,23,32.9084,37.051748869027918,34.9,34.46,34.020000000000003,33.58,33.14,32.700000000000003,32.26]
[null,2.65,11.47,5.26,3.02,23,23,33.888399999999997,38.155136268343817,35.9,35.46,35.020000000000003,34.58,34.14,33.700000000000003,33.26]
[null,2.7,11.46,5.27,3.05,23,23,34.868400000000001,39.258523667659716,36.9,36.46,36.020000000000003,35.58,35.14,34.700000000000003,34.26]
[null,2.75,11.45,5.27,3.08,23,23,35.848399999999998,40.361911066975615,37.9,37.46,37.020000000000003,36.58,36.14,35.700000000000003,35.26]
[null,2.8,11.43,5.28,3.1,23,23,36.828399999999995,41.465298466291515,38.9,38.46,38.020000000000003,37.58,37.14,36.700000000000003,36.26]
[null,2.85,11.42,5.29,3.13,23,23,37.808399999999999,42.568685865607414,39.9,39.46,39.020000000000003,38.58,38.14,37.700000000000003,37.26]
[null,2.9,11.41,5.29,3.16,23,23,38.788399999999996,43.67207326492332,40.9,40.46,40.020000000000003,39.58,39.14,38.700000000000003,38.26]
[null,2.95,11.4,5.29,3.19,23,23,39.7684,44.775460664239212,41.89,41.45,41.02,40.58,40.14,39.700000000000003,39.26]
[null,3,11.39,5.3,3.21,23,23,40.738599999999998,45.867814189561955,42.89,42.45,42.01,41.57,41.13,40.700000000000003,40.26]
[null,3.05,11.39,5.3,3.24,23,23,41.718600000000002,46.971201588877861,43.89,43.45,43.01,42.57,42.13,41.69,41.25]
[null,3.1,11.38,5.31,3.27,23,23,42.698599999999999,48.074588988193753,44.89,44.45,44.01,43.57,43.13,42.69,42.25]
[null,3.15,11.37,5.31,3.29,23,23,43.678600000000003,49.177976387509659,45.89,45.45,45.01,44.57,44.13,43.69,43.25]
[null,3.2,11.36,5.31,3.32,23,23,44.6586,50.281363786825558,46.89,46.45,46.01,45.57,45.13,44.69,44.25]
[null,3.25,11.36,5.32,3.35,23,23,45.638599999999997,{"$f":"M72/$M$117*100","v":51.38475118614145},47.89,47.45,47.01,46.57,46.13,45.69,45.25]
[null,3.3,11.35,5.32,3.37,23,23,{"$f":"M73*$I$2","v":46.618600000000001},52.488138585457357,48.89,48.45,48.01,47.57,47.13,46.69,46.25]
[null,3.35,11.34,5.32,3.4,23,23,47.598599999999998,53.591525984773256,49.89,49.45,49.01,48.57,48.13,47.69,47.25]
[null,3.4,11.34,5.33,3.43,23,23,48.578600000000002,54.694913384089162,50.89,50.45,50.01,49.57,49.13,48.69,48.25]
[null,3.45,11.33,5.33,3.45,23,23,49.558599999999998,55.798300783405054,51.89,51.45,51.01,50.57,50.13,49.69,49.25]
[null,3.5,11.32,5.33,3.48,23,23,50.538600000000002,56.901688182720953,52.88,52.45,52.01,51.57,51.13,50.69,50.25]
[null,3.55,11.32,5.34,3.51,23,23,51.518599999999999,58.005075582036859,53.88,53.44,53,52.57,52.13,51.69,51.25]
[null,3.6,11.31,5.34,3.53,23,23,52.488800000000005,59.097429107359602,54.88,54.44,54,53.56,53.12,52.68,52.25]
[null,3.65,11.31,5.34,3.56,23,23,53.468800000000002,60.200816506675501,55.88,55.44,55,54.56,54.12,53.68,53.24]
[null,3.7,11.3,5.34,3.59,23,23,54.448799999999999,61.304203905991393,56.88,56.44,56,55.56,55.12,54.68,54.24]
[null,3.75,11.3,5.35,3.61,23,23,55.428800000000003,62.407591305307299,57.88,57.44,57,56.56,56.12,55.68,55.24]
[null,3.8,11.29,5.35,3.64,23,23,56.408799999999999,63.510978704623199,58.88,58.44,58,57.56,57.12,56.68,56.24]
[null,3.85,11.29,5.35,3.66,23,23,57.388800000000003,64.614366103939105,59.88,59.44,59,58.56,58.12,57.68,57.24]
[null,3.9,11.28,5.35,3.69,23,23,58.3688,65.717753503254997,60.88,60.44,60,59.56,59.12,58.68,58.24]
[null,3.95,11.28,5.35,3.72,23,23,59.348800000000004,66.821140902570903,61.88,61.44,61,60.56,60.12,59.68,59.24]
[null,4,11.28,5.36,3.74,23,23,60.328800000000001,67.924528301886795,62.88,62.44,62,61.56,61.12,60.68,60.24]
[null,4.05,11.27,5.36,3.77,23,23,61.308799999999998,69.027915701202701,63.88,63.44,63,62.56,62.12,61.68,61.24]
[null,4.0999999999999996,11.27,5.36,3.8,23,23,62.288800000000002,70.131303100518593,64.87,64.430000000000007,64,63.56,63.12,62.68,62.24]
[null,4.1500000000000004,11.26,5.36,3.82,23,23,63.258999999999993,71.223656625841329,65.87,65.430000000000007,64.989999999999995,64.55,64.12,63.68,63.24]
[null,4.2,11.26,5.36,3.85,23,23,64.23899999999999,72.327044025157221,66.87,66.430000000000007,65.989999999999995,65.55,65.11,64.67,64.239999999999995]
[null,4.25,11.26,5.36,3.87,23,23,65.218999999999994,73.430431424473127,67.87,67.430000000000007,66.989999999999995,66.55,66.11,65.67,65.23]
[null,4.3,11.25,5.37,3.9,23,23,66.198999999999998,74.533818823789034,68.87,68.430000000000007,67.989999999999995,67.55,67.11,66.67,66.23]
[null,4.3499999999999996,11.25,5.37,3.92,23,23,67.179000000000002,75.63720622310494,69.87,69.430000000000007,68.989999999999995,68.55,68.11,67.67,67.23]
[null,4.4000000000000004,11.25,5.37,3.95,23,23,68.158999999999992,76.740593622420832,70.87,70.430000000000007,69.989999999999995,69.55,69.11,68.67,68.23]
[null,4.45,11.24,5.37,3.98,23,23,69.138999999999996,77.843981021736724,71.87,71.430000000000007,70.989999999999995,70.55,70.11,69.67,69.23]
[null,4.5,11.24,5.37,4,23,23,70.119,78.94736842105263,72.87,72.430000000000007,71.989999999999995,71.55,71.11,70.67,70.23]
[null,4.55,11.24,5.37,4.03,23,23,71.09899999999999,80.050755820368536,73.87,73.430000000000007,72.989999999999995,72.55,72.11,71.67,71.23]
[null,4.5999999999999996,11.23,5.38,4.05,23,23,72.078999999999994,81.154143219684428,74.87,74.430000000000007,73.989999999999995,73.55,73.11,72.67,72.23]
[null,4.6500000000000004,11.23,5.38,4.08,23,23,73.058999999999997,82.257530619000335,75.87,75.430000000000007,74.989999999999995,74.55,74.11,73.67,73.23]
[null,4.7,11.23,5.38,4.0999999999999996,23,23,74.039000000000001,83.360918018316227,76.86,76.42,75.989999999999995,75.55,75.11,74.67,74.23]
[null,4.75,11.23,5.38,4.13,23,23,75.009200000000007,84.453271543638991,77.86,77.42,76.98,76.540000000000006,76.099999999999994,75.67,75.23]
[null,4.8,11.22,5.38,4.16,23,23,75.989200000000011,85.556658942954883,78.86,78.42,77.98,77.540000000000006,77.099999999999994,76.66,76.22]
[null,4.8499999999999996,11.22,5.38,4.18,23,23,76.969200000000001,86.660046342270775,79.86,79.42,78.98,78.540000000000006,78.099999999999994,77.66,77.22]
[null,4.9000000000000004,11.22,5.38,4.21,23,23,77.949200000000005,87.763433741586681,80.86,80.42,79.98,79.540000000000006,79.099999999999994,78.66,78.22]
[null,4.95,11.22,5.38,4.2300000000000004,23,23,78.929200000000009,88.866821140902587,81.86,81.42,80.98,80.540000000000006,80.099999999999994,79.66,79.22]
[null,5,11.21,5.39,4.26,23,23,79.909199999999998,89.970208540218479,82.86,82.42,81.98,81.540000000000006,81.099999999999994,80.66,80.22]
[null,5.05,11.21,5.39,4.28,23,23,80.889200000000002,91.073595939534385,83.86,83.42,82.98,82.54,82.1,81.66,81.22]
[null,5.0999999999999996,11.21,5.39,4.3099999999999996,23,23,81.869200000000006,92.176983338850278,84.86,84.42,83.98,83.54,83.1,82.66,82.22]
[null,5.15,11.21,5.39,4.33,23,23,82.84920000000001,93.280370738166184,85.86,85.42,84.98,84.54,84.1,83.66,83.22]
[null,5.2,11.21,5.39,4.3600000000000003,23,23,83.8292,94.383758137482076,86.86,86.42,85.98,85.54,85.1,84.66,84.22]
[null,5.25,11.2,5.39,4.3899999999999997,23,23,84.809200000000004,95.487145536797982,87.85,87.42,86.98,86.54,86.1,85.66,85.22]
[null,5.3,11.2,5.39,4.41,23,23,85.789200000000008,96.590532936113888,88.85,88.41,87.97,87.54,87.1,86.66,86.22]
[null,5.35,11.2,5.39,4.4400000000000004,23,23,86.759399999999999,97.68288646143661,89.77,89.41,88.97,88.53,88.09,87.65,87.22]
[null,5.4,11.2,5.39,4.46,23,23,87.739400000000003,98.786273860752516,90.36,90.26,89.97,89.53,89.09,88.65,88.21]
[null,5.45,11.2,5.39,4.49,23,23,88.719399999999993,99.889661260068422,90.62,90.62,90.62,90.53,90.09,89.65,89.21]
[null,5.46,11.2,5.39,4.49,0,0,88.817399999999992,100,90.63,90.63,90.63,90.63,90.19,89.75,89.31]
[]
[null,null,null,null,null,null,null,0]
[null,null,null,null,null,null,null,0]
[null,null,null,null,null,null,null,0]
[null,null,null,null,null,null,null,0]
[null,null,null,null,null,null,null,0]

{"sheet":"17","index":23,"n_rows":200,"n_cols":16,"rows_kept":200,"cut":false,"hidden":false,"merged":[]}
[]
[null,"H.F.O 4 SB",null,null,null,null,null,"S.G.",0.98,"[t/m3]"]
[]
[null,"GAUGE","LCG","TCG","VCG","FSM (transv)","FSM (long)","Weight","Fill (%)","Trim=-1,5","Trim=1,0","Trim=-0,5","Trim=0","Trim=0,5","Trim=1,0","Trim=1,5"]
[null,null,"Fwd of AP","PS:+","Above BL"," "," "]
[null,"m","m","m","m","t·m","t·m","t",null,"m3","m3","m3","m3","m3","m3","m3"]
[null,0,13.44,-4.4000000000000004,1.35,1,0.6,{"$f":"M7*$I$2","v":0.12740000000000001},{"$f":"M7/$M$115*100","v":0.14344036191106699},0.14000000000000001,0.13,0.13,0.13,0.13,0.13,0.13]
[null,0.05,13.38,-4.4800000000000004,1.38,1,0.9,{"$f":"M8*$I$2","v":0.21559999999999999},{"$f":"M8/$M$115*100","v":0.24274522784949798},0.23,0.22,0.22,0.22,0.22,0.22,0.21]
[null,0.1,13.32,-4.54,1.42,1,1.2,{"$f":"M9*$I$2","v":0.32340000000000002},{"$f":"M9/$M$115*100","v":0.36411784177424694},0.34,0.34,0.33,0.33,0.32,0.32,0.32]
[null,0.15,13.26,-4.59,1.46,2,1.5,0.45080000000000003,0.50755820368531401,0.49,0.48,0.47,0.46,0.46,0.45,0.44]
[null,0.2,13.2,-4.63,1.49,2,1.8,0.60760000000000003,0.68410018757585789,0.66,0.65,0.63,0.62,0.61,0.6,0.59]
[null,0.25,13.15,-4.66,1.52,2,2.1,0.79380000000000006,0.89374379344587895,0.86,0.84,0.82,0.81,0.79,0.78,0.76]
[null,0.3,13.09,-4.68,1.56,3,2.5,0.98980000000000001,1.1144212733090588,1.0900000000000001,1.06,1.04,1.01,0.99,0.97,0.95]
[null,0.35,13.03,-4.7,1.59,3,2.9,1.2250000000000001,1.3792342491448748,1.34,1.31,1.28,1.25,1.22,1.19,1.17]
[null,0.4,12.98,-4.72,1.63,3,3.3,1.4798,1.6661149729670088,1.62,1.58,1.54,1.51,1.47,1.44,1.41]
[null,0.45,12.92,-4.74,1.66,4,3.8,1.7542,1.9750634447754607,1.93,1.88,1.84,1.79,1.75,1.71,1.68]
[null,0.5,12.87,-4.76,1.69,5,4.5999999999999996,2.0677999999999996,2.3281474125565484,2.2799999999999998,2.21,2.16,2.11,2.06,2.0099999999999998,1.97]
[null,0.55000000000000004,12.81,-4.78,1.73,5,5.3,2.4010000000000002,2.7032991283239549,2.65,2.58,2.5099999999999998,2.4500000000000002,2.39,2.33,2.2799999999999998]
[null,0.6,12.76,-4.8,1.76,6,6.1,2.7635999999999998,3.1115524660708376,3.05,2.97,2.89,2.82,2.75,2.69,2.63]
[null,0.65,12.71,-4.82,1.8,7,6.9,3.1556000000000002,3.5529074257971978,3.49,3.39,3.3,3.22,3.14,3.07,3]
[null,0.7,12.66,-4.84,1.83,8,7.6,3.577,4.0273640075030341,3.96,3.85,3.75,3.65,3.56,3.48,3.4]
[null,0.75,12.61,-4.8600000000000003,1.87,9,8.4,4.0278,4.5349222111883494,4.46,4.33,4.22,4.1100000000000003,4.01,3.91,3.82]
[null,0.8,12.56,-4.88,1.9,9,9.1,4.508,5.075582036853139,4.99,4.8499999999999996,4.72,4.5999999999999996,4.4800000000000004,4.38,4.28]
[null,0.85,12.51,-4.8899999999999997,1.94,10,9.8000000000000007,5.0078000000000005,5.6383096105042485,5.55,5.39,5.25,5.1100000000000003,4.99,4.87,4.75]
[null,0.9,12.47,-4.91,1.97,11,10.6,5.5468000000000002,6.2451726801279941,6.14,5.97,5.81,5.66,5.52,5.38,5.26]
[null,0.95,12.42,-4.93,2,12,11.3,6.1054000000000004,6.8741034977380568,6.76,6.57,6.39,6.23,6.07,5.93,5.79]
[null,1,12.37,-4.9400000000000004,2.04,12,12,6.6933999999999996,7.5361359373275967,7.41,7.2,7.01,6.83,6.66,6.5,6.34]
[null,1.05,12.32,-4.95,2.0699999999999998,0,0,7.3010000000000002,8.2202361249034546,8.08,7.86,7.65,7.45,7.27,7.09,6.93]
[null,1.1000000000000001,12.28,-4.97,2.11,14,13.4,7.9477999999999991,8.9484718084519486,8.7799999999999994,8.5500000000000007,8.32,8.11,7.91,7.72,7.53]
[null,1.1499999999999999,12.23,-4.9800000000000004,2.14,14,14.1,8.6141999999999985,9.6987752399867588,9.5,9.26,9.02,8.7899999999999991,8.57,8.36,8.17]
[null,1.2,12.18,-4.99,2.17,15,14.6,9.31,10.482180293501049,10.25,9.99,9.74,9.5,9.26,9.0399999999999991,8.83]
[null,1.25,12.14,-5,2.21,15,15.1,10.015600000000001,11.276619221008497,11.01,10.74,10.48,10.220000000000001,9.98,9.74,9.51]
[null,1.3,12.1,-5.01,2.2400000000000002,16,15.6,10.7506,12.104159770495421,11.8,11.51,11.24,10.97,10.71,10.46,10.220000000000001]
[null,1.35,12.06,-5.03,2.27,16,16.100000000000001,11.5052,12.953768067968666,12.6,12.3,12.02,11.74,11.46,11.2,10.95]
[null,1.4,12.02,-5.04,2.2999999999999998,17,16.5,12.269599999999999,13.814410239435066,13.42,13.11,12.81,12.52,12.24,11.96,11.7]
[null,1.45,11.99,-5.05,2.34,17,17,13.0634,14.708154032880946,14.26,13.94,13.63,13.33,13.03,12.74,12.47]
[null,1.5,11.95,-5.0599999999999996,2.37,18,17.399999999999999,13.867000000000001,15.612931700319985,15.11,14.78,14.46,14.15,13.84,13.54,13.25]
[null,1.55,11.92,-5.07,2.4,18,17.8,14.690200000000001,16.539777115745338,15.98,15.64,15.31,14.99,14.67,14.36,14.06]
[null,1.6,11.89,-5.08,2.4300000000000002,19,18.2,15.523199999999999,17.477656405163856,16.87,16.52,16.18,15.84,15.51,15.19,14.88]
[null,1.65,11.86,-5.09,2.46,19,18.600000000000001,16.375800000000002,18.437603442568687,17.77,17.41,17.05,16.71,16.37,16.04,15.71]
[null,1.7,11.83,-5.1100000000000003,2.5,19,18.899999999999999,17.238199999999999,19.408584353966678,18.68,18.309999999999999,17.95,17.59,17.239999999999998,16.899999999999999,16.57]
[null,1.75,11.8,-5.12,2.5299999999999998,20,19.3,18.120199999999997,20.401633013350988,19.600000000000001,19.23,18.850000000000001,18.489999999999998,18.13,17.78,17.43]
[null,1.8,11.77,-5.13,2.56,20,19.7,19.011999999999997,21.405715546728459,20.54,20.149999999999999,19.77,19.399999999999999,19.03,18.670000000000002,18.309999999999999]
[null,1.85,11.75,-5.14,2.59,20,20,19.913599999999999,22.420831954099086,21.48,21.09,20.7,20.32,19.940000000000001,19.57,19.21]
[null,1.9,11.72,-5.15,2.62,21,20.399999999999999,20.824999999999999,23.446982235462873,22.44,22.04,21.64,21.25,20.86,20.49,20.11]
[null,1.95,11.7,-5.16,2.65,21,20.7,21.746200000000002,24.484166390819819,23.4,22.99,22.59,22.19,21.8,21.41,21.03]
[null,2,11.67,-5.17,2.68,21,21,22.677199999999999,25.532384420169922,24.37,23.96,23.55,23.14,22.74,22.35,21.96]
[null,2.0499999999999998,11.65,-5.18,2.71,22,21.3,23.618000000000002,26.591636323513189,25.35,24.93,24.51,24.1,23.69,23.29,22.9]
[null,2.1,11.63,-5.19,2.74,22,21.6,24.5686,27.661922100849612,26.33,25.91,25.49,25.07,24.66,24.25,23.85]
[null,2.15,11.61,-5.2,2.77,22,21.9,25.519199999999998,28.732207878186035,27.32,26.89,26.46,26.04,25.62,25.21,24.8]
[null,2.2000000000000002,11.59,-5.21,2.8,23,22.1,26.479599999999998,29.813527529515614,28.31,27.88,27.45,27.02,26.6,26.18,25.77]
[null,2.25,11.57,-5.21,2.83,23,22.4,27.4498,30.905881054838357,29.31,28.87,28.44,28.01,27.58,27.16,26.74]
[null,2.2999999999999998,11.55,-5.22,2.86,23,22.6,28.419999999999998,31.998234580161096,30.3,29.87,29.43,29,28.57,28.14,27.71]
[null,2.35,11.54,-5.23,2.89,23,22.7,29.390199999999997,33.090588105483839,31.3,30.86,30.43,29.99,29.56,29.12,28.69]
[null,2.4,11.52,-5.24,2.92,23,22.9,30.370199999999997,34.193975504799731,32.299999999999997,31.86,31.42,30.99,30.55,30.11,29.68]
[null,2.4500000000000002,11.51,-5.25,2.95,23,23,31.340399999999999,35.286329030122474,33.299999999999997,32.86,32.42,31.98,31.54,31.11,30.67]
[null,2.5,11.49,-5.25,2.97,23,23,32.320399999999999,36.389716429438373,34.299999999999997,33.86,33.42,32.979999999999997,32.54,32.1,31.67]
[null,2.5499999999999998,11.48,-5.26,3,23,23,33.300399999999996,37.493103828754279,35.299999999999997,34.86,34.42,33.979999999999997,33.54,33.1,32.659999999999997]
[null,2.6,11.46,-5.27,3.03,23,23,34.280399999999993,38.596491228070171,36.299999999999997,35.86,35.42,34.979999999999997,34.54,34.1,33.659999999999997]
[null,2.65,11.45,-5.27,3.06,23,23,35.260399999999997,39.699878627386077,37.299999999999997,36.86,36.42,35.979999999999997,35.54,35.1,34.659999999999997]
[null,2.7,11.44,-5.28,3.09,23,23,36.240399999999994,40.803266026701976,38.299999999999997,37.86,37.42,36.979999999999997,36.54,36.1,35.659999999999997]
[null,2.75,11.43,-5.28,3.11,23,23,37.220399999999998,41.906653426017876,39.299999999999997,38.86,38.42,37.979999999999997,37.54,37.1,36.659999999999997]
[null,2.8,11.42,-5.29,3.14,23,23,38.200399999999995,43.010040825333775,40.299999999999997,39.86,39.42,38.979999999999997,38.54,38.1,37.659999999999997]
[null,2.85,11.41,-5.29,3.17,23,23,39.180399999999999,44.113428224649674,41.29,40.86,40.42,39.979999999999997,39.54,39.1,38.659999999999997]
[null,2.9,11.4,-5.3,3.2,23,23,40.160399999999996,45.216815623965573,42.29,41.85,41.41,40.98,40.54,40.1,39.659999999999997]
[null,2.95,11.39,-5.3,3.22,23,23,41.130600000000001,46.309169149288316,43.29,42.85,42.41,41.97,41.53,41.09,40.659999999999997]
[null,3,11.38,-5.3,3.25,23,23,42.110599999999998,47.412556548604215,44.29,43.85,43.41,42.97,42.53,42.09,41.65]
[null,3.05,11.37,-5.31,3.28,23,23,43.090599999999995,48.515943947920114,45.29,44.85,44.41,43.97,43.53,43.09,42.65]
[null,3.1,11.37,-5.31,3.31,23,23,44.070599999999999,49.61933134723602,46.29,45.85,45.41,44.97,44.53,44.09,43.65]
[null,3.15,11.36,-5.32,3.33,23,23,45.050599999999996,50.722718746551919,47.29,46.85,46.41,45.97,45.53,45.09,44.65]
[null,3.2,11.35,-5.32,3.36,23,23,46.0306,51.826106145867811,48.29,47.85,47.41,46.97,46.53,46.09,45.65]
[null,3.25,11.35,-5.32,3.39,23,23,47.010599999999997,52.929493545183718,49.29,48.85,48.41,47.97,47.53,47.09,46.65]
[null,3.3,11.34,-5.33,3.41,23,23,{"$f":"M73*$I$2","v":47.990600000000001},{"$f":"M73/$M$115*100","v":54.032880944499617},50.29,49.85,49.41,48.97,48.53,48.09,47.65]
[null,3.35,11.33,-5.33,3.44,23,23,48.970599999999997,55.136268343815523,51.29,50.85,50.41,49.97,49.53,49.09,48.65]
[null,3.4,11.33,-5.33,3.47,23,23,49.950600000000001,56.239655743131408,52.29,51.85,51.41,50.97,50.53,50.09,49.65]
[null,3.45,11.32,-5.33,3.49,23,23,50.930599999999998,57.343043142447314,53.28,52.84,52.41,51.97,51.53,51.09,50.65]
[null,3.5,11.32,-5.34,3.52,23,23,51.900799999999997,58.435396667770057,54.28,53.84,53.4,52.96,52.53,52.09,51.65]
[null,3.55,11.31,-5.34,3.54,23,23,52.880800000000001,59.538784067085956,55.28,54.84,54.4,53.96,53.52,53.08,52.64]
[null,3.6,11.31,-5.34,3.57,23,23,53.860799999999998,60.642171466401862,56.28,55.84,55.4,54.96,54.52,54.08,53.64]
[null,3.65,11.3,-5.34,3.6,23,23,54.840800000000002,61.745558865717754,57.28,56.84,56.4,55.96,55.52,55.08,54.64]
[null,3.7,11.3,-5.35,3.62,23,23,55.820799999999998,62.848946265033653,58.28,57.84,57.4,56.96,56.52,56.08,55.64]
[null,3.75,11.29,-5.35,3.65,23,23,56.800800000000002,63.95233366434956,59.28,58.84,58.4,57.96,57.52,57.08,56.64]
[null,3.8,11.29,-5.35,3.68,23,23,57.780799999999999,65.055721063665459,60.28,59.84,59.4,58.96,58.52,58.08,57.64]
[null,3.85,11.28,-5.35,3.7,23,23,58.760800000000003,66.159108462981351,61.28,60.84,60.4,59.96,59.52,59.08,58.64]
[null,3.9,11.28,-5.35,3.73,23,23,59.7408,67.262495862297257,62.28,61.84,61.4,60.96,60.52,60.08,59.64]
[null,3.95,11.27,-5.36,3.75,23,23,60.720799999999997,68.365883261613163,63.28,62.84,62.4,61.96,61.52,61.08,60.64]
[null,4,11.27,-5.36,3.78,23,23,61.700800000000001,69.469270660929055,64.28,63.84,63.4,62.96,62.52,62.08,61.64]
[null,4.05,11.27,-5.36,3.81,23,23,62.680799999999998,70.572658060244947,65.27,64.83,64.39,63.96,63.52,63.08,62.64]
[null,4.0999999999999996,11.26,-5.36,3.83,23,23,63.651000000000003,71.665011585567697,66.27,65.83,65.39,64.95,64.510000000000005,64.08,63.64]
[null,4.1500000000000004,11.26,-5.36,3.86,23,23,64.631,72.768398984883603,67.27,66.83,66.39,65.95,65.510000000000005,65.069999999999993,64.63]
[null,4.2,11.26,-5.37,3.88,23,23,65.611000000000004,73.871786384199496,68.27,67.83,67.39,66.95,66.510000000000005,66.069999999999993,65.63]
[null,4.25,11.25,-5.37,3.91,23,23,66.591000000000008,74.975173783515402,69.27,68.83,68.39,67.95,67.510000000000005,67.069999999999993,66.63]
[null,4.3,11.25,-5.37,3.93,23,23,67.570999999999998,76.078561182831294,70.27,69.83,69.39,68.95,68.510000000000005,68.069999999999993,67.63]
[null,4.3499999999999996,11.25,-5.37,3.96,23,23,68.551000000000002,77.1819485821472,71.27,70.83,70.39,69.95,69.510000000000005,69.069999999999993,68.63]
[null,4.4000000000000004,11.24,-5.37,3.99,23,23,69.531000000000006,78.285335981463106,72.27,71.83,71.39,70.95,70.510000000000005,70.069999999999993,69.63]
[null,4.45,11.24,-5.37,4.01,23,23,70.510999999999996,79.388723380778998,73.27,72.83,72.39,71.95,71.510000000000005,71.069999999999993,70.63]
[null,4.5,11.24,-5.37,4.04,23,23,71.491,80.49211078009489,74.27,73.83,73.39,72.95,72.510000000000005,72.069999999999993,71.63]
[null,4.55,11.23,-5.38,4.0599999999999996,23,23,72.471000000000004,81.595498179410797,75.27,74.83,74.39,73.95,73.510000000000005,73.069999999999993,72.63]
[null,4.5999999999999996,11.23,-5.38,4.09,23,23,73.451000000000008,82.698885578726703,76.260000000000005,75.83,75.39,74.95,74.510000000000005,74.069999999999993,73.63]
[null,4.6500000000000004,11.23,-5.38,4.1100000000000003,23,23,74.430999999999997,83.802272978042609,77.260000000000005,76.819999999999993,76.38,75.95,75.510000000000005,75.069999999999993,74.63]
[null,4.7,11.23,-5.38,4.1399999999999997,23,23,75.401200000000003,84.89462650336533,78.260000000000005,77.819999999999993,77.38,76.94,76.5,76.06,75.63]
[null,4.75,11.22,-5.38,4.17,23,23,76.381199999999993,85.998013902681237,79.260000000000005,78.819999999999993,78.38,77.94,77.5,77.06,76.62]
[null,4.8,11.22,-5.38,4.1900000000000004,23,23,77.361199999999997,87.101401301997129,80.260000000000005,79.819999999999993,79.38,78.94,78.5,78.06,77.62]
[null,4.8499999999999996,11.22,-5.38,4.22,23,23,78.341200000000001,88.204788701313035,81.260000000000005,80.819999999999993,80.38,79.94,79.5,79.06,78.62]
[null,4.9000000000000004,11.22,-5.38,4.24,23,23,79.32119999999999,89.308176100628927,82.26,81.819999999999993,81.38,80.94,80.5,80.06,79.62]
[null,4.95,11.21,-5.39,4.2699999999999996,23,23,80.301199999999994,90.411563499944833,83.26,82.82,82.38,81.94,81.5,81.06,80.62]
[null,5,11.21,-5.39,4.29,23,23,81.281199999999998,91.514950899260725,84.26,83.82,83.38,82.94,82.5,82.06,81.62]
[null,5.05,11.21,-5.39,4.32,23,23,82.261200000000002,92.618338298576631,85.26,84.82,84.38,83.94,83.5,83.06,82.62]
[null,5.0999999999999996,11.21,-5.39,4.3499999999999996,23,23,83.241199999999992,93.721725697892538,86.26,85.82,85.38,84.94,84.5,84.06,83.62]
[null,5.15,11.2,-5.39,4.37,23,23,84.221199999999996,94.82511309720843,87.26,86.82,86.38,85.94,85.5,85.06,84.62]
[null,5.2,11.2,-5.39,4.4000000000000004,23,23,85.2012,95.928500496524322,88.25,87.81,87.38,86.94,86.5,86.06,85.62]
[null,5.25,11.2,-5.39,4.42,23,23,86.171400000000006,97.020854021847086,89.25,88.81,88.37,87.93,87.5,87.06,86.62]
[null,5.3,11.2,-5.39,4.45,23,23,87.15140000000001,98.124241421162978,90.05,89.81,89.37,88.93,88.49,88.05,87.61]
[null,5.35,11.2,-5.39,4.47,23,23,88.131399999999999,99.227628820478884,90.5,90.47,90.34,89.93,89.49,89.05,88.61]
[null,5.38,11.2,-5.39,4.49,0,0,88.817399999999992,100,90.63,90.63,90.63,90.63,90.19,89.75,89.31]
[]
[]
[]
[]
[]
[]
[]
[]
[]
[]
[]
[]
[]
[]
[]
[]
[]
[]
[]
[]
[]
[]
[]
[]
[]
[]
[]
[]
[]
[]
[]
[]
[]
[]
[]
[]
[]
[]
[]
[]
[]
[]
[]
[]
[]
[]
[]
[]
[]
[]
[]
[]
[]
[]
[]
[]
[]
[]
[]
[]
[]
[]
[]
[]
[]
[]
[]
[]
[]
[]
[]
[]
[]
[]
[]
[]
[]
[]
[]
[]
[]
[]
[]
[]
[null,null,null,null,null,null,null,null,null,100]

{"sheet":"18","index":24,"n_rows":115,"n_cols":16,"rows_kept":115,"cut":false,"hidden":false,"merged":[]}
[]
[null,"H.F.O 4 C",null,null,null,null,null,"S.G.",0.98,"[t/m3]"]
[]
[null,"GAUGE","LCG","TCG","VCG","FSM (transv)","FSM (long)","Weight","Fill (%)","Trim=-1,5","Trim=1,0","Trim=-0,5","Trim=0","Trim=0,5","Trim=1,0","Trim=1,5"]
[null,null,"Fwd of AP","PS:+","Above BL"," "," "]
[null,"m","m","m","m","t·m","t·m","t",null,"m3","m3","m3","m3","m3","m3","m3"]
[null,0,12.71,0,1.41,0,0.2,{"$f":"M7*$I$2","v":2.9399999999999999E-2},{"$f":"M7/$M$115*100","v":3.4234851078397806E-2},0.03,0.03,0.03,0.03,0.03,0.03,0.03]
[null,0.05,12.61,0,1.45,1,0.9,{"$f":"M8*$I$2","v":8.8200000000000001E-2},{"$f":"M8/$M$115*100","v":0.10270455323519344},0.09,0.09,0.09,0.09,0.09,0.08,0.08]
[null,0.1,12.53,0,1.48,2,1.7,0.1764,0.20540910647038688,0.2,0.19,0.18,0.18,0.17,0.16,0.16]
[null,0.15,12.44,0,1.52,2,2.2000000000000002,0.29399999999999998,0.3423485107839781,0.34,0.32,0.31,0.3,0.28999999999999998,0.28999999999999998,0.28000000000000003]
[null,0.2,12.36,0,1.55,3,3.4,0.46059999999999995,0.53634600022823231,0.53,0.51,0.49,0.47,0.46,0.44,0.42]
[null,0.25,12.27,0,1.59,6,5.5,0.66639999999999999,0.77598995777701707,0.78,0.75,0.71,0.68,0.65,0.63,0.61]
[null,0.3,12.19,0,1.62,6,6.3,0.92119999999999991,1.0726920004564646,1.08,1.03,0.98,0.94,0.91,0.87,0.84]
[null,0.35,12.1,0,1.66,8,8,1.2250000000000001,1.4264521282665754,1.43,1.36,1.3,1.25,1.2,1.1499999999999999,1.1000000000000001]
[null,0.4,12.02,0,1.69,11,10.8,1.5680000000000001,1.8258587241812168,1.84,1.76,1.68,1.6,1.53,1.47,1.42]
[null,0.45,11.94,0,1.73,12,11.7,1.9697999999999998,2.2937350222526529,2.31,2.2000000000000002,2.09,2.0099999999999998,1.92,1.84,1.77]
[null,0.5,11.86,0,1.76,14,13.6,2.4108000000000001,2.8072577884286205,2.83,2.69,2.57,2.46,2.35,2.2599999999999998,2.17]
[null,0.55000000000000004,11.78,0,1.8,16,16.100000000000001,2.9007999999999998,3.3778386397352507,3.41,3.25,3.1,2.96,2.84,2.72,2.61]
[null,0.6,11.7,0,1.83,18,17.3,3.4397999999999995,4.0054775761725434,4.04,3.85,3.67,3.51,3.36,3.22,3.1]
[null,0.65,11.63,0,1.87,19,19.100000000000001,4.0278,4.6901745977405005,4.72,4.5,4.3,4.1100000000000003,3.93,3.78,3.63]
[null,0.7,11.55,0,1.9,21,20.9,4.6550000000000002,5.4205180874129866,5.46,5.2,4.97,4.75,4.5599999999999996,4.38,4.2]
[null,0.75,11.48,0,1.93,22,22,5.3410000000000002,6.2193312792422688,6.23,5.95,5.69,5.45,5.23,5.01,4.82]
[null,0.8,11.41,0,1.97,24,23.1,6.0662000000000003,7.0637909391760818,7.06,6.75,6.46,6.19,5.93,5.7,5.48]
[null,0.85,11.34,0,2,24,23.6,6.8208000000000002,7.9424854501882924,7.91,7.58,7.26,6.96,6.68,6.42,6.18]
[null,0.9,11.27,0,2.0299999999999998,25,24.7,7.6244000000000005,8.8782380463311661,8.8000000000000007,8.44,8.1,7.78,7.47,7.19,6.92]
[null,0.95,11.21,0,2.0699999999999998,26,25.1,8.4573999999999998,9.8482254935524374,9.69,9.33,8.9700000000000006,8.6300000000000008,8.3000000000000007,7.99,7.69]
[null,1,11.15,0,2.1,26,25.3,9.31,10.841036174825973,10.59,10.23,9.86,9.5,9.15,8.82,8.5]
[null,1.05,11.09,0,2.13,26,25.3,10.1822,11.856670090151775,11.49,11.12,10.76,10.39,10.029999999999999,9.68,9.34]
[null,1.1000000000000001,11.04,0,2.16,26,25.3,11.0642,12.883715622503708,12.38,12.02,11.65,11.29,10.92,10.56,10.210000000000001]
[null,1.1499999999999999,11,0,2.19,26,25.3,11.936399999999999,13.899349537829512,13.28,12.91,12.55,12.18,11.82,11.45,11.09]
[null,1.2,10.97,0,2.2200000000000002,26,25.3,12.8184,14.926395070181444,14.18,13.81,13.45,13.08,12.72,12.35,11.99]
[null,1.25,10.94,0,2.25,26,25.3,13.7004,15.95344060253338,15.07,14.71,14.34,13.98,13.61,13.25,12.88]
[null,1.3,10.91,0,2.2799999999999998,26,25.3,14.5726,16.96907451785918,15.97,15.6,15.24,14.87,14.51,14.14,13.78]
[null,1.35,10.89,0,2.2999999999999998,26,25.3,15.454599999999999,17.996120050211115,16.86,16.5,16.13,15.77,15.4,15.04,14.67]
[null,1.4,10.87,0,2.33,26,25.3,16.326799999999999,19.011753965536919,17.760000000000002,17.39,17.03,16.66,16.3,15.93,15.57]
[null,1.45,10.85,0,2.36,26,25.3,17.2088,20.038799497888853,18.66,18.29,17.93,17.559999999999999,17.2,16.829999999999998,16.47]
[null,1.5,10.83,0,2.39,26,25.3,18.090800000000002,21.065845030240787,19.55,19.190000000000001,18.82,18.46,18.09,17.73,17.36]
[null,1.55,10.82,0,2.41,26,25.3,18.963000000000001,22.081478945566591,20.45,20.079999999999998,19.72,19.350000000000001,18.989999999999998,18.62,18.260000000000002]
[null,1.6,10.8,0,2.44,26,25.3,19.844999999999999,23.108524477918522,21.34,20.98,20.61,20.25,19.88,19.52,19.149999999999999]
[null,1.65,10.79,0,2.4700000000000002,26,25.3,20.717200000000002,24.124158393244326,22.24,21.87,21.51,21.14,20.78,20.420000000000002,20.05]
[null,1.7,10.78,0,2.4900000000000002,26,25.3,21.5992,25.151203925596256,23.14,22.77,22.41,22.04,21.68,21.31,20.95]
[null,1.75,10.77,0,2.52,26,25.3,22.481200000000001,26.178249457948194,24.03,23.67,23.3,22.94,22.57,22.21,21.84]
[null,1.8,10.76,0,2.54,26,25.3,23.353399999999997,27.193883373273991,24.93,24.56,24.2,23.83,23.47,23.1,22.74]
[null,1.85,10.75,0,2.57,26,25.3,24.235399999999998,28.220928905625932,25.82,25.46,25.09,24.73,24.36,24,23.63]
[null,1.9,10.74,0,2.6,26,25.3,25.1174,29.247974437977863,26.72,26.35,25.99,25.63,25.26,24.9,24.53]
[null,1.95,10.73,0,2.62,26,25.3,25.989599999999999,30.26360835330366,27.62,27.25,26.89,26.52,26.16,25.79,25.43]
[null,2,10.72,0,2.65,26,25.3,26.871600000000001,31.290653885655601,28.51,28.15,27.78,27.42,27.05,26.69,26.32]
[null,2.0499999999999998,10.72,0,2.67,26,25.3,27.743799999999997,32.306287800981401,29.41,29.04,28.68,28.31,27.95,27.58,27.22]
[null,2.1,10.71,0,2.7,26,25.3,28.625800000000002,33.333333333333336,30.3,29.94,29.57,29.21,28.84,28.48,28.11]
[null,2.15,10.7,0,2.73,26,25.3,29.5078,34.36037886568527,31.2,30.84,30.47,30.11,29.74,29.38,29.01]
[null,2.2000000000000002,10.7,0,2.75,26,25.3,30.38,35.37601278101107,32.1,31.73,31.37,31,30.64,30.27,29.91]
[null,2.25,10.69,0,2.78,26,25.3,31.261999999999997,36.403058313363005,32.99,32.630000000000003,32.26,31.9,31.53,31.17,30.8]
[null,2.2999999999999998,10.69,0,2.8,26,25.3,32.1342,37.418692228688805,33.89,33.520000000000003,33.159999999999997,32.79,32.43,32.06,31.7]
[null,2.35,10.68,0,2.83,26,25.3,33.016199999999998,38.445737761040739,34.78,34.42,34.049999999999997,33.69,33.32,32.96,32.6]
[null,2.4,10.68,0,2.85,26,25.3,33.898200000000003,39.472783293392681,35.68,35.32,34.950000000000003,34.590000000000003,34.22,33.86,33.49]
[null,2.4500000000000002,10.67,0,2.88,26,25.3,34.770399999999995,40.488417208718474,36.58,36.21,35.85,35.479999999999997,35.119999999999997,34.75,34.39]
[null,2.5,10.67,0,2.9,26,25.3,35.6524,41.515462741070415,37.47,37.11,36.74,36.380000000000003,36.01,35.65,35.28]
[null,2.5499999999999998,10.66,0,2.93,26,25.3,36.5246,42.531096656396215,38.369999999999997,38,37.64,37.270000000000003,36.909999999999997,36.54,36.18]
[null,2.6,10.66,0,2.96,26,25.3,37.406600000000005,43.55814218874815,39.26,38.9,38.53,38.17,37.81,37.44,37.08]
[null,2.65,10.66,0,2.98,26,25.3,38.288600000000002,44.585187721100084,40.159999999999997,39.799999999999997,39.43,39.07,38.700000000000003,38.340000000000003,37.97]
[null,2.7,10.65,0,3.01,26,25.3,39.160800000000002,45.600821636425884,41.06,40.69,40.33,39.96,39.6,39.229999999999997,38.869999999999997]
[null,2.75,10.65,0,3.03,26,25.3,40.0428,46.627867168777819,41.95,41.59,41.22,40.86,40.49,40.130000000000003,39.76]
[null,2.8,10.65,0,3.06,26,25.3,40.914999999999999,47.643501084103619,42.85,42.48,42.12,41.75,41.39,41.02,40.659999999999997]
[null,2.85,10.64,0,3.08,26,25.3,41.796999999999997,48.670546616455553,43.74,43.38,43.01,42.65,42.29,41.92,41.56]
[null,2.9,10.64,0,3.11,26,25.3,42.678999999999995,49.697592148807487,44.64,44.28,43.91,43.55,43.18,42.82,42.45]
[null,2.95,10.64,0,3.13,26,25.3,43.551199999999994,50.713226064133288,45.54,45.17,44.81,44.44,44.08,43.71,43.35]
[null,3,10.64,0,3.16,26,25.3,44.433199999999999,51.740271596485229,46.43,46.07,45.7,45.34,44.97,44.61,44.24]
[null,3.05,10.63,0,3.18,26,25.3,45.305399999999999,52.755905511811022,47.33,46.96,46.6,46.23,45.87,45.5,45.14]
[null,3.1,10.63,0,3.21,26,25.3,46.187400000000004,53.782951044162964,48.22,47.86,47.5,47.13,46.77,46.4,46.04]
[null,3.15,10.63,0,3.23,26,25.3,47.069400000000002,54.809996576514898,49.12,48.76,48.39,48.03,47.66,47.3,46.93]
[null,3.2,10.63,0,3.26,26,25.3,47.941600000000001,55.825630491840691,50.02,49.65,49.29,48.92,48.56,48.19,47.83]
[null,3.25,10.62,0,3.29,26,25.3,{"$f":"M72*$I$2","v":48.823599999999999},{"$f":"M72/$M$115*100","v":56.852676024192625},50.91,50.55,50.18,49.82,49.45,49.09,48.72]
[null,3.3,10.62,0,3.31,26,25.3,49.695799999999998,57.86830993951844,51.81,51.44,51.08,50.71,50.35,49.98,49.62]
[null,3.35,10.62,0,3.34,26,25.3,50.577799999999996,58.895355471870367,52.71,52.34,51.98,51.61,51.25,50.88,50.52]
[null,3.4,10.62,0,3.36,26,25.3,51.459799999999994,59.922401004222301,53.6,53.24,52.87,52.51,52.14,51.78,51.41]
[null,3.45,10.61,0,3.39,26,25.3,52.332000000000001,60.938034919548102,54.5,54.13,53.77,53.4,53.04,52.67,52.31]
[null,3.5,10.61,0,3.41,26,25.3,53.213999999999999,61.965080451900036,55.39,55.03,54.66,54.3,53.93,53.57,53.2]
[null,3.55,10.61,0,3.44,26,25.3,54.086199999999998,62.980714367225829,56.29,55.92,55.56,55.19,54.83,54.47,54.1]
[null,3.6,10.61,0,3.46,26,25.3,54.968200000000003,64.007759899577778,57.19,56.82,56.46,56.09,55.73,55.36,55]
[null,3.65,10.61,0,3.49,26,25.3,55.850200000000001,65.034805431929712,58.08,57.72,57.35,56.99,56.62,56.26,55.89]
[null,3.7,10.61,0,3.51,26,25.3,56.7224,66.050439347255505,58.98,58.61,58.25,57.88,57.52,57.15,56.79]
[null,3.75,10.6,0,3.54,26,25.3,57.604399999999998,67.077484879607439,59.87,59.51,59.14,58.78,58.41,58.05,57.68]
[null,3.8,10.6,0,3.56,26,25.3,58.486399999999996,68.104530411959374,60.77,60.4,60.04,59.68,59.31,58.95,58.58]
[null,3.85,10.6,0,3.59,26,25.3,59.358600000000003,69.120164327285181,61.67,61.3,60.94,60.57,60.21,59.84,59.48]
[null,3.9,10.6,0,3.61,26,25.3,60.240600000000001,70.147209859637115,62.56,62.2,61.83,61.47,61.1,60.74,60.37]
[null,3.95,10.6,0,3.64,26,25.3,61.1128,71.162843774962909,63.46,63.09,62.73,62.36,62,61.63,61.27]
[null,4,10.6,0,3.66,26,25.3,61.994799999999998,72.189889307314843,64.349999999999994,63.99,63.62,63.26,62.89,62.53,62.16]
[null,4.05,10.6,0,3.69,26,25.3,62.876799999999996,73.216934839666777,65.25,64.89,64.52,64.16,63.79,63.43,63.06]
[null,4.0999999999999996,10.59,0,3.71,26,25.3,63.748999999999995,74.232568754992585,66.150000000000006,65.78,65.42,65.05,64.69,64.319999999999993,63.96]
[null,4.1500000000000004,10.59,0,3.74,26,25.3,64.631,75.259614287344519,67.040000000000006,66.680000000000007,66.31,65.95,65.58,65.22,64.849999999999994]
[null,4.2,10.59,0,3.76,26,25.3,65.503200000000007,76.275248202670326,67.94,67.569999999999993,67.209999999999994,66.84,66.48,66.11,65.75]
[null,4.25,10.59,0,3.79,26,25.3,66.385199999999998,77.302293735022261,68.83,68.47,68.099999999999994,67.739999999999995,67.37,67.010000000000005,66.64]
[null,4.3,10.59,0,3.81,26,25.3,67.267200000000003,78.329339267374181,69.73,69.37,69,68.64,68.27,67.91,67.540000000000006]
[null,4.3499999999999996,10.59,0,3.84,26,25.3,68.139399999999995,79.344973182700002,70.63,70.260000000000005,69.900000000000006,69.53,69.17,68.8,68.44]
[null,4.4000000000000004,10.59,0,3.86,26,25.3,69.0214,80.372018715051922,71.52,71.16,70.790000000000006,70.430000000000007,70.06,69.7,69.33]
[null,4.45,10.59,0,3.89,26,25.3,69.893599999999992,81.387652630377715,72.42,72.05,71.69,71.319999999999993,70.959999999999994,70.59,70.23]
[null,4.5,10.59,0,3.91,26,25.3,70.775599999999997,82.414698162729664,73.31,72.95,72.58,72.22,71.849999999999994,71.489999999999995,71.13]
[null,4.55,10.58,0,3.94,26,25.3,71.657600000000002,83.441743695081598,74.209999999999994,73.849999999999994,73.48,73.12,72.75,72.39,72.02]
[null,4.5999999999999996,10.58,0,3.97,26,25.3,72.529800000000009,84.457377610407406,75.11,74.739999999999995,74.38,74.010000000000005,73.650000000000006,73.28,72.92]
[null,4.6500000000000004,10.58,0,3.99,26,25.3,73.411799999999999,85.484423142759326,76,75.64,75.27,74.91,74.540000000000006,74.180000000000007,73.81]
[null,4.7,10.58,0,4.0199999999999996,26,25.3,74.283999999999992,86.500057058085133,76.900000000000006,76.53,76.17,75.8,75.44,75.069999999999993,74.709999999999994]
[null,4.75,10.58,0,4.04,26,25.3,75.165999999999997,87.527102590437082,77.790000000000006,77.430000000000007,77.06,76.7,76.34,75.97,75.61]
[null,4.8,10.58,0,4.07,26,25.3,76.047999999999988,88.554148122789002,78.69,78.33,77.959999999999994,77.599999999999994,77.23,76.87,76.5]
[null,4.8499999999999996,10.58,0,4.09,26,25.3,76.920199999999994,89.569782038114795,79.59,79.22,78.86,78.489999999999995,78.13,77.760000000000005,77.400000000000006]
[null,4.9000000000000004,10.58,0,4.12,26,25.3,77.802199999999999,90.596827570466743,80.48,80.12,79.75,79.39,79.02,78.66,78.290000000000006]
[null,4.95,10.58,0,4.1399999999999997,26,25.3,78.674400000000006,91.612461485792537,81.38,81.010000000000005,80.650000000000006,80.28,79.92,79.55,79.19]
[null,5,10.58,0,4.17,26,25.3,79.556400000000011,92.639507018144485,82.27,81.91,81.55,81.180000000000007,80.819999999999993,80.45,80.09]
[null,5.05,10.57,0,4.1900000000000004,26,25.3,80.438400000000001,93.666552550496405,83.17,82.81,82.44,82.08,81.709999999999994,81.349999999999994,80.98]
[null,5.0999999999999996,10.57,0,4.22,26,25.3,81.310599999999994,94.682186465822213,84.07,83.7,83.34,82.97,82.61,82.24,81.88]
[null,5.15,10.57,0,4.24,26,25.3,82.192599999999999,95.709231998174147,84.96,84.6,84.23,83.87,83.5,83.14,82.77]
[null,5.2,10.57,0,4.2699999999999996,26,25.3,83.064800000000005,96.724865913499954,85.86,85.49,85.13,84.76,84.4,84.03,83.67]
[null,5.25,10.57,0,4.29,26,25.3,83.946799999999996,97.751911445851874,86.74,86.39,86.03,85.66,85.3,84.93,84.57]
[null,5.3,10.57,0,4.32,26,25.3,84.828800000000001,98.778956978203823,87.38,87.24,86.92,86.56,86.19,85.83,85.46]
[null,5.35,10.57,0,4.34,26,25.3,85.701000000000008,99.794590893529616,87.62,87.62,87.61,87.45,87.09,86.72,86.36]
[null,5.36,10.57,0,4.3499999999999996,0,0,85.877399999999994,100,87.63,87.63,87.63,87.63,87.27,86.9,86.54]

{"sheet":"19","index":25,"n_rows":72,"n_cols":16,"rows_kept":72,"cut":false,"hidden":false,"merged":[]}
[]
[null,"W.B 1 PS ",null,null,null,null,null,"S.G.",1.0249999999999999,"[t/m3]"]
[]
[null,"GAUGE","LCG","TCG","VCG","FSM (transv)","FSM (long)","Weight","Fill (%)","Trim=-1,5","Trim=1,0","Trim=-0,5","Trim=0","Trim=0,5","Trim=1,0","Trim=1,5"]
[null,null,"Fwd of AP","PS:+","Above BL"," "," "]
[null,"m","m","m","m","t·m","t·m","t",null,"m3","m3","m3","m3","m3","m3","m3"]
[null,0,"-1.90","0.62","3.54",0,"0.1",{"$f":"M7*$I$2","v":2.0499999999999997E-2},{"$f":"M7/$M$72*100","v":3.1367628607277293E-2},0.02,0.02,0.02,0.02,0.02,0.02,0.02]
[null,0.05,"-1.94","0.64","3.57",0,"0.1",{"$f":"M8*$I$2","v":4.0999999999999995E-2},{"$f":"M8/$M$72*100","v":6.2735257214554585E-2},0.04,0.04,0.04,0.04,0.04,0.04,0.04]
[null,0.1,"-1.99","0.65","3.61",0,"0.1",7.1749999999999994E-2,0.10978670012547054,0.08,7.0000000000000007E-2,7.0000000000000007E-2,7.0000000000000007E-2,7.0000000000000007E-2,7.0000000000000007E-2,7.0000000000000007E-2]
[null,0.15,"-2.03","0.67","3.64",0,"0.2",0.11274999999999999,0.17252195734002509,0.12,0.12,0.11,0.11,0.11,0.11,0.11]
[null,0.2,"-2.07","0.69","3.68",0,"0.2",0.17424999999999999,0.26662484316185697,0.18,0.17,0.17,0.17,0.17,0.16,0.16]
[null,0.25,"-2.10","0.71","3.71",0,"0.3",0.23574999999999999,0.36072772898368888,0.24,0.24,0.23,0.23,0.23,0.22,0.22]
[null,0.3,"-2.15","0.73","3.75",0,"0.4",0.31774999999999998,0.48619824341279799,0.32,0.32,0.31,0.31,0.3,0.3,0.28999999999999998]
[null,0.35,"-2.18","0.75","3.78",0,"0.5",0.39974999999999999,0.61166875784190722,0.41,0.4,0.4,0.39,0.38,0.38,0.37]
[null,0.4,"-2.21","0.77","3.82",1,"0.6",0.50224999999999997,0.76850690087829365,0.51,0.5,0.49,0.49,0.48,0.47,0.47]
[null,0.45,"-2.24","0.80","3.85",1,"0.8",0.61499999999999988,0.94102885821831861,0.63,0.62,0.61,0.6,0.59,0.57999999999999996,0.56999999999999995]
[null,0.5,"-2.27","0.83","3.89",1,"0.9",0.73799999999999988,1.1292346298619824,0.76,0.75,0.74,0.72,0.71,0.7,0.69]
[null,0.55000000000000004,"-2.30","0.85","3.92",1,"1.2",0.88149999999999995,1.3488080301129235,0.91,0.89,0.87,0.86,0.85,0.84,0.82]
[null,0.6,"-2.33","0.88","3.96",1,"1.5",1.0454999999999999,1.5997490589711418,1.07,1.05,1.03,1.02,1,0.98,0.97]
[null,0.65,"-2.36","0.92","4.00",2,"1.8",1.2197499999999999,1.8663739021329988,1.25,1.23,1.21,1.19,1.17,1.1499999999999999,1.1299999999999999]
[null,0.7,"-2.38","0.95","4.03",2,"2.4",1.4144999999999999,2.1643663739021326,1.44,1.42,1.4,1.38,1.35,1.33,1.31]
[null,0.75,"-2.41","0.99","4.07",3,"3.0",1.6194999999999999,2.4780426599749061,1.66,1.64,1.61,1.58,1.56,1.53,1.51]
[null,0.8,"-2.44","1.04","4.11",4,"3.8",1.8552499999999998,2.8387703889585949,1.9,1.87,1.84,1.81,1.79,1.76,1.73]
[null,0.85,"-2.46","1.09","4.14",5,"5.0",2.1217499999999996,3.2465495608531993,2.17,2.14,2.1,2.0699999999999998,2.04,2.0099999999999998,2]
[null,0.9,"-2.48","1.15","4.18",7,"6.9",2.4189999999999996,3.7013801756587204,2.4700000000000002,2.4300000000000002,2.39,2.36,2.33,2.3199999999999998,2.2999999999999998]
[null,0.95,"-2.50","1.22","4.22",11,"11.1",2.7675000000000001,4.2346298619824339,2.8,2.76,2.73,2.7,2.68,2.67,2.67]
[null,1,"-2.50","1.32","4.26",21,"21.0",3.198,4.8933500627352577,3.19,3.16,3.13,3.12,3.11,3.11,3.12]
[null,1.05,"-2.48","1.47","4.31",35,"34.7",3.7104999999999997,5.6775407779171898,3.66,3.64,3.62,3.62,3.62,3.64,3.66]
[null,1.1000000000000001,"-2.43","1.66","4.35",49,"48.8",4.325499999999999,6.6185696361355077,4.22,4.21,4.21,4.22,4.24,4.26,4.29]
[null,1.1499999999999999,"-2.38","1.88","4.40",66,"66.1",5.0429999999999993,7.7164366373902133,4.9000000000000004,4.8899999999999997,4.9000000000000004,4.92,4.95,4.9800000000000004,5.0199999999999996]
[null,1.2,"-2.33","2.12","4.45",83,"82.9",5.8629999999999995,8.9711417816813057,5.68,5.69,5.7,5.72,5.75,5.78,5.82]
[null,1.25,"-2.27","2.37","4.50",98,"98.2",6.7854999999999999,10.382685069008783,6.57,6.58,6.6,6.62,6.64,6.67,6.7]
[null,1.3,"-2.23","2.59","4.54",109,"108.8",7.769499999999999,11.888331242158094,7.55,7.56,7.57,7.58,7.6,7.63,7.66]
[null,1.35,"-2.19","2.79","4.58",117,"117.0",8.8354999999999979,13.519447929736511,8.61,8.61,8.61,8.6199999999999992,8.6300000000000008,8.65,8.67]
[null,1.4,"-2.17","2.96","4.63",127,"127.1",9.95275,15.228983688833125,9.7200000000000006,9.7100000000000009,9.7100000000000009,9.7100000000000009,9.7200000000000006,9.73,9.74]
[null,1.45,"-2.15","3.11","4.67",133,"133.4",11.131499999999999,17.032622333751569,10.9,10.88,10.87,10.86,10.85,10.86,10.86]
[null,1.5,-2.15,3.24,4.7,139,"138.7",12.361499999999999,18.914680050188206,12.13,12.1,12.08,12.06,12.04,12.03,12.03]
[null,1.55,-2.14,3.36,4.74,144,"144.2",13.642749999999999,20.875156838143038,13.41,13.37,13.34,13.31,13.28,13.26,13.24]
[null,1.6,-2.14,3.46,4.78,148,"148.3",14.954749999999999,22.882685069008783,14.72,14.68,14.63,14.59,14.56,14.53,14.5]
[null,1.65,-2.14,3.55,4.8099999999999996,152,"151.8",16.317999999999998,24.968632371392722,16.079999999999998,16.02,15.97,15.92,15.88,15.84,15.8]
[null,1.7,-2.15,3.63,4.8499999999999996,155,"154.9",17.712,27.101631116687582,17.46,17.399999999999999,17.34,17.28,17.23,17.18,17.13]
[null,1.75,-2.15,3.71,4.88,158,"157.7",19.136749999999999,29.281681304893354,18.87,18.8,18.73,18.670000000000002,18.61,18.55,18.5]
[null,1.8,-2.16,3.77,4.92,160,"160.1",20.581999999999997,31.493099121706397,20.3,20.23,20.149999999999999,20.079999999999998,20.02,19.95,19.89]
[null,1.85,-2.16,3.83,4.95,162,"162.3",22.057999999999996,33.75156838143036,21.75,21.67,21.6,21.52,21.45,21.38,21.31]
[null,1.9,-2.17,3.89,4.9800000000000004,164,"164.3",23.554499999999997,36.041405269761604,23.22,23.14,23.06,22.98,22.9,22.82,22.75]
[null,1.95,-2.17,3.94,5.01,166,"165.9",25.061249999999998,38.346925972396491,24.71,24.62,24.53,24.45,24.36,24.28,24.2]
[null,2,-2.1800000000000002,3.99,5.04,167,"167.4",26.578249999999997,40.668130489335006,26.2,26.11,26.02,25.93,25.84,25.76,25.67]
[null,2.0499999999999998,-2.1800000000000002,4.03,5.07,169,"168.6",28.105499999999999,43.00501882057717,27.7,27.61,27.51,27.42,27.33,27.24,27.16]
[null,2.1,-2.19,4.07,5.0999999999999996,170,"169.7",29.653249999999996,45.373274780426605,29.21,29.11,29.02,28.93,28.83,28.74,28.65]
[null,2.15,-2.19,4.0999999999999996,5.13,171,"170.7",31.190749999999998,47.725846925972398,30.72,30.62,30.53,30.43,30.34,30.25,30.15]
[null,2.2000000000000002,-2.2000000000000002,4.13,5.16,172,"171.6",32.748749999999994,50.109786700125468,32.24,32.14,32.049999999999997,31.95,31.85,31.76,31.66]
[null,2.25,-2.2000000000000002,4.16,5.19,172,"172.4",34.306749999999994,52.493726474278546,33.76,33.67,33.57,33.47,33.369999999999997,33.270000000000003,33.18]
[null,2.2999999999999998,-2.21,4.1900000000000004,5.22,173,"173.0",35.864750000000001,54.877666248431623,35.29,35.19,35.090000000000003,34.99,34.89,34.79,34.700000000000003]
[null,2.35,-2.21,4.22,5.25,174,"173.7",37.433,57.277289836888336,36.82,36.72,36.619999999999997,36.520000000000003,36.42,36.32,36.22]
[null,2.4,-2.21,4.24,5.28,174,"174.2",39.001249999999992,59.676913425345049,38.36,38.26,38.15,38.049999999999997,37.950000000000003,37.85,37.75]
[null,2.4500000000000002,-2.2200000000000002,4.2699999999999996,5.3,175,"174.7",40.579749999999997,62.092220828105404,39.9,39.79,39.69,39.590000000000003,39.479999999999997,39.380000000000003,39.28]
[null,2.5,-2.2200000000000002,4.29,5.33,175,"175.2",42.158250000000002,64.507528230865745,41.44,41.33,41.23,41.13,41.02,40.92,40.82]
[null,2.5499999999999998,-2.2200000000000002,4.3099999999999996,5.36,176,"175.6",43.736750000000001,66.922835633626093,42.98,42.88,42.77,42.67,42.56,42.46,42.35]
[null,2.6,-2.23,4.33,5.39,176,"176.0",45.315249999999999,69.338143036386455,44.53,44.42,44.31,44.21,44.1,44,43.89]
[null,2.65,-2.23,4.34,5.42,176,"176.3",46.893749999999997,71.753450439146803,46.07,45.97,45.86,45.75,45.65,45.54,45.44]
[null,2.7,-2.23,4.3600000000000003,5.44,177,"176.6",48.482499999999995,74.184441656210794,47.62,47.51,47.41,47.3,47.19,47.09,46.98]
[null,2.75,-2.23,4.38,5.47,177,"176.9",50.071249999999999,76.615432873274784,49.17,49.06,48.95,48.85,48.74,48.63,48.53]
[null,2.8,-2.2400000000000002,4.3899999999999997,5.5,177,"177.1",51.66,79.046424090338775,50.72,50.61,50.5,50.4,50.29,50.18,50.07]
[null,2.85,-2.2400000000000002,4.4000000000000004,5.52,177,"177.3",53.248750000000001,81.477415307402765,52.27,52.16,52.06,51.95,51.84,51.73,51.62]
[null,2.9,-2.2400000000000002,4.42,5.55,178,"177.5",54.837499999999999,83.908406524466756,53.83,53.72,53.61,53.5,53.39,53.28,53.17]
[null,2.95,-2.2400000000000002,4.43,5.58,178,"177.7",56.426249999999989,86.339397741530746,55.38,55.27,55.16,55.05,54.94,54.83,54.73]
[null,3,-2.25,4.4400000000000004,5.6,178,"177.8",58.025249999999993,88.786072772898379,56.93,56.82,56.72,56.61,56.5,56.39,56.28]
[null,3.05,-2.25,4.45,5.63,178,"177.9",59.61399999999999,91.217063989962355,58.49,58.38,58.27,58.16,58.05,57.94,57.83]
[null,3.1,-2.25,4.46,5.66,178,"177.9",61.212999999999994,93.663739021329988,60.04,59.93,59.82,59.72,59.61,59.5,59.39]
[null,3.15,-2.25,4.47,5.68,178,"177.9",62.801749999999998,96.094730238393993,61.6,61.49,61.38,61.27,61.16,61.05,60.94]
[null,3.2,-2.25,4.49,5.71,103,"103.0",64.400749999999988,98.541405269761611,62.91,62.98,62.94,62.83,62.72,62.54,62.31]
[null,3.23,-2.2400000000000002,4.49,5.71,0,0,{"$f":"M72*$I$2","v":65.353999999999999},{"$f":"M72/$M$72*100","v":100},63.34,63.48,63.62,63.76,63.51,63.26,63.02]

{"sheet":"20","index":26,"n_rows":72,"n_cols":16,"rows_kept":72,"cut":false,"hidden":false,"merged":[]}
[]
[null,"W.B 1 SB ",null,null,null,null,null,"S.G.",1.0249999999999999,"[t/m3]"]
[]
[null,"GAUGE","LCG","TCG","VCG","FSM (transv)","FSM (long)","Weight","Fill (%)","Trim=-1,5","Trim=1,0","Trim=-0,5","Trim=0","Trim=0,5","Trim=1,0","Trim=1,5"]
[null,null,"Fwd of AP","PS:+","Above BL"," "," "]
[null,"m","m","m","m","t·m","t·m","t",null,"m3","m3","m3","m3","m3","m3","m3"]
[null,0,"-1.90","-0.62","3.54",0,"0.1",{"$f":"M7*$I$2","v":2.0499999999999997E-2},{"$f":"M7/$M$72*100","v":3.1367628607277293E-2},0.02,0.02,0.02,0.02,0.02,0.02,0.02]
[null,0.05,"-1.94","-0.64","3.57",0,"0.1",{"$f":"M8*$I$2","v":4.0999999999999995E-2},{"$f":"M8/$M$72*100","v":6.2735257214554585E-2},0.04,0.04,0.04,0.04,0.04,0.04,0.04]
[null,0.1,"-1.99","-0.65","3.61",0,"0.1",7.1749999999999994E-2,0.10978670012547054,0.08,7.0000000000000007E-2,7.0000000000000007E-2,7.0000000000000007E-2,7.0000000000000007E-2,7.0000000000000007E-2,7.0000000000000007E-2]
[null,0.15,"-2.03","-0.67","3.64",0,"0.2",0.11274999999999999,0.17252195734002509,0.12,0.12,0.11,0.11,0.11,0.11,0.11]
[null,0.2,"-2.07","-0.69","3.68",0,"0.2",0.17424999999999999,0.26662484316185697,0.18,0.17,0.17,0.17,0.17,0.16,0.16]
[null,0.25,"-2.10","-0.71","3.71",0,"0.3",0.23574999999999999,0.36072772898368888,0.24,0.24,0.23,0.23,0.23,0.22,0.22]
[null,0.3,"-2.15","-0.73","3.75",0,"0.4",0.31774999999999998,0.48619824341279799,0.32,0.32,0.31,0.31,0.3,0.3,0.28999999999999998]
[null,0.35,"-2.18","-0.75","3.78",0,"0.5",0.39974999999999999,0.61166875784190722,0.41,0.4,0.4,0.39,0.38,0.38,0.37]
[null,0.4,"-2.21","-0.77","3.82",1,"0.6",0.50224999999999997,0.76850690087829365,0.51,0.5,0.49,0.49,0.48,0.47,0.47]
[null,0.45,"-2.24","-0.80","3.85",1,"0.8",0.61499999999999988,0.94102885821831861,0.63,0.62,0.61,0.6,0.59,0.57999999999999996,0.56999999999999995]
[null,0.5,"-2.27","-0.83","3.89",1,"0.9",0.73799999999999988,1.1292346298619824,0.76,0.75,0.74,0.72,0.71,0.7,0.69]
[null,0.55000000000000004,"-2.30","-0.85","3.92",1,"1.2",0.88149999999999995,1.3488080301129235,0.91,0.89,0.87,0.86,0.85,0.84,0.82]
[null,0.6,"-2.33","-0.88","3.96",1,"1.5",1.0454999999999999,1.5997490589711418,1.07,1.05,1.03,1.02,1,0.98,0.97]
[null,0.65,"-2.36","-0.92","4.00",2,"1.8",1.2197499999999999,1.8663739021329988,1.25,1.23,1.21,1.19,1.17,1.1499999999999999,1.1299999999999999]
[null,0.7,"-2.38","-0.95","4.03",2,"2.4",1.4144999999999999,2.1643663739021326,1.44,1.42,1.4,1.38,1.35,1.33,1.31]
[null,0.75,"-2.41","-0.99","4.07",3,"3.0",1.6194999999999999,2.4780426599749061,1.66,1.64,1.61,1.58,1.56,1.53,1.51]
[null,0.8,"-2.44","-1.04","4.11",4,"3.8",1.8552499999999998,2.8387703889585949,1.9,1.87,1.84,1.81,1.79,1.76,1.73]
[null,0.85,"-2.46","-1.09","4.14",5,"5.0",2.1217499999999996,3.2465495608531993,2.17,2.14,2.1,2.0699999999999998,2.04,2.0099999999999998,2]
[null,0.9,"-2.48","-1.15","4.18",7,"6.9",2.4189999999999996,3.7013801756587204,2.4700000000000002,2.4300000000000002,2.39,2.36,2.33,2.3199999999999998,2.2999999999999998]
[null,0.95,"-2.50","-1.22","4.22",11,"11.1",2.7675000000000001,4.2346298619824339,2.8,2.76,2.73,2.7,2.68,2.67,2.67]
[null,1,-2.5,-1.32,4.26,21,"21.0",3.198,4.8933500627352577,3.19,3.16,3.13,3.12,3.11,3.11,3.12]
[null,1.05,-2.48,-1.47,4.3099999999999996,35,"34.7",3.7104999999999997,5.6775407779171898,3.66,3.64,3.62,3.62,3.62,3.64,3.66]
[null,1.1000000000000001,-2.4300000000000002,-1.66,4.3499999999999996,49,"48.8",4.325499999999999,6.6185696361355077,4.22,4.21,4.21,4.22,4.24,4.26,4.29]
[null,1.1499999999999999,-2.38,-1.88,4.4000000000000004,66,"66.1",5.0429999999999993,7.7164366373902133,4.9000000000000004,4.8899999999999997,4.9000000000000004,4.92,4.95,4.9800000000000004,5.0199999999999996]
[null,1.2,-2.33,-2.12,4.45,83,"82.9",5.8629999999999995,8.9711417816813057,5.68,5.69,5.7,5.72,5.75,5.78,5.82]
[null,1.25,-2.27,-2.37,4.5,98,"98.2",6.7854999999999999,10.382685069008783,6.57,6.58,6.6,6.62,6.64,6.67,6.7]
[null,1.3,-2.23,-2.59,4.54,109,"108.8",7.769499999999999,11.888331242158094,7.55,7.56,7.57,7.58,7.6,7.63,7.66]
[null,1.35,-2.19,-2.79,4.58,117,"117.0",8.8354999999999979,13.519447929736511,8.61,8.61,8.61,8.6199999999999992,8.6300000000000008,8.65,8.67]
[null,1.4,-2.17,-2.96,4.63,127,"127.1",9.95275,15.228983688833125,9.7200000000000006,9.7100000000000009,9.7100000000000009,9.7100000000000009,9.7200000000000006,9.73,9.74]
[null,1.45,-2.15,-3.11,4.67,133,"133.4",11.131499999999999,17.032622333751569,10.9,10.88,10.87,10.86,10.85,10.86,10.86]
[null,1.5,-2.15,-3.24,4.7,139,"138.7",12.361499999999999,18.914680050188206,12.13,12.1,12.08,12.06,12.04,12.03,12.03]
[null,1.55,-2.14,-3.36,4.74,144,"144.2",13.642749999999999,20.875156838143038,13.41,13.37,13.34,13.31,13.28,13.26,13.24]
[null,1.6,-2.14,-3.46,4.78,148,"148.3",14.954749999999999,22.882685069008783,14.72,14.68,14.63,14.59,14.56,14.53,14.5]
[null,1.65,-2.14,-3.55,4.8099999999999996,152,"151.8",16.317999999999998,24.968632371392722,16.079999999999998,16.02,15.97,15.92,15.88,15.84,15.8]
[null,1.7,-2.15,-3.63,4.8499999999999996,155,"154.9",17.712,27.101631116687582,17.46,17.399999999999999,17.34,17.28,17.23,17.18,17.13]
[null,1.75,-2.15,-3.71,4.88,158,"157.7",19.136749999999999,29.281681304893354,18.87,18.8,18.73,18.670000000000002,18.61,18.55,18.5]
[null,1.8,-2.16,-3.77,4.92,160,"160.1",20.581999999999997,31.493099121706397,20.3,20.23,20.149999999999999,20.079999999999998,20.02,19.95,19.89]
[null,1.85,-2.16,-3.83,4.95,162,"162.3",22.057999999999996,33.75156838143036,21.75,21.67,21.6,21.52,21.45,21.38,21.31]
[null,1.9,-2.17,-3.89,4.9800000000000004,164,"164.3",23.554499999999997,36.041405269761604,23.22,23.14,23.06,22.98,22.9,22.82,22.75]
[null,1.95,-2.17,-3.94,5.01,166,"165.9",25.061249999999998,38.346925972396491,24.71,24.62,24.53,24.45,24.36,24.28,24.2]
[null,2,-2.1800000000000002,-3.99,5.04,167,"167.4",26.578249999999997,40.668130489335006,26.2,26.11,26.02,25.93,25.84,25.76,25.67]
[null,2.0499999999999998,-2.1800000000000002,-4.03,5.07,169,"168.6",28.105499999999999,43.00501882057717,27.7,27.61,27.51,27.42,27.33,27.24,27.16]
[null,2.1,-2.19,-4.07,5.0999999999999996,170,"169.7",29.653249999999996,45.373274780426605,29.21,29.11,29.02,28.93,28.83,28.74,28.65]
[null,2.15,-2.19,-4.0999999999999996,5.13,171,"170.7",31.190749999999998,47.725846925972398,30.72,30.62,30.53,30.43,30.34,30.25,30.15]
[null,2.2000000000000002,-2.2000000000000002,-4.13,5.16,172,"171.6",32.748749999999994,50.109786700125468,32.24,32.14,32.049999999999997,31.95,31.85,31.76,31.66]
[null,2.25,-2.2000000000000002,-4.16,5.19,172,"172.4",34.306749999999994,52.493726474278546,33.76,33.67,33.57,33.47,33.369999999999997,33.270000000000003,33.18]
[null,2.2999999999999998,-2.21,-4.1900000000000004,5.22,173,"173.0",35.864750000000001,54.877666248431623,35.29,35.19,35.090000000000003,34.99,34.89,34.79,34.700000000000003]
[null,2.35,-2.21,-4.22,5.25,174,"173.7",37.433,57.277289836888336,36.82,36.72,36.619999999999997,36.520000000000003,36.42,36.32,36.22]
[null,2.4,-2.21,-4.24,5.28,174,"174.2",39.001249999999992,59.676913425345049,38.36,38.26,38.15,38.049999999999997,37.950000000000003,37.85,37.75]
[null,2.4500000000000002,-2.2200000000000002,-4.2699999999999996,5.3,175,"174.7",40.579749999999997,62.092220828105404,39.9,39.79,39.69,39.590000000000003,39.479999999999997,39.380000000000003,39.28]
[null,2.5,-2.2200000000000002,-4.29,5.33,175,"175.2",42.158250000000002,64.507528230865745,41.44,41.33,41.23,41.13,41.02,40.92,40.82]
[null,2.5499999999999998,-2.2200000000000002,-4.3099999999999996,5.36,176,"175.6",43.736750000000001,66.922835633626093,42.98,42.88,42.77,42.67,42.56,42.46,42.35]
[null,2.6,-2.23,-4.33,5.39,176,"176.0",45.315249999999999,69.338143036386455,44.53,44.42,44.31,44.21,44.1,44,43.89]
[null,2.65,-2.23,-4.34,5.42,176,"176.3",46.893749999999997,71.753450439146803,46.07,45.97,45.86,45.75,45.65,45.54,45.44]
[null,2.7,-2.23,-4.3600000000000003,5.44,177,"176.6",48.482499999999995,74.184441656210794,47.62,47.51,47.41,47.3,47.19,47.09,46.98]
[null,2.75,-2.23,-4.38,5.47,177,"176.9",50.071249999999999,76.615432873274784,49.17,49.06,48.95,48.85,48.74,48.63,48.53]
[null,2.8,-2.2400000000000002,-4.3899999999999997,5.5,177,"177.1",51.66,79.046424090338775,50.72,50.61,50.5,50.4,50.29,50.18,50.07]
[null,2.85,-2.2400000000000002,-4.4000000000000004,5.52,177,"177.3",53.248750000000001,81.477415307402765,52.27,52.16,52.06,51.95,51.84,51.73,51.62]
[null,2.9,-2.2400000000000002,-4.42,5.55,178,"177.5",54.837499999999999,83.908406524466756,53.83,53.72,53.61,53.5,53.39,53.28,53.17]
[null,2.95,-2.2400000000000002,-4.43,5.58,178,"177.7",56.426249999999989,86.339397741530746,55.38,55.27,55.16,55.05,54.94,54.83,54.73]
[null,3,-2.25,-4.4400000000000004,5.6,178,"177.8",58.025249999999993,88.786072772898379,56.93,56.82,56.72,56.61,56.5,56.39,56.28]
[null,3.05,-2.25,-4.45,5.63,178,"177.9",59.61399999999999,91.217063989962355,58.49,58.38,58.27,58.16,58.05,57.94,57.83]
[null,3.1,-2.25,-4.46,5.66,178,"177.9",61.212999999999994,93.663739021329988,60.04,59.93,59.82,59.72,59.61,59.5,59.39]
[null,3.15,-2.25,-4.47,5.68,178,"177.9",62.801749999999998,96.094730238393993,61.6,61.49,61.38,61.27,61.16,61.05,60.94]
[null,3.2,-2.25,-4.49,5.71,103,"103.0",64.400749999999988,98.541405269761611,62.91,62.98,62.94,62.83,62.72,62.54,62.31]
[null,3.25,-2.2400000000000002,-4.49,5.71,0,0,{"$f":"M72*$I$2","v":65.353999999999999},{"$f":"M72/$M$72*100","v":100},63.34,63.48,63.62,63.76,63.51,63.26,63.02]

{"sheet":"21","index":27,"n_rows":163,"n_cols":16,"rows_kept":163,"cut":false,"hidden":false,"merged":[]}
[]
[null,"FORE PEAK ",null,null,null,null,null,"S.G.",1.0249999999999999,"[t/m3]"]
[]
[null,"GAUGE","LCG","TCG","VCG","FSM (transv)","FSM (long)","Weight","Fill (%)","Trim=-1,5","Trim=1,0","Trim=-0,5","Trim=0","Trim=0,5","Trim=1,0","Trim=1,5"]
[null,null,"Fwd of AP","PS:+","Above BL"," "," "]
[null,"m","m","m","m","t·m","t·m","t",null,"m3","m3","m3","m3","m3","m3","m3"]
[null,0,50.7,0,0.02,0,0.2,{"$f":"M7*$I$2","v":5.1249999999999997E-2},{"$f":"M7/$M$163*100","v":7.7148588180836294E-2},0.12,0.1,7.0000000000000007E-2,0.05,0.03,0.01,0.01]
[null,0.05,50.71,0,0.04,0,0.3,{"$f":"M8*$I$2","v":0.16399999999999998},{"$f":"M8/$M$163*100","v":0.24687548217867611},0.25,0.22,0.19,0.16,0.13,0.1,0.08]
[null,0.1,50.72,0,7.0000000000000007E-2,1,0.5,0.30749999999999994,0.46289152908501774,0.4,0.37,0.33,0.3,0.26,0.23,0.2]
[null,0.15,50.73,0,0.1,1,0.7,0.47149999999999997,0.7097670112636939,0.56999999999999995,0.53,0.49,0.46,0.42,0.38,0.35]
[null,0.2,50.74,0,0.13,1,1,0.64574999999999994,0.97207221107853714,0.76,0.71,0.67,0.63,0.59,0.55000000000000004,0.51]
[null,0.25,50.75,0,0.16,1,1.2,0.84049999999999991,1.2652368461657151,0.96,0.91,0.87,0.82,0.78,0.74,0.69]
[null,0.3,50.76,0,0.19,1,1.4,1.05575,1.5892609165252276,1.17,1.1200000000000001,1.07,1.03,0.98,0.94,0.89]
[null,0.35,50.77,0,0.22,2,1.7,1.28125,1.9287147045209074,1.39,1.34,1.29,1.25,1.2,1.1499999999999999,1.1000000000000001]
[null,0.4,50.77,0,0.25,2,1.9,1.5169999999999999,2.2835982101527543,1.63,1.58,1.53,1.48,1.43,1.38,1.33]
[null,0.45,50.78,0,0.28000000000000003,2,2.1,1.7629999999999999,2.6539114334207681,1.88,1.83,1.77,1.72,1.67,1.62,1.56]
[null,0.5,50.79,0,0.31,2,2.4,2.01925,3.0396543743249498,2.14,2.08,2.0299999999999998,1.97,1.92,1.87,1.81]
[null,0.55000000000000004,50.8,0,0.34,3,2.6,2.2959999999999998,3.4562567505014656,2.41,2.35,2.29,2.2400000000000002,2.1800000000000002,2.13,2.0699999999999998]
[null,0.6,50.8,0,0.36,3,2.9,2.5727499999999996,3.8728591266779815,2.69,2.63,2.57,2.5099999999999998,2.4500000000000002,2.4,2.34]
[null,0.65,50.81,0,0.39,3,3.1,2.8597499999999996,4.3048912204906653,2.97,2.91,2.85,2.79,2.73,2.68,2.62]
[null,0.7,50.81,0,0.42,3,3.4,3.1672499999999997,4.7677827495756819,3.27,3.21,3.15,3.09,3.02,2.96,2.91]
[null,0.75,50.82,0,0.45,4,3.6,3.4747499999999998,5.2306742786607003,3.57,3.51,3.45,3.39,3.32,3.26,3.2]
[null,0.8,50.82,0,0.48,4,3.9,3.7822499999999994,5.6935658077457179,3.89,3.82,3.76,3.69,3.63,3.57,3.51]
[null,0.85,50.83,0,0.51,4,4.0999999999999996,4.1102499999999997,6.1873167721030704,4.2,4.1399999999999997,4.07,4.01,3.95,3.88,3.82]
[null,0.9,50.83,0,0.54,4,4.3,4.43825,6.6810677364604221,4.53,4.46,4.4000000000000004,4.33,4.2699999999999996,4.2,4.1399999999999997]
[null,0.95,50.84,0,0.56999999999999995,4,4.5999999999999996,4.7764999999999995,7.190248418453943,4.8600000000000003,4.8,4.7300000000000004,4.66,4.5999999999999996,4.53,4.46]
[null,1,50.84,0,0.6,5,4.8,5.125,7.7148588180836297,5.2,5.13,5.07,5,4.93,4.8600000000000003,4.8]
[null,1.05,50.84,0,0.63,5,5,5.4734999999999996,8.2394692177133155,5.55,5.48,5.41,5.34,5.27,5.21,5.14]
[null,1.1000000000000001,50.85,0,0.66,5,5.2,5.8322500000000002,8.7795093349791706,5.9,5.83,5.76,5.69,5.62,5.55,5.48]
[null,1.1499999999999999,50.85,0,0.69,5,5.4,6.201249999999999,9.3349791698811906,6.26,6.19,6.12,6.05,5.98,5.91,5.84]
[null,1.2,50.86,0,0.72,5,5.6,6.5702499999999997,9.8904490047832123,6.62,6.55,6.48,6.41,6.34,6.26,6.19]
[null,1.25,50.86,0,0.75,6,5.8,6.9392499999999986,10.445918839685232,6.99,6.91,6.84,6.77,6.7,6.63,6.56]
[null,1.3,50.86,0,0.77,6,5.9,7.3184999999999993,11.016818392223421,7.36,7.28,7.21,7.14,7.07,7,6.93]
[null,1.35,50.87,0,0.8,6,6.1,7.7079999999999993,11.603147662397777,7.73,7.66,7.59,7.52,7.44,7.37,7.3]
[null,1.4,50.87,0,0.83,6,6.3,8.0872499999999992,12.174047214935966,8.11,8.0399999999999991,7.97,7.89,7.82,7.75,7.68]
[null,1.45,50.87,0,0.86,6,6.4,8.4869999999999983,12.775806202746487,8.5,8.42,8.35,8.2799999999999994,8.1999999999999993,8.1300000000000008,8.06]
[null,1.5,50.88,0,0.89,6,6.5,8.8765000000000001,13.362135472920844,8.8800000000000008,8.81,8.74,8.66,8.59,8.52,8.44]
[null,1.55,50.88,0,0.92,6,6.7,9.2762499999999992,13.963894460731369,9.27,9.1999999999999993,9.1300000000000008,9.0500000000000007,8.98,8.9,8.83]
[null,1.6,50.88,0,0.95,7,6.8,9.6862499999999976,14.581083166178058,9.67,9.59,9.52,9.4499999999999993,9.3699999999999992,9.3000000000000007,9.2200000000000006]
[null,1.65,50.89,0,0.98,7,6.9,10.085999999999999,15.182842153988583,10.06,9.99,9.92,9.84,9.77,9.69,9.6199999999999992]
[null,1.7,50.89,0,1,7,6.9,10.495999999999999,15.800030859435271,10.46,10.39,10.31,10.24,10.16,10.09,10.02]
[null,1.75,50.89,0,1.03,7,7,10.905999999999999,16.417219564881965,10.86,10.79,10.71,10.64,10.56,10.49,10.42]
[null,1.8,50.9,0,1.06,7,7.1,11.315999999999999,17.034408270328651,11.27,11.19,11.12,11.04,10.97,10.89,10.82]
[null,1.85,50.9,0,1.0900000000000001,7,7.1,11.736249999999998,17.667026693411508,11.67,11.6,11.52,11.45,11.37,11.3,11.22]
[null,1.9,50.9,0,1.1200000000000001,7,7.2,12.146249999999998,18.284215398858201,12.08,12,11.93,11.85,11.78,11.7,11.63]
[null,1.95,50.9,0,1.1399999999999999,7,7.2,12.5665,18.916833821941058,12.49,12.41,12.33,12.26,12.18,12.11,12.03]
[null,2,50.91,0,1.17,7,7.3,12.986749999999999,19.549452245023915,12.89,12.82,12.74,12.67,12.59,12.52,12.44]
[null,2.0499999999999998,50.91,0,1.2,7,7.3,13.406999999999998,20.182070668106771,13.3,13.23,13.15,13.08,13,12.93,12.85]
[null,2.1,50.91,0,1.23,7,7.3,13.827249999999999,20.814689091189631,13.71,13.64,13.56,13.49,13.41,13.34,13.26]
[null,2.15,50.91,0,1.25,7,7.3,14.247499999999999,21.447307514272488,14.12,14.05,13.97,13.9,13.82,13.75,13.67]
[null,2.2000000000000002,50.91,0,1.28,7,7.3,14.66775,22.079925937355345,14.53,14.46,14.38,14.31,14.23,14.16,14.08]
[null,2.25,50.92,0,1.31,7,7.2,15.087999999999999,22.712544360438205,14.94,14.87,14.79,14.72,14.64,14.57,14.49]
[null,2.2999999999999998,50.92,0,1.34,7,7.2,15.50825,23.345162783521062,15.35,15.28,15.2,15.13,15.05,14.98,14.9]
[null,2.35,50.92,0,1.36,7,7.2,15.928499999999998,23.977781206603918,15.76,15.69,15.61,15.54,15.46,15.39,15.31]
[null,2.4,50.92,0,1.39,7,7.1,16.3385,24.594969912050608,16.170000000000002,16.09,16.02,15.94,15.87,15.8,15.72]
[null,2.4500000000000002,50.92,0,1.42,7,7,16.758749999999999,25.227588335133465,16.57,16.5,16.420000000000002,16.350000000000001,16.28,16.2,16.13]
[null,2.5,50.92,0,1.44,7,6.9,17.178999999999998,25.860206758216325,16.98,16.899999999999999,16.829999999999998,16.760000000000002,16.68,16.61,16.53]
[null,2.5499999999999998,50.93,0,1.47,7,6.8,17.588999999999999,26.477395463663012,17.38,17.3,17.23,17.16,17.079999999999998,17.010000000000002,16.940000000000001]
[null,2.6,50.93,0,1.49,6,6.7,17.998999999999999,27.094584169109702,17.78,17.7,17.63,17.559999999999999,17.489999999999998,17.41,17.34]
[null,2.65,50.93,0,1.52,6,6.5,18.408999999999999,27.711772874556395,18.170000000000002,18.100000000000001,18.03,17.96,17.88,17.809999999999999,17.739999999999998]
[null,2.7,50.93,0,1.55,6,6.3,18.80875,28.313531862366919,18.559999999999999,18.489999999999998,18.420000000000002,18.350000000000001,18.28,18.21,18.13]
[null,2.75,50.93,0,1.57,6,6.2,19.208499999999997,28.915290850177438,18.95,18.88,18.809999999999999,18.739999999999998,18.670000000000002,18.600000000000001,18.53]
[null,2.8,50.93,0,1.6,6,5.9,19.608249999999998,29.517049837987962,19.329999999999998,19.27,19.2,19.13,19.059999999999999,18.989999999999998,18.91]
[null,2.85,50.93,0,1.62,6,5.7,19.99775,30.103379108162322,19.71,19.649999999999999,19.579999999999998,19.510000000000002,19.440000000000001,19.37,19.3]
[null,2.9,50.93,0,1.64,5,5.5,20.376999999999999,30.674278660700505,20.09,20.02,19.95,19.88,19.809999999999999,19.75,19.68]
[null,2.95,50.94,0,1.67,5,5.2,20.756249999999998,31.245178213238695,20.45,20.39,20.32,20.25,20.190000000000001,20.12,20.05]
[null,3,50.94,0,1.69,5,4.9000000000000004,21.1355,31.816077765776885,20.81,20.75,20.68,20.62,20.55,20.48,20.420000000000002]
[null,3.05,50.94,0,1.71,5,4.5999999999999996,21.494249999999997,32.356117883042742,21.16,21.1,21.04,20.97,20.91,20.84,20.78]
[null,3.1,50.94,0,1.74,4,4.3,21.852999999999998,32.896158000308596,21.51,21.45,21.38,21.32,21.26,21.19,21.13]
[null,3.15,50.94,0,1.76,4,4,22.201499999999999,33.420768399938275,21.84,21.78,21.72,21.66,21.6,21.54,21.47]
[null,3.2,50.94,0,1.78,4,3.7,22.539749999999998,33.929949081931795,22.17,22.11,22.05,21.99,21.93,21.87,21.81]
[null,3.25,50.94,0,1.8,3,3.4,{"$f":"M72*$I$2","v":22.867749999999997},{"$f":"M72/$M$163*100","v":34.423700046289149},22.48,22.43,22.37,22.31,22.25,22.2,22.14]
[null,3.3,50.94,0,1.82,3,3.1,23.185499999999998,34.902021293010336,22.79,22.73,22.68,22.62,22.57,22.51,22.45]
[null,3.35,50.94,0,1.84,3,2.8,23.492999999999999,35.364912822095356,23.08,23.03,22.98,22.92,22.87,22.81,22.76]
[null,3.4,50.94,0,1.86,2,2.5,23.79025,35.812374633544209,23.37,23.32,23.27,23.21,23.16,23.11,23.05]
[null,3.45,50.94,0,1.88,2,2.2000000000000002,24.087499999999999,36.259836444993056,23.65,23.6,23.55,23.5,23.44,23.39,23.34]
[null,3.5,50.94,0,1.9,2,2,24.364249999999998,36.676438821169569,23.91,23.86,23.81,23.77,23.72,23.67,23.62]
[null,3.55,50.94,0,1.92,2,1.8,24.630749999999999,37.077611479709923,24.17,24.12,24.07,24.03,23.98,23.93,23.88]
[null,3.6,50.94,0,1.94,2,1.6,24.887,37.463354420614102,24.41,24.37,24.32,24.28,24.23,24.19,24.14]
[null,3.65,50.94,0,1.95,1,1.5,25.132999999999999,37.833667643882116,24.65,24.61,24.56,24.52,24.48,24.43,24.39]
[null,3.7,50.94,0,1.97,1,1.3,25.368749999999999,38.188551149513962,24.88,24.84,24.8,24.75,24.71,24.67,24.62]
[null,3.75,50.94,0,1.99,1,1.2,25.604499999999998,38.543434655145809,25.1,25.06,25.02,24.98,24.94,24.9,24.85]
[null,3.8,50.94,0,2,1,1.1000000000000001,25.83,38.882888443141489,25.32,25.28,25.24,25.2,25.16,25.12,25.08]
[null,3.85,50.94,0,2.02,1,1,26.045249999999999,39.206912513501003,25.53,25.49,25.45,25.41,25.37,25.33,25.29]
[null,3.9,50.94,0,2.0299999999999998,1,1,26.2605,39.530936583860516,25.73,25.69,25.66,25.62,25.58,25.54,25.5]
[null,3.95,50.94,0,2.0499999999999998,1,0.9,26.465499999999999,39.839530936583863,25.93,25.89,25.86,25.82,25.78,25.74,25.71]
[null,4,50.94,0,2.06,1,0.9,26.670499999999997,40.148125289307202,26.13,26.09,26.06,26.02,25.98,25.94,25.91]
[null,4.05,50.94,0,2.08,1,0.9,26.86525,40.441289924394383,26.33,26.29,26.25,26.21,26.18,26.14,26.1]
[null,4.0999999999999996,50.94,0,2.09,1,0.9,27.070249999999998,40.749884277117729,26.52,26.48,26.45,26.41,26.37,26.34,26.3]
[null,4.1500000000000004,50.94,0,2.11,1,0.9,27.265000000000001,41.043048912204902,26.71,26.68,26.64,26.6,26.57,26.53,26.49]
[null,4.2,50.94,0,2.12,1,0.9,27.459749999999996,41.336213547292083,26.91,26.87,26.83,26.79,26.76,26.72,26.68]
[null,4.25,50.94,0,2.14,1,0.9,27.664749999999994,41.644807900015422,27.1,27.06,27.02,26.99,26.95,26.91,26.88]
[null,4.3,50.94,0,2.15,1,0.9,27.859499999999997,41.93797253510261,27.29,27.25,27.22,27.18,27.14,27.11,27.07]
[null,4.3499999999999996,50.94,0,2.17,1,0.9,28.05425,42.23113717018979,27.49,27.45,27.41,27.37,27.34,27.3,27.26]
[null,4.4000000000000004,50.94,0,2.1800000000000002,1,0.9,28.259249999999998,42.539731522913129,27.68,27.64,27.61,27.57,27.53,27.49,27.46]
[null,4.45,50.94,0,2.2000000000000002,1,0.9,28.454000000000001,42.83289615800031,27.88,27.84,27.8,27.76,27.73,27.69,27.65]
[null,4.5,50.94,0,2.2200000000000002,1,1,28.658999999999999,43.141490510723649,28.08,28.04,28,27.96,27.92,27.89,27.85]
[null,4.55,50.94,0,2.23,1,1,28.863999999999997,43.450084863446996,28.28,28.24,28.2,28.16,28.12,28.08,28.05]
[null,4.5999999999999996,50.94,0,2.25,1,1,29.068999999999996,43.758679216170343,28.48,28.44,28.4,28.36,28.32,28.29,28.25]
[null,4.6500000000000004,50.94,0,2.27,1,1.1000000000000001,29.284249999999997,44.082703286529856,28.69,28.65,28.61,28.57,28.53,28.49,28.45]
[null,4.7,50.94,0,2.2799999999999998,1,1.1000000000000001,29.499499999999998,44.40672735688937,28.89,28.85,28.81,28.78,28.74,28.7,28.66]
[null,4.75,50.94,0,2.2999999999999998,1,1.1000000000000001,29.714749999999995,44.730751427248876,29.11,29.07,29.03,28.99,28.95,28.91,28.87]
[null,4.8,50.94,0,2.3199999999999998,1,1.2,29.929999999999996,45.054775497608389,29.32,29.28,29.24,29.2,29.16,29.12,29.08]
[null,4.8499999999999996,50.94,0,2.34,1,1.3,30.1555,45.394229285604077,29.54,29.5,29.46,29.42,29.38,29.34,29.29]
[null,4.9000000000000004,50.94,0,2.36,1,1.3,30.380999999999997,45.733683073599749,29.77,29.72,29.68,29.64,29.6,29.56,29.51]
[null,4.95,50.94,0,2.38,1,1.4,30.61675,46.088566579231596,30,29.95,29.91,29.87,29.82,29.78,29.74]
[null,5,50.94,0,2.4,1,1.5,30.852499999999999,46.44345008486345,30.23,30.19,30.14,30.1,30.05,30.01,29.97]
[null,5.05,50.94,0,2.42,2,1.6,31.098499999999998,46.813763308131463,30.47,30.43,30.38,30.34,30.29,30.25,30.2]
[null,5.0999999999999996,50.94,0,2.44,2,1.7,31.344499999999996,47.184076531399469,30.72,30.67,30.62,30.58,30.53,30.49,30.44]
[null,5.15,50.95,0,2.46,2,1.8,31.600749999999994,47.569819472303656,30.97,30.92,30.87,30.83,30.78,30.73,30.69]
[null,5.2,50.95,0,2.4900000000000002,2,2,31.856999999999996,47.955562413207836,31.23,31.18,31.13,31.08,31.03,30.99,30.94]
[null,5.25,50.95,0,2.5099999999999998,2,2.1,32.1235,48.356735071748183,31.49,31.44,31.39,31.34,31.29,31.25,31.2]
[null,5.3,50.95,0,2.5299999999999998,2,2.2999999999999998,32.40025,48.773337447924703,31.77,31.72,31.66,31.61,31.56,31.51,31.46]
[null,5.35,50.95,0,2.56,2,2.5,32.687249999999999,49.20536954173739,32.049999999999997,32,31.94,31.89,31.84,31.79,31.74]
[null,5.4,50.95,0,2.58,3,2.8,32.984499999999997,49.65283135318623,32.340000000000003,32.29,32.229999999999997,32.18,32.119999999999997,32.07,32.020000000000003]
[null,5.45,50.95,0,2.61,3,3,33.281749999999995,50.100293164635076,32.64,32.58,32.53,32.47,32.42,32.36,32.31]
[null,5.5,50.95,0,2.64,3,3.3,33.599499999999999,50.57861441135627,32.950000000000003,32.89,32.83,32.78,32.72,32.659999999999997,32.61]
[null,5.55,50.95,0,2.66,4,3.6,33.917250000000003,51.056935658077464,33.270000000000003,33.21,33.15,33.090000000000003,33.03,32.97,32.909999999999997]
[null,5.6,50.95,0,2.69,4,4,34.245249999999992,51.550686622434803,33.6,33.54,33.47,33.409999999999997,33.35,33.29,33.229999999999997]
[null,5.65,50.95,0,2.72,4,4.4000000000000004,34.59375,52.07529702206449,33.94,33.880000000000003,33.81,33.75,33.69,33.619999999999997,33.56]
[null,5.7,50.95,0,2.75,5,4.8,34.942250000000001,52.599907421694184,34.29,34.229999999999997,34.159999999999997,34.090000000000003,34.03,33.97,33.9]
[null,5.75,50.95,0,2.78,5,5.3,35.311250000000001,53.155377256596203,34.659999999999997,34.590000000000003,34.520000000000003,34.450000000000003,34.39,34.32,34.26]
[null,5.8,50.95,0,2.81,6,5.9,35.700749999999992,53.741706526770564,35.04,34.97,34.89,34.83,34.76,34.69,34.619999999999997]
[null,5.85,50.95,0,2.85,6,6.5,36.090249999999997,54.328035796944917,35.43,35.35,35.28,35.21,35.14,35.07,35]
[null,5.9,50.95,0,2.88,7,7.2,36.500249999999994,54.945224502391596,35.83,35.76,35.68,35.61,35.53,35.46,35.39]
[null,5.95,50.95,0,2.92,8,7.9,36.920499999999997,55.577842925474464,36.25,36.18,36.1,36.020000000000003,35.94,35.869999999999997,35.799999999999997]
[null,6,50.95,0,2.95,9,8.8000000000000007,37.361249999999998,56.241320783829664,36.69,36.61,36.53,36.450000000000003,36.369999999999997,36.29,36.22]
[null,6.05,50.95,0,2.99,9,9.6999999999999993,37.812249999999999,56.92022835982101,37.14,37.06,36.97,36.89,36.81,36.729999999999997,36.65]
[null,6.1,50.95,0,3.03,10,10.7,38.283749999999998,57.629995371084711,37.61,37.520000000000003,37.44,37.35,37.270000000000003,37.19,37.11]
[null,6.15,50.95,0,3.07,12,11.9,38.775749999999995,58.370621817620737,38.1,38.01,37.92,37.83,37.75,37.659999999999997,37.58]
[null,6.2,50.95,0,3.11,13,13.1,39.288249999999998,59.14210769942909,38.6,38.51,38.42,38.33,38.24,38.15,38.06]
[null,6.25,50.95,0,3.15,14,14.4,39.811,59.929023298873631,39.119999999999997,39.03,38.94,38.840000000000003,38.75,38.659999999999997,38.57]
[null,6.3,50.95,0,3.19,16,15.9,40.3645,60.762228051226664,39.67,39.57,39.47,39.380000000000003,39.28,39.19,39.1]
[null,6.35,50.96,0,3.24,17,17.600000000000001,40.928249999999998,61.610862521215857,40.229999999999997,40.130000000000003,40.03,39.93,39.840000000000003,39.74,39.65]
[null,6.4,50.96,0,3.28,19,19.3,41.522749999999995,62.505786144113564,40.81,40.71,40.61,40.51,40.409999999999997,40.31,40.21]
[null,6.45,50.96,0,3.33,21,21.2,{"$f":"M136*$I$2","v":42.137749999999997},{"$f":"M136/$M$163*100","v":63.431569202283598},41.42,41.32,41.21,41.11,41.01,40.909999999999997,40.81]
[null,6.5,50.96,0,3.38,23,23.2,42.77324999999999,64.388211695725957,42.05,41.94,41.84,41.73,41.63,41.52,41.42]
[null,6.55,50.96,0,3.42,25,25.3,43.429249999999996,65.375713624440664,42.7,42.59,42.48,42.37,42.27,42.16,42.06]
[null,6.6,50.96,0,3.47,27,27.6,44.115999999999993,66.409504706063871,43.37,43.26,43.15,43.04,42.93,42.82,42.72]
[null,6.65,50.97,0,3.52,29,30,44.823249999999994,67.474155222959411,44.07,43.96,43.84,43.73,43.62,43.51,43.4]
[null,6.7,50.97,0,3.58,32,32.6,45.550999999999995,68.569665175127298,44.79,44.67,44.56,44.44,44.33,44.22,44.1]
[null,6.75,50.97,0,3.63,34,35.200000000000003,46.309499999999993,69.711464280203671,45.53,45.41,45.3,45.18,45.06,44.95,44.83]
[null,6.8,50.97,0,3.68,37,37.9,47.088499999999996,70.884122820552378,46.3,46.18,46.05,45.94,45.82,45.7,45.58]
[null,6.85,50.98,0,3.73,40,40.700000000000003,47.877749999999999,72.072211078537265,47.08,46.96,46.84,46.71,46.59,46.47,46.35]
[null,6.9,50.98,0,3.79,43,43.6,48.697749999999992,73.306588489430638,47.89,47.76,47.64,47.51,47.39,47.27,47.15]
[null,6.95,50.98,0,3.84,45,46.6,49.548499999999997,74.587255053232525,48.72,48.59,48.46,48.34,48.21,48.09,47.96]
[null,7,50.98,0,3.89,48,49.6,50.409499999999994,75.883351334670564,49.57,49.44,49.31,49.18,49.05,48.92,48.8]
[null,7.05,50.99,0,3.95,51,52.8,51.290999999999997,77.210307051380951,50.43,50.3,50.17,50.04,49.91,49.78,49.66]
[null,7.1,50.99,0,4,55,56,52.192999999999998,78.568122203363671,51.32,51.19,51.06,50.92,50.79,50.66,50.53]
[null,7.15,50.99,0,4.0599999999999996,58,59.2,53.125749999999996,79.972226508254892,52.23,52.1,51.96,51.83,51.7,51.56,51.43]
[null,7.2,51,0,4.1100000000000003,61,62.6,54.068749999999994,81.391760530782292,53.16,53.02,52.89,52.75,52.62,52.49,52.36]
[null,7.25,51,0,4.17,64,66,55.042499999999997,82.857583706218179,54.11,53.97,53.84,53.7,53.57,53.43,53.3]
[null,7.3,51.01,0,4.22,68,69.400000000000006,56.036749999999998,84.354266316926399,55.08,54.95,54.81,54.67,54.54,54.4,54.27]
[null,7.35,51.01,0,4.28,71,72.900000000000006,57.05149999999999,85.881808362906952,56.08,55.94,55.8,55.66,55.53,55.39,55.26]
[null,7.4,51.01,0,4.34,75,76.5,58.096999999999994,87.455639561796019,57.09,56.95,56.82,56.68,56.54,56.4,56.27]
[null,7.45,51.02,0,4.3899999999999997,78,80.099999999999994,59.152749999999997,89.044900478321239,58.13,57.99,57.85,57.71,57.57,57.44,57.3]
[null,7.5,51.02,0,4.45,82,83.7,60.239249999999998,90.680450547754972,59.19,59.05,58.91,58.77,58.63,58.49,58.35]
[null,7.55,51.03,0,4.5,85,87.4,61.335999999999999,92.331430334824873,60.27,60.12,59.98,59.84,59.7,59.56,59.43]
[null,7.6,51.03,0,4.5599999999999996,89,91.2,62.463499999999989,94.028699274803259,61.36,61.22,61.08,60.94,60.8,60.66,60.52]
[null,7.65,51.03,0,4.62,93,94.9,63.601249999999993,95.741397932417826,62.48,62.34,62.2,62.05,61.91,61.77,61.64]
[null,7.7,51.04,0,4.67,96,98.7,64.769749999999988,97.500385742940892,63.62,63.47,63.33,63.19,63.05,62.91,62.77]
[null,7.75,51.04,0,4.7300000000000004,100,102.6,65.958749999999995,99.290232988736292,64.510000000000005,64.53,64.489999999999995,64.349999999999994,64.2,64.06,63.89]
[null,7.8,51.05,0,4.75,0,0,66.430250000000001,100,64.8,64.81,64.81,64.81,64.81,64.78,64.66]

{"sheet":"22","index":28,"n_rows":163,"n_cols":16,"rows_kept":163,"cut":false,"hidden":false,"merged":[]}
[]
[null,"W.B. 2 PS",null,null,null,null,null,"S.G.",1.0249999999999999,"[t/m3]"]
[]
[null,"GAUGE","LCG","TCG","VCG","FSM (transv)","FSM (long)","Weight","Fill (%)","Trim=-1,5","Trim=1,0","Trim=-0,5","Trim=0","Trim=0,5","Trim=1,0","Trim=1,5"]
[null,null,"Fwd of AP","PS:+","Above BL"," "," "]
[null,"m","m","m","m","t·m","t·m","t",null,"m3","m3","m3","m3","m3","m3","m3"]
[null,0,34.78,6.77,0.28000000000000003,0,0,{"$f":"M7*$I$2","v":2.0499999999999997E-2},{"$f":"M7/$M$163*100","v":2.3245542667193565E-2},0.02,0.02,0.02,0.02,0.02,0.03,0.05]
[null,0.05,34.94,6.81,0.31,0,0,{"$f":"M8*$I$2","v":5.1249999999999997E-2},{"$f":"M8/$M$163*100","v":5.8113856667983917E-2},0.04,0.04,0.04,0.05,0.06,7.0000000000000007E-2,0.12]
[null,0.1,35.08,6.83,0.35,0,0.1,9.2249999999999985E-2,{"$f":"M9/$M$163*100","v":0.10460494200237105},7.0000000000000007E-2,0.08,0.08,0.09,0.11,0.15,0.23]
[null,0.15,35.369999999999997,6.82,0.38,0,0.5,0.16399999999999998,0.18596434133754852,0.12,0.13,0.14000000000000001,0.16,0.2,0.27,0.39]
[null,0.2,35.799999999999997,6.77,0.42,1,1.1000000000000001,0.26649999999999996,0.30219205467351634,0.18,0.2,0.22,0.26,0.33,0.44,0.57999999999999996]
[null,0.25,36.22,6.72,0.46,2,1.8,0.39974999999999999,0.4532880820102746,0.27,0.28999999999999998,0.33,0.39,0.49,0.64,0.81]
[null,0.3,36.6,6.67,0.5,2,2.4,0.57399999999999995,0.65087519468141997,0.37,0.41,0.47,0.56000000000000005,0.7,0.87,1.07]
[null,0.35,36.92,6.63,0.54,3,2.9,0.7892499999999999,0.89495339268695229,0.49,0.55000000000000004,0.64,0.77,0.94,1.1399999999999999,1.37]
[null,0.4,37.17,6.6,0.56999999999999995,3,3.4,1.0454999999999999,1.185522676026872,0.65,0.73,0.85,1.02,1.21,1.43,1.69]
[null,0.45,37.36,6.58,0.61,4,3.9,1.3222499999999999,1.4993375020339852,0.83,0.95,1.1000000000000001,1.29,1.51,1.76,2.0299999999999998]
[null,0.5,37.520000000000003,6.57,0.64,4,4.3,1.62975,1.8480206420418885,1.05,1.19,1.38,1.59,1.84,2.11,2.41]
[null,0.55000000000000004,37.65,6.56,0.67,5,4.7,1.9679999999999997,2.231572096050582,1.3,1.47,1.68,1.92,2.19,2.4900000000000002,2.8]
[null,0.6,37.76,6.55,0.71,5,5.0999999999999996,2.3369999999999997,2.6499918640600661,1.58,1.78,2.02,2.2799999999999998,2.57,2.88,3.22]
[null,0.65,37.85,6.55,0.74,5,5.5,2.7264999999999997,3.0916571747367447,1.89,2.12,2.38,2.66,2.97,3.3,3.65]
[null,0.7,37.92,6.55,0.77,6,5.8,3.1467499999999995,3.5681907994142121,2.2200000000000002,2.48,2.76,3.07,3.39,3.74,4.0999999999999996]
[null,0.75,37.99,6.56,0.8,6,6.1,3.5772499999999998,4.0563471954252774,2.59,2.86,3.16,3.49,3.83,4.2,4.57]
[null,0.8,38.049999999999997,6.56,0.84,6,6.4,4.0282499999999999,4.5677491341035363,2.97,3.27,3.59,3.93,4.29,4.67,5.0599999999999996]
[null,0.85,38.1,6.56,0.87,6,6.6,4.4997499999999997,5.1023966154489875,3.38,3.7,4.03,4.3899999999999997,4.7699999999999996,5.15,5.55]
[null,0.9,38.14,6.57,0.9,7,6.8,4.9917499999999997,5.6602896394616335,3.81,4.1399999999999997,4.5,4.87,5.25,5.65,6.06]
[null,0.95,38.18,6.58,0.93,7,7,5.4939999999999998,6.2298054348078757,4.25,4.6100000000000003,4.9800000000000004,5.36,5.75,6.16,6.57]
[null,1,38.21,6.58,0.96,7,7.1,6.0065,6.8109440014877149,4.72,5.08,5.46,5.86,6.26,6.68,7.1]
[null,1.05,38.24,6.59,0.99,7,7.3,6.5292499999999993,7.4037053395011512,5.19,5.57,5.97,6.37,6.78,7.2,7.63]
[null,1.1000000000000001,38.270000000000003,6.6,1.02,7,7.4,7.0622499999999988,8.0080894488481835,5.69,6.07,6.48,6.89,7.31,7.74,8.17]
[null,1.1499999999999999,38.29,6.6,1.05,7,7.5,7.5952499999999992,8.6124735581952159,6.19,6.58,6.99,7.41,7.84,8.2799999999999994,8.7200000000000006]
[null,1.2,38.31,6.61,1.08,7,7.7,8.1487499999999997,9.2401032102094423,6.7,7.1,7.52,7.95,8.3800000000000008,8.82,9.27]
[null,1.25,38.33,6.62,1.1100000000000001,8,7.7,8.7022499999999994,9.8677328622236686,7.22,7.63,8.06,8.49,8.93,9.3800000000000008,9.83]
[null,1.3,38.35,6.63,1.1399999999999999,8,7.8,9.2659999999999982,10.50698528557149,7.74,8.17,8.6,9.0399999999999991,9.48,9.94,10.39]
[null,1.35,38.369999999999997,6.63,1.17,8,7.9,9.8297499999999989,11.146237708919315,8.2799999999999994,8.7100000000000009,9.15,9.59,10.039999999999999,10.5,10.96]
[null,1.4,38.380000000000003,6.64,1.19,8,8,10.403749999999999,11.797112903600736,8.82,9.26,9.6999999999999993,10.15,10.61,11.07,11.53]
[null,1.45,38.4,6.65,1.22,8,8,10.97775,12.447988098282156,9.3699999999999992,9.81,10.26,10.71,11.17,11.64,12.16]
[null,1.5,38.409999999999997,6.66,1.25,8,8.1,11.561999999999998,13.110486064297172,9.92,10.37,10.82,11.28,11.74,12.21,12.8]
[null,1.55,38.42,6.66,1.28,8,8.1,12.146249999999998,13.772984030312188,10.48,10.93,11.39,11.85,12.32,12.85,13.44]
[null,1.6,38.44,6.67,1.31,8,8.1,12.740749999999998,14.4471047676608,11.04,11.5,11.96,12.43,12.9,13.49,14.08]
[null,1.65,38.450000000000003,6.68,1.33,8,8.1999999999999993,13.324999999999999,15.109602733675818,11.61,12.07,12.53,13,13.54,14.13,14.72]
[null,1.7,38.46,6.68,1.36,14,14.4,13.919499999999999,15.783723471024432,12.17,12.64,13.1,13.58,14.18,14.77,15.36]
[null,1.75,38.5,6.68,1.39,14,14.4,14.554999999999998,16.504335293707431,12.72,13.19,13.66,14.2,14.79,15.39,15.98]
[null,1.8,38.53,6.68,1.42,14,14.4,15.190499999999998,17.224947116390432,13.28,13.75,14.23,14.82,15.41,16,16.59]
[null,1.85,38.56,6.68,1.45,14,14.4,15.825999999999999,17.945558939073432,13.83,14.3,14.85,15.44,16.03,16.62,17.21]
[null,1.9,38.590000000000003,6.68,1.48,14,14.3,16.461499999999997,18.666170761756433,14.39,14.87,15.47,16.059999999999999,16.649999999999999,17.239999999999998,17.82]
[null,1.95,38.61,6.67,1.5,14,14.2,17.086749999999999,19.375159813105839,14.94,15.49,16.079999999999998,16.670000000000002,17.260000000000002,17.850000000000001,18.43]
[null,2,38.64,6.67,1.53,14,14.2,17.722249999999999,20.095771635788836,15.52,16.11,16.7,17.29,17.88,18.46,19.04]
[null,2.0499999999999998,38.659999999999997,6.67,1.56,14,14.1,18.347499999999997,20.804760687138241,16.13,16.72,17.309999999999999,17.899999999999999,18.489999999999998,19.07,19.649999999999999]
[null,2.1,38.68,6.67,1.59,14,14,18.972750000000001,21.513749738487647,16.75,17.34,17.93,18.510000000000002,19.100000000000001,19.68,20.25]
[null,2.15,38.700000000000003,6.68,1.61,14,13.9,19.597999999999999,22.222738789837052,17.36,17.95,18.54,19.12,19.7,20.28,20.85]
[null,2.2000000000000002,38.72,6.68,1.64,13,13.8,20.22325,22.931727841186454,17.97,18.559999999999999,19.149999999999999,19.73,20.309999999999999,20.88,21.45]
[null,2.25,38.729999999999997,6.68,1.66,13,13.7,20.838249999999995,23.629094121202257,18.579999999999998,19.170000000000002,19.75,20.329999999999998,20.91,21.48,22.05]
[null,2.2999999999999998,38.75,6.68,1.69,13,13.6,21.453249999999997,24.326460401218068,19.190000000000001,19.77,20.350000000000001,20.93,21.5,22.07,22.64]
[null,2.35,38.770000000000003,6.68,1.72,13,13.5,22.068249999999999,25.023826681233874,19.79,20.37,20.95,21.53,22.1,22.66,23.22]
[null,2.4,38.78,6.68,1.74,13,13.3,22.672999999999998,25.709570189916086,20.399999999999999,20.97,21.55,22.12,22.69,23.25,23.81]
[null,2.4500000000000002,38.79,6.68,1.77,13,13.2,23.277749999999997,26.395313698598294,20.99,21.57,22.14,22.71,23.27,23.83,24.39]
[null,2.5,38.81,6.68,1.79,13,13.1,23.872249999999998,27.06943443594691,21.59,22.16,22.73,23.29,23.86,24.41,24.96]
[null,2.5499999999999998,38.82,6.68,1.82,13,13,24.476999999999997,27.755177944629118,22.18,22.75,23.32,23.88,24.43,24.99,25.54]
[null,2.6,38.83,6.68,1.84,13,12.9,25.0715,28.429298681977734,22.77,23.33,23.9,24.46,25.01,25.56,26.11]
[null,2.65,38.840000000000003,6.69,1.87,12,12.8,25.655749999999998,29.091796647992751,23.35,23.92,24.48,25.03,25.58,26.13,26.68]
[null,2.7,38.85,6.69,1.89,12,12.6,26.24,29.754294614007765,23.93,24.49,25.05,25.6,26.15,26.7,27.24]
[null,2.75,38.86,6.69,1.91,12,12.5,26.824249999999999,30.416792580022783,24.51,25.07,25.62,26.17,26.72,27.26,27.8]
[null,2.8,38.869999999999997,6.69,1.94,12,12.4,27.408499999999997,31.079290546037797,25.09,25.64,26.19,26.74,27.28,27.82,28.36]
[null,2.85,38.880000000000003,6.69,1.96,12,12.3,27.982499999999998,31.730165740719219,25.66,26.21,26.76,27.3,27.84,28.38,28.92]
[null,2.9,38.89,6.69,1.98,12,12.2,28.556499999999996,32.381040935400641,26.22,26.77,27.32,27.86,28.4,28.94,29.47]
[null,2.95,38.9,6.69,2.0099999999999998,12,12.1,29.130499999999998,33.03191613008206,26.79,27.33,27.88,28.42,28.95,29.49,30.02]
[null,3,38.909999999999997,6.7,2.0299999999999998,12,12,29.694249999999997,33.671168553429879,27.35,27.89,28.43,28.97,29.5,30.04,30.57]
[null,3.05,38.92,6.7,2.06,12,11.9,30.257999999999996,34.310420976777706,27.91,28.45,28.98,29.52,30.05,30.58,31.12]
[null,3.1,38.92,6.7,2.08,12,11.9,30.821749999999998,34.949673400125526,28.46,29,29.53,30.07,30.6,31.13,31.66]
[null,3.15,38.93,6.7,2.1,11,11.8,31.375249999999998,35.577303052139754,29.01,29.55,30.08,30.61,31.14,31.67,32.200000000000003]
[null,3.2,38.94,6.7,2.13,11,11.7,31.938999999999997,36.216555475487574,29.56,30.09,30.63,31.16,31.69,32.21,32.74]
[null,3.25,38.950000000000003,6.7,2.15,11,11.6,{"$f":"M72*$I$2","v":32.4925},36.844185127501802,30.11,30.64,31.17,31.7,32.229999999999997,32.75,33.28]
[null,3.3,38.950000000000003,6.71,2.17,11,11.5,33.045999999999999,{"$f":"M73/$M$163*100","v":37.471814779516031},30.65,31.18,31.71,32.24,32.76,33.29,33.81]
[null,3.35,38.96,6.71,2.19,11,11.5,33.58925,38.087821660196667,31.19,31.72,32.25,32.770000000000003,33.299999999999997,33.82,34.35]
[null,3.4,38.97,6.71,2.2200000000000002,11,11.4,34.142749999999999,38.715451312210888,31.73,32.26,32.78,33.31,33.83,34.35,34.880000000000003]
[null,3.45,38.97,6.71,2.2400000000000002,11,11.3,34.686,39.331458192891517,32.270000000000003,32.79,33.32,33.840000000000003,34.36,34.89,35.409999999999997]
[null,3.5,38.979999999999997,6.71,2.2599999999999998,11,11.3,35.229249999999993,39.94746507357214,32.799999999999997,33.32,33.85,34.369999999999997,34.89,35.409999999999997,35.94]
[null,3.55,38.99,6.71,2.29,11,11.2,35.772499999999994,40.563471954252769,33.33,33.85,34.380000000000003,34.9,35.42,35.94,36.46]
[null,3.6,39,6.72,2.31,11,11.1,36.305500000000002,41.167856063599807,33.86,34.380000000000003,34.9,35.42,35.94,36.47,36.99]
[null,3.65,39,6.72,2.33,11,11.1,36.848750000000003,41.783862944280436,34.39,34.909999999999997,35.43,35.950000000000003,36.47,36.99,37.51]
[null,3.7,39.01,6.72,2.35,11,11,37.381749999999997,42.388247053627467,34.909999999999997,35.43,35.950000000000003,36.47,36.99,37.51,38.03]
[null,3.75,39.020000000000003,6.72,2.38,11,11,37.914749999999998,42.992631162974504,35.43,35.950000000000003,36.47,36.99,37.51,38.03,38.549999999999997]
[null,3.8,39.020000000000003,6.72,2.4,11,10.9,38.447749999999992,43.597015272321535,35.96,36.47,36.99,37.51,38.03,38.549999999999997,39.07]
[null,3.85,39.03,6.72,2.42,11,10.8,38.98075,44.201399381668566,36.47,36.99,37.51,38.03,38.549999999999997,39.07,39.590000000000003]
[null,3.9,39.04,6.73,2.44,11,10.8,39.503499999999995,44.794160719682004,36.99,37.51,38.020000000000003,38.54,39.06,39.58,40.1]
[null,3.95,39.04,6.73,2.4700000000000002,10,10.7,40.036499999999997,45.398544829029035,37.51,38.020000000000003,38.54,39.06,39.58,40.1,40.619999999999997]
[null,4,39.049999999999997,6.73,2.4900000000000002,10,10.7,40.559249999999999,45.991306167042474,38.020000000000003,38.53,39.049999999999997,39.57,40.090000000000003,40.61,41.13]
[null,4.05,39.049999999999997,6.73,2.5099999999999998,10,10.6,41.081999999999994,46.584067505055906,38.53,39.049999999999997,39.56,40.08,40.6,41.12,41.64]
[null,4.0999999999999996,39.06,6.73,2.5299999999999998,10,10.6,41.604750000000003,47.176828843069345,39.04,39.549999999999997,40.07,40.590000000000003,41.11,41.63,42.15]
[null,4.1500000000000004,39.07,6.74,2.56,10,10.5,42.117249999999999,47.757967409749185,39.549999999999997,40.06,40.58,41.09,41.61,42.14,42.66]
[null,4.2,39.07,6.74,2.58,10,10.5,42.64,48.350728747762624,40.049999999999997,40.57,41.08,41.6,42.12,42.64,43.17]
[null,4.25,39.08,6.74,2.6,10,10.4,43.162749999999996,48.943490085776055,40.56,41.07,41.59,42.11,42.63,43.15,43.68]
[null,4.3,39.090000000000003,6.74,2.62,10,10.4,43.675249999999998,49.524628652455895,41.06,41.57,42.09,42.61,43.13,43.65,44.18]
[null,4.3499999999999996,39.1,6.74,2.65,10,10.3,44.187749999999994,50.105767219135736,41.56,42.07,42.59,43.11,43.63,44.16,44.69]
[null,4.4000000000000004,39.1,6.74,2.67,10,10.3,44.700249999999997,50.686905785815576,42.06,42.57,43.09,43.61,44.13,44.66,45.19]
[null,4.45,39.11,6.74,2.69,10,10.199999999999999,45.212749999999993,51.268044352495409,42.56,43.07,43.59,44.11,44.64,45.16,45.7]
[null,4.5,39.119999999999997,6.75,2.71,10,10.199999999999999,45.725249999999996,51.849182919175249,43.05,43.57,44.09,44.61,45.14,45.67,46.21]
[null,4.55,39.119999999999997,6.75,2.74,10,10.199999999999999,46.237749999999998,52.430321485855089,43.55,44.06,44.58,45.11,45.63,46.17,46.72]
[null,4.5999999999999996,39.130000000000003,6.75,2.76,10,10.1,46.739999999999995,52.999837281201337,44.04,44.56,45.08,45.6,46.14,46.68,47.24]
[null,4.6500000000000004,39.14,6.75,2.78,10,10.199999999999999,47.252499999999998,53.580975847881177,44.53,45.05,45.58,46.1,46.64,47.19,47.76]
[null,4.7,39.15,6.75,2.8,10,10.3,47.775249999999993,54.173737185894609,45.03,45.55,46.07,46.61,47.15,47.71,48.28]
[null,4.75,39.15,6.75,2.83,10,10.4,48.297999999999995,54.766498523908034,45.52,46.04,46.57,47.12,47.67,48.23,48.81]
[null,4.8,39.159999999999997,6.76,2.85,10,10.4,48.820749999999997,55.359259861921487,46.02,46.54,47.08,47.63,48.19,48.76,49.34]
[null,4.8499999999999996,39.17,6.76,2.87,10,10.5,49.343499999999999,55.952021199934919,46.51,47.05,47.59,48.14,48.71,49.29,49.88]
[null,4.9000000000000004,39.18,6.76,2.9,10,10.6,49.886749999999999,56.568028080615548,47.01,47.55,48.1,48.67,49.24,49.83,50.43]
[null,4.95,39.18,6.76,2.92,10,10.6,50.419749999999993,57.172412189962571,47.52,48.06,48.62,49.19,49.77,50.37,50.97]
[null,5,39.19,6.76,2.94,10,10.7,50.962999999999994,57.788419070643201,48.03,48.58,49.14,49.72,50.31,50.91,51.53]
[null,5.05,39.200000000000003,6.76,2.97,10,10.8,51.516499999999994,58.416048722657429,48.54,49.1,49.67,50.26,50.85,51.46,52.08]
[null,5.0999999999999996,39.21,6.76,2.99,11,10.8,52.069999999999993,59.043678374671657,49.06,49.63,50.2,50.8,51.4,52.02,52.65]
[null,5.15,39.22,6.76,3.02,11,10.9,52.6235,59.671308026685885,49.58,50.16,50.74,51.34,51.95,52.58,53.21]
[null,5.2,39.229999999999997,6.76,3.04,11,10.9,53.187249999999999,60.310560450033712,50.11,50.69,51.28,51.89,52.51,53.14,53.79]
[null,5.25,39.24,6.77,3.07,11,11,53.750999999999991,60.949812873381525,50.64,51.23,51.83,52.44,53.07,53.71,54.37]
[null,5.3,39.25,6.77,3.09,11,11.1,54.324999999999996,61.600688068062951,51.18,51.77,52.38,53,53.64,54.29,54.95]
[null,5.35,39.25,6.77,3.12,11,11.1,54.909249999999993,62.263186034077968,51.72,52.32,52.94,53.57,54.21,54.87,55.54]
[null,5.4,39.26,6.77,3.14,11,11.2,55.493499999999997,62.925684000092986,52.26,52.87,53.5,54.14,54.79,55.45,56.13]
[null,5.45,39.270000000000003,6.77,3.17,11,11.2,56.077749999999995,63.588181966108003,52.81,53.43,54.06,54.71,55.37,56.04,56.73]
[null,5.5,39.28,6.77,3.19,11,11.3,56.672249999999991,64.262302703456612,53.37,54,54.64,55.29,55.96,56.64,57.33]
[null,5.55,39.29,6.77,3.22,11,11.4,57.266749999999995,64.936423440805228,53.93,54.56,55.21,55.87,56.55,57.24,57.94]
[null,5.6,39.299999999999997,6.77,3.25,11,11.4,57.871499999999997,65.622166949487436,54.49,55.14,55.79,56.46,57.15,57.84,58.56]
[null,5.65,39.31,6.77,3.27,11,11.5,58.486499999999999,66.31953322950325,55.06,55.72,56.38,57.06,57.75,58.45,59.17]
[null,5.7,39.32,6.77,3.3,11,11.5,59.101499999999994,67.01689950951905,55.64,56.3,56.97,57.66,58.36,59.07,59.8]
[null,5.75,39.33,6.78,3.33,11,11.6,59.716499999999989,67.714265789534849,56.22,56.89,57.57,58.26,58.97,59.69,60.43]
[null,5.8,39.340000000000003,6.78,3.35,11,11.6,60.34174999999999,68.423254840884269,56.81,57.48,58.17,58.87,59.59,60.32,61.06]
[null,5.85,39.35,6.78,3.38,11,11.7,60.977249999999998,69.143866663567266,57.4,58.08,58.78,59.49,60.21,60.95,61.7]
[null,5.9,39.36,6.78,3.41,11,11.7,61.612749999999991,69.864478486250263,57.99,58.68,59.39,60.11,60.84,61.59,62.35]
[null,5.95,39.369999999999997,6.78,3.44,11,11.8,62.248249999999992,70.58509030893326,58.59,59.29,60.01,60.73,61.47,62.23,63]
[null,6,39.380000000000003,6.78,3.46,12,11.8,62.893999999999991,71.317324902949863,59.2,59.91,60.63,61.36,62.11,62.88,63.65]
[null,6.05,39.39,6.78,3.49,12,11.9,63.55,72.061182268300058,59.81,60.53,61.26,62,62.76,63.53,64.319999999999993]
[null,6.1,39.4,6.78,3.52,12,11.9,64.205999999999989,72.805039633650253,60.43,61.15,61.89,62.64,63.41,64.19,64.98]
[null,6.15,39.409999999999997,6.78,3.55,12,12,64.872249999999994,73.560519770334039,61.05,61.78,62.53,63.29,64.06,64.849999999999994,65.650000000000006]
[null,6.2,39.42,6.78,3.58,12,12,65.558999999999997,74.339245449685038,61.7,62.44,63.19,63.96,64.75,65.540000000000006,66.36]
[null,6.25,39.43,6.79,3.61,12,12.1,66.266249999999999,75.141216671703219,62.35,63.1,63.87,64.650000000000006,65.44,66.239999999999995,67.06]
[null,6.3,39.44,6.79,3.64,12,12.1,66.963249999999988,75.931565122387781,63.02,63.77,64.55,65.33,66.13,66.95,67.78]
[null,6.35,39.450000000000003,6.79,3.67,12,12.2,67.680749999999989,76.745159115739554,63.68,64.45,65.23,66.03,66.83,67.66,68.489999999999995]
[null,6.4,39.47,6.79,3.7,12,12.2,68.387999999999991,77.547130337757736,64.36,65.13,65.92,66.72,67.540000000000006,68.37,69.22]
[null,6.45,39.479999999999997,6.79,3.73,12,12.3,{"$f":"M136*$I$2","v":69.115750000000006},78.372347102443115,65.03,65.819999999999993,66.62,67.430000000000007,68.260000000000005,69.099999999999994,69.95]
[null,6.5,39.49,6.79,3.76,12,12.3,69.843499999999992,{"$f":"M137/$M$163*100","v":79.19756386712848},65.72,66.510000000000005,67.319999999999993,68.14,68.97,69.819999999999993,70.69]
[null,6.55,39.5,6.79,3.79,12,12.4,70.571249999999992,80.022780631813845,66.41,67.209999999999994,68.02,68.849999999999994,69.7,70.56,71.430000000000007]
[null,6.6,39.51,6.79,3.82,12,12.4,71.319499999999991,80.871242939166422,67.099999999999994,67.91,68.739999999999995,69.58,70.430000000000007,71.290000000000006,72.180000000000007]
[null,6.65,39.520000000000003,6.79,3.85,12,12.5,72.05749999999999,81.708082475185378,67.8,68.62,69.459999999999994,70.3,71.16,72.040000000000006,72.930000000000007]
[null,6.7,39.53,6.8,3.88,12,12.5,72.816000000000003,82.568167553871547,68.510000000000005,69.34,70.180000000000007,71.040000000000006,71.91,72.790000000000006,73.69]
[null,6.75,39.54,6.8,3.91,12,12.6,73.564249999999987,83.416629861224109,69.22,70.06,70.91,71.77,72.650000000000006,73.55,74.45]
[null,6.8,39.549999999999997,6.8,3.94,12,12.6,74.332999999999984,84.288337711243869,69.94,70.790000000000006,71.650000000000006,72.52,73.41,74.31,75.22]
[null,6.85,39.56,6.8,3.97,12,12.7,75.101749999999996,85.16004556126363,70.66,71.52,72.39,73.27,74.16,75.08,76]
[null,6.9,39.58,6.8,4,12,12.7,75.870499999999993,86.03175341128339,71.39,72.260000000000005,73.13,74.02,74.930000000000007,75.849999999999994,76.78]
[null,6.95,39.590000000000003,6.8,4.03,12,12.8,76.659750000000003,86.926706803970347,72.13,73,73.89,74.790000000000006,75.7,76.63,77.569999999999993]
[null,7,39.6,6.8,4.07,13,12.8,77.438749999999985,87.810037425323699,72.87,73.75,74.64,75.55,76.48,77.41,78.36]
[null,7.05,39.61,6.8,4.0999999999999996,13,12.9,78.238249999999994,88.716613589344234,73.62,74.510000000000005,75.41,76.33,77.260000000000005,78.2,79.16]
[null,7.1,39.619999999999997,6.81,4.13,13,12.9,79.027499999999989,89.611566982031192,74.37,75.27,76.180000000000007,77.099999999999994,78.040000000000006,79,79.97]
[null,7.15,39.630000000000003,6.81,4.16,13,13,79.837249999999997,90.529765917385348,75.13,76.03,76.95,77.89,78.84,79.8,80.78]
[null,7.2,39.64,6.81,4.1900000000000004,13,13.1,80.647000000000006,91.447964852739489,75.89,76.81,77.73,78.680000000000007,79.64,80.61,81.599999999999994]
[null,7.25,39.65,6.81,4.22,13,13.1,81.456749999999985,92.36616378809363,76.66,77.58,78.52,79.47,80.44,81.42,82.42]
[null,7.3,39.659999999999997,6.81,4.26,13,13.2,82.286999999999992,93.307608266114968,77.430000000000007,78.37,79.31,80.28,81.25,82.24,83.25]
[null,7.35,39.67,6.81,4.29,13,13.2,83.106999999999985,94.237429972802715,78.209999999999994,79.16,80.11,81.08,82.07,83.07,84.08]
[null,7.4,39.69,6.81,4.32,13,13.3,83.947500000000005,95.19049722215766,79,79.95,80.92,81.900000000000006,82.89,83.9,84.78]
[null,7.45,39.700000000000003,6.82,4.3499999999999996,13,13.4,84.777749999999983,96.131941700178984,79.790000000000006,80.75,81.73,82.71,83.72,84.73,85.28]
[null,7.5,39.71,6.82,4.38,13,13.4,85.628500000000003,97.096631720867535,80.59,81.56,82.54,83.54,84.55,85.38,85.63]
[null,7.55,39.72,6.82,4.42,13,13.5,86.479249999999993,98.061321741556057,81.39,82.37,83.36,84.37,85.39,85.76,85.85]
[null,7.6,39.729999999999997,6.82,4.45,13,13.6,87.33,99.026011762244593,82.2,83.19,84.19,85.2,85.9,85.96,85.98]
[null,7.65,39.74,6.82,4.4800000000000004,13,13.6,88.180749999999989,99.990701782933115,83.02,84.01,85.02,86.03,86.03,86.03,86.03]
[null,7.7,39.74,6.82,4.4800000000000004,13,13.6,88.183824999999999,99.994188614333197,83.79,84.77,85.72,86.033000000000001,86.03,86.03,86.03]
[null,7.75,39.74,6.82,4.4800000000000004,13,13.6,88.185874999999996,99.996513168599918,84.48,85.4,86.03,86.034999999999997,86.03,86.03,86.03]
[null,7.8,39.74,6.82,4.4800000000000004,0,0,88.188949999999991,100,85.09,85.85,86.03,86.037999999999997,86.03,86.03,86.03]

{"sheet":"23","index":29,"n_rows":163,"n_cols":16,"rows_kept":163,"cut":false,"hidden":false,"merged":[]}
[]
[null,"W.B. 2 SB",null,null,null,null,null,"S.G.",1.0249999999999999,"[t/m3]"]
[]
[null,"GAUGE","LCG","TCG","VCG","FSM (transv)","FSM (long)","Weight","Fill (%)","Trim=-1,5","Trim=1,0","Trim=-0,5","Trim=0","Trim=0,5","Trim=1,0","Trim=1,5"]
[null,null,"Fwd of AP","PS:+","Above BL"," "," "]
[null,"m","m","m","m","t·m","t·m","t",null,"m3","m3","m3","m3","m3","m3","m3"]
[null,0,34.78,-6.77,0.28000000000000003,0,0,{"$f":"M7*$I$2","v":2.0499999999999997E-2},{"$f":"M7/$M$163*100","v":2.2813861702370361E-2},0.02,0.02,0.02,0.02,0.03,0.06,0.13]
[null,0.05,35.18,-6.73,0.31,1,0.6,{"$f":"M8*$I$2","v":5.1249999999999997E-2},{"$f":"M8/$M$163*100","v":5.7034654255925903E-2},0.04,0.04,0.04,0.05,7.0000000000000007E-2,0.13,0.23]
[null,0.1,35.78,-6.61,0.35,2,1.6,{"$f":"M9*$I$2","v":0.10249999999999999},0.11406930851185181,7.0000000000000007E-2,0.08,0.08,0.1,0.15,0.24,0.38]
[null,0.15,36.369999999999997,-6.5,0.39,3,2.6,0.18449999999999997,0.20532475532133326,0.12,0.13,0.14000000000000001,0.18,0.26,0.39,0.56999999999999995]
[null,0.2,36.9,-6.41,0.43,4,3.6,0.30749999999999994,0.3422079255355554,0.18,0.2,0.23,0.3,0.41,0.57999999999999996,0.8]
[null,0.25,37.32,-6.35,0.46,4,4.5999999999999996,0.46124999999999999,0.51331188830333307,0.27,0.28999999999999998,0.35,0.45,0.61,0.82,1.08]
[null,0.3,37.659999999999997,-6.31,0.5,5,5.5,0.66625000000000001,0.74145050532703671,0.37,0.41,0.51,0.65,0.85,1.0900000000000001,1.38]
[null,0.35,37.92,-6.28,0.54,6,6.4,0.91224999999999989,1.0152168457554811,0.5,0.56999999999999995,0.7,0.89,1.1299999999999999,1.41,1.72]
[null,0.4,38.119999999999997,-6.26,0.56999999999999995,7,7.2,1.1992499999999999,1.334610909588666,0.66,0.77,0.94,1.17,1.44,1.75,2.1]
[null,0.45,38.28,-6.25,0.61,8,7.9,1.5169999999999999,1.6882257659754067,0.85,1.01,1.22,1.48,1.78,2.12,2.5]
[null,0.5,38.4,-6.25,0.64,8,8.6,1.8757499999999998,2.0874683457668879,1.0900000000000001,1.29,1.53,1.83,2.16,2.5299999999999998,2.92]
[null,0.55000000000000004,38.51,-6.25,0.67,9,9.1999999999999993,2.2549999999999999,2.50952478726074,1.36,1.6,1.88,2.2000000000000002,2.56,2.95,3.37]
[null,0.6,38.590000000000003,-6.25,0.71,10,9.8000000000000007,2.6752499999999997,2.9772089521593319,1.67,1.94,2.2599999999999998,2.61,2.99,3.41,3.85]
[null,0.65,38.659999999999997,-6.26,0.74,10,10.4,3.1159999999999997,3.4677069787602948,2.02,2.3199999999999998,2.66,3.04,3.45,3.88,4.34]
[null,0.7,38.72,-6.26,0.77,11,10.9,3.5772499999999998,3.9810188670636286,2.39,2.72,3.09,3.49,3.92,4.38,4.8499999999999996]
[null,0.75,38.770000000000003,-6.27,0.8,11,11.4,4.0692500000000003,4.5285515479205163,2.79,3.15,3.54,3.97,4.42,4.8899999999999997,5.38]
[null,0.8,38.81,-6.28,0.83,11,11.8,4.5817499999999995,5.0988980904797749,3.22,3.6,4.0199999999999996,4.47,4.9400000000000004,5.42,5.92]
[null,0.85,38.85,-6.28,0.87,12,12.1,5.1147499999999999,5.6920584947414055,3.67,4.08,4.5199999999999996,4.99,5.47,5.97,6.48]
[null,0.9,38.880000000000003,-6.29,0.9,12,12.4,5.6579999999999995,6.2966258298542188,4.1500000000000004,4.58,5.04,5.52,6.02,6.53,7.05]
[null,0.95,38.9,-6.3,0.93,12,12.6,6.2217500000000001,6.924007026669404,4.6399999999999997,5.0999999999999996,5.57,6.07,6.57,7.1,7.63]
[null,1,38.93,-6.31,0.96,13,12.9,6.7957499999999991,7.5627951543357748,5.16,5.63,6.12,6.63,7.14,7.67,8.2200000000000006]
[null,1.05,38.950000000000003,-6.32,0.99,13,13.1,7.38,8.2129902128533292,5.69,6.18,6.68,7.2,7.72,8.26,8.81]
[null,1.1000000000000001,38.97,-6.33,1.02,13,13.3,7.9744999999999999,8.87459220222207,6.24,6.74,7.25,7.78,8.31,8.86,9.42]
[null,1.1499999999999999,38.99,-6.34,1.05,13,13.5,8.5689999999999991,9.5361941915908108,6.8,7.31,7.83,8.36,8.91,9.4600000000000009,10.029999999999999]
[null,1.2,39,-6.35,1.08,13,13.7,9.1839999999999993,10.220610042661923,7.36,7.88,8.42,8.9600000000000009,9.51,10.08,10.64]
[null,1.25,39.020000000000003,-6.36,1.1000000000000001,14,13.8,9.8092499999999987,10.916432824584218,7.94,8.4700000000000006,9.01,9.57,10.130000000000001,10.69,11.27]
[null,1.3,39.03,-6.37,1.1299999999999999,14,14,10.434499999999998,11.612255606506514,8.5299999999999994,9.07,9.6199999999999992,10.18,10.74,11.31,11.89]
[null,1.35,39.04,-6.38,1.1599999999999999,14,14.1,11.059749999999998,12.308078388428809,9.1300000000000008,9.67,10.23,10.79,11.36,11.94,12.52]
[null,1.4,39.049999999999997,-6.39,1.19,14,14.2,11.705499999999999,13.026715032053476,9.73,10.28,10.85,11.42,11.99,12.57,13.16]
[null,1.45,39.06,-6.39,1.22,14,14.3,12.340999999999998,13.733944744826957,10.34,10.9,11.47,12.04,12.62,13.21,13.79]
[null,1.5,39.07,-6.4,1.25,14,14.3,12.986749999999999,14.452581388451623,10.95,11.52,12.09,12.67,13.26,13.84,14.43]
[null,1.55,39.08,-6.41,1.28,14,14.4,13.642749999999999,15.182624962927477,11.57,12.15,12.72,13.31,13.89,14.48,15.07]
[null,1.6,39.090000000000003,-6.42,1.3,14,14.4,14.288499999999999,15.901261606552142,12.2,12.78,13.36,13.94,14.53,15.12,15.71]
[null,1.65,39.1,-6.43,1.33,14,14.4,14.944499999999998,16.631305181027994,12.83,13.41,14,14.58,15.17,15.76,16.36]
[null,1.7,39.1,-6.43,1.36,14,14.4,15.600499999999998,17.361348755503844,13.46,14.04,14.63,15.22,15.81,16.399999999999999,16.989999999999998]
[null,1.75,39.11,-6.44,1.38,14,14.4,16.235999999999997,18.068578468277327,14.07,14.66,15.25,15.84,16.43,17.02,17.61]
[null,1.8,39.119999999999997,-6.45,1.41,14,14.4,16.871500000000001,18.775808181050806,14.68,15.27,15.86,16.46,17.05,17.64,18.23]
[null,1.85,39.119999999999997,-6.46,1.44,14,14.4,17.496749999999999,19.471630962973101,15.3,15.89,16.48,17.07,17.670000000000002,18.260000000000002,18.84]
[null,1.9,39.130000000000003,-6.46,1.46,14,14.3,18.132249999999999,20.178860675746584,15.92,16.510000000000002,17.100000000000001,17.690000000000001,18.28,18.87,19.46]
[null,1.95,39.130000000000003,-6.47,1.49,14,14.2,18.767749999999996,20.886090388520063,16.53,17.13,17.72,18.309999999999999,18.899999999999999,19.48,20.07]
[null,2,39.14,-6.48,1.51,14,14.2,19.393000000000001,21.581913170442363,17.149999999999999,17.739999999999998,18.329999999999998,18.920000000000002,19.510000000000002,20.100000000000001,20.68]
[null,2.0499999999999998,39.14,-6.48,1.54,14,14.1,20.028499999999998,22.289142883215842,17.77,18.36,18.95,19.54,20.12,20.7,21.28]
[null,2.1,39.15,-6.49,1.56,14,14,20.653749999999995,22.984965665138137,18.38,18.97,19.559999999999999,20.149999999999999,20.73,21.31,21.89]
[null,2.15,39.15,-6.49,1.59,14,13.9,21.279,23.680788447060436,19,19.579999999999998,20.170000000000002,20.76,21.34,21.91,22.49]
[null,2.2000000000000002,39.15,-6.5,1.61,13,13.8,21.893999999999998,24.365204298131545,19.61,20.190000000000001,20.78,21.36,21.94,22.51,23.09]
[null,2.25,39.159999999999997,-6.5,1.64,13,13.7,22.509,25.049620149202656,20.22,20.8,21.38,21.96,22.54,23.11,23.68]
[null,2.2999999999999998,39.159999999999997,-6.51,1.66,13,13.6,23.123999999999995,25.734036000273765,20.82,21.41,21.99,22.56,23.14,23.71,24.27]
[null,2.35,39.159999999999997,-6.52,1.69,13,13.5,23.738999999999997,26.418451851344877,21.43,22.01,22.59,23.16,23.73,24.3,24.86]
[null,2.4,39.17,-6.52,1.71,13,13.3,24.343749999999996,27.091460771564801,22.03,22.61,23.18,23.75,24.32,24.88,25.44]
[null,2.4500000000000002,39.17,-6.53,1.74,13,13.2,24.948499999999999,27.764469691784726,22.63,23.2,23.78,24.34,24.91,25.47,26.02]
[null,2.5,39.17,-6.53,1.76,13,13.1,25.553249999999998,28.437478612004657,23.22,23.8,24.36,24.93,25.49,26.05,26.6]
[null,2.5499999999999998,39.18,-6.53,1.78,13,13,26.147749999999998,29.099080601373394,23.81,24.38,24.95,25.51,26.07,26.62,27.17]
[null,2.6,39.18,-6.54,1.81,13,12.9,26.742249999999999,29.760682590742139,24.4,24.97,25.53,26.09,26.65,27.2,27.74]
[null,2.65,39.18,-6.54,1.83,12,12.8,27.336749999999999,30.42228458011088,24.99,25.55,26.11,26.67,27.22,27.77,28.31]
[null,2.7,39.19,-6.55,1.86,12,12.6,27.920999999999996,31.07247963862843,25.57,26.13,26.69,27.24,27.79,28.33,28.88]
[null,2.75,39.19,-6.55,1.88,12,12.5,28.505249999999997,31.722674697145987,26.15,26.7,27.26,27.81,28.35,28.9,29.44]
[null,2.8,39.19,-6.56,1.9,12,12.4,29.079249999999998,32.361462824812357,26.72,27.27,27.83,28.37,28.92,29.46,30]
[null,2.85,39.19,-6.56,1.93,12,12.3,29.653249999999996,33.00025095247873,27.29,27.84,28.39,28.93,29.48,30.01,30.55]
[null,2.9,39.200000000000003,-6.56,1.95,12,12.2,30.227249999999994,33.639039080145096,27.86,28.41,28.95,29.49,30.03,30.57,31.1]
[null,2.95,39.200000000000003,-6.57,1.97,12,12.1,30.80125,34.27782720781147,28.42,28.97,29.51,30.05,30.59,31.12,31.66]
[null,3,39.200000000000003,-6.57,1.99,12,12,31.364999999999998,34.905208404626656,28.98,29.53,30.07,30.6,31.14,31.67,32.200000000000003]
[null,3.05,39.200000000000003,-6.58,2.02,12,11.9,31.928749999999997,35.532589601441835,29.54,30.08,30.62,31.15,31.69,32.22,32.75]
[null,3.1,39.21,-6.58,2.04,12,11.9,32.4925,36.159970798257021,30.09,30.63,31.17,31.7,32.229999999999997,32.76,33.29]
[null,3.15,39.21,-6.58,2.06,11,11.8,33.056249999999999,36.787351995072207,30.65,31.18,31.72,32.25,32.78,33.31,33.83]
[null,3.2,39.21,-6.59,2.09,11,11.7,33.609749999999998,37.403326261036206,31.2,31.73,32.26,32.79,33.32,33.85,34.369999999999997]
[null,3.25,39.21,-6.59,2.11,11,11.6,34.163249999999998,{"$f":"M72/$M$163*100","v":38.019300527000205},31.74,32.270000000000003,32.799999999999997,33.33,33.86,34.39,34.909999999999997]
[null,3.3,39.22,-6.59,2.13,11,11.5,{"$f":"M73*$I$2","v":34.716749999999998},38.635274792964204,32.28,32.82,33.340000000000003,33.869999999999997,34.4,34.92,35.450000000000003]
[null,3.35,39.22,-6.6,2.15,11,11.5,35.27024999999999,39.251249058928202,32.83,33.35,33.880000000000003,34.409999999999997,34.93,35.46,35.979999999999997]
[null,3.4,39.22,-6.6,2.1800000000000002,11,11.4,35.813499999999998,39.855816394041014,33.36,33.89,34.42,34.94,35.47,35.99,36.51]
[null,3.45,39.229999999999997,-6.6,2.2000000000000002,11,11.3,36.356749999999998,40.460383729153833,33.9,34.43,34.950000000000003,35.47,36,36.520000000000003,37.04]
[null,3.5,39.229999999999997,-6.61,2.2200000000000002,11,11.3,36.9,41.064951064266651,34.43,34.96,35.479999999999997,36,36.53,37.049999999999997,37.57]
[null,3.55,39.229999999999997,-6.61,2.2400000000000002,11,11.2,37.443249999999999,41.66951839937947,34.97,35.49,36.01,36.53,37.049999999999997,37.58,38.1]
[null,3.6,39.229999999999997,-6.61,2.27,11,11.1,37.986499999999999,42.274085734492282,35.49,36.020000000000003,36.54,37.06,37.58,38.1,38.619999999999997]
[null,3.65,39.24,-6.62,2.29,11,11.1,38.519499999999994,42.867246138753906,36.020000000000003,36.54,37.06,37.58,38.1,38.619999999999997,39.15]
[null,3.7,39.24,-6.62,2.31,11,11,39.062749999999994,43.471813473866725,36.549999999999997,37.07,37.590000000000003,38.11,38.630000000000003,39.15,39.67]
[null,3.75,39.24,-6.62,2.33,11,11,39.595750000000002,44.064973878128356,37.07,37.590000000000003,38.11,38.630000000000003,39.15,39.67,40.19]
[null,3.8,39.25,-6.63,2.35,11,10.9,40.118499999999997,44.646727351538793,37.590000000000003,38.11,38.630000000000003,39.14,39.659999999999997,40.18,40.71]
[null,3.85,39.25,-6.63,2.38,11,10.8,40.651499999999992,45.239887755800424,38.11,38.630000000000003,39.14,39.659999999999997,40.18,40.700000000000003,41.22]
[null,3.9,39.25,-6.63,2.4,11,10.8,41.184499999999993,45.833048160062056,38.630000000000003,39.14,39.659999999999997,40.18,40.700000000000003,41.22,41.74]
[null,3.95,39.26,-6.63,2.42,10,10.7,41.707249999999995,46.4148016334725,39.14,39.659999999999997,40.17,40.69,41.21,41.73,42.25]
[null,4,39.26,-6.64,2.44,10,10.7,42.23,46.996555106882951,39.65,40.17,40.69,41.2,41.72,42.24,42.76]
[null,4.05,39.26,-6.64,2.4700000000000002,10,10.6,42.752749999999999,47.578308580293388,40.159999999999997,40.68,41.2,41.71,42.23,42.75,43.28]
[null,4.0999999999999996,39.270000000000003,-6.64,2.4900000000000002,10,10.6,43.275499999999994,48.160062053703825,40.67,41.19,41.7,42.22,42.74,43.26,43.79]
[null,4.1500000000000004,39.270000000000003,-6.64,2.5099999999999998,10,10.5,43.798249999999996,48.741815527114277,41.18,41.7,42.21,42.73,43.25,43.77,44.29]
[null,4.2,39.28,-6.65,2.5299999999999998,10,10.5,44.320999999999998,49.323569000524728,41.69,42.2,42.72,43.24,43.76,44.28,44.8]
[null,4.25,39.28,-6.65,2.5499999999999998,10,10.4,44.833500000000001,49.893915543083985,42.19,42.71,43.22,43.74,44.26,44.78,45.31]
[null,4.3,39.29,-6.65,2.58,10,10.4,45.345999999999997,50.464262085643242,42.69,43.21,43.72,44.24,44.76,45.29,45.82]
[null,4.3499999999999996,39.29,-6.66,2.6,10,10.3,45.858499999999999,51.034608628202506,43.19,43.71,44.23,44.74,45.27,45.79,46.32]
[null,4.4000000000000004,39.29,-6.66,2.62,10,10.3,46.381249999999994,51.616362101612943,43.69,44.21,44.73,45.25,45.77,46.3,46.83]
[null,4.45,39.299999999999997,-6.66,2.64,10,10.199999999999999,46.893749999999997,52.186708644172199,44.19,44.71,45.22,45.75,46.27,46.8,47.33]
[null,4.5,39.299999999999997,-6.66,2.66,10,10.199999999999999,47.396000000000001,52.745648255880276,44.69,45.2,45.72,46.24,46.77,47.3,47.84]
[null,4.55,39.31,-6.66,2.69,10,10.199999999999999,47.908499999999997,53.315994798439533,45.18,45.7,46.22,46.74,47.27,47.81,48.35]
[null,4.5999999999999996,39.31,-6.67,2.71,10,10.1,48.420999999999999,53.886341340998797,45.68,46.19,46.71,47.24,47.77,48.32,48.87]
[null,4.6500000000000004,39.32,-6.67,2.73,10,10.199999999999999,48.933499999999995,54.456687883558054,46.17,46.69,47.21,47.74,48.28,48.83,49.39]
[null,4.7,39.32,-6.67,2.75,10,10.3,49.445999999999998,55.027034426117318,46.66,47.18,47.71,48.24,48.79,49.35,49.91]
[null,4.75,39.33,-6.67,2.78,10,10.4,49.968749999999993,55.608787899527755,47.15,47.68,48.21,48.75,49.3,49.87,50.44]
[null,4.8,39.33,-6.68,2.8,10,10.4,50.491499999999995,56.190541372938199,47.65,48.18,48.71,49.26,49.82,50.39,50.98]
[null,4.8499999999999996,39.340000000000003,-6.68,2.82,10,10.5,51.024499999999996,56.783701777199838,48.15,48.68,49.22,49.78,50.35,50.92,51.52]
[null,4.9000000000000004,39.35,-6.68,2.84,10,10.6,51.55749999999999,57.376862181461455,48.65,49.19,49.74,50.3,50.87,51.46,52.06]
[null,4.95,39.35,-6.68,2.87,10,10.6,52.100749999999991,57.981429516574266,49.15,49.7,50.26,50.83,51.41,52,52.61]
[null,5,39.36,-6.68,2.89,10,10.7,52.643999999999998,58.585996851687085,49.66,50.21,50.78,51.36,51.94,52.55,53.16]
[null,5.05,39.369999999999997,-6.69,2.92,10,10.8,53.187249999999999,59.190564186799897,50.18,50.74,51.31,51.89,52.49,53.1,53.72]
[null,5.0999999999999996,39.369999999999997,-6.69,2.94,11,10.8,53.740749999999998,59.806538452763903,50.69,51.26,51.84,52.43,53.03,53.65,54.28]
[null,5.15,39.380000000000003,-6.69,2.96,11,10.9,54.294249999999991,60.422512718727909,51.22,51.79,52.38,52.97,53.59,54.21,54.85]
[null,5.2,39.39,-6.69,2.99,11,10.9,54.857999999999997,61.049893915543088,51.74,52.32,52.92,53.52,54.14,54.78,55.42]
[null,5.25,39.39,-6.69,3.01,11,11,55.431999999999995,61.688682043209454,52.27,52.86,53.46,54.08,54.71,55.35,56]
[null,5.3,39.4,-6.7,3.04,11,11.1,56.005999999999993,62.327470170875834,52.81,53.41,54.02,54.64,55.27,55.92,56.58]
[null,5.35,39.409999999999997,-6.7,3.06,11,11.1,56.58,62.966258298542201,53.35,53.96,54.57,55.2,55.84,56.5,57.17]
[null,5.4,39.409999999999997,-6.7,3.09,11,11.2,57.164249999999996,63.616453357059754,53.9,54.51,55.13,55.77,56.42,57.09,57.76]
[null,5.45,39.42,-6.7,3.11,11,11.2,57.7485,64.266648415577308,54.45,55.07,55.7,56.34,57,57.68,58.36]
[null,5.5,39.43,-6.7,3.14,11,11.3,58.342999999999996,64.928250404946056,55,55.63,56.27,56.92,57.59,58.27,58.97]
[null,5.55,39.44,-6.7,3.17,11,11.4,58.947749999999992,65.601259325165969,55.56,56.2,56.85,57.51,58.18,58.87,59.58]
[null,5.6,39.450000000000003,-6.71,3.19,11,11.4,59.552499999999995,66.274268245385898,56.13,56.77,57.43,58.1,58.78,59.48,60.19]
[null,5.65,39.450000000000003,-6.71,3.22,11,11.5,60.157249999999991,66.947277165605826,56.7,57.35,58.01,58.69,59.38,60.09,60.81]
[null,5.7,39.46,-6.71,3.25,11,11.5,60.772249999999993,67.631693016676934,57.27,57.93,58.61,59.29,59.99,60.71,61.43]
[null,5.75,39.47,-6.71,3.27,11,11.6,61.397499999999994,68.327515798599222,57.85,58.52,59.2,59.9,60.6,61.33,62.06]
[null,5.8,39.479999999999997,-6.71,3.3,11,11.6,62.022749999999995,69.023338580521525,58.44,59.11,59.8,60.51,61.22,61.95,62.7]
[null,5.85,39.49,-6.71,3.33,11,11.7,62.647999999999989,69.719161362443813,59.03,59.71,60.41,61.12,61.85,62.58,63.34]
[null,5.9,39.49,-6.71,3.35,11,11.7,63.283499999999997,70.42639107521731,59.63,60.32,61.02,61.74,62.47,63.22,63.98]
[null,5.95,39.5,-6.72,3.38,11,11.8,63.929249999999989,71.145027718841973,60.23,60.93,61.64,62.37,63.11,63.86,64.63]
[null,6,39.51,-6.72,3.41,12,11.8,64.574999999999989,71.863664362466636,60.83,61.54,62.26,63,63.75,64.510000000000005,65.290000000000006]
[null,6.05,39.520000000000003,-6.72,3.44,12,11.9,65.220749999999995,72.582301006091313,61.44,62.16,62.89,63.63,64.39,65.16,65.95]
[null,6.1,39.53,-6.72,3.46,12,11.9,65.887,73.323751511418351,62.06,62.78,63.52,64.28,65.040000000000006,65.819999999999993,66.62]
[null,6.15,39.54,-6.72,3.49,12,12,66.542999999999992,74.053795085894194,62.68,63.42,64.16,64.92,65.7,66.489999999999995,67.290000000000006]
[null,6.2,39.549999999999997,-6.72,3.52,12,12,67.239999999999995,74.829466383774772,63.33,64.069999999999993,64.83,65.599999999999994,66.38,67.180000000000007,67.989999999999995]
[null,6.25,39.56,-6.73,3.55,12,12.1,67.936999999999998,75.605137681655378,63.99,64.739999999999995,65.5,66.28,67.069999999999993,67.88,68.7]
[null,6.3,39.57,-6.73,3.58,12,12.1,68.64425,76.392215910387151,64.650000000000006,65.41,66.180000000000007,66.97,67.77,68.58,69.41]
[null,6.35,39.57,-6.73,3.61,12,12.2,69.351499999999987,77.179294139118923,65.319999999999993,66.08,66.87,67.66,68.47,69.290000000000006,70.13]
[null,6.4,39.58,-6.73,3.64,12,12.2,70.068999999999988,77.97777929870189,65.989999999999995,66.77,67.56,68.36,69.180000000000007,70.010000000000005,70.849999999999994]
[null,6.45,39.590000000000003,-6.73,3.67,12,12.3,70.78649999999999,{"$f":"M136/$M$163*100","v":78.776264458284857},66.67,67.45,68.25,69.06,69.89,70.73,71.58]
[null,6.5,39.6,-6.73,3.7,12,12.3,{"$f":"M137*$I$2","v":71.51424999999999},79.586156548719003,67.349999999999994,68.150000000000006,68.95,69.77,70.61,71.459999999999994,72.319999999999993]
[null,6.55,39.61,-6.74,3.73,12,12.4,72.252249999999989,80.407455570004331,68.040000000000006,68.84,69.66,70.489999999999995,71.33,72.19,73.06]
[null,6.6,39.619999999999997,-6.74,3.76,12,12.4,72.990249999999989,81.228754591289658,68.739999999999995,69.55,70.37,71.209999999999994,72.06,72.930000000000007,73.81]
[null,6.65,39.630000000000003,-6.74,3.79,12,12.5,73.738499999999988,82.061460543426193,69.44,70.260000000000005,71.09,71.94,72.8,73.67,74.56]
[null,6.7,39.64,-6.74,3.82,12,12.5,74.486750000000001,82.8941664955627,70.150000000000006,70.97,71.81,72.67,73.540000000000006,74.42,75.319999999999993]
[null,6.75,39.65,-6.74,3.85,12,12.6,75.245249999999984,83.738279378550402,70.86,71.69,72.540000000000006,73.41,74.290000000000006,75.180000000000007,76.09]
[null,6.8,39.659999999999997,-6.74,3.88,12,12.6,76.003749999999997,84.582392261538118,71.58,72.42,73.28,74.150000000000006,75.040000000000006,75.94,76.86]
[null,6.85,39.67,-6.75,3.91,12,12.7,76.772499999999994,85.437912075377014,72.3,73.150000000000006,74.02,74.900000000000006,75.8,76.709999999999994,77.63]
[null,6.9,39.68,-6.75,3.94,12,12.7,77.55149999999999,86.304838820067076,73.03,73.89,74.77,75.66,76.56,77.48,78.42]
[null,6.95,39.69,-6.75,3.98,12,12.8,78.330500000000001,87.171765564757152,73.760000000000005,74.63,75.52,76.42,77.33,78.260000000000005,79.209999999999994]
[null,7,39.700000000000003,-6.75,4.01,13,12.8,79.119749999999996,88.050099240298408,74.5,75.38,76.28,77.19,78.11,79.05,80]
[null,7.05,39.71,-6.75,4.04,13,12.9,79.908999999999992,88.928432915839664,75.25,76.14,77.040000000000006,77.959999999999994,78.89,79.84,80.8]
[null,7.1,39.72,-6.75,4.07,13,12.9,80.708499999999987,89.818173522232101,76,76.900000000000006,77.81,78.739999999999995,79.680000000000007,80.63,81.599999999999994]
[null,7.15,39.729999999999997,-6.76,4.0999999999999996,13,13,81.507999999999996,90.707914128624552,76.760000000000005,77.67,78.59,79.52,80.47,81.44,82.41]
[null,7.2,39.74,-6.76,4.13,13,13.1,82.31774999999999,91.609061665868182,77.52,78.44,79.37,80.31,81.27,82.24,83.23]
[null,7.25,39.75,-6.76,4.17,13,13.1,83.137749999999997,92.521616133963008,78.290000000000006,79.22,80.16,81.11,82.08,83.06,84.05]
[null,7.3,39.76,-6.76,4.2,13,13.2,83.95774999999999,93.434170602057804,79.069999999999993,80,80.95,81.91,82.89,83.88,84.88]
[null,7.35,39.770000000000003,-6.76,4.2300000000000004,13,13.2,84.787999999999997,94.35813200100381,79.849999999999994,80.790000000000006,81.75,82.72,83.7,84.7,85.71]
[null,7.4,39.78,-6.77,4.26,13,13.3,85.618249999999989,95.282093399949815,80.64,81.59,82.55,83.53,84.52,85.53,86.42]
[null,7.45,39.79,-6.77,4.29,13,13.4,86.458749999999981,96.217461729746987,81.430000000000007,82.39,83.36,84.35,85.35,86.37,86.92]
[null,7.5,39.799999999999997,-6.77,4.33,13,13.4,87.299250000000001,97.152830059544186,82.22,83.19,84.18,85.17,86.18,87.02,87.26]
[null,7.55,39.81,-6.77,4.3600000000000003,13,13.5,88.149999999999991,98.099605320192552,83.03,84.01,85,86,87.02,87.4,87.49]
[null,7.6,39.82,-6.77,4.3899999999999997,13,13.6,89.010999999999996,99.057787511692112,83.84,84.82,85.82,86.84,87.53,87.59,87.61]
[null,7.65,39.83,-6.78,4.42,13,13.6,89.851499999999987,99.993155841489283,84.65,85.65,86.65,87.66,87.66,87.66,87.66]
[null,7.7,39.83,-6.78,4.42,13,13.6,89.853549999999998,99.995437227659536,85.42,86.4,87.35,87.662000000000006,87.66,87.66,87.66]
[null,7.75,39.83,-6.78,4.42,13,13.6,89.855599999999995,99.997718613829761,86.12,87.04,87.66,87.664000000000001,87.66,87.66,87.66]
[null,7.8,39.83,-6.78,4.42,0,0,89.857649999999992,100,86.72,87.48,87.66,87.665999999999997,87.66,87.66,87.66]

{"sheet":"24","index":30,"n_rows":200,"n_cols":16,"rows_kept":200,"cut":false,"hidden":false,"merged":[]}
[]
[null,"W.B. 3 PS",null,null,null,null,null,"S.G.",1.0249999999999999,"[t/m3]"]
[]
[null,"GAUGE","LCG","TCG","VCG","FSM (transv)","FSM (long)","Weight","Fill (%)","Trim=-1,5","Trim=1,0","Trim=-0,5","Trim=0","Trim=0,5","Trim=1,0","Trim=1,5"]
[null,null,"Fwd of AP","PS:+","Above BL"," "," "]
[null,"m","m","m","m","t·m","t·m","t",null,"m3","m3","m3","m3","m3","m3","m3"]
[null,0,32.020000000000003,7.48,1.29,0,0.7,{"$f":"M7*$I$2","v":0.29724999999999996},{"$f":"M7/$M$117*100","v":1.0338680926916219},0.19,0.21,0.25,0.28999999999999998,0.34,0.39,0.45]
[null,0.05,31.88,7.56,1.32,1,0.7,{"$f":"M8*$I$2","v":0.59449999999999992},{"$f":"M8/$M$117*100","v":2.0677361853832439},0.43,0.48,0.53,0.57999999999999996,0.62,0.67,0.72]
[null,0.1,31.84,7.59,1.34,1,0.7,0.88149999999999995,3.0659536541889483,0.72,0.76,0.81,0.86,0.91,0.96,1]
[null,0.15,31.81,7.61,1.37,1,0.7,1.1684999999999999,4.0641711229946518,1,1.05,1.1000000000000001,1.1399999999999999,1.19,1.24,1.29]
[null,0.2,31.8,7.62,1.39,1,0.7,1.4657499999999999,5.0980392156862742,1.28,1.33,1.38,1.43,1.48,1.52,1.57]
[null,0.25,31.79,7.63,1.42,1,0.7,1.7527499999999998,6.0962566844919781,1.57,1.62,1.66,1.71,1.76,1.81,1.86]
[null,0.3,31.78,7.63,1.44,1,0.7,2.0499999999999998,7.1301247771836014,1.85,1.9,1.95,2,2.04,2.09,2.14]
[null,0.35,31.78,7.64,1.47,1,0.7,2.3369999999999997,8.1283422459893035,2.13,2.1800000000000002,2.23,2.2799999999999998,2.33,2.37,2.42]
[null,0.4,31.77,7.65,1.49,1,0.7,2.6239999999999997,9.1265597147950093,2.42,2.4700000000000002,2.5099999999999998,2.56,2.61,2.66,2.7]
[null,0.45,31.77,7.65,1.52,1,0.6,2.9109999999999996,10.124777183600713,2.7,2.75,2.8,2.84,2.89,2.94,2.99]
[null,0.5,31.77,7.65,1.54,1,0.6,3.2082499999999996,11.158645276292333,2.98,3.03,3.08,3.13,3.17,3.22,3.27]
[null,0.55000000000000004,31.77,7.66,1.57,1,0.6,3.49525,12.156862745098039,3.27,3.31,3.36,3.41,3.45,3.5,3.55]
[null,0.6,31.76,7.66,1.59,1,0.6,3.7822499999999994,13.155080213903741,3.55,3.59,3.64,3.69,3.73,3.78,3.83]
[null,0.65,31.76,7.67,1.62,1,0.6,4.0692500000000003,14.153297682709448,3.83,3.87,3.92,3.97,4.01,4.0599999999999996,4.0999999999999996]
[null,0.7,31.76,7.67,1.64,1,0.6,4.3460000000000001,15.115864527629233,4.0999999999999996,4.1500000000000004,4.2,4.24,4.29,4.34,4.38]
[null,0.75,31.76,7.67,1.67,1,0.6,4.6329999999999991,16.114081996434937,4.38,4.43,4.4800000000000004,4.5199999999999996,4.57,4.6100000000000003,4.66]
[null,0.8,31.75,7.67,1.69,1,0.6,4.919999999999999,17.112299465240639,4.66,4.71,4.75,4.8,4.84,4.8899999999999997,4.93]
[null,0.85,31.75,7.68,1.72,1,0.6,5.1967499999999998,18.074866310160427,4.9400000000000004,4.9800000000000004,5.03,5.07,5.12,5.16,5.21]
[null,0.9,31.75,7.68,1.74,1,0.6,5.4837499999999988,19.073083778966129,5.21,5.26,5.3,5.35,5.39,5.43,5.48]
[null,0.95,31.75,7.68,1.77,1,0.5,5.7604999999999995,20.035650623885918,5.48,5.53,5.57,5.62,5.66,5.71,5.75]
[null,1,31.75,7.68,1.79,1,0.5,6.0372499999999993,20.998217468805702,5.76,5.8,5.85,5.89,5.93,5.98,6.02]
[null,1.05,31.74,7.69,1.81,1,0.5,6.3139999999999992,21.96078431372549,6.03,6.07,6.12,6.16,6.2,6.25,6.29]
[null,1.1000000000000001,31.74,7.69,1.84,1,0.5,6.590749999999999,22.923351158645275,6.3,6.34,6.39,6.43,6.47,6.52,6.56]
[null,1.1499999999999999,31.74,7.69,1.86,0,0.5,6.8674999999999997,23.885918003565063,6.57,6.61,6.66,6.7,6.74,6.78,6.82]
[null,1.2,31.74,7.69,1.89,0,0.5,7.1442499999999995,24.848484848484848,6.84,6.88,6.92,6.97,7.01,7.05,7.09]
[null,1.25,31.74,7.7,1.91,0,0.5,7.4107500000000002,25.775401069518715,7.11,7.15,7.19,7.23,7.27,7.31,7.35]
[null,1.3,31.73,7.7,1.94,0,0.5,7.6874999999999991,26.737967914438503,7.37,7.41,7.46,7.5,7.54,7.58,7.62]
[null,1.35,31.73,7.7,1.96,0,0.5,7.9539999999999988,27.664884135472366,7.64,7.68,7.72,7.76,7.8,7.84,7.88]
[null,1.4,31.73,7.7,1.98,0,0.5,8.2204999999999995,28.591800356506237,7.9,7.94,7.98,8.02,8.06,8.1,8.14]
[null,1.45,31.73,7.7,2.0099999999999998,0,0.5,8.4869999999999983,29.518716577540104,8.17,8.2100000000000009,8.25,8.2799999999999994,8.32,8.36,8.4]
[null,1.5,31.72,7.7,2.0299999999999998,0,0.5,8.7637499999999999,30.481283422459892,8.43,8.4700000000000006,8.51,8.5500000000000007,8.59,8.6199999999999992,8.66]
[null,1.55,31.72,7.71,2.06,0,0.4,9.0302500000000006,31.408199643493763,8.69,8.73,8.77,8.81,8.84,8.8800000000000008,8.92]
[null,1.6,31.72,7.71,2.08,0,0.4,9.2967499999999994,32.33511586452763,8.9499999999999993,8.99,9.0299999999999994,9.07,9.1,9.14,9.18]
[null,1.65,31.72,7.71,2.1,0,0.4,9.552999999999999,33.226381461675579,9.2100000000000009,9.25,9.2899999999999991,9.32,9.36,9.4,9.44]
[null,1.7,31.71,7.71,2.13,0,0.4,9.8194999999999997,34.15329768270945,9.4700000000000006,9.5,9.5399999999999991,9.58,9.6199999999999992,9.66,9.69]
[null,1.75,31.71,7.71,2.15,0,0.4,10.085999999999999,35.080213903743314,9.7200000000000006,9.76,9.8000000000000007,9.84,9.8699999999999992,9.91,9.9499999999999993]
[null,1.8,31.71,7.71,2.1800000000000002,0,0.4,10.342249999999998,35.971479500891263,9.98,10.02,10.06,10.09,10.130000000000001,10.17,10.199999999999999]
[null,1.85,31.71,7.71,2.2000000000000002,0,0.4,10.608749999999999,36.898395721925134,10.24,10.27,10.31,10.35,10.38,10.42,10.46]
[null,1.9,31.7,7.72,2.2200000000000002,0,0.4,10.864999999999998,37.789661319073083,10.49,10.53,10.57,10.6,10.64,10.67,10.71]
[null,1.95,31.7,7.72,2.25,0,0.4,11.121249999999998,38.680926916221033,10.75,10.78,10.82,10.85,10.89,10.93,10.96]
[null,2,31.7,7.72,2.27,0,0.4,11.387749999999999,39.607843137254903,11,11.04,11.07,11.11,11.14,11.18,11.21]
[null,2.0499999999999998,31.7,7.72,2.29,0,0.4,11.643999999999998,40.499108734402853,11.25,11.29,11.32,11.36,11.39,11.43,11.46]
[null,2.1,31.69,7.72,2.3199999999999998,0,0.4,11.900249999999998,41.390374331550802,11.51,11.54,11.58,11.61,11.65,11.68,11.71]
[null,2.15,31.69,7.72,2.34,0,0.4,12.156499999999998,42.281639928698752,11.76,11.79,11.83,11.86,11.9,11.93,11.96]
[null,2.2000000000000002,31.69,7.72,2.37,0,0.4,12.412749999999999,43.172905525846701,12.01,12.04,12.08,12.11,12.15,12.18,12.21]
[null,2.25,31.69,7.73,2.39,0,0.4,12.668999999999999,44.064171122994651,12.26,12.29,12.33,12.36,12.39,12.43,12.46]
[null,2.2999999999999998,31.68,7.73,2.41,0,0.4,12.925249999999998,44.9554367201426,12.51,12.54,12.58,12.61,12.64,12.68,12.71]
[null,2.35,31.68,7.73,2.44,0,0.4,13.181499999999998,45.84670231729055,12.76,12.79,12.82,12.86,12.89,12.92,12.96]
[null,2.4,31.68,7.73,2.46,0,0.4,13.437749999999998,46.737967914438499,13.01,13.04,13.07,13.11,13.14,13.17,13.2]
[null,2.4500000000000002,31.68,7.73,2.48,0,0.4,13.683749999999998,47.593582887700528,13.25,13.29,13.32,13.35,13.39,13.42,13.45]
[null,2.5,31.68,7.73,2.5099999999999998,0,0.4,13.939999999999998,48.484848484848477,13.5,13.53,13.57,13.6,13.63,13.66,13.7]
[null,2.5499999999999998,31.67,7.73,2.5299999999999998,0,0.4,14.196249999999999,49.376114081996434,13.75,13.78,13.81,13.85,13.88,13.91,13.94]
[null,2.6,31.67,7.73,2.56,0,0.4,14.442249999999998,50.231729055258469,14,14.03,14.06,14.09,14.12,14.15,14.19]
[null,2.65,31.67,7.73,2.58,0,0.4,14.698499999999999,51.122994652406419,14.24,14.27,14.3,14.34,14.37,14.4,14.43]
[null,2.7,31.67,7.74,2.6,0,0.3,14.944499999999998,51.978609625668447,14.49,14.52,14.55,14.58,14.61,14.64,14.68]
[null,2.75,31.66,7.74,2.63,0,0.3,15.200749999999999,52.869875222816397,14.73,14.76,14.8,14.83,14.86,14.89,14.92]
[null,2.8,31.66,7.74,2.65,0,0.3,15.44675,53.725490196078432,14.98,15.01,15.04,15.07,15.1,15.13,15.16]
[null,2.85,31.66,7.74,2.68,0,0.3,15.692749999999998,54.581105169340461,15.22,15.25,15.28,15.31,15.35,15.38,15.41]
[null,2.9,31.66,7.74,2.7,0,0.3,15.949,55.47237076648841,15.47,15.5,15.53,15.56,15.59,15.62,15.65]
[null,2.95,31.65,7.74,2.72,0,0.3,16.195,56.327985739750439,15.71,15.74,15.77,15.8,15.83,15.86,15.89]
[null,3,31.65,7.74,2.75,0,0.3,16.451249999999998,57.219251336898388,15.95,15.98,16.010000000000002,16.05,16.079999999999998,16.11,16.14]
[null,3.05,31.65,7.74,2.77,0,0.3,16.697249999999997,58.074866310160424,16.2,16.23,16.260000000000002,16.29,16.32,16.350000000000001,16.38]
[null,3.1,31.65,7.74,2.79,0,0.3,16.943249999999999,58.930481283422466,16.440000000000001,16.47,16.5,16.53,16.559999999999999,16.59,16.62]
[null,3.15,31.65,7.74,2.82,0,0.3,17.189249999999998,59.786096256684488,16.68,16.71,16.739999999999998,16.77,16.8,16.829999999999998,16.86]
[null,3.2,31.64,7.74,2.84,0,0.3,17.445499999999999,60.677361853832437,16.93,16.96,16.989999999999998,17.02,17.05,17.079999999999998,17.11]
[null,3.25,31.64,7.74,2.87,0,0.3,{"$f":"M72*$I$2","v":17.691500000000001},{"$f":"M72/$M$117*100","v":61.53297682709448},17.170000000000002,17.2,17.23,17.260000000000002,17.29,17.32,17.350000000000001]
[null,3.3,31.64,7.75,2.89,0,0.3,17.9375,62.388591800356508,17.41,17.440000000000001,17.47,17.5,17.53,17.559999999999999,17.59]
[null,3.35,31.64,7.75,2.91,0,0.3,18.183499999999995,63.244206773618529,17.649999999999999,17.68,17.71,17.739999999999998,17.77,17.8,17.829999999999998]
[null,3.4,31.64,7.75,2.94,0,0.3,18.429499999999997,64.099821746880565,17.899999999999999,17.93,17.95,17.98,18.010000000000002,18.04,18.07]
[null,3.45,31.63,7.75,2.96,0,0.3,18.685749999999999,64.991087344028514,18.14,18.170000000000002,18.2,18.23,18.260000000000002,18.29,18.32]
[null,3.5,31.63,7.75,2.99,0,0.3,18.931749999999997,65.84670231729055,18.38,18.41,18.440000000000001,18.47,18.5,18.53,18.559999999999999]
[null,3.55,31.63,7.75,3.01,0,0.3,19.17775,66.702317290552585,18.62,18.649999999999999,18.68,18.71,18.739999999999998,18.77,18.8]
[null,3.6,31.63,7.75,3.03,0,0.3,19.423749999999998,67.557932263814607,18.86,18.89,18.920000000000002,18.95,18.98,19.010000000000002,19.04]
[null,3.65,31.63,7.75,3.06,0,0.3,19.669750000000001,68.413547237076656,19.11,19.14,19.16,19.190000000000001,19.22,19.25,19.28]
[null,3.7,31.63,7.75,3.08,0,0.3,19.925999999999998,69.304812834224606,19.350000000000001,19.38,19.41,19.440000000000001,19.47,19.5,19.53]
[null,3.75,31.62,7.75,3.11,0,0.3,20.171999999999997,70.160427807486627,19.59,19.62,19.649999999999999,19.68,19.71,19.739999999999998,19.77]
[null,3.8,31.62,7.75,3.13,0,0.3,20.417999999999999,71.016042780748663,19.829999999999998,19.86,19.89,19.920000000000002,19.95,19.98,20.010000000000002]
[null,3.85,31.62,7.75,3.15,0,0.3,20.663999999999998,71.871657754010698,20.07,20.100000000000001,20.13,20.16,20.190000000000001,20.22,20.25]
[null,3.9,31.62,7.75,3.18,0,0.3,20.909999999999997,72.72727272727272,20.32,20.34,20.37,20.399999999999999,20.43,20.46,20.49]
[null,3.95,31.62,7.75,3.2,0,0.3,21.166249999999998,73.618538324420669,20.56,20.59,20.62,20.65,20.68,20.71,20.74]
[null,4,31.62,7.75,3.23,0,0.3,21.41225,74.474153297682705,20.8,20.83,20.86,20.89,20.92,20.95,20.98]
[null,4.05,31.62,7.75,3.25,0,0.3,21.658249999999995,75.32976827094474,21.04,21.07,21.1,21.13,21.16,21.19,21.22]
[null,4.0999999999999996,31.62,7.76,3.28,0,0.3,21.904249999999998,76.185383244206776,21.28,21.31,21.34,21.37,21.4,21.43,21.46]
[null,4.1500000000000004,31.61,7.76,3.3,0,0.3,22.150249999999996,77.040998217468797,21.52,21.55,21.58,21.61,21.64,21.67,21.7]
[null,4.2,31.61,7.76,3.32,0,0.3,22.406499999999998,77.932263814616761,21.77,21.8,21.83,21.86,21.89,21.92,21.95]
[null,4.25,31.61,7.76,3.35,0,0.3,22.6525,78.787878787878796,22.01,22.04,22.07,22.1,22.13,22.16,22.19]
[null,4.3,31.61,7.76,3.37,0,0.3,22.898499999999999,79.643493761140817,22.25,22.28,22.31,22.34,22.37,22.4,22.43]
[null,4.3499999999999996,31.61,7.76,3.4,0,0.3,23.144499999999997,80.499108734402853,22.49,22.52,22.55,22.58,22.61,22.64,22.67]
[null,4.4000000000000004,31.61,7.76,3.42,0,0.3,23.390499999999999,81.354723707664874,22.73,22.76,22.79,22.82,22.85,22.88,22.91]
[null,4.45,31.61,7.76,3.45,0,0.3,23.646749999999997,82.245989304812824,22.98,23.01,23.04,23.07,23.1,23.13,23.16]
[null,4.5,31.61,7.76,3.47,0,0.3,23.892749999999996,83.101604278074859,23.22,23.25,23.28,23.31,23.34,23.37,23.4]
[null,4.55,31.6,7.76,3.49,0,0.3,24.138749999999998,83.957219251336895,23.46,23.49,23.52,23.55,23.58,23.61,23.64]
[null,4.5999999999999996,31.6,7.76,3.52,0,0.3,24.384749999999997,84.812834224598916,23.7,23.73,23.76,23.79,23.82,23.85,23.88]
[null,4.6500000000000004,31.6,7.76,3.54,0,0.3,24.630749999999999,85.668449197860966,23.94,23.97,24,24.03,24.06,24.09,24.12]
[null,4.7,31.6,7.76,3.57,0,0.3,24.887,86.559714795008915,24.19,24.22,24.25,24.28,24.31,24.34,24.37]
[null,4.75,31.6,7.76,3.59,0,0.3,25.132999999999999,87.415329768270951,24.43,24.46,24.49,24.52,24.55,24.58,24.61]
[null,4.8,31.6,7.76,3.62,0,0.3,25.378999999999998,88.270944741532972,24.67,24.7,24.73,24.76,24.79,24.82,24.85]
[null,4.8499999999999996,31.6,7.76,3.64,0,0.3,25.624999999999996,89.126559714795007,24.91,24.94,24.97,25,25.03,25.06,25.09]
[null,4.9000000000000004,31.6,7.76,3.67,0,0.3,25.870999999999995,89.982174688057043,25.15,25.18,25.21,25.24,25.27,25.3,25.33]
[null,4.95,31.6,7.76,3.69,0,0.3,26.127249999999997,90.873440285204993,25.4,25.43,25.46,25.49,25.52,25.55,25.57]
[null,5,31.6,7.76,3.71,0,0.3,26.373249999999999,91.729055258467014,25.64,25.67,25.7,25.73,25.76,25.79,25.82]
[null,5.05,31.59,7.76,3.74,0,0.3,26.619249999999997,92.584670231729049,25.88,25.91,25.94,25.97,26,26.03,26.06]
[null,5.0999999999999996,31.59,7.76,3.76,0,0.3,26.86525,93.440285204991085,26.12,26.15,26.18,26.21,26.24,26.27,26.3]
[null,5.15,31.59,7.76,3.79,0,0.3,27.111249999999998,94.295900178253106,26.36,26.39,26.42,26.45,26.48,26.51,26.54]
[null,5.2,31.59,7.76,3.81,0,0.3,27.367499999999996,95.187165775401056,26.61,26.64,26.67,26.7,26.73,26.75,26.78]
[null,5.25,31.59,7.76,3.84,0,0.3,27.613499999999998,96.042780748663105,26.85,26.88,26.91,26.94,26.97,27,27.03]
[null,5.3,31.59,7.76,3.86,0,0.3,27.859499999999997,96.898395721925141,27.09,27.12,27.15,27.18,27.21,27.24,27.27]
[null,5.35,31.59,7.77,3.89,0,0.3,28.105499999999999,97.754010695187162,27.33,27.36,27.39,27.42,27.45,27.48,27.51]
[null,5.4,31.59,7.77,3.91,0,0.3,28.351499999999998,98.609625668449198,27.57,27.6,27.63,27.66,27.69,27.72,27.75]
[null,5.45,31.59,7.77,3.94,0,0.3,28.607749999999999,99.500891265597147,27.8,27.84,27.88,27.91,27.93,27.94,27.93]
[null,5.48,31.59,7.77,3.95,0,0,28.751249999999999,100,27.91,27.95,28,28.05,28.03,28.01,28]
[]
[]
[]
[]
[]
[]
[]
[]
[]
[]
[]
[]
[]
[]
[]
[]
[]
[]
[]
[]
[]
[]
[]
[]
[]
[]
[]
[]
[]
[]
[]
[]
[]
[]
[]
[]
[]
[]
[]
[]
[]
[]
[]
[]
[]
[]
[]
[]
[]
[]
[]
[]
[]
[]
[]
[]
[]
[]
[]
[]
[]
[]
[]
[]
[]
[]
[]
[]
[]
[]
[]
[]
[]
[]
[]
[]
[]
[]
[]
[]
[]
[]
[null,null,null,null,null,null,null,null,null,100]

{"sheet":"25","index":31,"n_rows":117,"n_cols":16,"rows_kept":117,"cut":false,"hidden":false,"merged":[]}
[]
[null,"W.B. 3 SB",null,null,null,null,null,"S.G.",1.0249999999999999,"[t/m3]"]
[]
[null,"GAUGE","LCG","TCG","VCG","FSM (transv)","FSM (long)","Weight","Fill (%)","Trim=-1,5","Trim=1,0","Trim=-0,5","Trim=0","Trim=0,5","Trim=1,0","Trim=1,5"]
[null,null,"Fwd of AP","PS:+","Above BL"," "," "]
[null,"m","m","m","m","t·m","t·m","t",null,"m3","m3","m3","m3","m3","m3","m3"]
[null,0,32.020000000000003,-7.48,1.29,0,0.7,{"$f":"M7*$I$2","v":0.29724999999999996},{"$f":"M7/$M$117*100","v":1.0338680926916219},0.48,0.41,0.35,0.28999999999999998,0.24,0.21,0.2]
[null,0.05,31.88,-7.56,1.32,1,0.7,{"$f":"M8*$I$2","v":0.59449999999999992},{"$f":"M8/$M$117*100","v":2.0677361853832439},0.76,0.7,0.64,0.57999999999999996,0.52,0.46,0.41]
[null,0.1,31.84,-7.59,1.34,1,0.7,{"$f":"M9*$I$2","v":0.88149999999999995},{"$f":"M9/$M$117*100","v":3.0659536541889483},1.04,0.98,0.92,0.86,0.8,0.74,0.68]
[null,0.15,31.81,-7.61,1.37,1,0.7,1.1684999999999999,4.0641711229946518,1.33,1.26,1.2,1.1399999999999999,1.08,1.02,0.96]
[null,0.2,31.8,-7.62,1.39,1,0.7,1.4657499999999999,5.0980392156862742,1.61,1.55,1.49,1.43,1.37,1.31,1.25]
[null,0.25,31.79,-7.63,1.42,1,0.7,1.7527499999999998,6.0962566844919781,1.89,1.83,1.77,1.71,1.65,1.59,1.53]
[null,0.3,31.78,-7.63,1.44,1,0.7,2.0499999999999998,7.1301247771836014,2.1800000000000002,2.12,2.06,2,1.93,1.87,1.81]
[null,0.35,31.78,-7.64,1.47,1,0.7,2.3369999999999997,8.1283422459893035,2.46,2.4,2.34,2.2799999999999998,2.2200000000000002,2.16,2.1]
[null,0.4,31.77,-7.65,1.49,1,0.7,2.6239999999999997,9.1265597147950093,2.74,2.68,2.62,2.56,2.5,2.44,2.38]
[null,0.45,31.77,-7.65,1.52,1,0.6,2.9109999999999996,10.124777183600713,3.03,2.97,2.9,2.84,2.78,2.72,2.66]
[null,0.5,31.77,-7.65,1.54,1,0.6,3.2082499999999996,11.158645276292333,3.31,3.25,3.19,3.13,3.07,3.01,2.95]
[null,0.55000000000000004,31.77,-7.66,1.57,1,0.6,3.49525,12.156862745098039,3.59,3.53,3.47,3.41,3.35,3.29,3.23]
[null,0.6,31.76,-7.66,1.59,1,0.6,3.7822499999999994,13.155080213903741,3.87,3.81,3.75,3.69,3.63,3.57,3.51]
[null,0.65,31.76,-7.67,1.62,1,0.6,4.0692500000000003,14.153297682709448,4.1500000000000004,4.09,4.03,3.97,3.91,3.85,3.79]
[null,0.7,31.76,-7.67,1.64,1,0.6,4.3460000000000001,15.115864527629233,4.42,4.3600000000000003,4.3,4.24,4.18,4.12,4.0599999999999996]
[null,0.75,31.76,-7.67,1.67,1,0.6,4.6329999999999991,16.114081996434937,4.7,4.6399999999999997,4.58,4.5199999999999996,4.46,4.4000000000000004,4.34]
[null,0.8,31.75,-7.67,1.69,1,0.6,4.919999999999999,17.112299465240639,4.9800000000000004,4.92,4.8600000000000003,4.8,4.74,4.68,4.62]
[null,0.85,31.75,-7.68,1.72,1,0.6,5.1967499999999998,18.074866310160427,5.25,5.19,5.13,5.07,5.01,4.95,4.8899999999999997]
[null,0.9,31.75,-7.68,1.74,1,0.6,5.4837499999999988,19.073083778966129,5.53,5.47,5.41,5.35,5.29,5.23,5.17]
[null,0.95,31.75,-7.68,1.77,1,0.5,5.7604999999999995,20.035650623885918,5.8,5.74,5.68,5.62,5.56,5.5,5.44]
[null,1,31.75,-7.68,1.79,1,0.5,6.0372499999999993,20.998217468805702,6.07,6.01,5.95,5.89,5.83,5.77,5.71]
[null,1.05,31.74,-7.69,1.81,1,0.5,6.3139999999999992,21.96078431372549,6.34,6.28,6.22,6.16,6.1,6.04,5.98]
[null,1.1000000000000001,31.74,-7.69,1.84,1,0.5,6.590749999999999,22.923351158645275,6.61,6.55,6.49,6.43,6.37,6.31,6.25]
[null,1.1499999999999999,31.74,-7.69,1.86,0,0.5,6.8674999999999997,23.885918003565063,6.88,6.82,6.76,6.7,6.64,6.58,6.52]
[null,1.2,31.74,-7.69,1.89,0,0.5,7.1442499999999995,24.848484848484848,7.15,7.09,7.03,6.97,6.91,6.85,6.79]
[null,1.25,31.74,-7.7,1.91,0,0.5,7.4107500000000002,25.775401069518715,7.41,7.35,7.29,7.23,7.17,7.11,7.05]
[null,1.3,31.73,-7.7,1.94,0,0.5,7.6874999999999991,26.737967914438503,7.68,7.62,7.56,7.5,7.44,7.38,7.32]
[null,1.35,31.73,-7.7,1.96,0,0.5,7.9539999999999988,27.664884135472366,7.94,7.88,7.82,7.76,7.7,7.64,7.58]
[null,1.4,31.73,-7.7,1.98,0,0.5,8.2204999999999995,28.591800356506237,8.1999999999999993,8.14,8.08,8.02,7.96,7.9,7.84]
[null,1.45,31.73,-7.7,2.0099999999999998,0,0.5,8.4972499999999975,29.554367201426025,8.4700000000000006,8.41,8.35,8.2899999999999991,8.2200000000000006,8.16,8.1]
[null,1.5,31.72,-7.7,2.0299999999999998,0,0.5,8.7637499999999999,30.481283422459892,8.73,8.67,8.61,8.5500000000000007,8.49,8.43,8.36]
[null,1.55,31.72,-7.71,2.06,0,0.4,9.0302500000000006,31.408199643493763,8.99,8.93,8.8699999999999992,8.81,8.75,8.69,8.6199999999999992]
[null,1.6,31.72,-7.71,2.08,0,0.4,9.2967499999999994,32.33511586452763,9.25,9.19,9.1300000000000008,9.07,9,8.94,8.8800000000000008]
[null,1.65,31.72,-7.71,2.1,0,0.4,9.552999999999999,33.226381461675579,9.51,9.44,9.3800000000000008,9.32,9.26,9.1999999999999993,9.14]
[null,1.7,31.71,-7.71,2.13,0,0.4,9.8194999999999997,34.15329768270945,9.76,9.6999999999999993,9.64,9.58,9.52,9.4600000000000009,9.4]
[null,1.75,31.71,-7.71,2.15,0,0.4,10.085999999999999,35.080213903743314,10.02,9.9600000000000009,9.9,9.84,9.7799999999999994,9.7200000000000006,9.65]
[null,1.8,31.71,-7.71,2.1800000000000002,0,0.4,10.342249999999998,35.971479500891263,10.28,10.210000000000001,10.15,10.09,10.029999999999999,9.9700000000000006,9.91]
[null,1.85,31.71,-7.71,2.2000000000000002,0,0.4,10.608749999999999,36.898395721925134,10.53,10.47,10.41,10.35,10.29,10.23,10.16]
[null,1.9,31.7,-7.72,2.2200000000000002,0,0.4,10.864999999999998,37.789661319073083,10.78,10.72,10.66,10.6,10.54,10.48,10.42]
[null,1.95,31.7,-7.72,2.25,0,0.4,11.121249999999998,38.680926916221033,11.04,10.98,10.92,10.85,10.79,10.73,10.67]
[null,2,31.7,-7.72,2.27,0,0.4,11.387749999999999,39.607843137254903,11.29,11.23,11.17,11.11,11.05,10.99,10.92]
[null,2.0499999999999998,31.7,-7.72,2.29,0,0.4,11.643999999999998,40.499108734402853,11.54,11.48,11.42,11.36,11.3,11.24,11.18]
[null,2.1,31.69,-7.72,2.3199999999999998,0,0.4,11.900249999999998,41.390374331550802,11.79,11.73,11.67,11.61,11.55,11.49,11.43]
[null,2.15,31.69,-7.72,2.34,0,0.4,12.156499999999998,42.281639928698752,12.05,11.98,11.92,11.86,11.8,11.74,11.68]
[null,2.2000000000000002,31.69,-7.72,2.37,0,0.4,12.412749999999999,43.172905525846701,12.3,12.23,12.17,12.11,12.05,11.99,11.93]
[null,2.25,31.69,-7.73,2.39,0,0.4,12.668999999999999,44.064171122994651,12.55,12.48,12.42,12.36,12.3,12.24,12.18]
[null,2.2999999999999998,31.68,-7.73,2.41,0,0.4,12.925249999999998,44.9554367201426,12.79,12.73,12.67,12.61,12.55,12.49,12.42]
[null,2.35,31.68,-7.73,2.44,0,0.4,13.181499999999998,45.84670231729055,13.04,12.98,12.92,12.86,12.8,12.73,12.67]
[null,2.4,31.68,-7.73,2.46,0,0.4,13.437749999999998,46.737967914438499,13.29,13.23,13.17,13.11,13.04,12.98,12.92]
[null,2.4500000000000002,31.68,-7.73,2.48,0,0.4,13.683749999999998,47.593582887700528,13.54,13.48,13.41,13.35,13.29,13.23,13.17]
[null,2.5,31.68,-7.73,2.5099999999999998,0,0.4,13.939999999999998,48.484848484848477,13.79,13.72,13.66,13.6,13.54,13.48,13.41]
[null,2.5499999999999998,31.67,-7.73,2.5299999999999998,0,0.4,14.196249999999999,49.376114081996434,14.03,13.97,13.91,13.85,13.78,13.72,13.66]
[null,2.6,31.67,-7.73,2.56,0,0.4,14.442249999999998,50.231729055258469,14.28,14.22,14.15,14.09,14.03,13.97,13.91]
[null,2.65,31.67,-7.73,2.58,0,0.4,14.698499999999999,51.122994652406419,14.52,14.46,14.4,14.34,14.27,14.21,14.15]
[null,2.7,31.67,-7.74,2.6,0,0.3,14.944499999999998,51.978609625668447,14.77,14.71,14.64,14.58,14.52,14.46,14.4]
[null,2.75,31.66,-7.74,2.63,0,0.3,15.200749999999999,52.869875222816397,15.01,14.95,14.89,14.83,14.76,14.7,14.64]
[null,2.8,31.66,-7.74,2.65,0,0.3,15.44675,53.725490196078432,15.26,15.2,15.13,15.07,15.01,14.95,14.88]
[null,2.85,31.66,-7.74,2.68,0,0.3,15.702999999999999,54.616755793226382,15.5,15.44,15.38,15.32,15.25,15.19,15.13]
[null,2.9,31.66,-7.74,2.7,0,0.3,15.949,55.47237076648841,15.75,15.68,15.62,15.56,15.5,15.43,15.37]
[null,2.95,31.65,-7.74,2.72,0,0.3,16.195,56.327985739750439,15.99,15.93,15.86,15.8,15.74,15.68,15.61]
[null,3,31.65,-7.74,2.75,0,0.3,16.451249999999998,57.219251336898388,16.23,16.170000000000002,16.11,16.05,15.98,15.92,15.86]
[null,3.05,31.65,-7.74,2.77,0,0.3,16.697249999999997,58.074866310160424,16.48,16.41,16.350000000000001,16.29,16.23,16.16,16.100000000000001]
[null,3.1,31.65,-7.74,2.79,0,0.3,16.943249999999999,58.930481283422466,16.72,16.66,16.59,16.53,16.47,16.41,16.34]
[null,3.15,31.65,-7.74,2.82,0,0.3,17.189249999999998,59.786096256684488,16.96,16.899999999999999,16.84,16.77,16.71,16.649999999999999,16.59]
[null,3.2,31.64,-7.74,2.84,0,0.3,17.445499999999999,60.677361853832437,17.2,17.14,17.079999999999998,17.02,16.95,16.89,16.829999999999998]
[null,3.25,31.64,-7.74,2.87,0,0.3,17.691500000000001,61.53297682709448,17.45,17.38,17.32,17.260000000000002,17.2,17.13,17.07]
[null,3.3,31.64,-7.75,2.89,0,0.3,{"$f":"M73*$I$2","v":17.9375},{"$f":"M73/$M$117*100","v":62.388591800356508},17.690000000000001,17.63,17.559999999999999,17.5,17.440000000000001,17.38,17.309999999999999]
[null,3.35,31.64,-7.75,2.91,0,0.3,18.183499999999995,63.244206773618529,17.93,17.87,17.809999999999999,17.739999999999998,17.68,17.62,17.55]
[null,3.4,31.64,-7.75,2.94,0,0.3,18.429499999999997,64.099821746880565,18.170000000000002,18.11,18.05,17.98,17.920000000000002,17.86,17.8]
[null,3.45,31.63,-7.75,2.96,0,0.3,18.685749999999999,64.991087344028514,18.420000000000002,18.350000000000001,18.29,18.23,18.16,18.100000000000001,18.04]
[null,3.5,31.63,-7.75,2.99,0,0.3,18.931749999999997,65.84670231729055,18.66,18.59,18.53,18.47,18.41,18.34,18.28]
[null,3.55,31.63,-7.75,3.01,0,0.3,19.17775,66.702317290552585,18.899999999999999,18.84,18.77,18.71,18.649999999999999,18.59,18.52]
[null,3.6,31.63,-7.75,3.03,0,0.3,19.423749999999998,67.557932263814607,19.14,19.079999999999998,19.02,18.95,18.89,18.829999999999998,18.760000000000002]
[null,3.65,31.63,-7.75,3.06,0,0.3,19.669750000000001,68.413547237076656,19.38,19.32,19.260000000000002,19.190000000000001,19.13,19.07,19.010000000000002]
[null,3.7,31.63,-7.75,3.08,0,0.3,19.925999999999998,69.304812834224606,19.63,19.559999999999999,19.5,19.440000000000001,19.37,19.309999999999999,19.25]
[null,3.75,31.62,-7.75,3.11,0,0.3,20.171999999999997,70.160427807486627,19.87,19.8,19.739999999999998,19.68,19.62,19.55,19.489999999999998]
[null,3.8,31.62,-7.75,3.13,0,0.3,20.417999999999999,71.016042780748663,20.11,20.05,19.98,19.920000000000002,19.86,19.8,19.73]
[null,3.85,31.62,-7.75,3.15,0,0.3,20.663999999999998,71.871657754010698,20.350000000000001,20.29,20.23,20.16,20.100000000000001,20.04,19.97]
[null,3.9,31.62,-7.75,3.18,0,0.3,20.909999999999997,72.72727272727272,20.59,20.53,20.47,20.399999999999999,20.34,20.28,20.22]
[null,3.95,31.62,-7.75,3.2,0,0.3,21.166249999999998,73.618538324420669,20.83,20.77,20.71,20.65,20.58,20.52,20.46]
[null,4,31.62,-7.75,3.23,0,0.3,21.41225,74.474153297682705,21.08,21.01,20.95,20.89,20.83,20.76,20.7]
[null,4.05,31.62,-7.75,3.25,0,0.3,21.658249999999995,75.32976827094474,21.32,21.26,21.19,21.13,21.07,21,20.94]
[null,4.0999999999999996,31.62,-7.76,3.28,0,0.3,21.904249999999998,76.185383244206776,21.56,21.5,21.44,21.37,21.31,21.25,21.18]
[null,4.1500000000000004,31.61,-7.76,3.3,0,0.3,22.150249999999996,77.040998217468797,21.8,21.74,21.68,21.61,21.55,21.49,21.43]
[null,4.2,31.61,-7.76,3.32,0,0.3,22.406499999999998,77.932263814616761,22.04,21.98,21.92,21.86,21.79,21.73,21.67]
[null,4.25,31.61,-7.76,3.35,0,0.3,22.6525,78.787878787878796,22.29,22.22,22.16,22.1,22.04,21.97,21.91]
[null,4.3,31.61,-7.76,3.37,0,0.3,22.898499999999999,79.643493761140817,22.53,22.47,22.4,22.34,22.28,22.21,22.15]
[null,4.3499999999999996,31.61,-7.76,3.4,0,0.3,23.144499999999997,80.499108734402853,22.77,22.71,22.64,22.58,22.52,22.46,22.39]
[null,4.4000000000000004,31.61,-7.76,3.42,0,0.3,23.390499999999999,81.354723707664874,23.01,22.95,22.89,22.82,22.76,22.7,22.64]
[null,4.45,31.61,-7.76,3.45,0,0.3,23.646749999999997,82.245989304812824,23.25,23.19,23.13,23.07,23,22.94,22.88]
[null,4.5,31.61,-7.76,3.47,0,0.3,23.892749999999996,83.101604278074859,23.5,23.43,23.37,23.31,23.25,23.18,23.12]
[null,4.55,31.6,-7.76,3.49,0,0.3,24.138749999999998,83.957219251336895,23.74,23.68,23.61,23.55,23.49,23.42,23.36]
[null,4.5999999999999996,31.6,-7.76,3.52,0,0.3,24.384749999999997,84.812834224598916,23.98,23.92,23.85,23.79,23.73,23.67,23.6]
[null,4.6500000000000004,31.6,-7.76,3.54,0,0.3,24.630749999999999,85.668449197860966,24.22,24.16,24.1,24.03,23.97,23.91,23.85]
[null,4.7,31.6,-7.76,3.57,0,0.3,24.887,86.559714795008915,24.46,24.4,24.34,24.28,24.21,24.15,24.09]
[null,4.75,31.6,-7.76,3.59,0,0.3,25.132999999999999,87.415329768270951,24.71,24.64,24.58,24.52,24.46,24.39,24.33]
[null,4.8,31.6,-7.76,3.62,0,0.3,25.378999999999998,88.270944741532972,24.95,24.89,24.82,24.76,24.7,24.63,24.57]
[null,4.8499999999999996,31.6,-7.76,3.64,0,0.3,25.624999999999996,89.126559714795007,25.19,25.13,25.06,25,24.94,24.88,24.81]
[null,4.9000000000000004,31.6,-7.76,3.67,0,0.3,25.870999999999995,89.982174688057043,25.43,25.37,25.31,25.24,25.18,25.12,25.06]
[null,4.95,31.6,-7.76,3.69,0,0.3,26.127249999999997,90.873440285204993,25.67,25.61,25.55,25.49,25.42,25.36,25.3]
[null,5,31.6,-7.76,3.71,0,0.3,26.373249999999999,91.729055258467014,25.92,25.85,25.79,25.73,25.66,25.6,25.54]
[null,5.05,31.59,-7.76,3.74,0,0.3,26.619249999999997,92.584670231729049,26.16,26.1,26.03,25.97,25.91,25.84,25.78]
[null,5.0999999999999996,31.59,-7.76,3.76,0,0.3,26.86525,93.440285204991085,26.4,26.34,26.27,26.21,26.15,26.09,26.02]
[null,5.15,31.59,-7.76,3.79,0,0.3,27.111249999999998,94.295900178253106,26.64,26.58,26.52,26.45,26.39,26.33,26.27]
[null,5.2,31.59,-7.76,3.81,0,0.3,27.367499999999996,95.187165775401056,26.88,26.82,26.76,26.7,26.63,26.57,26.51]
[null,5.25,31.59,-7.76,3.84,0,0.3,27.613499999999998,96.042780748663105,27.13,27.06,27,26.94,26.87,26.81,26.75]
[null,5.3,31.59,-7.76,3.86,0,0.3,27.859499999999997,96.898395721925141,27.37,27.3,27.24,27.18,27.12,27.05,26.99]
[null,5.35,31.59,-7.77,3.89,0,0.3,28.105499999999999,97.754010695187162,27.61,27.55,27.48,27.42,27.36,27.3,27.23]
[null,5.4,31.59,-7.77,3.91,0,0.3,28.351499999999998,98.609625668449198,27.83,27.79,27.73,27.66,27.6,27.54,27.47]
[null,5.45,31.59,-7.77,3.94,0,0.3,28.607749999999999,99.500891265597147,27.98,27.98,27.96,27.91,27.84,27.78,27.72]
[null,5.48,31.59,-7.77,3.95,0,0,28.751249999999999,100,28.03,28.04,28.04,28.05,27.98,27.91,27.84]

{"sheet":"26","index":32,"n_rows":34,"n_cols":16,"rows_kept":34,"cut":false,"hidden":false,"merged":[]}
[]
[null,"W.B. 3 PS DB",null,null,null,null,null,"S.G.",1.0249999999999999,"[t/m3]"]
[]
[null,"GAUGE","LCG","TCG","VCG","FSM (transv)","FSM (long)","Weight","Fill (%)","Trim=-1,5","Trim=1,0","Trim=-0,5","Trim=0","Trim=0,5","Trim=1,0","Trim=1,5"]
[null,null,"Fwd of AP","PS:+","Above BL"," "," "]
[null,"m","m","m","m","t·m","t·m","t",null,"m3","m3","m3","m3","m3","m3","m3"]
[null,0,31.29,4.71,0.02,0,6.8,{"$f":"M7*$I$2","v":0.35874999999999996},{"$f":"M7/$M$34*100","v":1.4367816091954022},1.45,1.06,0.69,0.35,0.1,0.05,0.04]
[null,0.05,31.35,4.8499999999999996,0.04,10,10.5,{"$f":"M8*$I$2","v":1.0865},{"$f":"M8/$M$34*100","v":4.3513957307060753},2.2599999999999998,1.85,1.44,1.06,0.7,0.39,0.26]
[null,0.1,31.38,4.95,7.0000000000000007E-2,13,13.6,1.9064999999999999,7.6354679802955667,3.14,2.7,2.27,1.86,1.46,1.08,0.75]
[null,0.15,31.39,5.03,0.1,16,16.399999999999999,2.7777499999999997,11.124794745484401,4.05,3.6,3.15,2.71,2.29,1.89,1.5]
[null,0.2,31.41,5.09,0.12,18,18.8,3.7104999999999997,14.860426929392448,5.01,4.54,4.07,3.62,3.18,2.75,2.33]
[null,0.25,31.42,5.15,0.15,21,21.2,4.6842499999999996,18.76026272577997,6,5.52,5.04,4.57,4.1100000000000003,3.66,3.22]
[null,0.3,31.42,5.19,0.18,23,23.3,5.6887499999999998,22.783251231527093,7.02,6.52,6.03,5.55,5.07,4.6100000000000003,4.1500000000000004]
[null,0.35,31.43,5.24,0.21,25,25.3,6.7239999999999993,26.929392446633827,8.07,7.56,7.06,6.56,6.07,5.59,5.12]
[null,0.4,31.43,5.28,0.23,27,27.2,7.7899999999999991,31.198686371100166,9.14,8.6199999999999992,8.1,7.6,7.1,6.6,6.12]
[null,0.45,31.44,5.31,0.26,28,28.9,8.8765000000000001,35.55008210180624,10.23,9.6999999999999993,9.17,8.66,8.15,7.64,7.15]
[null,0.5,31.44,5.34,0.28999999999999998,30,30.5,9.9834999999999994,39.983579638752055,11.33,10.8,10.27,9.74,9.2200000000000006,8.7100000000000009,8.1999999999999993]
[null,0.55000000000000004,31.44,5.37,0.31,31,32.1,11.110999999999999,44.499178981937604,12.45,11.91,11.37,10.84,10.31,9.7899999999999991,9.27]
[null,0.6,31.45,5.4,0.34,33,33.4,12.259,49.096880131362894,13.59,13.04,12.5,11.96,11.42,10.89,10.36]
[null,0.65,31.45,5.43,0.37,34,34.799999999999997,13.417249999999999,53.735632183908045,14.74,14.19,13.64,13.09,12.55,12.01,11.47]
[null,0.7,31.45,5.45,0.4,35,36,14.595999999999998,58.456486042692944,15.91,15.35,14.79,14.24,13.69,13.14,12.6]
[null,0.75,31.45,5.47,0.42,36,37.1,15.784999999999998,63.218390804597703,17.079999999999998,16.52,15.95,15.4,14.84,14.29,13.74]
[null,0.8,31.45,5.49,0.45,37,38.1,16.984249999999999,68.02134646962233,18.260000000000002,17.690000000000001,17.13,16.57,16.010000000000002,15.45,14.89]
[null,0.85,31.46,5.51,0.48,38,39.1,18.193749999999998,72.865353037766837,19.46,18.88,18.309999999999999,17.75,17.18,16.62,16.059999999999999]
[null,0.9,31.46,5.53,0.5,39,40,19.413499999999999,77.750410509031212,20.62,20.079999999999998,19.510000000000002,18.940000000000001,18.37,17.8,17.239999999999998]
[null,0.95,31.46,5.55,0.53,40,40.799999999999997,20.633249999999997,82.635467980295559,21.7,21.24,20.71,20.13,19.559999999999999,18.989999999999998,18.420000000000002]
[null,1,31.46,5.57,0.56000000000000005,31,32.200000000000003,21.852999999999998,87.520525451559934,22.63,22.25,21.82,21.32,20.76,20.190000000000001,19.62]
[null,1.05,31.46,5.6,0.57999999999999996,17,17.7,22.888249999999996,91.666666666666657,23.35,23.07,22.73,22.33,21.86,21.33,20.78]
[null,1.1000000000000001,31.46,5.63,0.6,8,8.3000000000000007,23.718499999999999,94.991789819376024,23.87,23.69,23.44,23.14,22.76,22.33,21.83]
[null,1.1499999999999999,31.46,5.67,0.61,3,3,24.333499999999997,97.454844006568138,24.19,24.1,23.95,23.74,23.47,23.13,22.73]
[null,1.2,31.46,5.7,0.62,1,0.6,24.743499999999997,99.096880131362894,24.33,24.31,24.26,24.14,23.97,23.72,23.42]
[null,1.25,31.46,5.71,0.63,0,0,24.948499999999999,99.917898193760266,24.36,24.36,24.36,24.34,24.26,24.11,23.91]
[null,1.3,31.46,5.71,0.63,0,0,24.968999999999998,100,24.36,24.36,24.36,24.36,24.36,24.31,24.2]
[null,1.35,31.46,5.71,0.63,0,0,24.968999999999998,{"$f":"M34/$M$34*100+0.0001","v":100.0001},24.36,24.36,24.36,24.36,24.36,24.36,24.33]

{"sheet":"27","index":33,"n_rows":34,"n_cols":16,"rows_kept":34,"cut":false,"hidden":false,"merged":[]}
[]
[null,"W.B. 3 SB DB",null,null,null,null,null,"S.G.",1.0249999999999999,"[t/m3]"]
[]
[null,"GAUGE","LCG","TCG","VCG","FSM (transv)","FSM (long)","Weight","Fill (%)","Trim=-1,5","Trim=1,0","Trim=-0,5","Trim=0","Trim=0,5","Trim=1,0","Trim=1,5"]
[null,null,"Fwd of AP","PS:+","Above BL"," "," "]
[null,"m","m","m","m","t·m","t·m","t",null,"m3","m3","m3","m3","m3","m3","m3"]
[null,0,31.29,-4.71,0.02,0,6.8,{"$f":"M7*$I$2","v":0.35874999999999996},{"$f":"M7/$M$34*100","v":1.4367816091954022},1.45,1.06,0.69,0.35,0.1,0.05,0.04]
[null,0.05,31.35,-4.8499999999999996,0.04,10,10.5,{"$f":"M8*$I$2","v":1.0865},{"$f":"M8/$M$34*100","v":4.3513957307060753},2.2599999999999998,1.85,1.44,1.06,0.7,0.39,0.26]
[null,0.1,31.38,-4.95,7.0000000000000007E-2,13,13.6,1.9064999999999999,7.6354679802955667,3.14,2.7,2.27,1.86,1.46,1.08,0.75]
[null,0.15,31.39,-5.03,0.1,16,16.399999999999999,2.7777499999999997,11.124794745484401,4.05,3.6,3.15,2.71,2.29,1.89,1.5]
[null,0.2,31.41,-5.09,0.12,18,18.8,3.7104999999999997,14.860426929392448,5.01,4.54,4.07,3.62,3.18,2.75,2.33]
[null,0.25,31.42,-5.15,0.15,21,21.2,4.6842499999999996,18.76026272577997,6,5.52,5.04,4.57,4.1100000000000003,3.66,3.22]
[null,0.3,31.42,-5.19,0.18,23,23.3,5.6887499999999998,22.783251231527093,7.02,6.52,6.03,5.55,5.07,4.6100000000000003,4.1500000000000004]
[null,0.35,31.43,-5.24,0.21,25,25.3,6.7239999999999993,26.929392446633827,8.07,7.56,7.06,6.56,6.07,5.59,5.12]
[null,0.4,31.43,-5.28,0.23,27,27.2,7.7899999999999991,31.198686371100166,9.14,8.6199999999999992,8.1,7.6,7.1,6.6,6.12]
[null,0.45,31.44,-5.31,0.26,28,28.9,8.8765000000000001,35.55008210180624,10.23,9.6999999999999993,9.17,8.66,8.15,7.64,7.15]
[null,0.5,31.44,-5.34,0.28999999999999998,30,30.5,9.9834999999999994,39.983579638752055,11.33,10.8,10.27,9.74,9.2200000000000006,8.7100000000000009,8.1999999999999993]
[null,0.55000000000000004,31.44,-5.37,0.31,31,32.1,11.110999999999999,44.499178981937604,12.45,11.91,11.37,10.84,10.31,9.7899999999999991,9.27]
[null,0.6,31.45,-5.4,0.34,33,33.4,12.259,49.096880131362894,13.59,13.04,12.5,11.96,11.42,10.89,10.36]
[null,0.65,31.45,-5.43,0.37,34,34.799999999999997,13.417249999999999,53.735632183908045,14.74,14.19,13.64,13.09,12.55,12.01,11.47]
[null,0.7,31.45,-5.45,0.4,35,36,14.595999999999998,58.456486042692944,15.91,15.35,14.79,14.24,13.69,13.14,12.6]
[null,0.75,31.45,-5.47,0.42,36,37.1,15.784999999999998,63.218390804597703,17.079999999999998,16.52,15.95,15.4,14.84,14.29,13.74]
[null,0.8,31.45,-5.49,0.45,37,38.1,16.984249999999999,68.02134646962233,18.260000000000002,17.690000000000001,17.13,16.57,16.010000000000002,15.45,14.89]
[null,0.85,31.46,-5.51,0.48,38,39.1,18.193749999999998,72.865353037766837,19.46,18.88,18.309999999999999,17.75,17.18,16.62,16.059999999999999]
[null,0.9,31.46,-5.53,0.5,39,40,19.413499999999999,77.750410509031212,20.62,20.079999999999998,19.510000000000002,18.940000000000001,18.37,17.8,17.239999999999998]
[null,0.95,31.46,-5.55,0.53,40,40.799999999999997,20.633249999999997,82.635467980295559,21.7,21.24,20.71,20.13,19.559999999999999,18.989999999999998,18.420000000000002]
[null,1,31.46,-5.57,0.56000000000000005,31,32.200000000000003,21.852999999999998,87.520525451559934,22.63,22.25,21.82,21.32,20.76,20.190000000000001,19.62]
[null,1.05,31.46,-5.6,0.57999999999999996,17,17.7,22.888249999999996,91.666666666666657,23.35,23.07,22.73,22.33,21.86,21.33,20.78]
[null,1.1000000000000001,31.46,-5.63,0.6,8,8.3000000000000007,23.718499999999999,94.991789819376024,23.87,23.69,23.44,23.14,22.76,22.33,21.83]
[null,1.1499999999999999,31.46,-5.67,0.61,3,3,24.333499999999997,97.454844006568138,24.19,24.1,23.95,23.74,23.47,23.13,22.73]
[null,1.2,31.46,-5.7,0.62,1,0.6,24.743499999999997,99.096880131362894,24.33,24.31,24.26,24.14,23.97,23.72,23.42]
[null,1.25,31.46,-5.71,0.63,0,0,24.948499999999999,99.917898193760266,24.36,24.36,24.36,24.34,24.26,24.11,23.91]
[null,1.3,31.46,-5.71,0.63,0,0,24.968999999999998,100,24.36,24.36,24.36,24.36,24.36,24.31,24.2]
[null,1.35,31.46,-5.71,0.63,0,0,24.968999999999998,{"$f":"M34/$M$34*100+0.001","v":100.001},24.36,24.36,24.36,24.36,24.36,24.36,24.33]

{"sheet":"28","index":34,"n_rows":118,"n_cols":16,"rows_kept":118,"cut":false,"hidden":false,"merged":[]}
[]
[null,"W.B. 4 PS",null,null,null,null,null,"S.G.",1.0249999999999999,"[t/m3]"]
[]
[null,"GAUGE","LCG","TCG","VCG","FSM (transv)","FSM (long)","Weight","Fill (%)","Trim=-1,5","Trim=1,0","Trim=-0,5","Trim=0","Trim=0,5","Trim=1,0","Trim=1,5"]
[null,null,"Fwd of AP","PS:+","Above BL"," "," "]
[null,"m","m","m","m","t·m","t·m","t",null,"m3","m3","m3","m3","m3","m3","m3"]
[null,0,26.1,7.51,1.27,0,0,{"$f":"M7*$I$2","v":4.0999999999999995E-2},{"$f":"M7/$M$118*100","v":0.14981273408239701},0,0.01,0.01,0.04,0.13,0.24,0.35]
[null,0.05,26.1,7.71,1.3,0,0.3,{"$f":"M8*$I$2","v":0.25624999999999998},{"$f":"M8/$M$118*100","v":0.93632958801498134},0.06,0.08,0.14000000000000001,0.25,0.36,0.48,0.59]
[null,0.1,26.1,7.76,1.33,0,0.3,0.50224999999999997,1.8352059925093633,0.18,0.26,0.37,0.49,0.6,0.72,0.83]
[null,0.15,26.1,7.77,1.35,0,0.3,0.74824999999999997,2.7340823970037453,0.39,0.5,0.62,0.73,0.84,0.96,1.07]
[null,0.2,26.1,7.78,1.38,0,0.3,0.99424999999999986,3.6329588014981278,0.63,0.74,0.86,0.97,1.0900000000000001,1.2,1.32]
[null,0.25,26.1,7.78,1.4,0,0.3,1.2402499999999999,4.5318352059925093,0.87,0.98,1.1000000000000001,1.21,1.33,1.44,1.56]
[null,0.3,26.1,7.79,1.43,0,0.3,1.4964999999999999,5.4681647940074907,1.1100000000000001,1.23,1.34,1.46,1.57,1.68,1.8]
[null,0.35,26.1,7.79,1.45,0,0.3,1.7424999999999997,6.3670411985018731,1.35,1.47,1.58,1.7,1.81,1.93,2.04]
[null,0.4,26.1,7.79,1.48,0,0.3,1.9884999999999997,7.2659176029962556,1.6,1.71,1.82,1.94,2.0499999999999998,2.17,2.2799999999999998]
[null,0.45,26.1,7.79,1.5,0,0.3,2.2345000000000002,8.164794007490638,1.84,1.95,2.0699999999999998,2.1800000000000002,2.2999999999999998,2.41,2.52]
[null,0.5,26.1,7.79,1.53,0,0.3,2.4804999999999997,9.0636704119850187,2.08,2.19,2.31,2.42,2.54,2.65,2.77]
[null,0.55000000000000004,26.1,7.79,1.55,0,0.3,2.7264999999999997,9.9625468164794029,2.3199999999999998,2.44,2.5499999999999998,2.66,2.78,2.89,3.01]
[null,0.6,26.1,7.79,1.58,0,0.3,2.9827499999999998,10.898876404494382,2.56,2.68,2.79,2.91,3.02,3.14,3.25]
[null,0.65,26.1,7.79,1.6,0,0.3,3.2287499999999998,11.797752808988763,2.8,2.92,3.03,3.15,3.26,3.38,3.49]
[null,0.7,26.1,7.79,1.63,0,0.3,3.4747499999999998,12.696629213483146,3.05,3.16,3.28,3.39,3.5,3.62,3.73]
[null,0.75,26.1,7.79,1.65,0,0.3,3.7207499999999998,13.595505617977526,3.29,3.4,3.52,3.63,3.75,3.86,3.97]
[null,0.8,26.1,7.79,1.68,0,0.3,3.9667499999999998,14.49438202247191,3.53,3.64,3.76,3.87,3.99,4.0999999999999996,4.22]
[null,0.85,26.1,7.79,1.7,0,0.3,4.2229999999999999,15.430711610486892,3.77,3.89,4,4.12,4.2300000000000004,4.34,4.46]
[null,0.9,26.1,7.8,1.73,0,0.3,4.4690000000000003,16.329588014981276,4.01,4.13,4.24,4.3600000000000003,4.47,4.59,4.7]
[null,0.95,26.1,7.8,1.75,0,0.3,4.714999999999999,17.228464419475657,4.26,4.37,4.4800000000000004,4.5999999999999996,4.71,4.83,4.9400000000000004]
[null,1,26.1,7.8,1.78,0,0.3,4.9609999999999994,18.127340823970037,4.5,4.6100000000000003,4.7300000000000004,4.84,4.95,5.07,5.18]
[null,1.05,26.1,7.8,1.8,0,0.3,5.2069999999999999,19.026217228464422,4.74,4.8499999999999996,4.97,5.08,5.2,5.31,5.43]
[null,1.1000000000000001,26.1,7.8,1.83,0,0.3,5.4529999999999994,19.925093632958806,4.9800000000000004,5.0999999999999996,5.21,5.32,5.44,5.55,5.67]
[null,1.1499999999999999,26.1,7.8,1.85,0,0.3,5.7092499999999999,20.861423220973784,5.22,5.34,5.45,5.57,5.68,5.79,5.91]
[null,1.2,26.1,7.8,1.88,0,0.3,5.9552499999999995,21.760299625468164,5.46,5.58,5.69,5.81,5.92,6.04,6.15]
[null,1.25,26.1,7.8,1.9,0,0.3,6.201249999999999,22.659176029962545,5.71,5.82,5.93,6.05,6.16,6.28,6.39]
[null,1.3,26.1,7.8,1.93,0,0.3,6.4472499999999995,23.558052434456929,5.95,6.06,6.18,6.29,6.41,6.52,6.63]
[null,1.35,26.1,7.8,1.95,0,0.3,6.6932499999999999,24.45692883895131,6.19,6.3,6.42,6.53,6.65,6.76,6.88]
[null,1.4,26.1,7.8,1.98,0,0.3,6.9392499999999986,25.35580524344569,6.43,6.55,6.66,6.77,6.89,7,7.12]
[null,1.45,26.1,7.8,2,0,0.3,7.1954999999999991,26.292134831460672,6.67,6.79,6.9,7.02,7.13,7.25,7.36]
[null,1.5,26.1,7.8,2.0299999999999998,0,0.3,7.4414999999999996,27.191011235955052,6.91,7.03,7.14,7.26,7.37,7.49,7.6]
[null,1.55,26.1,7.8,2.0499999999999998,0,0.3,7.6874999999999991,28.08988764044944,7.16,7.27,7.39,7.5,7.61,7.73,7.84]
[null,1.6,26.1,7.8,2.08,0,0.3,7.9334999999999996,28.988764044943821,7.4,7.51,7.63,7.74,7.86,7.97,8.09]
[null,1.65,26.1,7.8,2.1,0,0.3,8.1794999999999991,29.887640449438202,7.64,7.75,7.87,7.98,8.1,8.2100000000000009,8.33]
[null,1.7,26.1,7.8,2.13,0,0.3,8.4357500000000005,30.823970037453186,7.88,8,8.11,8.23,8.34,8.4499999999999993,8.57]
[null,1.75,26.1,7.8,2.15,0,0.3,8.6817499999999992,31.722846441947567,8.1199999999999992,8.24,8.35,8.4700000000000006,8.58,8.6999999999999993,8.81]
[null,1.8,26.1,7.8,2.1800000000000002,0,0.3,8.9277499999999996,32.621722846441955,8.3699999999999992,8.48,8.59,8.7100000000000009,8.82,8.94,9.0500000000000007]
[null,1.85,26.1,7.8,2.2000000000000002,0,0.3,9.1737499999999983,33.520599250936328,8.61,8.7200000000000006,8.84,8.9499999999999993,9.07,9.18,9.2899999999999991]
[null,1.9,26.1,7.8,2.23,0,0.3,9.4197499999999987,34.419475655430709,8.85,8.9600000000000009,9.08,9.19,9.31,9.42,9.5399999999999991]
[null,1.95,26.1,7.8,2.25,0,0.3,9.6657499999999992,35.318352059925097,9.09,9.2100000000000009,9.32,9.43,9.5500000000000007,9.66,9.7799999999999994]
[null,2,26.1,7.8,2.2799999999999998,0,0.3,9.9219999999999988,36.254681647940075,9.33,9.4499999999999993,9.56,9.68,9.7899999999999991,9.91,10.02]
[null,2.0499999999999998,26.1,7.8,2.2999999999999998,0,0.3,10.167999999999999,37.153558052434462,9.57,9.69,9.8000000000000007,9.92,10.029999999999999,10.15,10.26]
[null,2.1,26.1,7.8,2.33,0,0.3,10.414,38.052434456928843,9.82,9.93,10.050000000000001,10.16,10.27,10.39,10.5]
[null,2.15,26.1,7.8,2.35,0,0.3,10.66,38.951310861423224,10.06,10.17,10.29,10.4,10.52,10.63,10.74]
[null,2.2000000000000002,26.1,7.8,2.38,0,0.3,10.905999999999999,39.850187265917612,10.3,10.41,10.53,10.64,10.76,10.87,10.99]
[null,2.25,26.1,7.8,2.4,0,0.3,11.16225,40.786516853932589,10.54,10.66,10.77,10.89,11,11.11,11.23]
[null,2.2999999999999998,26.1,7.8,2.4300000000000002,0,0.3,11.408250000000001,41.68539325842697,10.78,10.9,11.01,11.13,11.24,11.36,11.47]
[null,2.35,26.1,7.8,2.4500000000000002,0,0.3,11.654249999999998,42.584269662921351,11.03,11.14,11.25,11.37,11.48,11.6,11.71]
[null,2.4,26.1,7.8,2.48,0,0.3,11.900249999999998,43.483146067415731,11.27,11.38,11.5,11.61,11.72,11.84,11.95]
[null,2.4500000000000002,26.1,7.8,2.5,0,0.3,12.146249999999998,44.382022471910112,11.51,11.62,11.74,11.85,11.97,12.08,12.2]
[null,2.5,26.1,7.8,2.5299999999999998,0,0.3,12.392249999999999,45.280898876404493,11.75,11.87,11.98,12.09,12.21,12.32,12.44]
[null,2.5499999999999998,26.1,7.8,2.5499999999999998,0,0.3,12.648499999999999,46.217228464419478,11.99,12.11,12.22,12.34,12.45,12.56,12.68]
[null,2.6,26.1,7.8,2.58,0,0.3,12.894499999999999,47.116104868913858,12.23,12.35,12.46,12.58,12.69,12.81,12.92]
[null,2.65,26.1,7.8,2.6,0,0.3,13.140499999999999,48.014981273408239,12.48,12.59,12.7,12.82,12.93,13.05,13.16]
[null,2.7,26.1,7.8,2.63,0,0.3,13.3865,48.91385767790262,12.72,12.83,12.95,13.06,13.18,13.29,13.4]
[null,2.75,26.1,7.8,2.65,0,0.3,13.6325,49.812734082397007,12.96,13.07,13.19,13.3,13.42,13.53,13.65]
[null,2.8,26.1,7.8,2.68,0,0.3,13.878499999999997,50.711610486891381,13.2,13.32,13.43,13.54,13.66,13.77,13.89]
[null,2.85,26.1,7.8,2.7,0,0.3,14.134749999999999,51.647940074906359,13.44,13.56,13.67,13.79,13.9,14.02,14.13]
[null,2.9,26.1,7.8,2.73,0,0.3,14.380749999999997,52.546816479400746,13.68,13.8,13.91,14.03,14.14,14.26,14.37]
[null,2.95,26.1,7.8,2.75,0,0.3,14.626749999999998,53.445692883895134,13.93,14.04,14.16,14.27,14.38,14.5,14.61]
[null,3,26.1,7.8,2.78,0,0.3,14.872749999999998,54.344569288389508,14.17,14.28,14.4,14.51,14.63,14.74,14.86]
[null,3.05,26.1,7.8,2.8,0,0.3,15.118749999999999,55.243445692883896,14.41,14.52,14.64,14.75,14.87,14.98,15.1]
[null,3.1,26.1,7.8,2.83,0,0.3,15.374999999999998,56.17977528089888,14.65,14.77,14.88,15,15.11,15.22,15.34]
[null,3.15,26.1,7.8,2.85,0,0.3,15.620999999999999,57.078651685393254,14.89,15.01,15.12,15.24,15.35,15.47,15.58]
[null,3.2,26.1,7.8,2.88,0,0.3,15.866999999999999,57.977528089887642,15.14,15.25,15.36,15.48,15.59,15.71,15.82]
[null,3.25,26.1,7.8,2.9,0,0.3,{"$f":"M72*$I$2","v":16.113},{"$f":"M72/$M$118*100","v":58.876404494382029},15.38,15.49,15.61,15.72,15.84,15.95,16.059999999999999]
[null,3.3,26.1,7.8,2.93,0,0.3,16.358999999999998,59.775280898876403,15.62,15.73,15.85,15.96,16.079999999999998,16.190000000000001,16.309999999999999]
[null,3.35,26.1,7.8,2.95,0,0.3,16.604999999999997,60.674157303370791,15.86,15.98,16.09,16.2,16.32,16.43,16.55]
[null,3.4,26.1,7.8,2.98,0,0.3,16.861249999999998,61.610486891385762,16.100000000000001,16.22,16.329999999999998,16.45,16.559999999999999,16.68,16.79]
[null,3.45,26.1,7.8,3,0,0.3,17.107250000000001,62.509363295880163,16.34,16.46,16.57,16.690000000000001,16.8,16.920000000000002,17.03]
[null,3.5,26.1,7.8,3.03,0,0.3,17.353249999999999,63.408239700374537,16.59,16.7,16.82,16.93,17.04,17.16,17.27]
[null,3.55,26.1,7.8,3.05,0,0.3,17.599250000000001,64.307116104868925,16.829999999999998,16.940000000000001,17.059999999999999,17.170000000000002,17.29,17.399999999999999,17.510000000000002]
[null,3.6,26.1,7.8,3.08,0,0.3,17.84525,65.205992509363298,17.07,17.18,17.3,17.41,17.53,17.64,17.760000000000002]
[null,3.65,26.1,7.8,3.1,0,0.3,18.101499999999998,66.142322097378283,17.309999999999999,17.43,17.54,17.66,17.77,17.88,18]
[null,3.7,26.1,7.8,3.13,0,0.3,18.347499999999997,67.041198501872657,17.55,17.670000000000002,17.78,17.899999999999999,18.010000000000002,18.13,18.239999999999998]
[null,3.75,26.1,7.8,3.15,0,0.3,18.593499999999999,67.940074906367045,17.8,17.91,18.02,18.14,18.25,18.37,18.48]
[null,3.8,26.1,7.8,3.18,0,0.3,18.839499999999997,68.838951310861418,18.04,18.149999999999999,18.27,18.38,18.489999999999998,18.61,18.72]
[null,3.85,26.1,7.8,3.2,0,0.3,19.0855,69.73782771535582,18.28,18.39,18.510000000000002,18.62,18.739999999999998,18.850000000000001,18.97]
[null,3.9,26.1,7.8,3.23,0,0.3,19.331499999999998,70.636704119850194,18.52,18.64,18.75,18.86,18.98,19.09,19.21]
[null,3.95,26.1,7.8,3.25,0,0.3,19.587749999999996,71.573033707865164,18.760000000000002,18.88,18.989999999999998,19.11,19.22,19.329999999999998,19.45]
[null,4,26.1,7.8,3.28,0,0.3,19.833749999999998,72.471910112359566,19,19.12,19.23,19.350000000000001,19.46,19.579999999999998,19.690000000000001]
[null,4.05,26.1,7.8,3.3,0,0.3,20.079749999999997,73.37078651685394,19.25,19.36,19.47,19.59,19.7,19.82,19.93]
[null,4.0999999999999996,26.1,7.8,3.33,0,0.3,20.325749999999996,74.269662921348313,19.489999999999998,19.600000000000001,19.72,19.829999999999998,19.95,20.059999999999999,20.170000000000002]
[null,4.1500000000000004,26.1,7.8,3.35,0,0.3,20.571749999999998,75.168539325842701,19.73,19.84,19.96,20.07,20.190000000000001,20.3,20.420000000000002]
[null,4.2,26.1,7.8,3.38,0,0.3,20.817749999999997,76.067415730337075,19.97,20.09,20.2,20.309999999999999,20.43,20.54,20.66]
[null,4.25,26.1,7.8,3.4,0,0.3,21.073999999999998,77.00374531835206,20.21,20.329999999999998,20.440000000000001,20.56,20.67,20.79,20.9]
[null,4.3,26.1,7.8,3.43,0,0.3,21.32,77.902621722846447,20.45,20.57,20.68,20.8,20.91,21.03,21.14]
[null,4.3499999999999996,26.1,7.8,3.45,0,0.3,21.565999999999999,78.801498127340821,20.7,20.81,20.93,21.04,21.15,21.27,21.38]
[null,4.4000000000000004,26.1,7.8,3.48,0,0.3,21.811999999999998,79.700374531835223,20.94,21.05,21.17,21.28,21.4,21.51,21.63]
[null,4.45,26.1,7.8,3.5,0,0.3,22.057999999999996,80.599250936329597,21.18,21.29,21.41,21.52,21.64,21.75,21.87]
[null,4.5,26.1,7.8,3.53,0,0.3,22.314249999999998,81.535580524344581,21.42,21.54,21.65,21.77,21.88,21.99,22.11]
[null,4.55,26.1,7.8,3.55,0,0.3,22.56025,82.434456928838955,21.66,21.78,21.89,22.01,22.12,22.24,22.35]
[null,4.5999999999999996,26.1,7.8,3.58,0,0.3,22.806249999999999,83.333333333333343,21.91,22.02,22.13,22.25,22.36,22.48,22.59]
[null,4.6500000000000004,26.1,7.8,3.6,0,0.3,23.052249999999997,84.232209737827716,22.15,22.26,22.38,22.49,22.61,22.72,22.83]
[null,4.7,26.1,7.8,3.63,0,0.3,23.298249999999999,85.131086142322104,22.39,22.5,22.62,22.73,22.85,22.96,23.08]
[null,4.75,26.1,7.8,3.65,0,0.3,23.544249999999998,86.029962546816478,22.63,22.75,22.86,22.97,23.09,23.2,23.32]
[null,4.8,26.1,7.8,3.68,0,0.3,23.800499999999996,86.966292134831463,22.87,22.99,23.1,23.22,23.33,23.45,23.56]
[null,4.8499999999999996,26.1,7.8,3.7,0,0.3,24.046499999999998,87.86516853932585,23.11,23.23,23.34,23.46,23.57,23.69,23.8]
[null,4.9000000000000004,26.1,7.8,3.73,0,0.3,24.292499999999997,88.764044943820224,23.36,23.47,23.59,23.7,23.81,23.93,24.04]
[null,4.95,26.1,7.8,3.75,0,0.3,24.538499999999999,89.662921348314612,23.6,23.71,23.83,23.94,24.06,24.17,24.28]
[null,5,26.1,7.8,3.78,0,0.3,24.784499999999998,90.561797752808985,23.84,23.95,24.07,24.18,24.3,24.41,24.53]
[null,5.05,26.1,7.8,3.8,0,0.3,25.040749999999999,91.49812734082397,24.08,24.2,24.31,24.43,24.54,24.65,24.77]
[null,5.0999999999999996,26.1,7.8,3.83,0,0.3,25.286749999999998,92.397003745318358,24.32,24.44,24.55,24.67,24.78,24.9,25.01]
[null,5.15,26.1,7.8,3.85,0,0.3,25.532749999999997,93.295880149812731,24.57,24.68,24.79,24.91,25.02,25.14,25.25]
[null,5.2,26.1,7.8,3.88,0,0.3,25.778749999999995,94.194756554307119,24.81,24.92,25.04,25.15,25.26,25.38,25.49]
[null,5.25,26.1,7.8,3.9,0,0.3,26.024749999999997,95.093632958801493,25.05,25.16,25.28,25.39,25.51,25.62,25.74]
[null,5.3,26.1,7.8,3.93,0,0.3,26.270749999999996,95.992509363295881,25.29,25.4,25.52,25.63,25.75,25.86,25.98]
[null,5.35,26.1,7.8,3.95,0,0.3,26.526999999999997,96.928838951310865,25.53,25.65,25.76,25.88,25.99,26.1,26.22]
[null,5.4,26.1,7.8,3.98,0,0.3,26.773,97.827715355805239,25.77,25.89,26,26.12,26.23,26.35,26.45]
[null,5.45,26.1,7.8,4,0,0.3,27.018999999999998,98.726591760299627,26.02,26.13,26.24,26.36,26.47,26.57,26.61]
[null,5.5,26.1,7.8,4.03,0,0.3,27.265000000000001,99.625468164794015,26.26,26.37,26.49,26.6,26.68,26.68,26.69]
[null,5.52,26.1,7.8,4.04,0,0.3,27.367499999999996,100,26.35,26.47,26.58,26.7,26.7,26.7,26.7]

{"sheet":"29","index":35,"n_rows":118,"n_cols":16,"rows_kept":118,"cut":false,"hidden":false,"merged":[]}
[]
[null,"W.B. 4 SB",null,null,null,null,null,"S.G.",1.0249999999999999,"[t/m3]"]
[]
[null,"GAUGE","LCG","TCG","VCG","FSM (transv)","FSM (long)","Weight","Fill (%)","Trim=-1,5","Trim=1,0","Trim=-0,5","Trim=0","Trim=0,5","Trim=1,0","Trim=1,5"]
[null,null,"Fwd of AP","PS:+","Above BL"," "," "]
[null,"m","m","m","m","t·m","t·m","t",null,"m3","m3","m3","m3","m3","m3","m3"]
[null,0,26.1,-7.51,1.27,0,0,{"$f":"M7*$I$2","v":4.0999999999999995E-2},{"$f":"M7/$M$118*100","v":0.14981273408239701},0,0.01,0.01,0.04,0.13,0.24,0.35]
[null,0.05,26.1,-7.71,1.3,0,0.3,{"$f":"M8*$I$2","v":0.25624999999999998},{"$f":"M8/$M$118*100","v":0.93632958801498134},0.06,0.08,0.14000000000000001,0.25,0.36,0.48,0.59]
[null,0.1,26.1,-7.76,1.33,0,0.3,0.50224999999999997,1.8352059925093633,0.18,0.26,0.37,0.49,0.6,0.72,0.83]
[null,0.15,26.1,-7.77,1.35,0,0.3,0.74824999999999997,2.7340823970037453,0.39,0.5,0.62,0.73,0.84,0.96,1.07]
[null,0.2,26.1,-7.78,1.38,0,0.3,0.99424999999999986,3.6329588014981278,0.63,0.74,0.86,0.97,1.0900000000000001,1.2,1.32]
[null,0.25,26.1,-7.78,1.4,0,0.3,1.2402499999999999,4.5318352059925093,0.87,0.98,1.1000000000000001,1.21,1.33,1.44,1.56]
[null,0.3,26.1,-7.79,1.43,0,0.3,1.4964999999999999,5.4681647940074907,1.1100000000000001,1.23,1.34,1.46,1.57,1.68,1.8]
[null,0.35,26.1,-7.79,1.45,0,0.3,1.7424999999999997,6.3670411985018731,1.35,1.47,1.58,1.7,1.81,1.93,2.04]
[null,0.4,26.1,-7.79,1.48,0,0.3,1.9884999999999997,7.2659176029962556,1.6,1.71,1.82,1.94,2.0499999999999998,2.17,2.2799999999999998]
[null,0.45,26.1,-7.79,1.5,0,0.3,2.2345000000000002,8.164794007490638,1.84,1.95,2.0699999999999998,2.1800000000000002,2.2999999999999998,2.41,2.52]
[null,0.5,26.1,-7.79,1.53,0,0.3,2.4804999999999997,9.0636704119850187,2.08,2.19,2.31,2.42,2.54,2.65,2.77]
[null,0.55000000000000004,26.1,-7.79,1.55,0,0.3,2.7264999999999997,9.9625468164794029,2.3199999999999998,2.44,2.5499999999999998,2.66,2.78,2.89,3.01]
[null,0.6,26.1,-7.79,1.58,0,0.3,2.9827499999999998,10.898876404494382,2.56,2.68,2.79,2.91,3.02,3.14,3.25]
[null,0.65,26.1,-7.79,1.6,0,0.3,3.2287499999999998,11.797752808988763,2.8,2.92,3.03,3.15,3.26,3.38,3.49]
[null,0.7,26.1,-7.79,1.63,0,0.3,3.4747499999999998,12.696629213483146,3.05,3.16,3.28,3.39,3.5,3.62,3.73]
[null,0.75,26.1,-7.79,1.65,0,0.3,3.7207499999999998,13.595505617977526,3.29,3.4,3.52,3.63,3.75,3.86,3.97]
[null,0.8,26.1,-7.79,1.68,0,0.3,3.9667499999999998,14.49438202247191,3.53,3.64,3.76,3.87,3.99,4.0999999999999996,4.22]
[null,0.85,26.1,-7.79,1.7,0,0.3,4.2229999999999999,15.430711610486892,3.77,3.89,4,4.12,4.2300000000000004,4.34,4.46]
[null,0.9,26.1,-7.8,1.73,0,0.3,4.4690000000000003,16.329588014981276,4.01,4.13,4.24,4.3600000000000003,4.47,4.59,4.7]
[null,0.95,26.1,-7.8,1.75,0,0.3,4.714999999999999,17.228464419475657,4.26,4.37,4.4800000000000004,4.5999999999999996,4.71,4.83,4.9400000000000004]
[null,1,26.1,-7.8,1.78,0,0.3,4.9609999999999994,18.127340823970037,4.5,4.6100000000000003,4.7300000000000004,4.84,4.95,5.07,5.18]
[null,1.05,26.1,-7.8,1.8,0,0.3,5.2069999999999999,19.026217228464422,4.74,4.8499999999999996,4.97,5.08,5.2,5.31,5.43]
[null,1.1000000000000001,26.1,-7.8,1.83,0,0.3,5.4529999999999994,19.925093632958806,4.9800000000000004,5.0999999999999996,5.21,5.32,5.44,5.55,5.67]
[null,1.1499999999999999,26.1,-7.8,1.85,0,0.3,5.7092499999999999,20.861423220973784,5.22,5.34,5.45,5.57,5.68,5.79,5.91]
[null,1.2,26.1,-7.8,1.88,0,0.3,5.9552499999999995,21.760299625468164,5.46,5.58,5.69,5.81,5.92,6.04,6.15]
[null,1.25,26.1,-7.8,1.9,0,0.3,6.201249999999999,22.659176029962545,5.71,5.82,5.93,6.05,6.16,6.28,6.39]
[null,1.3,26.1,-7.8,1.93,0,0.3,6.4472499999999995,23.558052434456929,5.95,6.06,6.18,6.29,6.41,6.52,6.63]
[null,1.35,26.1,-7.8,1.95,0,0.3,6.6932499999999999,24.45692883895131,6.19,6.3,6.42,6.53,6.65,6.76,6.88]
[null,1.4,26.1,-7.8,1.98,0,0.3,6.9392499999999986,25.35580524344569,6.43,6.55,6.66,6.77,6.89,7,7.12]
[null,1.45,26.1,-7.8,2,0,0.3,7.1954999999999991,26.292134831460672,6.67,6.79,6.9,7.02,7.13,7.25,7.36]
[null,1.5,26.1,-7.8,2.0299999999999998,0,0.3,7.4414999999999996,27.191011235955052,6.91,7.03,7.14,7.26,7.37,7.49,7.6]
[null,1.55,26.1,-7.8,2.0499999999999998,0,0.3,7.6874999999999991,28.08988764044944,7.16,7.27,7.39,7.5,7.61,7.73,7.84]
[null,1.6,26.1,-7.8,2.08,0,0.3,7.9334999999999996,28.988764044943821,7.4,7.51,7.63,7.74,7.86,7.97,8.09]
[null,1.65,26.1,-7.8,2.1,0,0.3,8.1794999999999991,29.887640449438202,7.64,7.75,7.87,7.98,8.1,8.2100000000000009,8.33]
[null,1.7,26.1,-7.8,2.13,0,0.3,8.4357500000000005,30.823970037453186,7.88,8,8.11,8.23,8.34,8.4499999999999993,8.57]
[null,1.75,26.1,-7.8,2.15,0,0.3,8.6817499999999992,31.722846441947567,8.1199999999999992,8.24,8.35,8.4700000000000006,8.58,8.6999999999999993,8.81]
[null,1.8,26.1,-7.8,2.1800000000000002,0,0.3,8.9277499999999996,32.621722846441955,8.3699999999999992,8.48,8.59,8.7100000000000009,8.82,8.94,9.0500000000000007]
[null,1.85,26.1,-7.8,2.2000000000000002,0,0.3,9.1737499999999983,33.520599250936328,8.61,8.7200000000000006,8.84,8.9499999999999993,9.07,9.18,9.2899999999999991]
[null,1.9,26.1,-7.8,2.23,0,0.3,9.4197499999999987,34.419475655430709,8.85,8.9600000000000009,9.08,9.19,9.31,9.42,9.5399999999999991]
[null,1.95,26.1,-7.8,2.25,0,0.3,9.6657499999999992,35.318352059925097,9.09,9.2100000000000009,9.32,9.43,9.5500000000000007,9.66,9.7799999999999994]
[null,2,26.1,-7.8,2.2799999999999998,0,0.3,9.9219999999999988,36.254681647940075,9.33,9.4499999999999993,9.56,9.68,9.7899999999999991,9.91,10.02]
[null,2.0499999999999998,26.1,-7.8,2.2999999999999998,0,0.3,10.167999999999999,37.153558052434462,9.57,9.69,9.8000000000000007,9.92,10.029999999999999,10.15,10.26]
[null,2.1,26.1,-7.8,2.33,0,0.3,10.414,38.052434456928843,9.82,9.93,10.050000000000001,10.16,10.27,10.39,10.5]
[null,2.15,26.1,-7.8,2.35,0,0.3,10.66,38.951310861423224,10.06,10.17,10.29,10.4,10.52,10.63,10.74]
[null,2.2000000000000002,26.1,-7.8,2.38,0,0.3,10.905999999999999,39.850187265917612,10.3,10.41,10.53,10.64,10.76,10.87,10.99]
[null,2.25,26.1,-7.8,2.4,0,0.3,11.16225,40.786516853932589,10.54,10.66,10.77,10.89,11,11.11,11.23]
[null,2.2999999999999998,26.1,-7.8,2.4300000000000002,0,0.3,11.408250000000001,41.68539325842697,10.78,10.9,11.01,11.13,11.24,11.36,11.47]
[null,2.35,26.1,-7.8,2.4500000000000002,0,0.3,11.654249999999998,42.584269662921351,11.03,11.14,11.25,11.37,11.48,11.6,11.71]
[null,2.4,26.1,-7.8,2.48,0,0.3,11.900249999999998,43.483146067415731,11.27,11.38,11.5,11.61,11.72,11.84,11.95]
[null,2.4500000000000002,26.1,-7.8,2.5,0,0.3,12.146249999999998,44.382022471910112,11.51,11.62,11.74,11.85,11.97,12.08,12.2]
[null,2.5,26.1,-7.8,2.5299999999999998,0,0.3,12.392249999999999,45.280898876404493,11.75,11.87,11.98,12.09,12.21,12.32,12.44]
[null,2.5499999999999998,26.1,-7.8,2.5499999999999998,0,0.3,12.648499999999999,46.217228464419478,11.99,12.11,12.22,12.34,12.45,12.56,12.68]
[null,2.6,26.1,-7.8,2.58,0,0.3,12.894499999999999,47.116104868913858,12.23,12.35,12.46,12.58,12.69,12.81,12.92]
[null,2.65,26.1,-7.8,2.6,0,0.3,13.140499999999999,48.014981273408239,12.48,12.59,12.7,12.82,12.93,13.05,13.16]
[null,2.7,26.1,-7.8,2.63,0,0.3,13.3865,48.91385767790262,12.72,12.83,12.95,13.06,13.18,13.29,13.4]
[null,2.75,26.1,-7.8,2.65,0,0.3,13.6325,49.812734082397007,12.96,13.07,13.19,13.3,13.42,13.53,13.65]
[null,2.8,26.1,-7.8,2.68,0,0.3,13.878499999999997,50.711610486891381,13.2,13.32,13.43,13.54,13.66,13.77,13.89]
[null,2.85,26.1,-7.8,2.7,0,0.3,14.134749999999999,51.647940074906359,13.44,13.56,13.67,13.79,13.9,14.02,14.13]
[null,2.9,26.1,-7.8,2.73,0,0.3,14.380749999999997,52.546816479400746,13.68,13.8,13.91,14.03,14.14,14.26,14.37]
[null,2.95,26.1,-7.8,2.75,0,0.3,14.626749999999998,53.445692883895134,13.93,14.04,14.16,14.27,14.38,14.5,14.61]
[null,3,26.1,-7.8,2.78,0,0.3,14.872749999999998,54.344569288389508,14.17,14.28,14.4,14.51,14.63,14.74,14.86]
[null,3.05,26.1,-7.8,2.8,0,0.3,15.118749999999999,55.243445692883896,14.41,14.52,14.64,14.75,14.87,14.98,15.1]
[null,3.1,26.1,-7.8,2.83,0,0.3,15.374999999999998,56.17977528089888,14.65,14.77,14.88,15,15.11,15.22,15.34]
[null,3.15,26.1,-7.8,2.85,0,0.3,15.620999999999999,57.078651685393254,14.89,15.01,15.12,15.24,15.35,15.47,15.58]
[null,3.2,26.1,-7.8,2.88,0,0.3,15.866999999999999,57.977528089887642,15.14,15.25,15.36,15.48,15.59,15.71,15.82]
[null,3.25,26.1,-7.8,2.9,0,0.3,{"$f":"M72*$I$2","v":16.113},{"$f":"M72/$M$118*100","v":58.876404494382029},15.38,15.49,15.61,15.72,15.84,15.95,16.059999999999999]
[null,3.3,26.1,-7.8,2.93,0,0.3,16.358999999999998,59.775280898876403,15.62,15.73,15.85,15.96,16.079999999999998,16.190000000000001,16.309999999999999]
[null,3.35,26.1,-7.8,2.95,0,0.3,16.604999999999997,60.674157303370791,15.86,15.98,16.09,16.2,16.32,16.43,16.55]
[null,3.4,26.1,-7.8,2.98,0,0.3,16.861249999999998,61.610486891385762,16.100000000000001,16.22,16.329999999999998,16.45,16.559999999999999,16.68,16.79]
[null,3.45,26.1,-7.8,3,0,0.3,17.107250000000001,62.509363295880163,16.34,16.46,16.57,16.690000000000001,16.8,16.920000000000002,17.03]
[null,3.5,26.1,-7.8,3.03,0,0.3,17.353249999999999,63.408239700374537,16.59,16.7,16.82,16.93,17.04,17.16,17.27]
[null,3.55,26.1,-7.8,3.05,0,0.3,17.599250000000001,64.307116104868925,16.829999999999998,16.940000000000001,17.059999999999999,17.170000000000002,17.29,17.399999999999999,17.510000000000002]
[null,3.6,26.1,-7.8,3.08,0,0.3,17.84525,65.205992509363298,17.07,17.18,17.3,17.41,17.53,17.64,17.760000000000002]
[null,3.65,26.1,-7.8,3.1,0,0.3,18.101499999999998,66.142322097378283,17.309999999999999,17.43,17.54,17.66,17.77,17.88,18]
[null,3.7,26.1,-7.8,3.13,0,0.3,18.347499999999997,67.041198501872657,17.55,17.670000000000002,17.78,17.899999999999999,18.010000000000002,18.13,18.239999999999998]
[null,3.75,26.1,-7.8,3.15,0,0.3,18.593499999999999,67.940074906367045,17.8,17.91,18.02,18.14,18.25,18.37,18.48]
[null,3.8,26.1,-7.8,3.18,0,0.3,18.839499999999997,68.838951310861418,18.04,18.149999999999999,18.27,18.38,18.489999999999998,18.61,18.72]
[null,3.85,26.1,-7.8,3.2,0,0.3,19.0855,69.73782771535582,18.28,18.39,18.510000000000002,18.62,18.739999999999998,18.850000000000001,18.97]
[null,3.9,26.1,-7.8,3.23,0,0.3,19.331499999999998,70.636704119850194,18.52,18.64,18.75,18.86,18.98,19.09,19.21]
[null,3.95,26.1,-7.8,3.25,0,0.3,19.587749999999996,71.573033707865164,18.760000000000002,18.88,18.989999999999998,19.11,19.22,19.329999999999998,19.45]
[null,4,26.1,-7.8,3.28,0,0.3,19.833749999999998,72.471910112359566,19,19.12,19.23,19.350000000000001,19.46,19.579999999999998,19.690000000000001]
[null,4.05,26.1,-7.8,3.3,0,0.3,20.079749999999997,73.37078651685394,19.25,19.36,19.47,19.59,19.7,19.82,19.93]
[null,4.0999999999999996,26.1,-7.8,3.33,0,0.3,20.325749999999996,74.269662921348313,19.489999999999998,19.600000000000001,19.72,19.829999999999998,19.95,20.059999999999999,20.170000000000002]
[null,4.1500000000000004,26.1,-7.8,3.35,0,0.3,20.571749999999998,75.168539325842701,19.73,19.84,19.96,20.07,20.190000000000001,20.3,20.420000000000002]
[null,4.2,26.1,-7.8,3.38,0,0.3,20.817749999999997,76.067415730337075,19.97,20.09,20.2,20.309999999999999,20.43,20.54,20.66]
[null,4.25,26.1,-7.8,3.4,0,0.3,21.073999999999998,77.00374531835206,20.21,20.329999999999998,20.440000000000001,20.56,20.67,20.79,20.9]
[null,4.3,26.1,-7.8,3.43,0,0.3,21.32,77.902621722846447,20.45,20.57,20.68,20.8,20.91,21.03,21.14]
[null,4.3499999999999996,26.1,-7.8,3.45,0,0.3,21.565999999999999,78.801498127340821,20.7,20.81,20.93,21.04,21.15,21.27,21.38]
[null,4.4000000000000004,26.1,-7.8,3.48,0,0.3,21.811999999999998,79.700374531835223,20.94,21.05,21.17,21.28,21.4,21.51,21.63]
[null,4.45,26.1,-7.8,3.5,0,0.3,22.057999999999996,80.599250936329597,21.18,21.29,21.41,21.52,21.64,21.75,21.87]
[null,4.5,26.1,-7.8,3.53,0,0.3,22.314249999999998,81.535580524344581,21.42,21.54,21.65,21.77,21.88,21.99,22.11]
[null,4.55,26.1,-7.8,3.55,0,0.3,22.56025,82.434456928838955,21.66,21.78,21.89,22.01,22.12,22.24,22.35]
[null,4.5999999999999996,26.1,-7.8,3.58,0,0.3,22.806249999999999,83.333333333333343,21.91,22.02,22.13,22.25,22.36,22.48,22.59]
[null,4.6500000000000004,26.1,-7.8,3.6,0,0.3,23.052249999999997,84.232209737827716,22.15,22.26,22.38,22.49,22.61,22.72,22.83]
[null,4.7,26.1,-7.8,3.63,0,0.3,23.298249999999999,85.131086142322104,22.39,22.5,22.62,22.73,22.85,22.96,23.08]
[null,4.75,26.1,-7.8,3.65,0,0.3,23.544249999999998,86.029962546816478,22.63,22.75,22.86,22.97,23.09,23.2,23.32]
[null,4.8,26.1,-7.8,3.68,0,0.3,23.800499999999996,86.966292134831463,22.87,22.99,23.1,23.22,23.33,23.45,23.56]
[null,4.8499999999999996,26.1,-7.8,3.7,0,0.3,24.046499999999998,87.86516853932585,23.11,23.23,23.34,23.46,23.57,23.69,23.8]
[null,4.9000000000000004,26.1,-7.8,3.73,0,0.3,24.292499999999997,88.764044943820224,23.36,23.47,23.59,23.7,23.81,23.93,24.04]
[null,4.95,26.1,-7.8,3.75,0,0.3,24.538499999999999,89.662921348314612,23.6,23.71,23.83,23.94,24.06,24.17,24.28]
[null,5,26.1,-7.8,3.78,0,0.3,24.784499999999998,90.561797752808985,23.84,23.95,24.07,24.18,24.3,24.41,24.53]
[null,5.05,26.1,-7.8,3.8,0,0.3,25.040749999999999,91.49812734082397,24.08,24.2,24.31,24.43,24.54,24.65,24.77]
[null,5.0999999999999996,26.1,-7.8,3.83,0,0.3,25.286749999999998,92.397003745318358,24.32,24.44,24.55,24.67,24.78,24.9,25.01]
[null,5.15,26.1,-7.8,3.85,0,0.3,25.532749999999997,93.295880149812731,24.57,24.68,24.79,24.91,25.02,25.14,25.25]
[null,5.2,26.1,-7.8,3.88,0,0.3,25.778749999999995,94.194756554307119,24.81,24.92,25.04,25.15,25.26,25.38,25.49]
[null,5.25,26.1,-7.8,3.9,0,0.3,26.024749999999997,95.093632958801493,25.05,25.16,25.28,25.39,25.51,25.62,25.74]
[null,5.3,26.1,-7.8,3.93,0,0.3,26.270749999999996,95.992509363295881,25.29,25.4,25.52,25.63,25.75,25.86,25.98]
[null,5.35,26.1,-7.8,3.95,0,0.3,26.526999999999997,96.928838951310865,25.53,25.65,25.76,25.88,25.99,26.1,26.22]
[null,5.4,26.1,-7.8,3.98,0,0.3,26.773,97.827715355805239,25.77,25.89,26,26.12,26.23,26.35,26.45]
[null,5.45,26.1,-7.8,4,0,0.3,27.018999999999998,98.726591760299627,26.02,26.13,26.24,26.36,26.47,26.57,26.61]
[null,5.5,26.1,-7.8,4.03,0,0.3,27.265000000000001,99.625468164794015,26.26,26.37,26.49,26.6,26.68,26.68,26.69]
[null,5.52,26.1,-7.8,4.04,0,0.3,27.367499999999996,100,26.35,26.47,26.58,26.7,26.7,26.7,26.7]

{"sheet":"30","index":36,"n_rows":34,"n_cols":16,"rows_kept":34,"cut":false,"hidden":false,"merged":[]}
[]
[null,"W.B. 4 PS DB",null,null,null,null,null,"S.G.",1.0249999999999999,"[t/m3]"]
[]
[null,"GAUGE","LCG","TCG","VCG","FSM (transv)","FSM (long)","Weight","Fill (%)","Trim=-1,5","Trim=1,0","Trim=-0,5","Trim=0","Trim=0,5","Trim=1,0","Trim=1,5"]
[null,null,"Fwd of AP","PS:+","Above BL"," "," "]
[null,"m","m","m","m","t·m","t·m","t",null,"m3","m3","m3","m3","m3","m3","m3"]
[null,0,26.05,3.39,0.02,0,151.19999999999999,{"$f":"M7*$I$2","v":1.1274999999999999},{"$f":"M7/$M$34*100","v":2.4181138711804793},0.36,0.39,0.53,1.1000000000000001,1.74,2.4,3.07]
[null,0.05,26.06,3.46,0.04,160,164,{"$f":"M8*$I$2","v":3.0647500000000001},{"$f":"M8/$M$34*100","v":6.5728731589360292},1.35,1.7,2.33,2.99,3.65,4.32,5]
[null,0.1,26.06,3.51,7.0000000000000007E-2,169,173.7,5.0429999999999993,10.815563860189052,2.94,3.59,4.25,4.92,5.6,6.28,6.97]
[null,0.15,26.07,3.54,0.09,177,181.8,7.0519999999999996,15.124203121565177,4.8600000000000003,5.53,6.2,6.88,7.57,8.27,8.9700000000000006]
[null,0.2,26.07,3.58,0.12,184,189.1,9.1020000000000003,19.520773796438778,6.82,7.5,8.18,8.8800000000000008,9.58,10.28,10.99]
[null,0.25,26.07,3.61,0.14000000000000001,191,195.5,11.16225,23.939327324686744,8.8000000000000007,9.49,10.19,10.89,11.6,12.32,13.03]
[null,0.3,26.08,3.63,0.17,197,201.4,13.253249999999998,28.42382941305781,10.81,11.51,12.22,12.93,13.65,14.37,15.09]
[null,0.35,26.08,3.66,0.19,202,206.9,15.364749999999999,32.952297208177619,12.85,13.56,14.27,14.99,15.71,16.440000000000001,17.170000000000002]
[null,0.4,26.08,3.68,0.22,207,212,17.496749999999999,37.524730710046164,14.9,15.62,16.34,17.07,17.8,18.53,19.27]
[null,0.45,26.08,3.7,0.25,211,216.7,19.638999999999999,42.119147065289077,16.97,17.7,18.43,19.16,19.89,20.63,21.38]
[null,0.5,26.08,3.72,0.27,216,221.1,21.801749999999998,46.757529127280719,19.059999999999999,19.79,20.53,21.27,22.01,22.75,23.5]
[null,0.55000000000000004,26.09,3.74,0.3,220,225.2,23.97475,51.417894042646736,21.17,21.9,22.64,23.39,24.13,24.88,25.63]
[null,0.6,26.09,3.76,0.32,223,229.1,26.157999999999998,56.100241811387122,23.28,24.03,24.77,25.52,26.27,27.02,27.78]
[null,0.65,26.09,3.77,0.35,227,232.7,28.351499999999998,60.804572433501868,25.41,26.16,26.91,27.66,28.42,29.17,29.93]
[null,0.7,26.09,3.79,0.37,230,236,30.565499999999997,65.552868762365364,27.56,28.31,29.06,29.82,30.58,31.34,32.1]
[null,0.75,26.09,3.8,0.4,233,239.1,32.779499999999999,70.301165091228839,29.71,30.47,31.22,31.98,32.74,33.51,34.270000000000003]
[null,0.8,26.09,3.82,0.43,236,242,35.013999999999996,75.09342712684105,31.87,32.630000000000003,33.39,34.159999999999997,34.92,35.69,36.46]
[null,0.85,26.09,3.83,0.45,239,244.7,37.2485,79.885689162453289,34.049999999999997,34.81,35.57,36.340000000000003,37.11,37.880000000000003,38.64]
[null,0.9,26.09,3.84,0.48,241,247.1,39.493249999999996,84.699934051439868,36.229999999999997,36.99,37.76,38.53,39.299999999999997,40.049999999999997,40.61]
[null,0.95,26.09,3.86,0.5,243,249.4,41.748249999999992,89.536161793800829,38.42,39.19,39.96,40.729999999999997,41.4,41.83,42.19]
[null,1,26.09,3.9,0.52,33,34.299999999999997,43.388249999999992,93.05341833369971,40.42,41.18,41.87,42.33,42.7,43.04,43.33]
[null,1.05,26.09,3.95,0.53,19,19,44.443999999999996,95.317652231259615,42.05,42.62,43.01,43.36,43.67,43.93,44.15]
[null,1.1000000000000001,26.09,4,0.55000000000000004,9,9.1,45.294749999999993,97.142229061332159,43.23,43.59,43.91,44.19,44.43,44.62,44.77]
[null,1.1499999999999999,26.09,4.05,0.55000000000000004,3,3.4,45.940499999999993,98.527148823917344,44.07,44.36,44.61,44.82,44.98,45.1,45.18]
[null,1.2,26.09,4.08,0.56000000000000005,1,0.8,46.370999999999995,99.4504286656408,44.71,44.93,45.11,45.24,45.33,45.38,45.4]
[null,1.25,26.09,4.09,0.56000000000000005,0,0,46.596499999999999,99.934051439876896,45.14,45.29,45.4,45.46,45.48,45.48,45.48]
[null,1.3,26.09,4.0999999999999996,0.56000000000000005,0,0,46.627249999999997,100,45.38,45.46,45.49,45.49,45.49,45.49,45.49]
[null,1.35,26.09,4.0999999999999996,0.56000000000000005,0,0,46.627249999999997,{"$f":"M34/$M$34*100+0.001","v":100.001},45.47,45.49,45.49,45.49,45.49,45.49,45.49]

{"sheet":"31","index":37,"n_rows":34,"n_cols":16,"rows_kept":34,"cut":false,"hidden":false,"merged":[]}
[]
[null,"W.B. 4 SB DB",null,null,null,null,null,"S.G.",1.0249999999999999,"[t/m3]"]
[]
[null,"GAUGE","LCG","TCG","VCG","FSM (transv)","FSM (long)","Weight","Fill (%)","Trim=-1,5","Trim=1,0","Trim=-0,5","Trim=0","Trim=0,5","Trim=1,0","Trim=1,5"]
[null,null,"Fwd of AP","PS:+","Above BL"," "," "]
[null,"m","m","m","m","t·m","t·m","t",null,"m3","m3","m3","m3","m3","m3","m3"]
[null,0,26.05,-3.39,0.02,0,151.19999999999999,{"$f":"M7*$I$2","v":1.1274999999999999},{"$f":"M7/$M$34*100","v":2.4181138711804793},0.31,0.34,0.49,1.1000000000000001,1.8,2.5099999999999998,3.23]
[null,0.05,26.06,-3.46,0.04,160,164,{"$f":"M8*$I$2","v":3.0647500000000001},{"$f":"M8/$M$34*100","v":6.5728731589360292},1.24,1.6,2.2799999999999998,2.99,3.7,4.43,5.17]
[null,0.1,26.06,-3.51,7.0000000000000007E-2,169,173.7,5.0429999999999993,10.815563860189052,2.78,3.48,4.1900000000000004,4.92,5.65,6.39,7.14]
[null,0.15,26.07,-3.54,0.09,177,181.8,7.0519999999999996,15.124203121565177,4.7,5.41,6.14,6.88,7.63,8.3800000000000008,9.14]
[null,0.2,26.07,-3.58,0.12,184,189.1,9.1020000000000003,19.520773796438778,6.65,7.38,8.1300000000000008,8.8800000000000008,9.6300000000000008,10.4,11.16]
[null,0.25,26.07,-3.61,0.14000000000000001,191,195.5,11.16225,23.939327324686744,8.6300000000000008,9.3800000000000008,10.130000000000001,10.89,11.66,12.43,13.21]
[null,0.3,26.08,-3.63,0.17,197,201.4,13.253249999999998,28.42382941305781,10.64,11.4,12.16,12.93,13.71,14.49,15.27]
[null,0.35,26.08,-3.66,0.19,202,206.9,15.364749999999999,32.952297208177619,12.67,13.44,14.21,14.99,15.77,16.559999999999999,17.350000000000001]
[null,0.4,26.08,-3.68,0.22,207,212,17.496749999999999,37.524730710046164,14.73,15.5,16.28,17.07,17.86,18.649999999999999,19.45]
[null,0.45,26.08,-3.7,0.25,211,216.7,19.638999999999999,42.119147065289077,16.8,17.579999999999998,18.37,19.16,19.95,20.75,21.56]
[null,0.5,26.08,-3.72,0.27,216,221.1,21.801749999999998,46.757529127280719,18.88,19.670000000000002,20.47,21.27,22.07,22.87,23.68]
[null,0.55000000000000004,26.09,-3.74,0.3,220,225.2,23.97475,51.417894042646736,20.99,21.78,22.58,23.39,24.19,25,25.81]
[null,0.6,26.09,-3.76,0.32,223,229.1,26.157999999999998,56.100241811387122,23.1,23.9,24.71,25.52,26.33,27.14,27.96]
[null,0.65,26.09,-3.77,0.35,227,232.7,28.351499999999998,60.804572433501868,25.23,26.04,26.85,27.66,28.48,29.3,30.12]
[null,0.7,26.09,-3.79,0.37,230,236,30.565499999999997,65.552868762365364,27.37,28.19,29,29.82,30.64,31.46,32.28]
[null,0.75,26.09,-3.8,0.4,233,239.1,32.779499999999999,70.301165091228839,29.53,30.34,31.16,31.98,32.81,33.630000000000003,34.46]
[null,0.8,26.09,-3.82,0.43,236,242,35.013999999999996,75.09342712684105,31.69,32.51,33.33,34.159999999999997,34.979999999999997,35.81,36.64]
[null,0.85,26.09,-3.83,0.45,239,244.7,37.2485,79.885689162453289,33.86,34.69,35.51,36.340000000000003,37.17,38,38.82]
[null,0.9,26.09,-3.84,0.48,241,247.1,39.493249999999996,84.699934051439868,36.04,36.869999999999997,37.700000000000003,38.53,39.36,40.159999999999997,40.76]
[null,0.95,26.09,-3.86,0.5,243,249.4,41.748249999999992,89.536161793800829,38.229999999999997,39.06,39.89,40.729999999999997,41.45,41.91,42.31]
[null,1,26.09,-3.9,0.52,33,34.299999999999997,43.388249999999992,93.05341833369971,40.26,41.08,41.83,42.33,42.73,43.09,43.41]
[null,1.05,26.09,-3.95,0.53,19,19,44.443999999999996,95.317652231259615,41.92,42.55,42.98,43.36,43.69,43.97,44.21]
[null,1.1000000000000001,26.09,-4,0.55000000000000004,9,9.1,45.294749999999993,97.142229061332159,43.15,43.54,43.89,44.19,44.44,44.65,44.81]
[null,1.1499999999999999,26.09,-4.05,0.55000000000000004,3,3.4,45.940499999999993,98.527148823917344,44.01,44.33,44.6,44.82,44.99,45.12,45.2]
[null,1.2,26.09,-4.08,0.56000000000000005,1,0.8,46.370999999999995,99.4504286656408,44.66,44.9,45.1,45.24,45.34,45.39,45.41]
[null,1.25,26.09,-4.09,0.56000000000000005,0,0,46.596499999999999,99.934051439876896,45.11,45.28,45.39,45.46,45.48,45.48,45.48]
[null,1.3,26.09,-4.0999999999999996,0.56000000000000005,0,0,46.627249999999997,100,45.37,45.45,45.49,45.49,45.49,45.49,45.49]
[null,1.35,26.09,-4.0999999999999996,0.56000000000000005,0,0.1,46.627249999999997,{"$f":"M34/$M$34*100+0.001","v":100.001},45.47,45.49,45.49,45.49,45.49,45.49,45.49]

{"sheet":"32","index":38,"n_rows":118,"n_cols":16,"rows_kept":118,"cut":false,"hidden":false,"merged":[]}
[]
[null,"W.B. 5 PS",null,null,null,null,null,"S.G.",1.0249999999999999,"[t/m3]"]
[]
[null,"GAUGE","LCG","TCG","VCG","FSM (transv)","FSM (long)","Weight","Fill (%)","Trim=-1,5","Trim=1,0","Trim=-0,5","Trim=0","Trim=0,5","Trim=1,0","Trim=1,5"]
[null,null,"Fwd of AP","PS:+","Above BL"," "," "]
[null,"m","m","m","m","t·m","t·m","t",null,"m3","m3","m3","m3","m3","m3","m3"]
[null,0,21,7.51,1.27,0,0,{"$f":"M7*$I$2","v":3.0749999999999996E-2},{"$f":"M7/$M$118*100","v":0.12674271229404308},0,0.01,0.01,0.03,0.1,0.19,0.28000000000000003]
[null,0.05,21.01,7.71,1.3,0,0.3,{"$f":"M8*$I$2","v":0.22549999999999998},{"$f":"M8/$M$118*100","v":0.92944655682298261},0.05,0.08,0.13,0.22,0.31,0.4,0.49]
[null,0.1,21.01,7.75,1.33,0,0.3,0.44074999999999998,1.816645542881284,0.18,0.25,0.34,0.43,0.52,0.61,0.7]
[null,0.15,21.01,7.77,1.35,0,0.3,0.66625000000000001,2.746092099704267,0.38,0.47,0.56000000000000005,0.65,0.73,0.82,0.91]
[null,0.2,21.01,7.78,1.38,0,0.3,0.88149999999999995,3.633291085762568,0.59,0.68,0.77,0.86,0.95,1.04,1.1299999999999999]
[null,0.25,21,7.78,1.4,0,0.3,1.0967499999999999,4.5204900718208698,0.81,0.9,0.98,1.07,1.1599999999999999,1.25,1.34]
[null,0.3,21,7.78,1.43,0,0.3,1.3222499999999999,5.4499366286438526,1.02,1.1100000000000001,1.2,1.29,1.38,1.47,1.56]
[null,0.35,21,7.79,1.45,0,0.3,1.5374999999999999,6.337135614702154,1.23,1.32,1.41,1.5,1.59,1.68,1.77]
[null,0.4,21,7.79,1.48,0,0.3,1.7629999999999999,7.266582171525136,1.45,1.54,1.63,1.72,1.81,1.9,1.99]
[null,0.45,21,7.79,1.5,0,0.3,1.9782499999999998,8.1537811575834382,1.66,1.75,1.84,1.93,2.02,2.11,2.2000000000000002]
[null,0.5,21,7.79,1.53,0,0.3,2.2037499999999999,9.0832277144064211,1.88,1.97,2.06,2.15,2.2400000000000002,2.3199999999999998,2.41]
[null,0.55000000000000004,21,7.79,1.55,0,0.3,2.4189999999999996,9.9704267004647225,2.09,2.1800000000000002,2.27,2.36,2.4500000000000002,2.54,2.63]
[null,0.6,21,7.79,1.58,0,0.3,2.6444999999999999,10.899873257287705,2.31,2.4,2.4900000000000002,2.58,2.66,2.75,2.84]
[null,0.65,21,7.79,1.6,0,0.3,2.8597499999999996,11.787072243346007,2.52,2.61,2.7,2.79,2.88,2.97,3.06]
[null,0.7,21,7.79,1.63,0,0.3,3.0749999999999997,12.674271229404308,2.74,2.83,2.91,3,3.09,3.18,3.27]
[null,0.75,21,7.79,1.65,0,0.3,3.3005,13.603717786227293,2.95,3.04,3.13,3.22,3.31,3.4,3.49]
[null,0.8,21,7.79,1.68,0,0.3,3.5157499999999997,14.490916772285592,3.16,3.25,3.34,3.43,3.52,3.61,3.7]
[null,0.85,21,7.79,1.7,0,0.3,3.7412499999999995,15.420363329108575,3.38,3.47,3.56,3.65,3.74,3.83,3.92]
[null,0.9,21,7.79,1.73,0,0.3,3.9564999999999997,16.307562315166876,3.59,3.68,3.77,3.86,3.95,4.04,4.13]
[null,0.95,21,7.8,1.75,0,0.3,4.1819999999999995,17.237008871989858,3.81,3.9,3.99,4.08,4.17,4.25,4.34]
[null,1,21,7.8,1.78,0,0.3,4.3972499999999997,18.124207858048162,4.0199999999999996,4.1100000000000003,4.2,4.29,4.38,4.47,4.5599999999999996]
[null,1.05,21,7.8,1.8,0,0.3,4.6124999999999998,19.011406844106464,4.24,4.33,4.42,4.5,4.59,4.68,4.7699999999999996]
[null,1.1000000000000001,21,7.8,1.83,0,0.3,4.8379999999999992,19.940853400929445,4.45,4.54,4.63,4.72,4.8099999999999996,4.9000000000000004,4.99]
[null,1.1499999999999999,21,7.8,1.85,0,0.3,5.0532499999999994,20.828052386987743,4.67,4.76,4.84,4.93,5.0199999999999996,5.1100000000000003,5.2]
[null,1.2,21,7.8,1.88,0,0.3,5.2787499999999996,21.757498943810731,4.88,4.97,5.0599999999999996,5.15,5.24,5.33,5.42]
[null,1.25,21,7.8,1.9,0,0.3,5.4939999999999998,22.644697929869032,5.09,5.18,5.27,5.36,5.45,5.54,5.63]
[null,1.3,21,7.8,1.93,0,0.3,5.7194999999999991,23.574144486692013,5.31,5.4,5.49,5.58,5.67,5.76,5.85]
[null,1.35,21,7.8,1.95,0,0.3,5.9347499999999993,24.461343472750315,5.52,5.61,5.7,5.79,5.88,5.97,6.06]
[null,1.4,21,7.8,1.98,0,0.3,6.1602499999999996,25.390790029573296,5.74,5.83,5.92,6.01,6.1,6.18,6.27]
[null,1.45,21,7.8,2,0,0.3,6.3754999999999988,26.277989015631597,5.95,6.04,6.13,6.22,6.31,6.4,6.49]
[null,1.5,21,7.8,2.0299999999999998,0,0.3,6.590749999999999,27.165188001689899,6.17,6.26,6.35,6.43,6.52,6.61,6.7]
[null,1.55,21,7.8,2.0499999999999998,0,0.3,6.8162500000000001,28.094634558512887,6.38,6.47,6.56,6.65,6.74,6.83,6.92]
[null,1.6,21,7.8,2.08,0,0.3,7.0314999999999994,28.981833544571185,6.6,6.68,6.77,6.86,6.95,7.04,7.13]
[null,1.65,21,7.8,2.1,0,0.3,7.2569999999999997,29.911280101394166,6.81,6.9,6.99,7.08,7.17,7.26,7.35]
[null,1.7,21,7.8,2.13,0,0.3,7.4722499999999989,30.798479087452467,7.02,7.11,7.2,7.29,7.38,7.47,7.56]
[null,1.75,21,7.8,2.15,0,0.3,7.6977499999999992,31.727925644275452,7.24,7.33,7.42,7.51,7.6,7.69,7.77]
[null,1.8,21,7.8,2.1800000000000002,0,0.3,7.9129999999999994,32.615124630333753,7.45,7.54,7.63,7.72,7.81,7.9,7.99]
[null,1.85,21,7.8,2.2000000000000002,0,0.3,8.1385000000000005,33.544571187156734,7.67,7.76,7.85,7.94,8.0299999999999994,8.11,8.1999999999999993]
[null,1.9,21,7.8,2.23,0,0.3,8.3537499999999998,34.431770173215035,7.88,7.97,8.06,8.15,8.24,8.33,8.42]
[null,1.95,21,7.8,2.25,0,0.3,8.5689999999999991,35.318969159273337,8.1,8.19,8.2799999999999994,8.36,8.4499999999999993,8.5399999999999991,8.6300000000000008]
[null,2,21,7.8,2.2799999999999998,0,0.3,8.7944999999999993,36.248415716096325,8.31,8.4,8.49,8.58,8.67,8.76,8.85]
[null,2.0499999999999998,21,7.8,2.2999999999999998,0,0.3,9.0097499999999986,37.135614702154619,8.5299999999999994,8.61,8.6999999999999993,8.7899999999999991,8.8800000000000008,8.9700000000000006,9.06]
[null,2.1,21,7.8,2.33,0,0.3,9.2352499999999988,38.065061258977607,8.74,8.83,8.92,9.01,9.1,9.19,9.2799999999999994]
[null,2.15,21,7.8,2.35,0,0.3,9.4504999999999999,38.952260245035909,8.9499999999999993,9.0399999999999991,9.1300000000000008,9.2200000000000006,9.31,9.4,9.49]
[null,2.2000000000000002,21,7.8,2.38,0,0.3,9.6759999999999984,39.88170680185889,9.17,9.26,9.35,9.44,9.5299999999999994,9.6199999999999992,9.6999999999999993]
[null,2.25,21,7.8,2.4,0,0.3,9.8912499999999994,40.768905787917191,9.3800000000000008,9.4700000000000006,9.56,9.65,9.74,9.83,9.92]
[null,2.2999999999999998,21,7.8,2.4300000000000002,0,0.3,10.116749999999998,41.698352344740172,9.6,9.69,9.7799999999999994,9.8699999999999992,9.9499999999999993,10.039999999999999,10.130000000000001]
[null,2.35,21,7.8,2.4500000000000002,0,0.3,10.331999999999999,42.585551330798474,9.81,9.9,9.99,10.08,10.17,10.26,10.35]
[null,2.4,21,7.8,2.48,0,0.3,10.547249999999998,43.472750316856775,10.029999999999999,10.119999999999999,10.210000000000001,10.29,10.38,10.47,10.56]
[null,2.4500000000000002,21,7.8,2.5,0,0.3,10.772749999999998,44.402196873679763,10.24,10.33,10.42,10.51,10.6,10.69,10.78]
[null,2.5,21,7.8,2.5299999999999998,0,0.3,10.988,45.289395859738065,10.46,10.54,10.63,10.72,10.81,10.9,10.99]
[null,2.5499999999999998,21,7.8,2.5499999999999998,0,0.3,11.213499999999998,46.218842416561039,10.67,10.76,10.85,10.94,11.03,11.12,11.21]
[null,2.6,21,7.8,2.58,0,0.3,11.428749999999999,47.106041402619347,10.88,10.97,11.06,11.15,11.24,11.33,11.42]
[null,2.65,21,7.8,2.6,0,0.3,11.654249999999998,48.035487959442321,11.1,11.19,11.28,11.37,11.46,11.55,11.63]
[null,2.7,21,7.8,2.63,0,0.3,11.869499999999999,48.922686945500629,11.31,11.4,11.49,11.58,11.67,11.76,11.85]
[null,2.75,21,7.8,2.65,0,0.3,12.094999999999999,49.852133502323618,11.53,11.62,11.71,11.8,11.88,11.97,12.06]
[null,2.8,21,7.8,2.68,0,0.3,12.310249999999998,50.739332488381919,11.74,11.83,11.92,12.01,12.1,12.19,12.28]
[null,2.85,21,7.8,2.7,0,0.3,12.525499999999999,51.62653147444022,11.96,12.05,12.13,12.22,12.31,12.4,12.49]
[null,2.9,21,7.8,2.73,0,0.3,12.750999999999998,52.555978031263194,12.17,12.26,12.35,12.44,12.53,12.62,12.71]
[null,2.95,21,7.8,2.75,0,0.3,12.966249999999999,53.443177017321496,12.38,12.47,12.56,12.65,12.74,12.83,12.92]
[null,3,21,7.8,2.78,0,0.3,13.191749999999997,54.372623574144477,12.6,12.69,12.78,12.87,12.96,13.05,13.14]
[null,3.05,21,7.8,2.8,0,0.3,13.406999999999998,55.259822560202785,12.81,12.9,12.99,13.08,13.17,13.26,13.35]
[null,3.1,21,7.8,2.83,0,0.3,13.6325,56.189269117025773,13.03,13.12,13.21,13.3,13.39,13.47,13.56]
[null,3.15,21,7.8,2.85,0,0.3,13.847749999999998,57.076468103084068,13.24,13.33,13.42,13.51,13.6,13.69,13.78]
[null,3.2,21,7.8,2.88,0,0.3,14.07325,58.005914659907056,13.46,13.55,13.64,13.73,13.81,13.9,13.99]
[null,3.25,21,7.8,2.9,0,0.3,{"$f":"M72*$I$2","v":14.288499999999999},{"$f":"M72/$M$118*100","v":58.893113645965357},13.67,13.76,13.85,13.94,14.03,14.12,14.21]
[null,3.3,21,7.8,2.93,0,0.3,14.503749999999998,59.780312632023659,13.89,13.98,14.06,14.15,14.24,14.33,14.42]
[null,3.35,21,7.8,2.95,0,0.3,14.729249999999999,60.709759188846633,14.1,14.19,14.28,14.37,14.46,14.55,14.64]
[null,3.4,21,7.8,2.98,0,0.3,14.944499999999998,61.596958174904934,14.31,14.4,14.49,14.58,14.67,14.76,14.85]
[null,3.45,21,7.8,3,0,0.3,15.17,62.526404731727922,14.53,14.62,14.71,14.8,14.89,14.98,15.07]
[null,3.5,21,7.8,3.03,0,0.3,15.385249999999999,63.413603717786224,14.74,14.83,14.92,15.01,15.1,15.19,15.28]
[null,3.55,21,7.8,3.05,0,0.3,15.610749999999999,64.343050274609197,14.96,15.05,15.14,15.23,15.32,15.4,15.49]
[null,3.6,21,7.8,3.08,0,0.3,15.825999999999999,65.230249260667506,15.17,15.26,15.35,15.44,15.53,15.62,15.71]
[null,3.65,21,7.8,3.1,0,0.3,16.041249999999998,66.117448246725814,15.39,15.48,15.57,15.65,15.74,15.83,15.92]
[null,3.7,21,7.8,3.13,0,0.3,16.266749999999998,67.046894803548781,15.6,15.69,15.78,15.87,15.96,16.05,16.14]
[null,3.75,21,7.8,3.15,0,0.3,16.481999999999996,67.93409378960709,15.82,15.91,15.99,16.079999999999998,16.170000000000002,16.260000000000002,16.350000000000001]
[null,3.8,21,7.8,3.18,0,0.3,16.7075,68.863540346430071,16.03,16.12,16.21,16.3,16.39,16.48,16.57]
[null,3.85,21,7.8,3.2,0,0.3,16.922750000000001,69.750739332488394,16.239999999999998,16.329999999999998,16.420000000000002,16.510000000000002,16.600000000000001,16.690000000000001,16.78]
[null,3.9,21,7.8,3.23,0,0.3,17.148249999999997,70.68018588931136,16.46,16.55,16.64,16.73,16.82,16.91,17]
[null,3.95,21,7.8,3.25,0,0.3,17.363499999999998,71.567384875369669,16.670000000000002,16.760000000000002,16.850000000000001,16.940000000000001,17.03,17.12,17.21]
[null,4,21,7.8,3.28,0,0.3,17.588999999999999,72.49683143219265,16.89,16.98,17.07,17.16,17.25,17.329999999999998,17.420000000000002]
[null,4.05,21,7.8,3.3,0,0.3,17.80425,73.384030418250944,17.100000000000001,17.190000000000001,17.28,17.37,17.46,17.55,17.64]
[null,4.0999999999999996,21,7.8,3.33,0,0.3,18.019499999999997,74.271229404309238,17.32,17.41,17.5,17.579999999999998,17.670000000000002,17.760000000000002,17.850000000000001]
[null,4.1500000000000004,21,7.8,3.35,0,0.3,18.244999999999997,75.200675961132234,17.53,17.62,17.71,17.8,17.89,17.98,18.07]
[null,4.2,21,7.8,3.38,0,0.3,18.460249999999998,76.087874947190542,17.75,17.829999999999998,17.920000000000002,18.010000000000002,18.100000000000001,18.190000000000001,18.28]
[null,4.25,21,7.8,3.4,0,0.3,18.685749999999999,77.017321504013509,17.96,18.05,18.14,18.23,18.32,18.41,18.5]
[null,4.3,21,7.8,3.43,0,0.3,18.901,77.904520490071818,18.170000000000002,18.260000000000002,18.350000000000001,18.440000000000001,18.53,18.62,18.71]
[null,4.3499999999999996,21,7.8,3.45,0,0.3,19.1265,78.833967046894799,18.39,18.48,18.57,18.66,18.75,18.84,18.920000000000002]
[null,4.4000000000000004,21,7.8,3.48,0,0.3,19.341750000000001,79.721166032953107,18.600000000000001,18.690000000000001,18.78,18.87,18.96,19.05,19.14]
[null,4.45,21,7.8,3.5,0,0.3,19.567249999999998,80.650612589776088,18.82,18.91,19,19.09,19.18,19.260000000000002,19.350000000000001]
[null,4.5,21,7.8,3.53,0,0.3,19.782499999999999,81.537811575834382,19.03,19.12,19.21,19.3,19.39,19.48,19.57]
[null,4.55,21,7.8,3.55,0,0.3,19.99775,82.425010561892691,19.25,19.34,19.43,19.510000000000002,19.600000000000001,19.690000000000001,19.78]
[null,4.5999999999999996,21,7.8,3.58,0,0.3,20.22325,83.354457118715672,19.46,19.55,19.64,19.73,19.82,19.91,20]
[null,4.6500000000000004,21,7.8,3.6,0,0.3,20.438500000000001,84.24165610477398,19.68,19.760000000000002,19.850000000000001,19.940000000000001,20.03,20.12,20.21]
[null,4.7,21,7.8,3.63,0,0.3,20.663999999999998,85.171102661596947,19.89,19.98,20.07,20.16,20.25,20.34,20.43]
[null,4.75,21,7.8,3.65,0,0.3,20.879249999999999,86.058301647655256,20.100000000000001,20.190000000000001,20.28,20.37,20.46,20.55,20.64]
[null,4.8,21,7.8,3.68,0,0.3,21.104749999999999,86.987748204478237,20.32,20.41,20.5,20.59,20.68,20.77,20.85]
[null,4.8499999999999996,21,7.8,3.7,0,0.3,21.32,87.874947190536545,20.53,20.62,20.71,20.8,20.89,20.98,21.07]
[null,4.9000000000000004,21,7.8,3.73,0,0.3,21.545499999999997,{"$f":"M105/$M$118*100","v":88.804393747359526},20.75,20.84,20.93,21.02,21.1,21.19,21.28]
[null,4.95,21,7.8,3.75,0,0.3,21.760749999999998,{"$f":"M106/$M$118*100","v":89.691592733417821},20.96,21.05,21.14,21.23,21.32,21.41,21.5]
[null,5,21,7.8,3.78,0,0.3,21.975999999999999,90.578791719476129,21.18,21.27,21.36,21.44,21.53,21.62,21.71]
[null,5.05,21,7.8,3.8,0,0.3,22.201499999999999,91.508238276299096,21.39,21.48,21.57,21.66,21.75,21.84,21.93]
[null,5.0999999999999996,21,7.8,3.83,0,0.3,22.41675,92.395437262357419,21.61,21.69,21.78,21.87,21.96,22.05,22.14]
[null,5.15,21,7.8,3.85,0,0.3,22.642249999999997,93.3248838191804,21.82,21.91,22,22.09,22.18,22.27,22.36]
[null,5.2,21,7.8,3.88,0,0.3,22.857499999999998,94.212082805238694,22.03,22.12,22.21,22.3,22.39,22.48,22.57]
[null,5.25,21,7.8,3.9,0,0.3,23.082999999999998,95.141529362061675,22.25,22.34,22.43,22.52,22.61,22.7,22.78]
[null,5.3,21,7.8,3.93,0,0.3,23.298249999999999,96.028728348119969,22.46,22.55,22.64,22.73,22.82,22.91,23]
[null,5.35,21,7.8,3.95,0,0.3,23.523749999999996,96.95817490494295,22.68,22.77,22.86,22.95,23.03,23.12,23.21]
[null,5.4,21,7.8,3.98,0,0.3,23.738999999999997,97.845373891001259,22.89,22.98,23.07,23.16,23.25,23.34,23.43]
[null,5.45,21,7.8,4,0,0.3,23.954249999999998,98.732572877059567,23.11,23.2,23.28,23.37,23.46,23.55,23.58]
[null,5.5,21,7.8,4.03,0,0.3,24.179749999999999,99.662019433882548,23.32,23.41,23.5,23.59,23.65,23.66,23.66]
[null,5.52,21,7.8,4.04,0,0.3,24.261749999999999,100,23.41,23.5,23.58,23.67,23.67,23.67,23.67]

{"sheet":"33","index":39,"n_rows":118,"n_cols":16,"rows_kept":118,"cut":false,"hidden":false,"merged":[]}
[]
[null,"W.B. 5 SB",null,null,null,null,null,"S.G.",1.0249999999999999,"[t/m3]"]
[]
[null,"GAUGE","LCG","TCG","VCG","FSM (transv)","FSM (long)","Weight","Fill (%)","Trim=-1,5","Trim=1,0","Trim=-0,5","Trim=0","Trim=0,5","Trim=1,0","Trim=1,5"]
[null,null,"Fwd of AP","PS:+","Above BL"," "," "]
[null,"m","m","m","m","t·m","t·m","t",null,"m3","m3","m3","m3","m3","m3","m3"]
[null,0,21,-7.51,1.27,0,0,{"$f":"M7*$I$2","v":3.0749999999999996E-2},{"$f":"M7/$M$118*100","v":0.12674271229404308},0,0.01,0.01,0.03,0.1,0.19,0.28000000000000003]
[null,0.05,21.01,-7.71,1.3,0,0.3,{"$f":"M8*$I$2","v":0.22549999999999998},{"$f":"M8/$M$118*100","v":0.92944655682298261},0.05,0.08,0.13,0.22,0.31,0.4,0.49]
[null,0.1,21.01,-7.75,1.33,0,0.3,0.44074999999999998,1.816645542881284,0.18,0.25,0.34,0.43,0.52,0.61,0.7]
[null,0.15,21.01,-7.77,1.35,0,0.3,0.66625000000000001,2.746092099704267,0.38,0.47,0.56000000000000005,0.65,0.73,0.82,0.91]
[null,0.2,21.01,-7.78,1.38,0,0.3,0.88149999999999995,3.633291085762568,0.59,0.68,0.77,0.86,0.95,1.04,1.1299999999999999]
[null,0.25,21,-7.78,1.4,0,0.3,1.0967499999999999,4.5204900718208698,0.81,0.9,0.98,1.07,1.1599999999999999,1.25,1.34]
[null,0.3,21,-7.78,1.43,0,0.3,1.3222499999999999,5.4499366286438526,1.02,1.1100000000000001,1.2,1.29,1.38,1.47,1.56]
[null,0.35,21,-7.79,1.45,0,0.3,1.5374999999999999,6.337135614702154,1.23,1.32,1.41,1.5,1.59,1.68,1.77]
[null,0.4,21,-7.79,1.48,0,0.3,1.7629999999999999,7.266582171525136,1.45,1.54,1.63,1.72,1.81,1.9,1.99]
[null,0.45,21,-7.79,1.5,0,0.3,1.9782499999999998,8.1537811575834382,1.66,1.75,1.84,1.93,2.02,2.11,2.2000000000000002]
[null,0.5,21,-7.79,1.53,0,0.3,2.2037499999999999,9.0832277144064211,1.88,1.97,2.06,2.15,2.2400000000000002,2.3199999999999998,2.41]
[null,0.55000000000000004,21,-7.79,1.55,0,0.3,2.4189999999999996,9.9704267004647225,2.09,2.1800000000000002,2.27,2.36,2.4500000000000002,2.54,2.63]
[null,0.6,21,-7.79,1.58,0,0.3,2.6444999999999999,10.899873257287705,2.31,2.4,2.4900000000000002,2.58,2.66,2.75,2.84]
[null,0.65,21,-7.79,1.6,0,0.3,2.8597499999999996,11.787072243346007,2.52,2.61,2.7,2.79,2.88,2.97,3.06]
[null,0.7,21,-7.79,1.63,0,0.3,3.0749999999999997,12.674271229404308,2.74,2.83,2.91,3,3.09,3.18,3.27]
[null,0.75,21,-7.79,1.65,0,0.3,3.3005,13.603717786227293,2.95,3.04,3.13,3.22,3.31,3.4,3.49]
[null,0.8,21,-7.79,1.68,0,0.3,3.5157499999999997,14.490916772285592,3.16,3.25,3.34,3.43,3.52,3.61,3.7]
[null,0.85,21,-7.79,1.7,0,0.3,3.7412499999999995,15.420363329108575,3.38,3.47,3.56,3.65,3.74,3.83,3.92]
[null,0.9,21,-7.79,1.73,0,0.3,3.9564999999999997,16.307562315166876,3.59,3.68,3.77,3.86,3.95,4.04,4.13]
[null,0.95,21,-7.8,1.75,0,0.3,4.1819999999999995,17.237008871989858,3.81,3.9,3.99,4.08,4.17,4.25,4.34]
[null,1,21,-7.8,1.78,0,0.3,4.3972499999999997,18.124207858048162,4.0199999999999996,4.1100000000000003,4.2,4.29,4.38,4.47,4.5599999999999996]
[null,1.05,21,-7.8,1.8,0,0.3,4.6124999999999998,19.011406844106464,4.24,4.33,4.42,4.5,4.59,4.68,4.7699999999999996]
[null,1.1000000000000001,21,-7.8,1.83,0,0.3,4.8379999999999992,19.940853400929445,4.45,4.54,4.63,4.72,4.8099999999999996,4.9000000000000004,4.99]
[null,1.1499999999999999,21,-7.8,1.85,0,0.3,5.0532499999999994,20.828052386987743,4.67,4.76,4.84,4.93,5.0199999999999996,5.1100000000000003,5.2]
[null,1.2,21,-7.8,1.88,0,0.3,5.2787499999999996,21.757498943810731,4.88,4.97,5.0599999999999996,5.15,5.24,5.33,5.42]
[null,1.25,21,-7.8,1.9,0,0.3,5.4939999999999998,22.644697929869032,5.09,5.18,5.27,5.36,5.45,5.54,5.63]
[null,1.3,21,-7.8,1.93,0,0.3,5.7194999999999991,23.574144486692013,5.31,5.4,5.49,5.58,5.67,5.76,5.85]
[null,1.35,21,-7.8,1.95,0,0.3,5.9347499999999993,24.461343472750315,5.52,5.61,5.7,5.79,5.88,5.97,6.06]
[null,1.4,21,-7.8,1.98,0,0.3,6.1602499999999996,25.390790029573296,5.74,5.83,5.92,6.01,6.1,6.18,6.27]
[null,1.45,21,-7.8,2,0,0.3,6.3754999999999988,26.277989015631597,5.95,6.04,6.13,6.22,6.31,6.4,6.49]
[null,1.5,21,-7.8,2.0299999999999998,0,0.3,6.590749999999999,27.165188001689899,6.17,6.26,6.35,6.43,6.52,6.61,6.7]
[null,1.55,21,-7.8,2.0499999999999998,0,0.3,6.8162500000000001,28.094634558512887,6.38,6.47,6.56,6.65,6.74,6.83,6.92]
[null,1.6,21,-7.8,2.08,0,0.3,7.0314999999999994,28.981833544571185,6.6,6.68,6.77,6.86,6.95,7.04,7.13]
[null,1.65,21,-7.8,2.1,0,0.3,7.2569999999999997,29.911280101394166,6.81,6.9,6.99,7.08,7.17,7.26,7.35]
[null,1.7,21,-7.8,2.13,0,0.3,7.4722499999999989,30.798479087452467,7.02,7.11,7.2,7.29,7.38,7.47,7.56]
[null,1.75,21,-7.8,2.15,0,0.3,7.6977499999999992,31.727925644275452,7.24,7.33,7.42,7.51,7.6,7.69,7.77]
[null,1.8,21,-7.8,2.1800000000000002,0,0.3,7.9129999999999994,32.615124630333753,7.45,7.54,7.63,7.72,7.81,7.9,7.99]
[null,1.85,21,-7.8,2.2000000000000002,0,0.3,8.1385000000000005,33.544571187156734,7.67,7.76,7.85,7.94,8.0299999999999994,8.11,8.1999999999999993]
[null,1.9,21,-7.8,2.23,0,0.3,8.3537499999999998,34.431770173215035,7.88,7.97,8.06,8.15,8.24,8.33,8.42]
[null,1.95,21,-7.8,2.25,0,0.3,8.5689999999999991,35.318969159273337,8.1,8.19,8.2799999999999994,8.36,8.4499999999999993,8.5399999999999991,8.6300000000000008]
[null,2,21,-7.8,2.2799999999999998,0,0.3,8.7944999999999993,36.248415716096325,8.31,8.4,8.49,8.58,8.67,8.76,8.85]
[null,2.0499999999999998,21,-7.8,2.2999999999999998,0,0.3,9.0097499999999986,37.135614702154619,8.5299999999999994,8.61,8.6999999999999993,8.7899999999999991,8.8800000000000008,8.9700000000000006,9.06]
[null,2.1,21,-7.8,2.33,0,0.3,9.2352499999999988,38.065061258977607,8.74,8.83,8.92,9.01,9.1,9.19,9.2799999999999994]
[null,2.15,21,-7.8,2.35,0,0.3,9.4504999999999999,38.952260245035909,8.9499999999999993,9.0399999999999991,9.1300000000000008,9.2200000000000006,9.31,9.4,9.49]
[null,2.2000000000000002,21,-7.8,2.38,0,0.3,9.6759999999999984,39.88170680185889,9.17,9.26,9.35,9.44,9.5299999999999994,9.6199999999999992,9.6999999999999993]
[null,2.25,21,-7.8,2.4,0,0.3,9.8912499999999994,40.768905787917191,9.3800000000000008,9.4700000000000006,9.56,9.65,9.74,9.83,9.92]
[null,2.2999999999999998,21,-7.8,2.4300000000000002,0,0.3,10.116749999999998,41.698352344740172,9.6,9.69,9.7799999999999994,9.8699999999999992,9.9499999999999993,10.039999999999999,10.130000000000001]
[null,2.35,21,-7.8,2.4500000000000002,0,0.3,10.331999999999999,42.585551330798474,9.81,9.9,9.99,10.08,10.17,10.26,10.35]
[null,2.4,21,-7.8,2.48,0,0.3,10.547249999999998,43.472750316856775,10.029999999999999,10.119999999999999,10.210000000000001,10.29,10.38,10.47,10.56]
[null,2.4500000000000002,21,-7.8,2.5,0,0.3,10.772749999999998,44.402196873679763,10.24,10.33,10.42,10.51,10.6,10.69,10.78]
[null,2.5,21,-7.8,2.5299999999999998,0,0.3,10.988,45.289395859738065,10.46,10.54,10.63,10.72,10.81,10.9,10.99]
[null,2.5499999999999998,21,-7.8,2.5499999999999998,0,0.3,11.213499999999998,46.218842416561039,10.67,10.76,10.85,10.94,11.03,11.12,11.21]
[null,2.6,21,-7.8,2.58,0,0.3,11.428749999999999,47.106041402619347,10.88,10.97,11.06,11.15,11.24,11.33,11.42]
[null,2.65,21,-7.8,2.6,0,0.3,11.654249999999998,48.035487959442321,11.1,11.19,11.28,11.37,11.46,11.55,11.63]
[null,2.7,21,-7.8,2.63,0,0.3,11.869499999999999,48.922686945500629,11.31,11.4,11.49,11.58,11.67,11.76,11.85]
[null,2.75,21,-7.8,2.65,0,0.3,12.094999999999999,49.852133502323618,11.53,11.62,11.71,11.8,11.88,11.97,12.06]
[null,2.8,21,-7.8,2.68,0,0.3,12.310249999999998,50.739332488381919,11.74,11.83,11.92,12.01,12.1,12.19,12.28]
[null,2.85,21,-7.8,2.7,0,0.3,12.525499999999999,51.62653147444022,11.96,12.05,12.13,12.22,12.31,12.4,12.49]
[null,2.9,21,-7.8,2.73,0,0.3,12.750999999999998,52.555978031263194,12.17,12.26,12.35,12.44,12.53,12.62,12.71]
[null,2.95,21,-7.8,2.75,0,0.3,12.966249999999999,53.443177017321496,12.38,12.47,12.56,12.65,12.74,12.83,12.92]
[null,3,21,-7.8,2.78,0,0.3,13.191749999999997,54.372623574144477,12.6,12.69,12.78,12.87,12.96,13.05,13.14]
[null,3.05,21,-7.8,2.8,0,0.3,13.406999999999998,55.259822560202785,12.81,12.9,12.99,13.08,13.17,13.26,13.35]
[null,3.1,21,-7.8,2.83,0,0.3,13.6325,56.189269117025773,13.03,13.12,13.21,13.3,13.39,13.47,13.56]
[null,3.15,21,-7.8,2.85,0,0.3,13.847749999999998,57.076468103084068,13.24,13.33,13.42,13.51,13.6,13.69,13.78]
[null,3.2,21,-7.8,2.88,0,0.3,14.07325,58.005914659907056,13.46,13.55,13.64,13.73,13.81,13.9,13.99]
[null,3.25,21,-7.8,2.9,0,0.3,{"$f":"M72*$I$2","v":14.288499999999999},{"$f":"M72/$M$118*100","v":58.893113645965357},13.67,13.76,13.85,13.94,14.03,14.12,14.21]
[null,3.3,21,-7.8,2.93,0,0.3,14.503749999999998,59.780312632023659,13.89,13.98,14.06,14.15,14.24,14.33,14.42]
[null,3.35,21,-7.8,2.95,0,0.3,14.729249999999999,60.709759188846633,14.1,14.19,14.28,14.37,14.46,14.55,14.64]
[null,3.4,21,-7.8,2.98,0,0.3,14.944499999999998,61.596958174904934,14.31,14.4,14.49,14.58,14.67,14.76,14.85]
[null,3.45,21,-7.8,3,0,0.3,15.17,62.526404731727922,14.53,14.62,14.71,14.8,14.89,14.98,15.07]
[null,3.5,21,-7.8,3.03,0,0.3,15.385249999999999,63.413603717786224,14.74,14.83,14.92,15.01,15.1,15.19,15.28]
[null,3.55,21,-7.8,3.05,0,0.3,15.610749999999999,64.343050274609197,14.96,15.05,15.14,15.23,15.32,15.4,15.49]
[null,3.6,21,-7.8,3.08,0,0.3,15.825999999999999,65.230249260667506,15.17,15.26,15.35,15.44,15.53,15.62,15.71]
[null,3.65,21,-7.8,3.1,0,0.3,16.041249999999998,66.117448246725814,15.39,15.48,15.57,15.65,15.74,15.83,15.92]
[null,3.7,21,-7.8,3.13,0,0.3,16.266749999999998,67.046894803548781,15.6,15.69,15.78,15.87,15.96,16.05,16.14]
[null,3.75,21,-7.8,3.15,0,0.3,16.481999999999996,67.93409378960709,15.82,15.91,15.99,16.079999999999998,16.170000000000002,16.260000000000002,16.350000000000001]
[null,3.8,21,-7.8,3.18,0,0.3,16.7075,68.863540346430071,16.03,16.12,16.21,16.3,16.39,16.48,16.57]
[null,3.85,21,-7.8,3.2,0,0.3,16.922750000000001,69.750739332488394,16.239999999999998,16.329999999999998,16.420000000000002,16.510000000000002,16.600000000000001,16.690000000000001,16.78]
[null,3.9,21,-7.8,3.23,0,0.3,17.148249999999997,70.68018588931136,16.46,16.55,16.64,16.73,16.82,16.91,17]
[null,3.95,21,-7.8,3.25,0,0.3,17.363499999999998,71.567384875369669,16.670000000000002,16.760000000000002,16.850000000000001,16.940000000000001,17.03,17.12,17.21]
[null,4,21,-7.8,3.28,0,0.3,17.588999999999999,72.49683143219265,16.89,16.98,17.07,17.16,17.25,17.329999999999998,17.420000000000002]
[null,4.05,21,-7.8,3.3,0,0.3,17.80425,73.384030418250944,17.100000000000001,17.190000000000001,17.28,17.37,17.46,17.55,17.64]
[null,4.0999999999999996,21,-7.8,3.33,0,0.3,18.019499999999997,74.271229404309238,17.32,17.41,17.5,17.579999999999998,17.670000000000002,17.760000000000002,17.850000000000001]
[null,4.1500000000000004,21,-7.8,3.35,0,0.3,18.244999999999997,75.200675961132234,17.53,17.62,17.71,17.8,17.89,17.98,18.07]
[null,4.2,21,-7.8,3.38,0,0.3,18.460249999999998,76.087874947190542,17.75,17.829999999999998,17.920000000000002,18.010000000000002,18.100000000000001,18.190000000000001,18.28]
[null,4.25,21,-7.8,3.4,0,0.3,18.685749999999999,77.017321504013509,17.96,18.05,18.14,18.23,18.32,18.41,18.5]
[null,4.3,21,-7.8,3.43,0,0.3,18.901,77.904520490071818,18.170000000000002,18.260000000000002,18.350000000000001,18.440000000000001,18.53,18.62,18.71]
[null,4.3499999999999996,21,-7.8,3.45,0,0.3,19.1265,78.833967046894799,18.39,18.48,18.57,18.66,18.75,18.84,18.920000000000002]
[null,4.4000000000000004,21,-7.8,3.48,0,0.3,19.341750000000001,79.721166032953107,18.600000000000001,18.690000000000001,18.78,18.87,18.96,19.05,19.14]
[null,4.45,21,-7.8,3.5,0,0.3,19.567249999999998,80.650612589776088,18.82,18.91,19,19.09,19.18,19.260000000000002,19.350000000000001]
[null,4.5,21,-7.8,3.53,0,0.3,19.782499999999999,81.537811575834382,19.03,19.12,19.21,19.3,19.39,19.48,19.57]
[null,4.55,21,-7.8,3.55,0,0.3,19.99775,82.425010561892691,19.25,19.34,19.43,19.510000000000002,19.600000000000001,19.690000000000001,19.78]
[null,4.5999999999999996,21,-7.8,3.58,0,0.3,20.22325,83.354457118715672,19.46,19.55,19.64,19.73,19.82,19.91,20]
[null,4.6500000000000004,21,-7.8,3.6,0,0.3,20.438500000000001,84.24165610477398,19.68,19.760000000000002,19.850000000000001,19.940000000000001,20.03,20.12,20.21]
[null,4.7,21,-7.8,3.63,0,0.3,20.663999999999998,85.171102661596947,19.89,19.98,20.07,20.16,20.25,20.34,20.43]
[null,4.75,21,-7.8,3.65,0,0.3,20.879249999999999,86.058301647655256,20.100000000000001,20.190000000000001,20.28,20.37,20.46,20.55,20.64]
[null,4.8,21,-7.8,3.68,0,0.3,21.104749999999999,86.987748204478237,20.32,20.41,20.5,20.59,20.68,20.77,20.85]
[null,4.8499999999999996,21,-7.8,3.7,0,0.3,21.32,87.874947190536545,20.53,20.62,20.71,20.8,20.89,20.98,21.07]
[null,4.9000000000000004,21,-7.8,3.73,0,0.3,21.545499999999997,88.804393747359526,20.75,20.84,20.93,21.02,21.1,21.19,21.28]
[null,4.95,21,-7.8,3.75,0,0.3,21.760749999999998,89.691592733417821,20.96,21.05,21.14,21.23,21.32,21.41,21.5]
[null,5,21,-7.8,3.78,0,0.3,21.975999999999999,90.578791719476129,21.18,21.27,21.36,21.44,21.53,21.62,21.71]
[null,5.05,21,-7.8,3.8,0,0.3,22.201499999999999,91.508238276299096,21.39,21.48,21.57,21.66,21.75,21.84,21.93]
[null,5.0999999999999996,21,-7.8,3.83,0,0.3,22.41675,92.395437262357419,21.61,21.69,21.78,21.87,21.96,22.05,22.14]
[null,5.15,21,-7.8,3.85,0,0.3,22.642249999999997,93.3248838191804,21.82,21.91,22,22.09,22.18,22.27,22.36]
[null,5.2,21,-7.8,3.88,0,0.3,22.857499999999998,94.212082805238694,22.03,22.12,22.21,22.3,22.39,22.48,22.57]
[null,5.25,21,-7.8,3.9,0,0.3,23.082999999999998,95.141529362061675,22.25,22.34,22.43,22.52,22.61,22.7,22.78]
[null,5.3,21,-7.8,3.93,0,0.3,23.298249999999999,96.028728348119969,22.46,22.55,22.64,22.73,22.82,22.91,23]
[null,5.35,21,-7.8,3.95,0,0.3,23.523749999999996,96.95817490494295,22.68,22.77,22.86,22.95,23.03,23.12,23.21]
[null,5.4,21,-7.8,3.98,0,0.3,23.738999999999997,97.845373891001259,22.89,22.98,23.07,23.16,23.25,23.34,23.43]
[null,5.45,21,-7.8,4,0,0.3,23.954249999999998,98.732572877059567,23.11,23.2,23.28,23.37,23.46,23.55,23.58]
[null,5.5,21,-7.8,4.03,0,0.3,24.179749999999999,99.662019433882548,23.32,23.41,23.5,23.59,23.65,23.66,23.66]
[null,5.52,21,-7.8,4.04,0,0.3,24.261749999999999,100,23.41,23.5,23.58,23.67,23.67,23.67,23.67]

{"sheet":"34","index":40,"n_rows":34,"n_cols":16,"rows_kept":34,"cut":false,"hidden":false,"merged":[]}
[]
[null,"W.B. 5 PS DB",null,null,null,null,null,"S.G.",1.0249999999999999,"[t/m3]"]
[]
[null,"GAUGE","LCG","TCG","VCG","FSM (transv)","FSM (long)","Weight","Fill (%)","Trim=-1,5","Trim=1,0","Trim=-0,5","Trim=0","Trim=0,5","Trim=1,0","Trim=1,5"]
[null,null,"Fwd of AP","PS:+","Above BL"," "," "]
[null,"m","m","m","m","t·m","t·m","t",null,"m3","m3","m3","m3","m3","m3","m3"]
[null,0,21.03,3.5,0.02,0,143.19999999999999,{"$f":"M7*$I$2","v":1.0147499999999998},{"$f":"M7/$M$34*100","v":2.465139442231076},0.12,0.18,0.34,0.99,1.73,2.4700000000000002,3.23]
[null,0.05,21.03,3.56,0.04,150,154.19999999999999,{"$f":"M8*$I$2","v":2.7469999999999999},{"$f":"M8/$M$34*100","v":6.6733067729083677},0.82,1.21,1.93,2.68,3.43,4.1900000000000004,4.95]
[null,0.1,21.02,3.6,7.0000000000000007E-2,158,162.4,4.51,10.956175298804782,2.15,2.89,3.64,4.4000000000000004,5.16,5.93,6.71]
[null,0.15,21.02,3.64,0.09,165,169.2,6.30375,15.313745019920322,3.86,4.62,5.38,6.15,6.92,7.7,8.48]
[null,0.2,21.02,3.67,0.12,171,175.2,8.1179999999999986,19.721115537848608,5.61,6.38,7.15,7.92,8.7100000000000009,9.49,10.28]
[null,0.25,21.01,3.69,0.14000000000000001,176,180.4,9.9629999999999992,24.20318725099602,7.38,8.15,8.93,9.7200000000000006,10.5,11.3,12.09]
[null,0.3,21.01,3.72,0.17,181,185.2,11.818249999999999,28.710159362549803,9.17,9.9499999999999993,10.74,11.53,12.32,13.12,13.92]
[null,0.35,21.01,3.74,0.19,185,189.5,13.683749999999998,33.242031872509962,10.97,11.76,12.55,13.35,14.15,14.95,15.76]
[null,0.4,21.01,3.76,0.22,189,193.5,15.569749999999997,37.823705179282868,12.79,13.59,14.39,15.19,15.99,16.8,17.61]
[null,0.45,21.01,3.78,0.24,192,197.1,17.465999999999998,42.430278884462155,14.63,15.43,16.23,17.04,17.850000000000001,18.66,19.47]
[null,0.5,21.01,3.79,0.27,196,200.4,19.372499999999995,47.061752988047814,16.47,17.28,18.09,18.899999999999999,19.71,20.52,21.34]
[null,0.55000000000000004,21.01,3.81,0.3,198,203.4,21.289249999999999,51.718127490039848,18.329999999999998,19.14,19.95,20.77,21.58,22.4,23.22]
[null,0.6,21.01,3.83,0.32,201,206.2,23.216249999999995,56.399402390438247,20.2,21.01,21.83,22.65,23.47,24.29,25.11]
[null,0.65,21,3.84,0.35,204,208.8,25.143249999999998,61.080677290836661,22.07,22.89,23.71,24.53,25.36,26.18,27.01]
[null,0.7,21,3.85,0.37,206,211.1,27.090749999999996,65.811752988047814,23.96,24.78,25.6,26.43,27.25,28.08,28.91]
[null,0.75,21,3.87,0.4,208,213.2,29.038249999999994,70.542828685258968,25.85,26.67,27.5,28.33,29.16,29.99,30.82]
[null,0.8,21,3.88,0.42,210,215.2,30.985749999999999,75.273904382470121,27.75,28.58,29.4,30.23,31.07,31.9,32.729999999999997]
[null,0.85,21,3.89,0.45,212,216.9,32.953749999999992,80.054780876494021,29.65,30.48,31.31,32.15,32.979999999999997,33.82,34.64]
[null,0.9,21,3.9,0.48,213,218.5,34.921749999999996,84.835657370517936,31.56,32.4,33.229999999999997,34.07,34.9,35.700000000000003,36.31]
[null,0.95,21,3.91,0.5,215,220,36.889749999999999,89.61653386454185,33.479999999999997,34.31,35.15,35.99,36.71,37.19,37.6]
[null,1,21,3.95,0.52,30,30.5,38.324749999999995,93.102589641434278,35.33,36.14,36.89,37.39,37.799999999999997,38.159999999999997,38.479999999999997]
[null,1.05,21,4,0.53,16,16.899999999999999,39.247249999999994,95.343625498007981,36.86,37.479999999999997,37.909999999999997,38.29,38.630000000000003,38.909999999999997,39.15]
[null,1.1000000000000001,21,4.05,0.54,8,8.1,39.9955,97.161354581673322,37.979999999999997,38.369999999999997,38.72,39.020000000000003,39.28,39.49,39.65]
[null,1.1499999999999999,21,4.09,0.55000000000000004,3,3,40.559249999999999,98.530876494023914,38.76,39.08,39.35,39.57,39.75,39.880000000000003,39.96]
[null,1.2,21,4.13,0.56000000000000005,1,0.7,40.938499999999998,99.452191235059757,39.369999999999997,39.6,39.799999999999997,39.94,40.04,40.090000000000003,40.11]
[null,1.25,21,4.1399999999999997,0.56000000000000005,0,0,41.133249999999997,99.925298804780894,39.79,39.950000000000003,40.06,40.130000000000003,40.15,40.159999999999997,40.159999999999997]
[null,1.3,21,4.1500000000000004,0.56000000000000005,0,0,41.163999999999994,100,40.04,40.119999999999997,40.159999999999997,40.159999999999997,40.159999999999997,40.159999999999997,40.159999999999997]
[null,1.35,21,4.1399999999999997,0.56000000000000005,0,0.1,41.163999999999994,{"$f":"M34/$M$34*100+0.004","v":100.004},40.14,40.159999999999997,40.159999999999997,40.159999999999997,40.159999999999997,40.159999999999997,40.159999999999997]

{"sheet":"35","index":41,"n_rows":34,"n_cols":16,"rows_kept":34,"cut":false,"hidden":false,"merged":[]}
[]
[null,"W.B. 5 SB DB",null,null,null,null,null,"S.G.",1.0249999999999999,"[t/m3]"]
[]
[null,"GAUGE","LCG","TCG","VCG","FSM (transv)","FSM (long)","Weight","Fill (%)","Trim=-1,5","Trim=1,0","Trim=-0,5","Trim=0","Trim=0,5","Trim=1,0","Trim=1,5"]
[null,null,"Fwd of AP","PS:+","Above BL"," "," "]
[null,"m","m","m","m","t·m","t·m","t",null,"m3","m3","m3","m3","m3","m3","m3"]
[null,0,21.03,-3.5,0.02,0,143.19999999999999,{"$f":"M7*$I$2","v":1.0147499999999998},{"$f":"M7/$M$34*100","v":2.465139442231076},0.12,0.18,0.34,0.99,1.73,2.4700000000000002,3.23]
[null,0.05,21.03,-3.56,0.04,150,154.19999999999999,{"$f":"M8*$I$2","v":2.7469999999999999},{"$f":"M8/$M$34*100","v":6.6733067729083677},0.82,1.21,1.93,2.68,3.43,4.1900000000000004,4.95]
[null,0.1,21.02,-3.6,7.0000000000000007E-2,158,162.4,4.51,10.956175298804782,2.15,2.89,3.64,4.4000000000000004,5.16,5.93,6.71]
[null,0.15,21.02,-3.64,0.09,165,169.2,6.30375,15.313745019920322,3.86,4.62,5.38,6.15,6.92,7.7,8.48]
[null,0.2,21.02,-3.67,0.12,171,175.2,8.1179999999999986,19.721115537848608,5.61,6.38,7.15,7.92,8.7100000000000009,9.49,10.28]
[null,0.25,21.01,-3.69,0.14000000000000001,176,180.4,9.9629999999999992,24.20318725099602,7.38,8.15,8.93,9.7200000000000006,10.5,11.3,12.09]
[null,0.3,21.01,-3.72,0.17,181,185.2,11.818249999999999,28.710159362549803,9.17,9.9499999999999993,10.74,11.53,12.32,13.12,13.92]
[null,0.35,21.01,-3.74,0.19,185,189.5,13.683749999999998,33.242031872509962,10.97,11.76,12.55,13.35,14.15,14.95,15.76]
[null,0.4,21.01,-3.76,0.22,189,193.5,15.569749999999997,37.823705179282868,12.79,13.59,14.39,15.19,15.99,16.8,17.61]
[null,0.45,21.01,-3.78,0.24,192,197.1,17.465999999999998,42.430278884462155,14.63,15.43,16.23,17.04,17.850000000000001,18.66,19.47]
[null,0.5,21.01,-3.79,0.27,196,200.4,19.372499999999995,47.061752988047814,16.47,17.28,18.09,18.899999999999999,19.71,20.52,21.34]
[null,0.55000000000000004,21.01,-3.81,0.3,198,203.4,21.289249999999999,51.718127490039848,18.329999999999998,19.14,19.95,20.77,21.58,22.4,23.22]
[null,0.6,21.01,-3.83,0.32,201,206.2,23.216249999999995,56.399402390438247,20.2,21.01,21.83,22.65,23.47,24.29,25.11]
[null,0.65,21,-3.84,0.35,204,208.8,25.143249999999998,61.080677290836661,22.07,22.89,23.71,24.53,25.36,26.18,27.01]
[null,0.7,21,-3.85,0.37,206,211.1,27.090749999999996,65.811752988047814,23.96,24.78,25.6,26.43,27.25,28.08,28.91]
[null,0.75,21,-3.87,0.4,208,213.2,29.038249999999994,70.542828685258968,25.85,26.67,27.5,28.33,29.16,29.99,30.82]
[null,0.8,21,-3.88,0.42,210,215.2,30.985749999999999,75.273904382470121,27.75,28.58,29.4,30.23,31.07,31.9,32.729999999999997]
[null,0.85,21,-3.89,0.45,212,216.9,32.953749999999992,80.054780876494021,29.65,30.48,31.31,32.15,32.979999999999997,33.82,34.64]
[null,0.9,21,-3.9,0.48,213,218.5,34.921749999999996,84.835657370517936,31.56,32.4,33.229999999999997,34.07,34.9,35.700000000000003,36.31]
[null,0.95,21,-3.91,0.5,215,220,36.889749999999999,89.61653386454185,33.479999999999997,34.31,35.15,35.99,36.71,37.19,37.6]
[null,1,21,-3.95,0.52,30,30.5,38.324749999999995,93.102589641434278,35.33,36.14,36.89,37.39,37.799999999999997,38.159999999999997,38.479999999999997]
[null,1.05,21,-4,0.53,16,16.899999999999999,39.247249999999994,95.343625498007981,36.86,37.479999999999997,37.909999999999997,38.29,38.630000000000003,38.909999999999997,39.15]
[null,1.1000000000000001,21,-4.05,0.54,8,8.1,39.9955,97.161354581673322,37.979999999999997,38.369999999999997,38.72,39.020000000000003,39.28,39.49,39.65]
[null,1.1499999999999999,21,-4.09,0.55000000000000004,3,3,40.559249999999999,98.530876494023914,38.76,39.08,39.35,39.57,39.75,39.880000000000003,39.96]
[null,1.2,21,-4.13,0.56000000000000005,1,0.7,40.938499999999998,99.452191235059757,39.369999999999997,39.6,39.799999999999997,39.94,40.04,40.090000000000003,40.11]
[null,1.25,21,-4.1399999999999997,0.56000000000000005,0,0,41.133249999999997,99.925298804780894,39.79,39.950000000000003,40.06,40.130000000000003,40.15,40.159999999999997,40.159999999999997]
[null,1.3,21,-4.1500000000000004,0.56000000000000005,0,0,41.163999999999994,100,40.04,40.119999999999997,40.159999999999997,40.159999999999997,40.159999999999997,40.159999999999997,40.159999999999997]
[null,1.35,21,-4.1399999999999997,0.56000000000000005,0,0.1,41.163999999999994,{"$f":"M34/$M$34*100+0.001","v":100.001},40.14,40.159999999999997,40.159999999999997,40.159999999999997,40.159999999999997,40.159999999999997,40.159999999999997]

{"sheet":"36","index":42,"n_rows":118,"n_cols":16,"rows_kept":118,"cut":false,"hidden":false,"merged":[]}
[]
[null,"W.B. 6 PS",null,null,null,null,null,"S.G.",1.0249999999999999,"[t/m3]"]
[]
[null,"GAUGE","LCG","TCG","VCG","FSM (transv)","FSM (long)","Weight","Fill (%)","Trim=-1,5","Trim=1,0","Trim=-0,5","Trim=0","Trim=0,5","Trim=1,0","Trim=1,5"]
[null,null,"Fwd of AP","PS:+","Above BL"," "," "]
[null,"m","m","m","m","t·m","t·m","t",null,"m3","m3","m3","m3","m3","m3","m3"]
[null,0,18.02,7.51,1.28,0,0,{"$f":"J7*$I$2","v":1.0249999999999999E-2},{"$f":"M7/$M$118*100","v":4.482294935006724E-2},0.01,0.01,0.01,0.01,0.01,0.02,0.02]
[null,0.05,18.010000000000002,7.56,1.3,0,0,{"$f":"J8*$I$2","v":4.0999999999999995E-2},{"$f":"M8/$M$118*100","v":0.17929179740026896},0.04,0.04,0.04,0.04,0.05,0.05,0.05]
[null,0.1,17.96,7.59,1.33,0,0,9.2249999999999985E-2,0.40340654415060512,0.09,0.09,0.09,0.09,0.09,0.09,0.09]
[null,0.15,17.899999999999999,7.62,1.37,0,0.1,0.15374999999999997,0.62752129090094133,0.15,0.14000000000000001,0.14000000000000001,0.14000000000000001,0.14000000000000001,0.14000000000000001,0.14000000000000001]
[null,0.2,17.829999999999998,7.64,1.4,0,0.1,0.22549999999999998,0.94128193635141189,0.22,0.22,0.21,0.21,0.21,0.2,0.2]
[null,0.25,17.760000000000002,7.66,1.43,0,0.1,0.31774999999999998,1.2998655311519498,0.31,0.3,0.28999999999999998,0.28999999999999998,0.28000000000000003,0.28000000000000003,0.28000000000000003]
[null,0.3,17.690000000000001,7.67,1.46,0,0.1,0.42024999999999996,1.703272075302555,0.41,0.4,0.39,0.38,0.37,0.37,0.36]
[null,0.35,17.61,7.68,1.5,0,0.1,0.54325000000000001,2.1963245181532942,0.53,0.52,0.5,0.49,0.48,0.47,0.46]
[null,0.4,17.53,7.69,1.53,0,0.2,0.68674999999999997,2.7341999103541017,0.67,0.65,0.63,0.61,0.59,0.57999999999999996,0.56000000000000005]
[null,0.45,17.440000000000001,7.7,1.56,0,0.2,0.84049999999999991,3.3168982519049752,0.82,0.79,0.76,0.74,0.72,0.7,0.68]
[null,0.5,17.36,7.71,1.6,0,0.2,1.0044999999999999,3.9444195428059166,0.98,0.95,0.91,0.88,0.86,0.83,0.81]
[null,0.55000000000000004,17.27,7.72,1.63,0,0.2,1.1889999999999998,4.6615867324069926,1.1599999999999999,1.1200000000000001,1.08,1.04,1.01,0.98,0.95]
[null,0.6,17.190000000000001,7.72,1.66,0,0.2,1.38375,5.4235768713581356,1.35,1.3,1.25,1.21,1.17,1.1399999999999999,1.1000000000000001]
[null,0.65,17.11,7.73,1.69,0,0.2,1.5784999999999998,6.2303899596593455,1.54,1.49,1.44,1.39,1.34,1.3,1.26]
[null,0.7,17.03,7.73,1.73,0,0.3,1.7937499999999997,7.0820259973106232,1.75,1.69,1.63,1.58,1.53,1.48,1.44]
[null,0.75,16.96,7.74,1.76,0,0.3,1.9987499999999998,7.9336620349619009,1.95,1.89,1.83,1.77,1.72,1.67,1.62]
[null,0.8,16.899999999999999,7.74,1.79,0,0.3,2.2242499999999996,8.8749439713133143,2.17,2.1,2.04,1.98,1.92,1.86,1.81]
[null,0.85,16.84,7.75,1.82,0,0.3,2.4394999999999998,9.771402958314658,2.38,2.31,2.25,2.1800000000000002,2.12,2.06,2]
[null,0.9,16.79,7.75,1.85,0,0.3,2.665,10.757507844016137,2.6,2.5299999999999998,2.46,2.4,2.33,2.27,2.21]
[null,0.95,16.739999999999998,7.75,1.88,0,0.3,2.8802499999999998,11.698789780367548,2.81,2.74,2.68,2.61,2.54,2.48,2.42]
[null,1,16.7,7.76,1.91,0,0.3,3.1057499999999996,12.684894666069027,3.03,2.96,2.89,2.83,2.76,2.69,2.63]
[null,1.05,16.670000000000002,7.76,1.94,0,0.3,3.3209999999999997,13.62617660242044,3.24,3.18,3.11,3.04,2.97,2.91,2.84]
[null,1.1000000000000001,16.63,7.76,1.97,0,0.3,3.5464999999999995,14.612281488121917,3.46,3.39,3.32,3.26,3.19,3.12,3.05]
[null,1.1499999999999999,16.61,7.77,2,0,0.3,3.7719999999999998,15.553563424473332,3.68,3.61,3.54,3.47,3.41,3.34,3.27]
[null,1.2,16.579999999999998,7.77,2.02,0,0.3,3.98725,16.539668310174811,3.89,3.82,3.76,3.69,3.62,3.55,3.49]
[null,1.25,16.559999999999999,7.77,2.0499999999999998,0,0.3,4.2127499999999998,17.480950246526223,4.1100000000000003,4.04,3.97,3.9,3.84,3.77,3.7]
[null,1.3,16.54,7.77,2.08,0,0.3,4.4279999999999999,18.467055132227703,4.32,4.26,4.1900000000000004,4.12,4.05,3.99,3.92]
[null,1.35,16.53,7.77,2.1,0,0.3,4.6534999999999993,19.453160017929179,4.54,4.47,4.4000000000000004,4.34,4.2699999999999996,4.2,4.13]
[null,1.4,16.510000000000002,7.77,2.13,0,0.3,4.8789999999999996,20.394441954280591,4.76,4.6900000000000004,4.62,4.55,4.49,4.42,4.3499999999999996]
[null,1.45,16.5,7.77,2.16,0,0.3,5.0942499999999997,21.38054683998207,4.97,4.9000000000000004,4.84,4.7699999999999996,4.7,4.63,4.57]
[null,1.5,16.48,7.78,2.1800000000000002,0,0.3,5.31975,22.321828776333486,5.19,5.12,5.05,4.9800000000000004,4.92,4.8499999999999996,4.78]
[null,1.55,16.47,7.78,2.21,0,0.3,5.5350000000000001,23.307933662034962,5.4,5.34,5.27,5.2,5.13,5.07,5]
[null,1.6,16.46,7.78,2.2400000000000002,0,0.3,5.7604999999999995,24.294038547736445,5.62,5.55,5.48,5.42,5.35,5.28,5.21]
[null,1.65,16.45,7.78,2.2599999999999998,0,0.3,5.9859999999999998,25.235320484087854,5.84,5.77,5.7,5.63,5.57,5.5,5.43]
[null,1.7,16.440000000000001,7.78,2.29,0,0.3,6.201249999999999,26.22142536978933,6.05,5.98,5.92,5.85,5.78,5.71,5.65]
[null,1.75,16.43,7.78,2.31,0,0.3,6.4267499999999993,27.162707306140742,6.27,6.2,6.13,6.06,6,5.93,5.86]
[null,1.8,16.43,7.78,2.34,0,0.3,6.6419999999999995,28.148812191842225,6.48,6.42,6.35,6.28,6.21,6.15,6.08]
[null,1.85,16.420000000000002,7.78,2.37,0,0.3,6.8674999999999997,29.134917077543705,6.7,6.63,6.56,6.5,6.43,6.36,6.29]
[null,1.9,16.41,7.78,2.39,0,0.3,7.0929999999999991,30.076199013895117,6.92,6.85,6.78,6.71,6.65,6.58,6.51]
[null,1.95,16.399999999999999,7.78,2.42,0,0.3,7.3082499999999992,31.062303899596593,7.13,7.06,7,6.93,6.86,6.79,6.73]
[null,2,16.399999999999999,7.78,2.44,0,0.3,7.5337499999999986,32.003585835948009,7.35,7.28,7.21,7.14,7.08,7.01,6.94]
[null,2.0499999999999998,16.39,7.78,2.4700000000000002,0,0.3,7.7489999999999988,32.989690721649488,7.56,7.5,7.43,7.36,7.29,7.23,7.16]
[null,2.1,16.39,7.78,2.4900000000000002,0,0.3,7.9744999999999999,33.975795607350967,7.78,7.71,7.64,7.58,7.51,7.44,7.37]
[null,2.15,16.38,7.78,2.52,0,0.3,8.1999999999999993,34.917077543702376,8,7.93,7.86,7.79,7.73,7.66,7.59]
[null,2.2000000000000002,16.38,7.79,2.54,0,0.3,8.4152500000000003,35.903182429403856,8.2100000000000009,8.14,8.08,8.01,7.94,7.87,7.81]
[null,2.25,16.37,7.79,2.57,0,0.3,8.6407499999999988,36.844464365755272,8.43,8.36,8.2899999999999991,8.2200000000000006,8.16,8.09,8.02]
[null,2.2999999999999998,16.37,7.79,2.6,0,0.3,8.8559999999999999,37.830569251456744,8.64,8.58,8.51,8.44,8.3699999999999992,8.31,8.24]
[null,2.35,16.36,7.79,2.62,0,0.3,9.0814999999999984,38.81667413715823,8.86,8.7899999999999991,8.7200000000000006,8.66,8.59,8.52,8.4499999999999993]
[null,2.4,16.36,7.79,2.65,0,0.3,9.3069999999999986,39.757956073509639,9.08,9.01,8.94,8.8699999999999992,8.81,8.74,8.67]
[null,2.4500000000000002,16.36,7.79,2.67,0,0.3,9.5222499999999979,40.744060959211119,9.2899999999999991,9.2200000000000006,9.16,9.09,9.02,8.9499999999999993,8.89]
[null,2.5,16.350000000000001,7.79,2.7,0,0.3,9.7477499999999981,41.685342895562535,9.51,9.44,9.3699999999999992,9.3000000000000007,9.24,9.17,9.1]
[null,2.5499999999999998,16.350000000000001,7.79,2.72,0,0.3,9.9629999999999992,42.671447781264007,9.7200000000000006,9.66,9.59,9.52,9.4499999999999993,9.39,9.32]
[null,2.6,16.350000000000001,7.79,2.75,0,0.3,10.188499999999999,43.657552666965486,9.94,9.8699999999999992,9.8000000000000007,9.74,9.67,9.6,9.5299999999999994]
[null,2.65,16.34,7.79,2.77,0,0.3,10.414,44.598834603316902,10.16,10.09,10.02,9.9499999999999993,9.89,9.82,9.75]
[null,2.7,16.34,7.79,2.8,0,0.3,10.629249999999999,45.584939489018375,10.37,10.3,10.24,10.17,10.1,10.029999999999999,9.9700000000000006]
[null,2.75,16.34,7.79,2.82,0,0.3,10.854749999999999,46.526221425369798,10.59,10.52,10.45,10.38,10.32,10.25,10.18]
[null,2.8,16.329999999999998,7.79,2.85,0,0.3,11.07,47.51232631107127,10.8,10.74,10.67,10.6,10.53,10.47,10.4]
[null,2.85,16.329999999999998,7.79,2.87,0,0.3,11.295499999999999,48.498431196772749,11.02,10.95,10.88,10.82,10.75,10.68,10.61]
[null,2.9,16.329999999999998,7.79,2.9,0,0.3,11.520999999999999,49.439713133124158,11.24,11.17,11.1,11.03,10.97,10.9,10.83]
[null,2.95,16.329999999999998,7.79,2.92,0,0.3,11.736249999999998,50.425818018825638,11.45,11.38,11.32,11.25,11.18,11.11,11.05]
[null,3,16.32,7.79,2.95,0,0.3,11.961749999999999,51.367099955177054,11.67,11.6,11.53,11.46,11.4,11.33,11.26]
[null,3.05,16.32,7.79,2.98,0,0.3,12.177,52.353204840878533,11.88,11.82,11.75,11.68,11.61,11.55,11.48]
[null,3.1,16.32,7.79,3,0,0.3,12.402499999999998,53.339309726580012,12.1,12.03,11.96,11.9,11.83,11.76,11.69]
[null,3.15,16.32,7.79,3.03,0,0.3,12.627999999999998,54.280591662931421,12.32,12.25,12.18,12.11,12.05,11.98,11.91]
[null,3.2,16.309999999999999,7.79,3.05,0,0.3,12.843249999999998,55.2666965486329,12.53,12.46,12.4,12.33,12.26,12.19,12.13]
[null,3.25,16.309999999999999,7.79,3.08,0,0.3,{"$f":"J72*$I$2","v":13.06875},{"$f":"M72/$M$118*100","v":56.207978484984309},12.75,12.68,12.61,12.54,12.48,12.41,12.34]
[null,3.3,16.309999999999999,7.79,3.1,0,0.3,13.283999999999999,57.194083370685789,12.96,12.9,12.83,12.76,12.69,12.63,12.56]
[null,3.35,16.309999999999999,7.79,3.13,0,0.3,13.509499999999999,58.180188256387275,13.18,13.11,13.04,12.98,12.91,12.84,12.77]
[null,3.4,16.309999999999999,7.79,3.15,0,0.3,13.734999999999999,59.121470192738677,13.4,13.33,13.26,13.19,13.13,13.06,12.99]
[null,3.45,16.309999999999999,7.79,3.18,0,0.3,13.950249999999999,60.107575078440171,13.61,13.54,13.48,13.41,13.34,13.27,13.21]
[null,3.5,16.3,7.79,3.2,0,0.3,14.175749999999999,61.048857014791565,13.83,13.76,13.69,13.62,13.56,13.49,13.42]
[null,3.55,16.3,7.79,3.23,0,0.3,14.390999999999998,62.034961900493059,14.04,13.98,13.91,13.84,13.77,13.71,13.64]
[null,3.6,16.3,7.79,3.25,0,0.3,14.616499999999998,63.021066786194538,14.26,14.19,14.12,14.06,13.99,13.92,13.85]
[null,3.65,16.3,7.79,3.28,0,0.3,14.841999999999999,63.962348722545947,14.48,14.41,14.34,14.27,14.21,14.14,14.07]
[null,3.7,16.3,7.79,3.3,0,0.3,15.057249999999998,64.948453608247419,14.69,14.62,14.56,14.49,14.42,14.35,14.29]
[null,3.75,16.3,7.79,3.33,0,0.3,15.282749999999998,65.889735544598835,14.91,14.84,14.77,14.7,14.64,14.57,14.5]
[null,3.8,16.29,7.79,3.35,0,0.3,15.497999999999998,66.875840430300315,15.12,15.06,14.99,14.92,14.85,14.79,14.72]
[null,3.85,16.29,7.79,3.38,0,0.3,15.723499999999998,67.861945316001808,15.34,15.27,15.2,15.14,15.07,15,14.93]
[null,3.9,16.29,7.79,3.4,0,0.3,15.949,68.80322725235321,15.56,15.49,15.42,15.35,15.29,15.22,15.15]
[null,3.95,16.29,7.79,3.43,0,0.3,16.164249999999999,69.789332138054689,15.77,15.7,15.64,15.57,15.5,15.43,15.37]
[null,4,16.29,7.79,3.45,0,0.3,16.389749999999999,70.730614074406091,15.99,15.92,15.85,15.78,15.72,15.65,15.58]
[null,4.05,16.29,7.79,3.48,0,0.3,16.604999999999997,71.716718960107585,16.2,16.14,16.07,16,15.93,15.87,15.8]
[null,4.0999999999999996,16.29,7.79,3.5,0,0.3,16.830500000000001,72.70282384580905,16.420000000000002,16.350000000000001,16.28,16.22,16.149999999999999,16.079999999999998,16.010000000000002]
[null,4.1500000000000004,16.29,7.79,3.53,0,0.3,17.055999999999997,73.64410578216048,16.64,16.57,16.5,16.43,16.37,16.3,16.23]
[null,4.2,16.29,7.79,3.55,0,0.3,17.271249999999998,74.630210667861945,16.850000000000001,16.78,16.72,16.649999999999999,16.579999999999998,16.510000000000002,16.45]
[null,4.25,16.28,7.79,3.58,0,0.3,17.496749999999999,75.571492604213361,17.07,17,16.93,16.86,16.8,16.73,16.66]
[null,4.3,16.28,7.79,3.6,0,0.3,17.712,76.557597489914826,17.28,17.22,17.149999999999999,17.079999999999998,17.010000000000002,16.95,16.88]
[null,4.3499999999999996,16.28,7.79,3.63,0,0.3,17.9375,77.54370237561632,17.5,17.43,17.36,17.3,17.23,17.16,17.09]
[null,4.4000000000000004,16.28,7.79,3.65,0,0.3,18.162999999999997,78.484984311967736,17.72,17.649999999999999,17.579999999999998,17.510000000000002,17.45,17.38,17.309999999999999]
[null,4.45,16.28,7.79,3.68,0,0.3,18.378249999999998,79.471089197669215,17.93,17.86,17.8,17.73,17.66,17.59,17.53]
[null,4.5,16.28,7.79,3.7,0,0.3,18.603749999999998,80.412371134020631,18.149999999999999,18.079999999999998,18.010000000000002,17.940000000000001,17.88,17.809999999999999,17.739999999999998]
[null,4.55,16.28,7.79,3.73,0,0.3,18.818999999999999,81.398476019722096,18.36,18.3,18.23,18.16,18.09,18.03,17.96]
[null,4.5999999999999996,16.28,7.79,3.76,0,0.3,19.044499999999996,82.384580905423576,18.579999999999998,18.510000000000002,18.440000000000001,18.38,18.309999999999999,18.239999999999998,18.170000000000002]
[null,4.6500000000000004,16.28,7.79,3.78,0,0.3,19.27,83.325862841774992,18.8,18.73,18.66,18.59,18.53,18.46,18.39]
[null,4.7,16.28,7.79,3.81,0,0.3,19.485250000000001,84.311967727476471,19.010000000000002,18.940000000000001,18.88,18.809999999999999,18.739999999999998,18.670000000000002,18.61]
[null,4.75,16.27,7.79,3.83,0,0.3,19.710749999999997,85.253249663827873,19.23,19.16,19.09,19.02,18.96,18.89,18.82]
[null,4.8,16.27,7.79,3.86,0,0.3,19.925999999999998,86.239354549529352,19.440000000000001,19.38,19.309999999999999,19.239999999999998,19.170000000000002,19.11,19.04]
[null,4.8499999999999996,16.27,7.79,3.88,0,0.3,20.151499999999999,87.225459435230846,19.66,19.59,19.52,19.46,19.39,19.32,19.25]
[null,4.9000000000000004,16.27,7.79,3.91,0,0.3,20.376999999999999,88.166741371582262,19.88,19.809999999999999,19.739999999999998,19.670000000000002,19.61,19.54,19.47]
[null,4.95,16.27,7.79,3.93,0,0.3,20.592249999999996,89.152846257283741,20.09,20.02,19.96,19.89,19.82,19.75,19.690000000000001]
[null,5,16.27,7.79,3.96,0,0.3,20.817749999999997,90.094128193635143,20.309999999999999,20.239999999999998,20.170000000000002,20.100000000000001,20.04,19.97,19.899999999999999]
[null,5.05,16.27,7.79,3.98,0,0.3,21.032999999999998,91.080233079336622,20.52,20.46,20.39,20.32,20.25,20.190000000000001,20.12]
[null,5.0999999999999996,16.27,7.79,4.01,0,0.3,21.258499999999998,92.066337965038102,20.74,20.67,20.6,20.54,20.47,20.399999999999999,20.329999999999998]
[null,5.15,16.27,7.79,4.03,0,0.3,21.483999999999998,93.007619901389518,20.96,20.89,20.82,20.75,20.69,20.62,20.55]
[null,5.2,16.27,7.79,4.0599999999999996,0,0.3,21.699249999999999,93.993724787090997,21.17,21.1,21.04,20.97,20.9,20.83,20.77]
[null,5.25,16.27,7.79,4.08,0,0.3,21.92475,94.935006723442399,21.39,21.32,21.25,21.18,21.12,21.05,20.98]
[null,5.3,16.27,7.79,4.1100000000000003,0,0.3,22.14,95.921111609143878,21.6,21.54,21.47,21.4,21.33,21.27,21.2]
[null,5.35,16.27,7.79,4.13,0,0.3,22.365499999999997,96.907216494845372,21.82,21.75,21.68,21.62,21.55,21.48,21.41]
[null,5.4,16.260000000000002,7.79,4.16,0,0.3,22.580749999999998,97.848498431196774,22.03,21.97,21.9,21.83,21.77,21.7,21.63]
[null,5.45,16.260000000000002,7.79,4.18,0,0.3,22.754999999999999,98.834603316898267,22.2,22.18,22.12,22.05,21.98,21.91,21.85]
[null,5.5,16.260000000000002,7.79,4.21,0,0.3,22.847249999999995,99.775885253249669,22.29,22.29,22.29,22.26,22.2,22.13,22.06]
[null,5.51,16.260000000000002,7.79,4.21,0,0.3,22.857499999999998,100,22.3,22.3,22.31,22.31,22.24,22.17,22.1]

{"sheet":"37","index":43,"n_rows":118,"n_cols":16,"rows_kept":118,"cut":false,"hidden":false,"merged":[]}
[]
[null,"W.B. 6 SB",null,null,null,null,null,"S.G.",1.0249999999999999,"[t/m3]"]
[]
[null,"GAUGE","LCG","TCG","VCG","FSM (transv)","FSM (long)","Weight","Fill (%)","Trim=-1,5","Trim=1,0","Trim=-0,5","Trim=0","Trim=0,5","Trim=1,0","Trim=1,5"]
[null,null,"Fwd of AP","PS:+","Above BL"," "," "]
[null,"m","m","m","m","t·m","t·m","t",null,"m3","m3","m3","m3","m3","m3","m3"]
[null,0,18.02,-7.51,1.28,0,0,{"$f":"J7*$I$2","v":1.0249999999999999E-2},{"$f":"M7/$M$118*100","v":4.482294935006724E-2},0.01,0.01,0.01,0.01,0.01,0.02,0.02]
[null,0.05,18.010000000000002,-7.56,1.3,0,0,{"$f":"J8*$I$2","v":4.0999999999999995E-2},{"$f":"M8/$M$118*100","v":0.17929179740026896},0.04,0.04,0.04,0.04,0.05,0.05,0.05]
[null,0.1,17.96,-7.59,1.33,0,0,8.199999999999999E-2,0.40340654415060512,0.08,0.08,0.09,0.09,0.09,0.09,0.09]
[null,0.15,17.899999999999999,-7.62,1.37,0,0.1,0.14349999999999999,0.62752129090094133,0.14000000000000001,0.14000000000000001,0.14000000000000001,0.14000000000000001,0.14000000000000001,0.14000000000000001,0.14000000000000001]
[null,0.2,17.829999999999998,-7.64,1.4,0,0.1,0.21524999999999997,0.94128193635141189,0.21,0.21,0.21,0.21,0.21,0.21,0.21]
[null,0.25,17.760000000000002,-7.66,1.43,0,0.1,0.30749999999999994,1.2998655311519498,0.3,0.3,0.28999999999999998,0.28999999999999998,0.28999999999999998,0.28000000000000003,0.28000000000000003]
[null,0.3,17.690000000000001,-7.67,1.46,0,0.1,0.41,1.703272075302555,0.4,0.4,0.39,0.38,0.38,0.37,0.37]
[null,0.35,17.61,-7.68,1.5,0,0.1,0.53299999999999992,2.1963245181532942,0.52,0.51,0.5,0.49,0.48,0.47,0.46]
[null,0.4,17.53,-7.69,1.53,0,0.2,0.67649999999999999,2.7341999103541017,0.66,0.64,0.62,0.61,0.59,0.57999999999999996,0.56999999999999995]
[null,0.45,17.440000000000001,-7.7,1.56,0,0.2,0.83024999999999993,3.3168982519049752,0.81,0.78,0.76,0.74,0.72,0.71,0.69]
[null,0.5,17.36,-7.71,1.6,0,0.2,0.99424999999999986,3.9444195428059166,0.97,0.94,0.91,0.88,0.86,0.84,0.82]
[null,0.55000000000000004,17.27,-7.72,1.63,0,0.2,1.1684999999999999,4.6615867324069926,1.1399999999999999,1.1100000000000001,1.07,1.04,1.01,0.99,0.96]
[null,0.6,17.190000000000001,-7.72,1.66,0,0.2,1.3632499999999999,5.4235768713581356,1.33,1.29,1.25,1.21,1.18,1.1399999999999999,1.1200000000000001]
[null,0.65,17.11,-7.73,1.69,0,0.2,1.5682499999999999,6.2303899596593455,1.53,1.48,1.43,1.39,1.35,1.31,1.28]
[null,0.7,17.03,-7.73,1.73,0,0.3,1.7732499999999998,7.0820259973106232,1.73,1.68,1.62,1.58,1.53,1.49,1.45]
[null,0.75,16.96,-7.74,1.76,0,0.3,1.9884999999999997,7.9336620349619009,1.94,1.88,1.83,1.77,1.72,1.68,1.63]
[null,0.8,16.899999999999999,-7.74,1.79,0,0.3,2.2037499999999999,8.8749439713133143,2.15,2.09,2.0299999999999998,1.98,1.92,1.87,1.82]
[null,0.85,16.84,-7.75,1.82,0,0.3,2.4189999999999996,9.771402958314658,2.36,2.2999999999999998,2.2400000000000002,2.1800000000000002,2.13,2.0699999999999998,2.02]
[null,0.9,16.79,-7.75,1.85,0,0.3,2.6444999999999999,10.757507844016137,2.58,2.52,2.46,2.4,2.34,2.2799999999999998,2.23]
[null,0.95,16.739999999999998,-7.75,1.88,0,0.3,2.8597499999999996,11.698789780367548,2.79,2.73,2.67,2.61,2.5499999999999998,2.4900000000000002,2.4300000000000002]
[null,1,16.7,-7.76,1.91,0,0.3,3.0852499999999994,12.684894666069027,3.01,2.95,2.89,2.83,2.76,2.7,2.64]
[null,1.05,16.670000000000002,-7.76,1.94,0,0.3,3.3005,13.62617660242044,3.22,3.16,3.1,3.04,2.98,2.92,2.86]
[null,1.1000000000000001,16.63,-7.76,1.97,0,0.3,3.5259999999999998,14.612281488121917,3.44,3.38,3.32,3.26,3.2,3.13,3.07]
[null,1.1499999999999999,16.61,-7.77,2,0,0.3,3.7514999999999996,15.553563424473332,3.66,3.6,3.53,3.47,3.41,3.35,3.29]
[null,1.2,16.579999999999998,-7.77,2.02,0,0.3,3.9667499999999998,16.539668310174811,3.87,3.81,3.75,3.69,3.63,3.57,3.5]
[null,1.25,16.559999999999999,-7.77,2.0499999999999998,0,0.3,4.1922499999999996,17.480950246526223,4.09,4.03,3.97,3.9,3.84,3.78,3.72]
[null,1.3,16.54,-7.77,2.08,0,0.3,4.4074999999999998,18.467055132227703,4.3,4.24,4.18,4.12,4.0599999999999996,4,3.94]
[null,1.35,16.53,-7.77,2.1,0,0.3,4.6329999999999991,19.453160017929179,4.5199999999999996,4.46,4.4000000000000004,4.34,4.28,4.21,4.1500000000000004]
[null,1.4,16.510000000000002,-7.77,2.13,0,0.3,4.8584999999999994,20.394441954280591,4.74,4.68,4.6100000000000003,4.55,4.49,4.43,4.37]
[null,1.45,16.5,-7.77,2.16,0,0.3,5.0737499999999995,21.38054683998207,4.95,4.8899999999999997,4.83,4.7699999999999996,4.71,4.6500000000000004,4.58]
[null,1.5,16.48,-7.78,2.1800000000000002,0,0.3,5.2992499999999998,22.321828776333486,5.17,5.1100000000000003,5.05,4.9800000000000004,4.92,4.8600000000000003,4.8]
[null,1.55,16.47,-7.78,2.21,0,0.3,5.5144999999999991,23.307933662034962,5.38,5.32,5.26,5.2,5.14,5.08,5.0199999999999996]
[null,1.6,16.46,-7.78,2.2400000000000002,0,0.3,5.7399999999999993,24.294038547736445,5.6,5.54,5.48,5.42,5.36,5.29,5.23]
[null,1.65,16.45,-7.78,2.2599999999999998,0,0.3,5.9654999999999996,25.235320484087854,5.82,5.76,5.69,5.63,5.57,5.51,5.45]
[null,1.7,16.440000000000001,-7.78,2.29,0,0.3,6.1807499999999997,26.22142536978933,6.03,5.97,5.91,5.85,5.79,5.73,5.66]
[null,1.75,16.43,-7.78,2.31,0,0.3,6.4062499999999991,27.162707306140742,6.25,6.19,6.13,6.06,6,5.94,5.88]
[null,1.8,16.43,-7.78,2.34,0,0.3,6.6214999999999993,28.148812191842225,6.46,6.4,6.34,6.28,6.22,6.16,6.1]
[null,1.85,16.420000000000002,-7.78,2.37,0,0.3,6.8469999999999995,29.134917077543705,6.68,6.62,6.56,6.5,6.44,6.37,6.31]
[null,1.9,16.41,-7.78,2.39,0,0.3,7.0724999999999998,30.076199013895117,6.9,6.84,6.77,6.71,6.65,6.59,6.53]
[null,1.95,16.399999999999999,-7.78,2.42,0,0.3,7.28775,31.062303899596593,7.11,7.05,6.99,6.93,6.87,6.81,6.74]
[null,2,16.399999999999999,-7.78,2.44,0,0.3,7.5132499999999993,32.003585835948009,7.33,7.27,7.21,7.14,7.08,7.02,6.96]
[null,2.0499999999999998,16.39,-7.78,2.4700000000000002,0,0.3,7.7284999999999995,32.989690721649488,7.54,7.48,7.42,7.36,7.3,7.24,7.18]
[null,2.1,16.39,-7.78,2.4900000000000002,0,0.3,7.9539999999999988,33.975795607350967,7.76,7.7,7.64,7.58,7.52,7.45,7.39]
[null,2.15,16.38,-7.78,2.52,0,0.3,8.1794999999999991,34.917077543702376,7.98,7.92,7.85,7.79,7.73,7.67,7.61]
[null,2.2000000000000002,16.38,-7.79,2.54,0,0.3,8.3947499999999984,35.903182429403856,8.19,8.1300000000000008,8.07,8.01,7.95,7.89,7.82]
[null,2.25,16.37,-7.79,2.57,0,0.3,8.6202499999999986,36.844464365755272,8.41,8.35,8.2899999999999991,8.2200000000000006,8.16,8.1,8.0399999999999991]
[null,2.2999999999999998,16.37,-7.79,2.6,0,0.3,8.8354999999999979,37.830569251456744,8.6199999999999992,8.56,8.5,8.44,8.3800000000000008,8.32,8.26]
[null,2.35,16.36,-7.79,2.62,0,0.3,9.0609999999999999,38.81667413715823,8.84,8.7799999999999994,8.7200000000000006,8.66,8.6,8.5299999999999994,8.4700000000000006]
[null,2.4,16.36,-7.79,2.65,0,0.3,9.2865000000000002,39.757956073509639,9.06,9,8.93,8.8699999999999992,8.81,8.75,8.69]
[null,2.4500000000000002,16.36,-7.79,2.67,0,0.3,9.5017499999999995,40.744060959211119,9.27,9.2100000000000009,9.15,9.09,9.0299999999999994,8.9700000000000006,8.9]
[null,2.5,16.350000000000001,-7.79,2.7,0,0.3,9.7272499999999997,41.685342895562535,9.49,9.43,9.3699999999999992,9.3000000000000007,9.24,9.18,9.1199999999999992]
[null,2.5499999999999998,16.350000000000001,-7.79,2.72,0,0.3,9.942499999999999,42.671447781264007,9.6999999999999993,9.64,9.58,9.52,9.4600000000000009,9.4,9.34]
[null,2.6,16.350000000000001,-7.79,2.75,0,0.3,10.167999999999999,43.657552666965486,9.92,9.86,9.8000000000000007,9.74,9.68,9.61,9.5500000000000007]
[null,2.65,16.34,-7.79,2.77,0,0.3,10.3935,44.598834603316902,10.14,10.08,10.01,9.9499999999999993,9.89,9.83,9.77]
[null,2.7,16.34,-7.79,2.8,0,0.3,10.608749999999999,45.584939489018375,10.35,10.29,10.23,10.17,10.11,10.050000000000001,9.98]
[null,2.75,16.34,-7.79,2.82,0,0.3,10.834249999999999,46.526221425369798,10.57,10.51,10.45,10.38,10.32,10.26,10.199999999999999]
[null,2.8,16.329999999999998,-7.79,2.85,0,0.3,11.049499999999998,47.51232631107127,10.78,10.72,10.66,10.6,10.54,10.48,10.42]
[null,2.85,16.329999999999998,-7.79,2.87,0,0.3,11.274999999999999,48.498431196772749,11,10.94,10.88,10.82,10.76,10.69,10.63]
[null,2.9,16.329999999999998,-7.79,2.9,0,0.3,11.500499999999999,49.439713133124158,11.22,11.16,11.09,11.03,10.97,10.91,10.85]
[null,2.95,16.329999999999998,-7.79,2.92,0,0.3,11.715749999999998,50.425818018825638,11.43,11.37,11.31,11.25,11.19,11.13,11.06]
[null,3,16.32,-7.79,2.95,0,0.3,11.94125,51.367099955177054,11.65,11.59,11.53,11.46,11.4,11.34,11.28]
[null,3.05,16.32,-7.79,2.98,0,0.3,12.156499999999998,52.353204840878533,11.86,11.8,11.74,11.68,11.62,11.56,11.5]
[null,3.1,16.32,-7.79,3,0,0.3,12.382,53.339309726580012,12.08,12.02,11.96,11.9,11.84,11.77,11.71]
[null,3.15,16.32,-7.79,3.03,0,0.3,12.6075,54.280591662931421,12.3,12.24,12.17,12.11,12.05,11.99,11.93]
[null,3.2,16.309999999999999,-7.79,3.05,0,0.3,12.822749999999999,55.2666965486329,12.51,12.45,12.39,12.33,12.27,12.21,12.14]
[null,3.25,16.309999999999999,-7.79,3.08,0,0.3,{"$f":"J72*$I$2","v":13.048249999999999},{"$f":"M72/$M$118*100","v":56.207978484984309},12.73,12.67,12.61,12.54,12.48,12.42,12.36]
[null,3.3,16.309999999999999,-7.79,3.1,0,0.3,13.263499999999999,57.194083370685789,12.94,12.88,12.82,12.76,12.7,12.64,12.58]
[null,3.35,16.309999999999999,-7.79,3.13,0,0.3,13.488999999999999,58.180188256387275,13.16,13.1,13.04,12.98,12.92,12.85,12.79]
[null,3.4,16.309999999999999,-7.79,3.15,0,0.3,13.714499999999999,59.121470192738677,13.38,13.32,13.25,13.19,13.13,13.07,13.01]
[null,3.45,16.309999999999999,-7.79,3.18,0,0.3,13.929749999999999,60.107575078440171,13.59,13.53,13.47,13.41,13.35,13.29,13.22]
[null,3.5,16.3,-7.79,3.2,0,0.3,14.155249999999999,61.048857014791565,13.81,13.75,13.69,13.62,13.56,13.5,13.44]
[null,3.55,16.3,-7.79,3.23,0,0.3,14.370499999999998,62.034961900493059,14.02,13.96,13.9,13.84,13.78,13.72,13.66]
[null,3.6,16.3,-7.79,3.25,0,0.3,14.595999999999998,63.021066786194538,14.24,14.18,14.12,14.06,14,13.93,13.87]
[null,3.65,16.3,-7.79,3.28,0,0.3,14.8215,63.962348722545947,14.46,14.4,14.33,14.27,14.21,14.15,14.09]
[null,3.7,16.3,-7.79,3.3,0,0.3,15.036749999999998,64.948453608247419,14.67,14.61,14.55,14.49,14.43,14.37,14.3]
[null,3.75,16.3,-7.79,3.33,0,0.3,15.26225,65.889735544598835,14.89,14.83,14.77,14.7,14.64,14.58,14.52]
[null,3.8,16.29,-7.79,3.35,0,0.3,15.477499999999999,66.875840430300315,15.1,15.04,14.98,14.92,14.86,14.8,14.74]
[null,3.85,16.29,-7.79,3.38,0,0.3,15.702999999999999,67.861945316001808,15.32,15.26,15.2,15.14,15.08,15.01,14.95]
[null,3.9,16.29,-7.79,3.4,0,0.3,15.928499999999998,68.80322725235321,15.54,15.48,15.41,15.35,15.29,15.23,15.17]
[null,3.95,16.29,-7.79,3.43,0,0.3,16.143749999999997,69.789332138054689,15.75,15.69,15.63,15.57,15.51,15.45,15.38]
[null,4,16.29,-7.79,3.45,0,0.3,16.369250000000001,70.730614074406091,15.97,15.91,15.85,15.78,15.72,15.66,15.6]
[null,4.05,16.29,-7.79,3.48,0,0.3,16.584499999999998,71.716718960107585,16.18,16.12,16.059999999999999,16,15.94,15.88,15.82]
[null,4.0999999999999996,16.29,-7.79,3.5,0,0.3,16.809999999999999,72.70282384580905,16.399999999999999,16.34,16.28,16.22,16.16,16.09,16.03]
[null,4.1500000000000004,16.29,-7.79,3.53,0,0.3,17.035499999999999,73.64410578216048,16.62,16.559999999999999,16.489999999999998,16.43,16.37,16.309999999999999,16.25]
[null,4.2,16.29,-7.79,3.55,0,0.3,17.250749999999996,74.630210667861945,16.829999999999998,16.77,16.71,16.649999999999999,16.59,16.53,16.46]
[null,4.25,16.28,-7.79,3.58,0,0.3,17.47625,75.571492604213361,17.05,16.989999999999998,16.93,16.86,16.8,16.739999999999998,16.68]
[null,4.3,16.28,-7.79,3.6,0,0.3,17.691500000000001,76.557597489914826,17.260000000000002,17.2,17.14,17.079999999999998,17.02,16.96,16.899999999999999]
[null,4.3499999999999996,16.28,-7.79,3.63,0,0.3,17.916999999999998,77.54370237561632,17.48,17.420000000000002,17.36,17.3,17.239999999999998,17.170000000000002,17.11]
[null,4.4000000000000004,16.28,-7.79,3.65,0,0.3,18.142499999999998,78.484984311967736,17.7,17.64,17.57,17.510000000000002,17.45,17.39,17.329999999999998]
[null,4.45,16.28,-7.79,3.68,0,0.3,18.357749999999999,79.471089197669215,17.91,17.850000000000001,17.79,17.73,17.670000000000002,17.61,17.54]
[null,4.5,16.28,-7.79,3.7,0,0.3,18.583249999999996,80.412371134020631,18.13,18.07,18.010000000000002,17.940000000000001,17.88,17.82,17.760000000000002]
[null,4.55,16.28,-7.79,3.73,0,0.3,18.798499999999997,81.398476019722096,18.34,18.28,18.22,18.16,18.100000000000001,18.04,17.98]
[null,4.5999999999999996,16.28,-7.79,3.76,0,0.3,19.023999999999997,82.384580905423576,18.559999999999999,18.5,18.440000000000001,18.38,18.32,18.25,18.190000000000001]
[null,4.6500000000000004,16.28,-7.79,3.78,0,0.3,19.249500000000001,83.325862841774992,18.78,18.72,18.649999999999999,18.59,18.53,18.47,18.41]
[null,4.7,16.28,-7.79,3.81,0,0.3,19.464749999999995,84.311967727476471,18.989999999999998,18.93,18.87,18.809999999999999,18.75,18.690000000000001,18.62]
[null,4.75,16.27,-7.79,3.83,0,0.3,19.690249999999999,85.253249663827873,19.21,19.149999999999999,19.09,19.02,18.96,18.899999999999999,18.84]
[null,4.8,16.27,-7.79,3.86,0,0.3,19.9055,86.239354549529352,19.420000000000002,19.36,19.3,19.239999999999998,19.18,19.12,19.059999999999999]
[null,4.8499999999999996,16.27,-7.79,3.88,0,0.3,20.131,87.225459435230846,19.64,19.579999999999998,19.52,19.46,19.399999999999999,19.329999999999998,19.27]
[null,4.9000000000000004,16.27,-7.79,3.91,0,0.3,20.356499999999997,88.166741371582262,19.86,19.8,19.73,19.670000000000002,19.61,19.55,19.489999999999998]
[null,4.95,16.27,-7.79,3.93,0,0.3,20.571749999999998,89.152846257283741,20.07,20.010000000000002,19.95,19.89,19.829999999999998,19.77,19.7]
[null,5,16.27,-7.79,3.96,0,0.3,20.797249999999998,90.094128193635143,20.29,20.23,20.170000000000002,20.100000000000001,20.04,19.98,19.920000000000002]
[null,5.05,16.27,-7.79,3.98,0,0.3,21.012499999999999,91.080233079336622,20.5,20.440000000000001,20.38,20.32,20.260000000000002,20.2,20.14]
[null,5.0999999999999996,16.27,-7.79,4.01,0,0.3,21.237999999999996,92.066337965038102,20.72,20.66,20.6,20.54,20.48,20.41,20.350000000000001]
[null,5.15,16.27,-7.79,4.03,0,0.3,21.4635,93.007619901389518,20.94,20.88,20.81,20.75,20.69,20.63,20.57]
[null,5.2,16.27,-7.79,4.0599999999999996,0,0.3,21.678749999999997,93.993724787090997,21.15,21.09,21.03,20.97,20.91,20.85,20.78]
[null,5.25,16.27,-7.79,4.08,0,0.3,21.904249999999998,94.935006723442399,21.37,21.31,21.25,21.18,21.12,21.06,21]
[null,5.3,16.27,-7.79,4.1100000000000003,0,0.3,22.119499999999995,95.921111609143878,21.58,21.52,21.46,21.4,21.34,21.28,21.22]
[null,5.35,16.27,-7.79,4.13,0,0.3,22.344999999999999,96.907216494845372,21.8,21.74,21.68,21.62,21.56,21.49,21.43]
[null,5.4,16.260000000000002,-7.79,4.16,0,0.3,22.570499999999999,97.848498431196774,22.02,21.96,21.89,21.83,21.77,21.71,21.65]
[null,5.45,16.260000000000002,-7.79,4.18,0,0.3,22.74475,98.834603316898267,22.19,22.17,22.11,22.05,21.99,21.93,21.86]
[null,5.5,16.260000000000002,-7.79,4.21,0,0.3,22.847249999999995,99.775885253249669,22.29,22.29,22.29,22.26,22.2,22.14,22.08]
[null,5.51,16.260000000000002,-7.79,4.21,0,0.3,22.857499999999998,100,22.3,22.3,22.3,22.31,22.24,22.18,22.11]

{"sheet":"38","index":44,"n_rows":51,"n_cols":16,"rows_kept":51,"cut":false,"hidden":false,"merged":[]}
[]
[null,"W.B. 6 PS DB",null,null,null,null,null,"S.G.",1.0249999999999999,"[t/m3]"]
[]
[null,"GAUGE","LCG","TCG","VCG","FSM (transv)","FSM (long)","Weight","Fill (%)","Trim=-1,5","Trim=1,0","Trim=-0,5","Trim=0","Trim=0,5","Trim=1,0","Trim=1,5"]
[null,null,"Fwd of AP","PS:+","Above BL"," "," "]
[null,"m","m","m","m","t·m","t·m","t",null,"m3","m3","m3","m3","m3","m3","m3"]
[null,0,16.63,2.58,0.02,0,74.599999999999994,{"$f":"J7*$I$2","v":2.3882499999999998},{"$f":"M7/$M$51*100","v":1.6385177716158308},2.33,1.72,1.1599999999999999,0.65,0.28000000000000003,0.15,0.11]
[null,0.05,16.52,2.83,0.04,97,99.1,{"$f":"J8*$I$2","v":3.9359999999999995},{"$f":"M8/$M$51*100","v":4.9659692462818246},3.84,3.19,2.56,1.97,1.43,0.98,0.71]
[null,0.1,16.46,2.98,7.0000000000000007E-2,113,116.2,5.5657499999999995,8.6463322409881531,5.43,4.74,4.07,3.43,2.82,2.25,1.76]
[null,0.15,16.420000000000002,3.1,0.1,126,129.4,7.2364999999999986,12.55356692714898,7.06,6.35,5.65,4.9800000000000004,4.32,3.69,3.11]
[null,0.2,16.39,3.19,0.12,137,140.19999999999999,8.9482499999999998,16.58684144189564,8.73,8,7.28,6.58,5.89,5.23,4.59]
[null,0.25,16.37,3.26,0.15,146,149.30000000000001,10.69075,20.746155785228133,10.43,9.69,8.9499999999999993,8.23,7.52,6.82,6.15]
[null,0.3,16.350000000000001,3.32,0.18,153,157.19999999999999,12.463999999999999,24.981094025712125,12.16,11.4,10.65,9.91,9.18,8.4700000000000006,7.76]
[null,0.35,16.34,3.38,0.2,160,164.2,14.25775,29.291656163347611,13.91,13.14,12.38,11.62,10.88,10.15,9.42]
[null,0.4,16.329999999999998,3.42,0.23,166,170.5,16.071999999999999,33.677842198134606,15.68,14.9,14.13,13.36,12.61,11.86,11.12]
[null,0.45,16.32,3.47,0.25,172,176.2,17.906749999999999,38.11444416435593,17.47,16.68,15.9,15.12,14.35,13.59,12.84]
[null,0.5,16.309999999999999,3.5,0.28000000000000003,177,181.3,19.751749999999998,42.601462062011592,19.27,18.48,17.690000000000001,16.899999999999999,16.12,15.35,14.59]
[null,0.55000000000000004,16.309999999999999,3.54,0.31,181,186,21.617249999999999,47.138895891101583,21.09,20.29,19.489999999999998,18.7,17.91,17.13,16.350000000000001]
[null,0.6,16.3,3.57,0.33,186,190.3,23.492999999999999,51.701537685908747,22.92,22.11,21.31,20.51,19.71,18.920000000000002,18.14]
[null,0.65,16.29,3.6,0.36,189,194.1,25.389249999999997,56.289387446433068,24.77,23.95,23.14,22.33,21.53,20.73,19.940000000000001]
[null,0.7,16.29,3.63,0.39,193,197.6,27.285499999999999,60.927653138391733,26.62,25.8,24.98,24.17,23.36,22.56,21.76]
[null,0.75,16.28,3.65,0.41,196,200.7,29.191999999999997,65.591126796067556,28.48,27.66,26.84,26.02,25.2,24.39,23.59]
[null,0.8,16.28,3.67,0.44,199,203.5,31.108749999999997,70.279808419460537,30.35,29.52,28.7,27.88,27.06,26.24,25.43]
[null,0.85,16.28,3.69,0.46,201,206.1,33.035749999999993,74.968490042853531,32.229999999999997,31.4,30.57,29.74,28.92,28.1,27.28]
[null,0.9,16.27,3.71,0.49,203,208.4,34.77825,79.682379631963698,33.93,33.26,32.44,31.61,30.79,29.96,29.14]
[null,0.95,16.27,3.73,0.52,205,210.4,36.090249999999997,84.421477186791023,35.21,34.78,34.24,33.49,32.659999999999997,31.83,31.01]
[null,1,16.260000000000002,3.77,0.54,54,55.5,36.981999999999992,87.97580035291152,36.08,35.75,35.36,34.9,34.369999999999997,33.619999999999997,32.82]
[null,1.05,16.260000000000002,3.83,0.55000000000000004,24,24.2,37.668749999999996,90.345349130325189,36.75,36.5,36.200000000000003,35.840000000000003,35.42,34.94,34.32]
[null,1.1000000000000001,16.260000000000002,3.88,0.56000000000000005,9,9.4,38.211999999999996,92.210738593395504,37.28,37.08,36.85,36.58,36.26,35.869999999999997,35.42]
[null,1.1499999999999999,16.25,3.93,0.56999999999999995,4,4.0999999999999996,38.622,93.597176707839679,37.68,37.51,37.340000000000003,37.130000000000003,36.9,36.61,36.26]
[null,1.2,16.25,3.97,0.57999999999999996,2,2,38.949999999999996,94.605495336526346,38,37.85,37.700000000000003,37.53,37.35,37.15,36.89]
[null,1.25,16.25,3.99,0.57999999999999996,1,1.5,39.216499999999996,95.361734308041335,38.26,38.130000000000003,37.979999999999997,37.83,37.68,37.51,37.33]
[null,1.3,16.239999999999998,4.0199999999999996,0.59,1,1.2,39.452249999999999,96.017141416687679,38.49,38.369999999999997,38.229999999999997,38.090000000000003,37.950000000000003,37.799999999999997,37.64]
[null,1.35,16.239999999999998,4.04,0.59,1,1,39.667499999999997,96.622132593899664,38.700000000000003,38.58,38.46,38.33,38.200000000000003,38.06,37.909999999999997]
[null,1.4,16.23,4.0599999999999996,0.6,1,0.8,39.851999999999997,97.151499873960162,38.880000000000003,38.770000000000003,38.659999999999997,38.54,38.42,38.29,38.15]
[null,1.45,16.23,4.08,0.6,1,0.6,40.015999999999998,97.630451222586316,39.04,38.94,38.840000000000003,38.729999999999997,38.619999999999997,38.5,38.369999999999997]
[null,1.5,16.23,4.09,0.6,0,0.5,40.149249999999995,98.058986639778169,39.17,39.090000000000003,39,38.9,38.799999999999997,38.69,38.57]
[null,1.55,16.22,4.0999999999999996,0.61,0,0.4,40.262,98.411898159818506,39.28,39.21,39.130000000000003,39.04,38.950000000000003,38.85,38.75]
[null,1.6,16.22,4.12,0.61,0,0.3,40.3645,98.739601714141671,39.380000000000003,39.31,39.25,39.17,39.090000000000003,39,38.9]
[null,1.65,16.21,4.13,0.61,0,0.2,40.4465,99.016889337030506,39.46,39.4,39.340000000000003,39.28,39.200000000000003,39.130000000000003,39.04]
[null,1.7,16.21,4.13,0.62,0,0.1,40.508000000000003,99.243761028484982,39.520000000000003,39.47,39.42,39.369999999999997,39.31,39.24,39.159999999999997]
[null,1.75,16.21,4.1399999999999997,0.62,0,0.1,40.559249999999999,99.420216788505158,39.57,39.53,39.49,39.44,39.39,39.33,39.26]
[null,1.8,16.21,4.1500000000000004,0.62,0,0.1,40.589999999999996,99.571464582808161,39.6,39.57,39.54,39.5,39.46,39.409999999999997,39.35]
[null,1.85,16.2,4.1500000000000004,0.62,0,0,40.620750000000001,99.697504411393993,39.630000000000003,39.61,39.58,39.549999999999997,39.520000000000003,39.47,39.43]
[null,1.9,16.2,4.16,0.62,0,0,40.631,99.798336274262667,39.64,39.630000000000003,39.61,39.590000000000003,39.56,39.53,39.49]
[null,1.95,16.2,4.16,0.62,0,0,40.651499999999992,99.873960171414154,39.659999999999997,39.65,39.630000000000003,39.619999999999997,39.6,39.57,39.54]
[null,2,16.2,4.16,0.62,0,0,40.651499999999992,99.924376102848498,39.659999999999997,39.659999999999997,39.65,39.64,39.619999999999997,39.6,39.58]
[null,2.0499999999999998,16.2,4.16,0.63,0,0,40.661749999999998,99.949584068565656,39.67,39.659999999999997,39.659999999999997,39.65,39.64,39.630000000000003,39.61]
[null,2.1,16.2,4.16,0.63,0,0,40.661749999999998,99.974792034282828,39.67,39.67,39.659999999999997,39.659999999999997,39.65,39.64,39.630000000000003]
[null,2.15,16.2,4.16,0.63,0,0,40.661749999999998,99.974792034282828,39.67,39.67,39.67,39.659999999999997,39.659999999999997,39.65,39.64]
[null,2.2000000000000002,16.2,4.16,0.63,0,0,40.661749999999998,100,39.67,39.67,39.67,39.67,39.659999999999997,39.659999999999997,39.65]

{"sheet":"40","index":45,"n_rows":100,"n_cols":16,"rows_kept":100,"cut":false,"hidden":false,"merged":[]}
[]
[null,"W.B. 6 SB DB",null,null,null,null,null,"S.G.",1.0249999999999999,"[t/m3]"]
[]
[null,"GAUGE","LCG","TCG","VCG","FSM (transv)","FSM (long)","Weight","Fill (%)","Trim=-1,5","Trim=1,0","Trim=-0,5","Trim=0","Trim=0,5","Trim=1,0","Trim=1,5"]
[null,null,"Fwd of AP","PS:+","Above BL"," "," "]
[null,"m","m","m","m","t·m","t·m","t",null,"m3","m3","m3","m3","m3","m3","m3"]
[null,0,13.65,7.47,2.1,0,0,{"$f":"M7*$I$2","v":1.0249999999999999E-2},{"$f":"M7/$M$100*100","v":5.7208237986270026E-2},0.01,0.01,0.01,0.01,0.01,0.01,0.01]
[null,0.05,13.61,7.5,2.14,0,0,{"$f":"M8*$I$2","v":2.0499999999999997E-2},{"$f":"M8/$M$100*100","v":0.11441647597254005},0.02,0.02,0.02,0.02,0.02,0.02,0.02]
[null,0.1,13.59,7.53,2.1800000000000002,0,0,3.0749999999999996E-2,0.17162471395881007,0.03,0.03,0.03,0.03,0.03,0.03,0.03]
[null,0.15,13.55,7.56,2.2200000000000002,0,0,5.1249999999999997E-2,0.28604118993135008,0.05,0.05,0.05,0.05,0.05,0.05,0.05]
[null,0.2,13.51,7.59,2.25,0,0,7.1749999999999994E-2,0.40045766590389015,0.08,0.08,0.08,7.0000000000000007E-2,7.0000000000000007E-2,7.0000000000000007E-2,7.0000000000000007E-2]
[null,0.25,13.48,7.61,2.29,0,0,0.10249999999999999,0.57208237986270016,0.11,0.11,0.11,0.1,0.1,0.1,0.1]
[null,0.3,13.44,7.64,2.33,0,0,0.14349999999999999,0.8009153318077803,0.15,0.14000000000000001,0.14000000000000001,0.14000000000000001,0.14000000000000001,0.14000000000000001,0.14000000000000001]
[null,0.35,13.41,7.65,2.36,0,0.1,0.18449999999999997,1.0297482837528604,0.19,0.19,0.18,0.18,0.18,0.18,0.17]
[null,0.4,13.37,7.67,2.4,0,0.1,0.23574999999999999,1.3157894736842106,0.24,0.24,0.23,0.23,0.23,0.22,0.22]
[null,0.45,13.33,7.68,2.44,0,0.1,0.28699999999999998,1.6018306636155606,0.3,0.28999999999999998,0.28999999999999998,0.28000000000000003,0.28000000000000003,0.27,0.27]
[null,0.5,13.28,7.69,2.4700000000000002,0,0.1,0.34849999999999998,1.9450800915331807,0.36,0.35,0.35,0.34,0.34,0.33,0.33]
[null,0.55000000000000004,13.24,7.7,2.5,0,0.1,0.42024999999999996,2.3455377574370706,0.43,0.42,0.42,0.41,0.4,0.39,0.39]
[null,0.6,13.2,7.71,2.54,0,0.1,0.49199999999999994,2.7459954233409611,0.51,0.5,0.49,0.48,0.47,0.46,0.46]
[null,0.65,13.16,7.71,2.57,0,0.1,0.57399999999999995,3.2036613272311212,0.59,0.57999999999999996,0.56999999999999995,0.56000000000000005,0.55000000000000004,0.54,0.53]
[null,0.7,13.11,7.72,2.61,0,0.1,0.65599999999999992,3.6613272311212817,0.68,0.67,0.65,0.64,0.63,0.62,0.61]
[null,0.75,13.07,7.73,2.64,0,0.1,0.74824999999999997,4.1762013729977117,0.78,0.76,0.75,0.73,0.72,0.7,0.69]
[null,0.8,13.03,7.73,2.68,0,0.1,0.8507499999999999,4.748283752860412,0.88,0.86,0.84,0.83,0.81,0.79,0.78]
[null,0.85,12.98,7.73,2.71,0,0.1,0.95324999999999993,5.3203661327231124,0.99,0.97,0.95,0.93,0.91,0.89,0.87]
[null,0.9,12.94,7.74,2.74,0,0.2,1.0659999999999998,5.9496567505720828,1.1100000000000001,1.08,1.06,1.04,1.01,0.99,0.98]
[null,0.95,12.9,7.74,2.78,0,0.2,1.1787499999999997,6.5789473684210522,1.23,1.2,1.17,1.1499999999999999,1.1299999999999999,1.1000000000000001,1.08]
[null,1,12.85,7.74,2.81,0,0.2,1.30175,7.2654462242562934,1.36,1.33,1.3,1.27,1.24,1.22,1.19]
[null,1.05,12.81,7.75,2.84,0,0.2,1.4247499999999997,7.9519450800915328,1.49,1.46,1.43,1.39,1.37,1.34,1.31]
[null,1.1000000000000001,12.76,7.75,2.88,0,0.2,1.5682499999999999,8.752860411899313,1.63,1.6,1.56,1.53,1.49,1.46,1.43]
[null,1.1499999999999999,12.72,7.75,2.91,0,0.2,1.7014999999999998,9.4965675057208241,1.78,1.74,1.7,1.66,1.63,1.59,1.56]
[null,1.2,12.67,7.75,2.95,0,0.2,1.8552499999999998,10.354691075514873,1.94,1.89,1.85,1.81,1.77,1.73,1.7]
[null,1.25,12.63,7.75,2.98,0,0.2,2.0089999999999999,11.212814645308924,2.1,2.0499999999999998,2,1.96,1.92,1.88,1.84]
[null,1.3,12.58,7.76,3.01,0,0.2,2.1627499999999995,12.070938215102974,2.27,2.21,2.16,2.11,2.0699999999999998,2.02,1.98]
[null,1.35,12.54,7.76,3.05,0,0.2,2.3267499999999997,12.986270022883295,2.44,2.38,2.33,2.27,2.23,2.1800000000000002,2.13]
[null,1.4,12.49,7.76,3.08,0,0.2,2.5009999999999999,13.958810068649885,2.62,2.56,2.5,2.44,2.39,2.34,2.29]
[null,1.45,12.45,7.76,3.11,0,0.2,2.6854999999999998,14.988558352402745,2.81,2.74,2.68,2.62,2.56,2.5,2.4500000000000002]
[null,1.5,12.4,7.76,3.15,0,0.3,2.8699999999999997,16.018306636155604,3,2.93,2.86,2.8,2.73,2.68,2.62]
[null,1.55,12.36,7.76,3.18,0,0.3,3.0544999999999995,17.048054919908466,3.2,3.13,3.05,2.98,2.92,2.85,2.79]
[null,1.6,12.31,7.76,3.21,0,0.3,3.2492499999999995,18.135011441647599,3.41,3.33,3.25,3.17,3.1,3.04,2.97]
[null,1.65,12.27,7.77,3.25,0,0.3,3.4542499999999996,19.279176201372998,3.62,3.54,3.45,3.37,3.3,3.22,3.16]
[null,1.7,12.22,7.77,3.28,0,0.3,3.6694999999999998,20.48054919908467,3.84,3.75,3.66,3.58,3.5,3.42,3.35]
[null,1.75,12.18,7.77,3.31,0,0.3,3.8847499999999995,21.681922196796339,4.07,3.97,3.88,3.79,3.7,3.62,3.54]
[null,1.8,12.13,7.77,3.35,0,0.3,4.0999999999999996,22.883295194508008,4.3,4.2,4.0999999999999996,4,3.91,3.83,3.74]
[null,1.85,12.09,7.77,3.38,0,0.3,4.325499999999999,24.141876430205947,4.53,4.43,4.32,4.22,4.13,4.04,3.95]
[null,1.9,12.04,7.77,3.41,0,0.3,4.5612499999999994,25.45766590389016,4.7699999999999996,4.66,4.55,4.45,4.3499999999999996,4.25,4.16]
[null,1.95,12,7.77,3.45,0,0.3,4.7969999999999997,26.773455377574368,5,4.8899999999999997,4.79,4.68,4.58,4.4800000000000004,4.38]
[null,2,11.96,7.77,3.48,0,0.3,5.0327500000000001,28.089244851258581,5.24,5.13,5.0199999999999996,4.91,4.8099999999999996,4.7,4.5999999999999996]
[null,2.0499999999999998,11.92,7.77,3.51,0,0.3,5.2787499999999996,29.462242562929063,5.48,5.37,5.26,5.15,5.04,4.93,4.83]
[null,2.1,11.89,7.77,3.54,0,0.3,5.5247499999999992,30.835240274599542,5.72,5.61,5.5,5.39,5.28,5.17,5.0599999999999996]
[null,2.15,11.85,7.78,3.58,0,0.3,5.7604999999999995,32.151029748283754,5.96,5.85,5.74,5.62,5.51,5.4,5.3]
[null,2.2000000000000002,11.82,7.78,3.61,0,0.3,6.0065,33.524027459954233,6.19,6.08,5.97,5.86,5.75,5.64,5.53]
[null,2.25,11.8,7.78,3.64,0,0.3,6.2524999999999995,34.897025171624712,6.43,6.32,6.21,6.1,5.99,5.88,5.77]
[null,2.2999999999999998,11.77,7.78,3.67,0,0.3,6.4984999999999991,36.270022883295198,6.67,6.56,6.45,6.34,6.23,6.12,6.01]
[null,2.35,11.75,7.78,3.7,0,0.3,6.7444999999999995,37.643020594965677,6.91,6.8,6.69,6.58,6.47,6.36,6.25]
[null,2.4,11.72,7.78,3.73,0,0.3,6.9904999999999999,39.016018306636155,7.15,7.04,6.93,6.82,6.7,6.59,6.48]
[null,2.4500000000000002,11.7,7.78,3.75,0,0.3,7.2262499999999994,40.331807780320368,7.38,7.27,7.16,7.05,6.94,6.83,6.72]
[null,2.5,11.68,7.78,3.78,0,0.3,7.4722499999999989,41.704805491990847,7.62,7.51,7.4,7.29,7.18,7.07,6.96]
[null,2.5499999999999998,11.66,7.78,3.81,0,0.3,7.7182499999999994,43.077803203661333,7.86,7.75,7.64,7.53,7.42,7.31,7.2]
[null,2.6,11.65,7.78,3.84,0,0.3,7.9642499999999989,44.450800915331804,8.1,7.99,7.88,7.77,7.66,7.55,7.44]
[null,2.65,11.63,7.78,3.87,0,0.3,8.2102499999999985,45.82379862700229,8.34,8.23,8.1199999999999992,8.01,7.9,7.78,7.67]
[null,2.7,11.61,7.78,3.9,0,0.3,8.4459999999999997,47.139588100686495,8.58,8.4700000000000006,8.35,8.24,8.1300000000000008,8.02,7.91]
[null,2.75,11.6,7.78,3.92,0,0.3,8.6920000000000002,48.512585812356981,8.81,8.6999999999999993,8.59,8.48,8.3699999999999992,8.26,8.15]
[null,2.8,11.59,7.78,3.95,0,0.3,8.9380000000000006,49.88558352402746,9.0500000000000007,8.94,8.83,8.7200000000000006,8.61,8.5,8.39]
[null,2.85,11.57,7.78,3.98,0,0.3,9.1839999999999993,51.258581235697939,9.2899999999999991,9.18,9.07,8.9600000000000009,8.85,8.74,8.6300000000000008]
[null,2.9,11.56,7.79,4.01,0,0.3,9.4299999999999979,52.631578947368418,9.5299999999999994,9.42,9.31,9.1999999999999993,9.09,8.98,8.8699999999999992]
[null,2.95,11.55,7.79,4.03,0,0.3,9.6657499999999992,53.94736842105263,9.77,9.66,9.5500000000000007,9.43,9.32,9.2100000000000009,9.1]
[null,3,11.54,7.79,4.0599999999999996,0,0.3,9.9117499999999996,55.320366132723109,10,9.89,9.7799999999999994,9.67,9.56,9.4499999999999993,9.34]
[null,3.05,11.53,7.79,4.09,0,0.3,10.15775,56.693363844393595,10.24,10.130000000000001,10.02,9.91,9.8000000000000007,9.69,9.58]
[null,3.1,11.52,7.79,4.1100000000000003,0,0.3,10.403749999999999,58.066361556064074,10.48,10.37,10.26,10.15,10.039999999999999,9.93,9.82]
[null,3.15,11.51,7.79,4.1399999999999997,0,0.3,10.649749999999999,59.439359267734559,10.72,10.61,10.5,10.39,10.28,10.17,10.06]
[null,3.2,11.5,7.79,4.17,0,0.3,10.89575,60.812356979405038,10.96,10.85,10.74,10.63,10.52,10.4,10.29]
[null,3.25,11.49,7.79,4.2,0,0.3,{"$f":"M72*$I$2","v":11.131499999999999},{"$f":"M72/$M$100*100","v":62.128146453089236},11.2,11.08,10.97,10.86,10.75,10.64,10.53]
[null,3.3,11.48,7.79,4.22,0,0.3,11.3775,63.501144164759729,11.43,11.32,11.21,11.1,10.99,10.88,10.77]
[null,3.35,11.47,7.79,4.25,0,0.3,11.623499999999998,64.874141876430201,11.67,11.56,11.45,11.34,11.23,11.12,11.01]
[null,3.4,11.47,7.79,4.2699999999999996,0,0.3,11.869499999999999,66.247139588100694,11.91,11.8,11.69,11.58,11.47,11.36,11.25]
[null,3.45,11.46,7.79,4.3,0,0.3,12.115499999999999,67.620137299771159,12.15,12.04,11.93,11.82,11.71,11.6,11.48]
[null,3.5,11.45,7.79,4.33,0,0.3,12.35125,68.935926773455378,12.39,12.28,12.16,12.05,11.94,11.83,11.72]
[null,3.55,11.45,7.79,4.3499999999999996,0,0.3,12.597249999999997,70.308924485125857,12.62,12.51,12.4,12.29,12.18,12.07,11.96]
[null,3.6,11.44,7.79,4.38,0,0.3,12.843249999999998,71.681922196796336,12.86,12.75,12.64,12.53,12.42,12.31,12.2]
[null,3.65,11.43,7.79,4.41,0,0.3,13.089249999999998,73.054919908466815,13.1,12.99,12.88,12.77,12.66,12.55,12.44]
[null,3.7,11.43,7.79,4.43,0,0.3,13.335249999999998,74.427917620137293,13.34,13.23,13.12,13.01,12.9,12.79,12.68]
[null,3.75,11.42,7.79,4.46,0,0.3,13.581249999999999,75.800915331807786,13.58,13.47,13.36,13.25,13.13,13.02,12.91]
[null,3.8,11.41,7.79,4.4800000000000004,0,0.3,13.816999999999998,77.116704805491992,13.81,13.7,13.59,13.48,13.37,13.26,13.15]
[null,3.85,11.41,7.79,4.51,0,0.3,14.062999999999999,78.48970251716247,14.05,13.94,13.83,13.72,13.61,13.5,13.39]
[null,3.9,11.4,7.79,4.54,0,0.3,14.308999999999999,79.862700228832949,14.29,14.18,14.07,13.96,13.85,13.74,13.63]
[null,3.95,11.4,7.79,4.5599999999999996,0,0.3,14.554999999999998,81.235697940503428,14.53,14.42,14.31,14.2,14.09,13.98,13.87]
[null,4,11.39,7.79,4.59,0,0.3,14.800999999999998,82.608695652173907,14.77,14.66,14.55,14.44,14.33,14.21,14.1]
[null,4.05,11.39,7.79,4.6100000000000003,0,0.3,15.036749999999998,83.924485125858112,15.01,14.89,14.78,14.67,14.56,14.45,14.34]
[null,4.0999999999999996,11.38,7.79,4.6399999999999997,0,0.3,15.282749999999998,85.297482837528605,15.24,15.13,15.02,14.91,14.8,14.69,14.58]
[null,4.1500000000000004,11.38,7.79,4.67,0,0.3,15.528749999999999,86.670480549199084,15.48,15.37,15.26,15.15,15.04,14.93,14.82]
[null,4.2,11.38,7.79,4.6900000000000004,0,0.3,15.774749999999999,88.043478260869563,15.72,15.61,15.5,15.39,15.28,15.17,15.06]
[null,4.25,11.37,7.79,4.72,0,0.3,16.02075,89.416475972540042,15.96,15.85,15.74,15.63,15.52,15.41,15.29]
[null,4.3,11.37,7.79,4.74,0,0.3,16.256499999999999,90.732265446224247,16.2,16.09,15.98,15.86,15.75,15.64,15.53]
[null,4.3499999999999996,11.36,7.79,4.7699999999999996,0,0.3,16.502500000000001,92.10526315789474,16.43,16.32,16.21,16.100000000000001,15.99,15.88,15.77]
[null,4.4000000000000004,11.36,7.79,4.8,0,0.3,16.7485,93.478260869565204,16.670000000000002,16.559999999999999,16.45,16.34,16.23,16.12,16.010000000000002]
[null,4.45,11.36,7.79,4.82,0,0.3,16.994499999999995,94.851258581235683,16.91,16.8,16.690000000000001,16.579999999999998,16.47,16.36,16.25]
[null,4.5,11.35,7.79,4.8499999999999996,0,0.3,17.240499999999997,96.224256292906176,17.149999999999999,17.04,16.93,16.82,16.71,16.600000000000001,16.489999999999998]
[null,4.55,11.35,7.79,4.87,0,0.3,17.486499999999996,97.597254004576655,17.34,17.27,17.170000000000002,17.059999999999999,16.940000000000001,16.829999999999998,16.72]
[null,4.5999999999999996,11.35,7.79,4.9000000000000004,0,0.3,17.722249999999999,98.91304347826086,17.45,17.440000000000001,17.399999999999999,17.29,17.18,17.07,16.96]
[null,4.6399999999999997,11.34,7.79,4.92,0,0.3,17.916999999999998,100,17.48,17.48,17.48,17.48,17.37,17.260000000000002,17.149999999999999]

{"sheet":"39","index":46,"n_rows":51,"n_cols":16,"rows_kept":51,"cut":false,"hidden":false,"merged":[]}
[]
[null,"W.B. 7 PS",null,null,null,null,null,"S.G.",1.0249999999999999,"[t/m3]"]
[]
[null,"GAUGE","LCG","TCG","VCG","FSM (transv)","FSM (long)","Weight","Fill (%)","Trim=-1,5","Trim=1,0","Trim=-0,5","Trim=0","Trim=0,5","Trim=1,0","Trim=1,5"]
[null,null,"Fwd of AP","PS:+","Above BL"," "," "]
[null,"m","m","m","m","t·m","t·m","t",null,"m3","m3","m3","m3","m3","m3","m3"]
[null,0,16.63,-2.58,0.02,0,74.599999999999994,{"$f":"J7*$I$2","v":1.7937499999999997},{"$f":"M7/$M$51*100","v":1.6385177716158308},1.75,1.35,0.98,0.65,0.4,0.31,0.28999999999999998]
[null,0.05,16.52,-2.83,0.04,97,99.1,{"$f":"J8*$I$2","v":3.3107499999999996},{"$f":"M8/$M$51*100","v":4.9659692462818246},3.23,2.79,2.37,1.97,1.61,1.29,1.07]
[null,0.1,16.46,-2.98,7.0000000000000007E-2,113,116.2,4.9097499999999998,8.6463322409881531,4.79,4.32,3.87,3.43,3.01,2.62,2.27]
[null,0.15,16.420000000000002,-3.1,0.1,126,129.4,6.56,12.55356692714898,6.4,5.92,5.44,4.9800000000000004,4.53,4.09,3.68]
[null,0.2,16.39,-3.19,0.12,137,140.19999999999999,8.2614999999999998,16.58684144189564,8.06,7.56,7.06,6.58,6.1,5.64,5.2]
[null,0.25,16.37,-3.26,0.15,146,149.30000000000001,9.9937499999999986,20.746155785228133,9.75,9.23,8.73,8.23,7.74,7.25,6.78]
[null,0.3,16.350000000000001,-3.32,0.18,153,157.19999999999999,11.75675,24.981094025712125,11.47,10.94,10.42,9.91,9.41,8.91,8.42]
[null,0.35,16.34,-3.38,0.2,160,164.2,13.54025,29.291656163347611,13.21,12.68,12.15,11.62,11.11,10.6,10.09]
[null,0.4,16.329999999999998,-3.42,0.23,166,170.5,15.344249999999999,33.677842198134606,14.97,14.43,13.89,13.36,12.84,12.31,11.8]
[null,0.45,16.32,-3.47,0.25,172,176.2,17.168749999999999,38.11444416435593,16.75,16.21,15.66,15.12,14.59,14.06,13.53]
[null,0.5,16.309999999999999,-3.5,0.28000000000000003,177,181.3,19.013749999999998,42.601462062011592,18.55,18,17.45,16.899999999999999,16.36,15.82,15.29]
[null,0.55000000000000004,16.309999999999999,-3.54,0.31,181,186,20.879249999999999,47.138895891101583,20.37,19.809999999999999,19.25,18.7,18.149999999999999,17.600000000000001,17.059999999999999]
[null,0.6,16.3,-3.57,0.33,186,190.3,22.74475,51.701537685908747,22.19,21.63,21.07,20.51,19.95,19.399999999999999,18.850000000000001]
[null,0.65,16.29,-3.6,0.36,189,194.1,24.630749999999999,56.289387446433068,24.03,23.46,22.9,22.33,21.77,21.22,20.66]
[null,0.7,16.29,-3.63,0.39,193,197.6,26.526999999999997,60.927653138391733,25.88,25.31,24.74,24.17,23.61,23.04,22.48]
[null,0.75,16.28,-3.65,0.41,196,200.7,28.433499999999995,65.591126796067556,27.74,27.16,26.59,26.02,25.45,24.88,24.32]
[null,0.8,16.28,-3.67,0.44,199,203.5,30.350249999999996,70.254600453743393,29.61,29.03,28.45,27.87,27.3,26.73,26.16]
[null,0.85,16.28,-3.69,0.46,201,206.1,32.266999999999996,74.968490042853531,31.48,30.9,30.32,29.74,29.16,28.59,28.02]
[null,0.9,16.27,-3.71,0.49,203,208.4,34.122249999999994,79.682379631963698,33.29,32.78,32.19,31.61,31.03,30.46,29.88]
[null,0.95,16.27,-3.73,0.52,205,210.4,35.618749999999999,84.421477186791023,34.75,34.43,34.04,33.49,32.909999999999997,32.33,31.75]
[null,1,16.260000000000002,-3.77,0.54,54,55.5,36.664250000000003,87.97580035291152,35.770000000000003,35.520000000000003,35.24,34.9,34.53,34.020000000000003,33.46]
[null,1.05,16.260000000000002,-3.83,0.55000000000000004,24,24.2,37.422749999999994,90.345349130325189,36.51,36.32,36.1,35.840000000000003,35.54,35.200000000000003,34.81]
[null,1.1000000000000001,16.260000000000002,-3.88,0.56000000000000005,9,9.4,38.006999999999998,92.210738593395504,37.08,36.94,36.770000000000003,36.58,36.35,36.090000000000003,35.770000000000003]
[null,1.1499999999999999,16.25,-3.93,0.56999999999999995,4,4.0999999999999996,38.468249999999998,93.597176707839679,37.53,37.409999999999997,37.28,37.130000000000003,36.97,36.770000000000003,36.53]
[null,1.2,16.25,-3.97,0.57999999999999996,2,2,38.826999999999998,94.605495336526346,37.880000000000003,37.770000000000003,37.65,37.53,37.4,37.26,37.090000000000003]
[null,1.25,16.25,-3.99,0.57999999999999996,1,1.5,39.11399999999999,95.361734308041335,38.159999999999997,38.06,37.950000000000003,37.83,37.72,37.590000000000003,37.46]
[null,1.3,16.239999999999998,-4.0199999999999996,0.59,1,1.2,39.359999999999992,96.017141416687679,38.4,38.299999999999997,38.200000000000003,38.090000000000003,37.979999999999997,37.869999999999997,37.75]
[null,1.35,16.239999999999998,-4.04,0.59,1,1,39.585499999999996,96.622132593899664,38.619999999999997,38.53,38.43,38.33,38.229999999999997,38.119999999999997,38.01]
[null,1.4,16.23,-4.0599999999999996,0.6,1,0.8,39.780250000000002,97.151499873960162,38.81,38.72,38.64,38.54,38.450000000000003,38.35,38.24]
[null,1.45,16.23,-4.08,0.6,1,0.6,39.954499999999996,97.630451222586316,38.979999999999997,38.9,38.82,38.729999999999997,38.64,38.549999999999997,38.450000000000003]
[null,1.5,16.23,-4.09,0.6,0,0.5,40.097999999999992,98.058986639778169,39.119999999999997,39.049999999999997,38.979999999999997,38.9,38.82,38.729999999999997,38.64]
[null,1.55,16.22,-4.0999999999999996,0.61,0,0.4,40.220999999999997,98.411898159818506,39.24,39.18,39.11,39.04,38.97,38.89,38.81]
[null,1.6,16.22,-4.12,0.61,0,0.3,40.323500000000003,98.739601714141671,39.340000000000003,39.29,39.229999999999997,39.17,39.1,39.03,38.96]
[null,1.65,16.21,-4.13,0.61,0,0.2,40.415749999999996,99.016889337030506,39.43,39.380000000000003,39.33,39.28,39.22,39.159999999999997,39.090000000000003]
[null,1.7,16.21,-4.13,0.62,0,0.1,40.477249999999998,99.243761028484982,39.49,39.46,39.409999999999997,39.369999999999997,39.32,39.26,39.200000000000003]
[null,1.75,16.21,-4.1399999999999997,0.62,0,0.1,40.538749999999993,99.420216788505158,39.549999999999997,39.520000000000003,39.479999999999997,39.44,39.4,39.35,39.299999999999997]
[null,1.8,16.21,-4.1500000000000004,0.62,0,0.1,40.579749999999997,99.571464582808161,39.590000000000003,39.56,39.54,39.5,39.47,39.43,39.380000000000003]
[null,1.85,16.2,-4.1500000000000004,0.62,0,0,40.610499999999995,99.697504411393993,39.619999999999997,39.6,39.58,39.549999999999997,39.520000000000003,39.49,39.450000000000003]
[null,1.9,16.2,-4.16,0.62,0,0,40.631,99.798336274262667,39.64,39.630000000000003,39.61,39.590000000000003,39.57,39.54,39.51]
[null,1.95,16.2,-4.16,0.62,0,0,40.641249999999992,99.873960171414154,39.65,39.64,39.630000000000003,39.619999999999997,39.6,39.58,39.549999999999997]
[null,2,16.2,-4.16,0.62,0,0,40.651499999999992,99.924376102848498,39.659999999999997,39.65,39.65,39.64,39.619999999999997,39.61,39.590000000000003]
[null,2.0499999999999998,16.2,-4.16,0.63,0,0,40.651499999999992,99.949584068565656,39.659999999999997,39.659999999999997,39.659999999999997,39.65,39.64,39.630000000000003,39.619999999999997]
[null,2.1,16.2,-4.16,0.63,0,0,40.661749999999998,99.974792034282828,39.67,39.67,39.659999999999997,39.659999999999997,39.65,39.65,39.64]
[null,2.15,16.2,-4.16,0.63,0,0,40.661749999999998,99.974792034282828,39.67,39.67,39.67,39.659999999999997,39.659999999999997,39.659999999999997,39.65]
[null,2.2000000000000002,16.2,-4.16,0.63,0,0,40.661749999999998,100,39.67,39.67,39.67,39.67,39.659999999999997,39.659999999999997,39.659999999999997]

{"sheet":"41","index":47,"n_rows":100,"n_cols":16,"rows_kept":100,"cut":false,"hidden":false,"merged":[]}
[]
[null,"W.B. 7 SB",null,null,null,null,null,"S.G.",1.0249999999999999,"[t/m3]"]
[]
[null,"GAUGE","LCG","TCG","VCG","FSM (transv)","FSM (long)","Weight","Fill (%)","Trim=-1,5","Trim=1,0","Trim=-0,5","Trim=0","Trim=0,5","Trim=1,0","Trim=1,5"]
[null,null,"Fwd of AP","PS:+","Above BL"," "," "]
[null,"m","m","m","m","t·m","t·m","t",null,"m3","m3","m3","m3","m3","m3","m3"]
[null,0,13.65,-7.47,2.1,0,0,{"$f":"M7*$I$2","v":1.0249999999999999E-2},{"$f":"M7/$M$100*100","v":5.7208237986270026E-2},0.01,0.01,0.01,0.01,0.01,0.01,0.01]
[null,0.05,13.61,-7.5,2.14,0,0,{"$f":"M8*$I$2","v":2.0499999999999997E-2},{"$f":"M8/$M$100*100","v":0.11441647597254005},0.02,0.02,0.02,0.02,0.02,0.02,0.02]
[null,0.1,13.59,-7.53,2.1800000000000002,0,0,3.0749999999999996E-2,0.17162471395881007,0.03,0.03,0.03,0.03,0.03,0.03,0.03]
[null,0.15,13.55,-7.56,2.2200000000000002,0,0,5.1249999999999997E-2,0.28604118993135008,0.05,0.05,0.05,0.05,0.05,0.05,0.05]
[null,0.2,13.51,-7.59,2.25,0,0,7.1749999999999994E-2,0.40045766590389015,0.08,0.08,0.08,7.0000000000000007E-2,7.0000000000000007E-2,7.0000000000000007E-2,7.0000000000000007E-2]
[null,0.25,13.48,-7.61,2.29,0,0,0.10249999999999999,0.57208237986270016,0.11,0.11,0.11,0.1,0.1,0.1,0.1]
[null,0.3,13.44,-7.64,2.33,0,0,0.14349999999999999,0.8009153318077803,0.15,0.14000000000000001,0.14000000000000001,0.14000000000000001,0.14000000000000001,0.14000000000000001,0.14000000000000001]
[null,0.35,13.41,-7.65,2.36,0,0.1,0.18449999999999997,1.0297482837528604,0.19,0.19,0.18,0.18,0.18,0.18,0.17]
[null,0.4,13.37,-7.67,2.4,0,0.1,0.23574999999999999,1.3157894736842106,0.24,0.24,0.23,0.23,0.23,0.22,0.22]
[null,0.45,13.33,-7.68,2.44,0,0.1,0.28699999999999998,1.6018306636155606,0.3,0.28999999999999998,0.28999999999999998,0.28000000000000003,0.28000000000000003,0.27,0.27]
[null,0.5,13.28,-7.69,2.4700000000000002,0,0.1,0.34849999999999998,1.9450800915331807,0.36,0.35,0.35,0.34,0.34,0.33,0.33]
[null,0.55000000000000004,13.24,-7.7,2.5,0,0.1,0.42024999999999996,2.3455377574370706,0.43,0.42,0.42,0.41,0.4,0.39,0.39]
[null,0.6,13.2,-7.71,2.54,0,0.1,0.49199999999999994,2.7459954233409611,0.51,0.5,0.49,0.48,0.47,0.46,0.46]
[null,0.65,13.16,-7.71,2.57,0,0.1,0.57399999999999995,3.2036613272311212,0.59,0.57999999999999996,0.56999999999999995,0.56000000000000005,0.55000000000000004,0.54,0.53]
[null,0.7,13.11,-7.72,2.61,0,0.1,0.65599999999999992,3.6613272311212817,0.68,0.67,0.65,0.64,0.63,0.62,0.61]
[null,0.75,13.07,-7.73,2.64,0,0.1,0.74824999999999997,4.1762013729977117,0.78,0.76,0.75,0.73,0.72,0.7,0.69]
[null,0.8,13.03,-7.73,2.68,0,0.1,0.8507499999999999,4.748283752860412,0.88,0.86,0.84,0.83,0.81,0.79,0.78]
[null,0.85,12.98,-7.73,2.71,0,0.1,0.95324999999999993,5.3203661327231124,0.99,0.97,0.95,0.93,0.91,0.89,0.87]
[null,0.9,12.94,-7.74,2.74,0,0.2,1.0659999999999998,5.9496567505720828,1.1100000000000001,1.08,1.06,1.04,1.01,0.99,0.98]
[null,0.95,12.9,-7.74,2.78,0,0.2,1.1787499999999997,6.5789473684210522,1.23,1.2,1.17,1.1499999999999999,1.1299999999999999,1.1000000000000001,1.08]
[null,1,12.85,-7.74,2.81,0,0.2,1.30175,7.2654462242562934,1.36,1.33,1.3,1.27,1.24,1.22,1.19]
[null,1.05,12.81,-7.75,2.84,0,0.2,1.4247499999999997,7.9519450800915328,1.49,1.46,1.43,1.39,1.37,1.34,1.31]
[null,1.1000000000000001,12.76,-7.75,2.88,0,0.2,1.5682499999999999,8.752860411899313,1.63,1.6,1.56,1.53,1.49,1.46,1.43]
[null,1.1499999999999999,12.72,-7.75,2.91,0,0.2,1.7014999999999998,9.4965675057208241,1.78,1.74,1.7,1.66,1.63,1.59,1.56]
[null,1.2,12.67,-7.75,2.95,0,0.2,1.8552499999999998,10.354691075514873,1.94,1.89,1.85,1.81,1.77,1.73,1.7]
[null,1.25,12.63,-7.75,2.98,0,0.2,2.0089999999999999,11.212814645308924,2.1,2.0499999999999998,2,1.96,1.92,1.88,1.84]
[null,1.3,12.58,-7.76,3.01,0,0.2,2.1627499999999995,12.070938215102974,2.27,2.21,2.16,2.11,2.0699999999999998,2.02,1.98]
[null,1.35,12.54,-7.76,3.05,0,0.2,2.3267499999999997,12.986270022883295,2.44,2.38,2.33,2.27,2.23,2.1800000000000002,2.13]
[null,1.4,12.49,-7.76,3.08,0,0.2,2.5009999999999999,13.958810068649885,2.62,2.56,2.5,2.44,2.39,2.34,2.29]
[null,1.45,12.45,-7.76,3.11,0,0.2,2.6854999999999998,14.988558352402745,2.81,2.74,2.68,2.62,2.56,2.5,2.4500000000000002]
[null,1.5,12.4,-7.76,3.15,0,0.3,2.8699999999999997,16.018306636155604,3,2.93,2.86,2.8,2.73,2.68,2.62]
[null,1.55,12.36,-7.76,3.18,0,0.3,3.0544999999999995,17.048054919908466,3.2,3.13,3.05,2.98,2.92,2.85,2.79]
[null,1.6,12.31,-7.76,3.21,0,0.3,3.2492499999999995,18.135011441647599,3.41,3.33,3.25,3.17,3.1,3.04,2.97]
[null,1.65,12.27,-7.77,3.25,0,0.3,3.4542499999999996,19.279176201372998,3.62,3.54,3.45,3.37,3.3,3.22,3.16]
[null,1.7,12.22,-7.77,3.28,0,0.3,3.6694999999999998,20.48054919908467,3.84,3.75,3.66,3.58,3.5,3.42,3.35]
[null,1.75,12.18,-7.77,3.31,0,0.3,3.8847499999999995,21.681922196796339,4.07,3.97,3.88,3.79,3.7,3.62,3.54]
[null,1.8,12.13,-7.77,3.35,0,0.3,4.0999999999999996,22.883295194508008,4.3,4.2,4.0999999999999996,4,3.91,3.83,3.74]
[null,1.85,12.09,-7.77,3.38,0,0.3,4.325499999999999,24.141876430205947,4.53,4.43,4.32,4.22,4.13,4.04,3.95]
[null,1.9,12.04,-7.77,3.41,0,0.3,4.5612499999999994,25.45766590389016,4.7699999999999996,4.66,4.55,4.45,4.3499999999999996,4.25,4.16]
[null,1.95,12,-7.77,3.45,0,0.3,4.7969999999999997,26.773455377574368,5,4.8899999999999997,4.79,4.68,4.58,4.4800000000000004,4.38]
[null,2,11.96,-7.77,3.48,0,0.3,5.0327500000000001,28.089244851258581,5.24,5.13,5.0199999999999996,4.91,4.8099999999999996,4.7,4.5999999999999996]
[null,2.0499999999999998,11.92,-7.77,3.51,0,0.3,5.2787499999999996,29.462242562929063,5.48,5.37,5.26,5.15,5.04,4.93,4.83]
[null,2.1,11.89,-7.77,3.54,0,0.3,5.5247499999999992,30.835240274599542,5.72,5.61,5.5,5.39,5.28,5.17,5.0599999999999996]
[null,2.15,11.85,-7.78,3.58,0,0.3,5.7604999999999995,32.151029748283754,5.96,5.85,5.74,5.62,5.51,5.4,5.3]
[null,2.2000000000000002,11.82,-7.78,3.61,0,0.3,6.0065,33.524027459954233,6.19,6.08,5.97,5.86,5.75,5.64,5.53]
[null,2.25,11.8,-7.78,3.64,0,0.3,6.2524999999999995,34.897025171624712,6.43,6.32,6.21,6.1,5.99,5.88,5.77]
[null,2.2999999999999998,11.77,-7.78,3.67,0,0.3,6.4984999999999991,36.270022883295198,6.67,6.56,6.45,6.34,6.23,6.12,6.01]
[null,2.35,11.75,-7.78,3.7,0,0.3,6.7444999999999995,37.643020594965677,6.91,6.8,6.69,6.58,6.47,6.36,6.25]
[null,2.4,11.72,-7.78,3.73,0,0.3,6.9904999999999999,39.016018306636155,7.15,7.04,6.93,6.82,6.7,6.59,6.48]
[null,2.4500000000000002,11.7,-7.78,3.75,0,0.3,7.2262499999999994,40.331807780320368,7.38,7.27,7.16,7.05,6.94,6.83,6.72]
[null,2.5,11.68,-7.78,3.78,0,0.3,7.4722499999999989,41.704805491990847,7.62,7.51,7.4,7.29,7.18,7.07,6.96]
[null,2.5499999999999998,11.66,-7.78,3.81,0,0.3,7.7182499999999994,43.077803203661333,7.86,7.75,7.64,7.53,7.42,7.31,7.2]
[null,2.6,11.65,-7.78,3.84,0,0.3,7.9642499999999989,44.450800915331804,8.1,7.99,7.88,7.77,7.66,7.55,7.44]
[null,2.65,11.63,-7.78,3.87,0,0.3,8.2102499999999985,45.82379862700229,8.34,8.23,8.1199999999999992,8.01,7.9,7.78,7.67]
[null,2.7,11.61,-7.78,3.9,0,0.3,8.4459999999999997,47.139588100686495,8.58,8.4700000000000006,8.35,8.24,8.1300000000000008,8.02,7.91]
[null,2.75,11.6,-7.78,3.92,0,0.3,8.6920000000000002,48.512585812356981,8.81,8.6999999999999993,8.59,8.48,8.3699999999999992,8.26,8.15]
[null,2.8,11.59,-7.78,3.95,0,0.3,8.9380000000000006,49.88558352402746,9.0500000000000007,8.94,8.83,8.7200000000000006,8.61,8.5,8.39]
[null,2.85,11.57,-7.78,3.98,0,0.3,9.1839999999999993,51.258581235697939,9.2899999999999991,9.18,9.07,8.9600000000000009,8.85,8.74,8.6300000000000008]
[null,2.9,11.56,-7.79,4.01,0,0.3,9.4299999999999979,52.631578947368418,9.5299999999999994,9.42,9.31,9.1999999999999993,9.09,8.98,8.8699999999999992]
[null,2.95,11.55,-7.79,4.03,0,0.3,9.6657499999999992,53.94736842105263,9.77,9.66,9.5500000000000007,9.43,9.32,9.2100000000000009,9.1]
[null,3,11.54,-7.79,4.0599999999999996,0,0.3,9.9117499999999996,55.320366132723109,10,9.89,9.7799999999999994,9.67,9.56,9.4499999999999993,9.34]
[null,3.05,11.53,-7.79,4.09,0,0.3,10.15775,56.693363844393595,10.24,10.130000000000001,10.02,9.91,9.8000000000000007,9.69,9.58]
[null,3.1,11.52,-7.79,4.1100000000000003,0,0.3,10.403749999999999,58.066361556064074,10.48,10.37,10.26,10.15,10.039999999999999,9.93,9.82]
[null,3.15,11.51,-7.79,4.1399999999999997,0,0.3,10.649749999999999,59.439359267734559,10.72,10.61,10.5,10.39,10.28,10.17,10.06]
[null,3.2,11.5,-7.79,4.17,0,0.3,10.89575,60.812356979405038,10.96,10.85,10.74,10.63,10.52,10.4,10.29]
[null,3.25,11.49,-7.79,4.2,0,0.3,{"$f":"M72*$I$2","v":11.131499999999999},{"$f":"M72/$M$100*100","v":62.128146453089236},11.2,11.08,10.97,10.86,10.75,10.64,10.53]
[null,3.3,11.48,-7.79,4.22,0,0.3,11.3775,63.501144164759729,11.43,11.32,11.21,11.1,10.99,10.88,10.77]
[null,3.35,11.47,-7.79,4.25,0,0.3,11.623499999999998,64.874141876430201,11.67,11.56,11.45,11.34,11.23,11.12,11.01]
[null,3.4,11.47,-7.79,4.2699999999999996,0,0.3,11.869499999999999,66.247139588100694,11.91,11.8,11.69,11.58,11.47,11.36,11.25]
[null,3.45,11.46,-7.79,4.3,0,0.3,12.115499999999999,67.620137299771159,12.15,12.04,11.93,11.82,11.71,11.6,11.48]
[null,3.5,11.45,-7.79,4.33,0,0.3,12.35125,68.935926773455378,12.39,12.28,12.16,12.05,11.94,11.83,11.72]
[null,3.55,11.45,-7.79,4.3499999999999996,0,0.3,12.597249999999997,70.308924485125857,12.62,12.51,12.4,12.29,12.18,12.07,11.96]
[null,3.6,11.44,-7.79,4.38,0,0.3,12.843249999999998,71.681922196796336,12.86,12.75,12.64,12.53,12.42,12.31,12.2]
[null,3.65,11.43,-7.79,4.41,0,0.3,13.089249999999998,73.054919908466815,13.1,12.99,12.88,12.77,12.66,12.55,12.44]
[null,3.7,11.43,-7.79,4.43,0,0.3,13.335249999999998,74.427917620137293,13.34,13.23,13.12,13.01,12.9,12.79,12.68]
[null,3.75,11.42,-7.79,4.46,0,0.3,13.581249999999999,75.800915331807786,13.58,13.47,13.36,13.25,13.13,13.02,12.91]
[null,3.8,11.41,-7.79,4.4800000000000004,0,0.3,13.816999999999998,77.116704805491992,13.81,13.7,13.59,13.48,13.37,13.26,13.15]
[null,3.85,11.41,-7.79,4.51,0,0.3,14.062999999999999,78.48970251716247,14.05,13.94,13.83,13.72,13.61,13.5,13.39]
[null,3.9,11.4,-7.79,4.54,0,0.3,14.308999999999999,79.862700228832949,14.29,14.18,14.07,13.96,13.85,13.74,13.63]
[null,3.95,11.4,-7.79,4.5599999999999996,0,0.3,14.554999999999998,81.235697940503428,14.53,14.42,14.31,14.2,14.09,13.98,13.87]
[null,4,11.39,-7.79,4.59,0,0.3,14.800999999999998,82.608695652173907,14.77,14.66,14.55,14.44,14.33,14.21,14.1]
[null,4.05,11.39,-7.79,4.6100000000000003,0,0.3,15.036749999999998,83.924485125858112,15.01,14.89,14.78,14.67,14.56,14.45,14.34]
[null,4.0999999999999996,11.38,-7.79,4.6399999999999997,0,0.3,15.282749999999998,85.297482837528605,15.24,15.13,15.02,14.91,14.8,14.69,14.58]
[null,4.1500000000000004,11.38,-7.79,4.67,0,0.3,15.528749999999999,86.670480549199084,15.48,15.37,15.26,15.15,15.04,14.93,14.82]
[null,4.2,11.38,-7.79,4.6900000000000004,0,0.3,15.774749999999999,88.043478260869563,15.72,15.61,15.5,15.39,15.28,15.17,15.06]
[null,4.25,11.37,-7.79,4.72,0,0.3,16.02075,89.416475972540042,15.96,15.85,15.74,15.63,15.52,15.41,15.29]
[null,4.3,11.37,-7.79,4.74,0,0.3,16.256499999999999,90.732265446224247,16.2,16.09,15.98,15.86,15.75,15.64,15.53]
[null,4.3499999999999996,11.36,-7.79,4.7699999999999996,0,0.3,16.502500000000001,92.10526315789474,16.43,16.32,16.21,16.100000000000001,15.99,15.88,15.77]
[null,4.4000000000000004,11.36,-7.79,4.8,0,0.3,16.7485,93.478260869565204,16.670000000000002,16.559999999999999,16.45,16.34,16.23,16.12,16.010000000000002]
[null,4.45,11.36,-7.79,4.82,0,0.3,16.994499999999995,94.851258581235683,16.91,16.8,16.690000000000001,16.579999999999998,16.47,16.36,16.25]
[null,4.5,11.35,-7.79,4.8499999999999996,0,0.3,17.240499999999997,96.224256292906176,17.149999999999999,17.04,16.93,16.82,16.71,16.600000000000001,16.489999999999998]
[null,4.55,11.35,-7.79,4.87,0,0.3,17.486499999999996,97.597254004576655,17.34,17.27,17.170000000000002,17.059999999999999,16.940000000000001,16.829999999999998,16.72]
[null,4.5999999999999996,11.35,-7.79,4.9000000000000004,0,0.3,17.722249999999999,98.91304347826086,17.45,17.440000000000001,17.399999999999999,17.29,17.18,17.07,16.96]
[null,4.6399999999999997,11.34,-7.79,4.92,0,0.3,17.916999999999998,100,17.48,17.48,17.48,17.48,17.37,17.260000000000002,17.149999999999999]

{"sheet":"42","index":48,"n_rows":229,"n_cols":16,"rows_kept":229,"cut":false,"hidden":false,"merged":[]}
[]
[null,"W.B. 7 PS DB",null,null,null,null,null,"S.G.",1.0249999999999999,"[t/m3]"]
[]
[null,"GAUGE","LCG","TCG","VCG","FSM (transv)","FSM (long)","Weight","Fill (%)","Trim=-1,5","Trim=1,0","Trim=-0,5","Trim=0","Trim=0,5","Trim=1,0","Trim=1,5"]
[null,null,"Fwd of AP","PS:+","Above BL"," "," "]
[null,"m","m","m","m","t·m","t·m","t",null,"m3","m3","m3","m3","m3","m3","m3"]
[null,0,13.63,3.88,0.11,0,0,{"$f":"M7*$I$2","v":1.0249999999999999E-2},{"$f":"M7/$M$98*100","v":2.8248587570621469E-2},0.01,0.01,0.01,0.01,0.01,0.01,0.01]
[null,0.05,13.53,4.04,0.15,0,0.1,{"$f":"M8*$I$2","v":4.0999999999999995E-2},{"$f":"M8/$M$98*100","v":0.11299435028248588},0.05,0.04,0.04,0.04,0.04,0.04,0.04]
[null,0.1,13.44,4.16,0.18,0,0.4,0.10249999999999999,{"$f":"M9/$M$98*100","v":0.28248587570621475},0.12,0.11,0.1,0.1,0.09,0.09,0.09]
[null,0.15,13.36,4.2699999999999996,0.22,1,0.8,0.19474999999999998,0.53672316384180796,0.22,0.21,0.2,0.19,0.18,0.18,0.17]
[null,0.2,13.29,4.3600000000000003,0.25,1,1.3,0.32799999999999996,0.903954802259887,0.36,0.35,0.33,0.32,0.3,0.28999999999999998,0.28000000000000003]
[null,0.25,13.23,4.45,0.28999999999999998,2,1.8,0.49199999999999994,1.3559322033898304,0.54,0.52,0.5,0.48,0.46,0.44,0.42]
[null,0.3,13.17,4.5199999999999996,0.32,2,2.5,0.68674999999999997,1.8926553672316386,0.76,0.72,0.69,0.67,0.64,0.62,0.6]
[null,0.35,13.11,4.58,0.36,3,3.2,0.91224999999999989,2.514124293785311,1.01,0.96,0.93,0.89,0.86,0.83,0.8]
[null,0.4,13.05,4.63,0.39,4,4,1.1787499999999997,3.2485875706214689,1.29,1.24,1.19,1.1499999999999999,1.1100000000000001,1.07,1.03]
[null,0.45,13,4.68,0.42,5,4.8,1.4759999999999998,4.0677966101694913,1.61,1.55,1.49,1.44,1.39,1.34,1.3]
[null,0.5,12.95,4.7300000000000004,0.46,6,5.7,1.8039999999999998,4.9717514124293789,1.96,1.89,1.82,1.76,1.7,1.64,1.59]
[null,0.55000000000000004,12.9,4.7699999999999996,0.49,6,6.7,2.1627499999999995,5.9604519774011298,2.35,2.2599999999999998,2.1800000000000002,2.11,2.04,1.98,1.91]
[null,0.6,12.85,4.8099999999999996,0.52,7,7.6,2.5625,7.0621468926553677,2.77,2.67,2.58,2.5,2.41,2.34,2.27]
[null,0.65,12.81,4.8499999999999996,0.56000000000000005,8,8.6,2.9827499999999998,8.2203389830508478,3.22,3.11,3.01,2.91,2.82,2.73,2.65]
[null,0.7,12.76,4.88,0.59,10,9.8000000000000007,3.4439999999999995,9.4915254237288131,3.7,3.58,3.47,3.36,3.25,3.16,3.07]
[null,0.75,12.72,4.91,0.62,11,10.8,3.9257499999999999,10.819209039548024,4.22,4.08,3.96,3.83,3.72,3.61,3.51]
[null,0.8,12.68,4.9400000000000004,0.66,12,12,4.4484999999999992,12.259887005649718,4.7699999999999996,4.62,4.4800000000000004,4.34,4.21,4.09,3.98]
[null,0.85,12.63,4.97,0.69,13,13,5.0019999999999998,13.785310734463277,5.35,5.18,5.03,4.88,4.74,4.6100000000000003,4.4800000000000004]
[null,0.9,12.59,5,0.72,14,14.3,5.5862499999999997,15.395480225988702,5.96,5.78,5.61,5.45,5.29,5.15,5.01]
[null,0.95,12.55,5.03,0.75,15,15.4,6.1909999999999998,17.06214689265537,6.6,6.41,6.22,6.04,5.88,5.72,5.56]
[null,1,12.52,5.05,0.79,16,16.600000000000001,6.8367499999999994,18.841807909604523,7.27,7.06,6.86,6.67,6.49,6.31,6.15]
[null,1.05,12.48,5.08,0.82,17,17.600000000000001,7.5029999999999992,20.677966101694917,7.98,7.75,7.53,7.32,7.13,6.94,6.76]
[null,1.1000000000000001,12.44,5.0999999999999996,0.85,18,18.399999999999999,8.1999999999999993,22.598870056497177,8.6999999999999993,8.4600000000000009,8.2200000000000006,8,7.79,7.59,7.39]
[null,1.1499999999999999,12.4,5.12,0.88,19,19.2,8.9072499999999994,24.548022598870055,9.44,9.18,8.93,8.69,8.4600000000000009,8.25,8.0399999999999991]
[null,1.2,12.36,5.15,0.92,19,19.899999999999999,9.6247500000000006,26.525423728813564,10.19,9.91,9.64,9.39,9.15,8.92,8.69]
[null,1.25,12.31,5.17,0.95,20,20.8,10.342249999999998,28.502824858757066,10.94,10.65,10.36,10.09,9.84,9.59,9.35]
[null,1.3,12.27,5.19,0.98,21,21,11.07,30.508474576271187,11.69,11.38,11.09,10.8,10.53,10.27,10.02]
[null,1.35,12.22,5.21,1.01,21,21.6,11.797749999999999,32.514124293785315,12.45,12.12,11.81,11.51,11.23,10.96,10.69]
[null,1.4,12.18,5.24,1.04,22,22.3,12.53575,34.548022598870062,13.21,12.87,12.54,12.23,11.93,11.64,11.37]
[null,1.45,12.13,5.26,1.06,22,22.6,13.263499999999999,36.55367231638418,13.96,13.61,13.27,12.94,12.63,12.33,12.04]
[null,1.5,12.08,5.28,1.0900000000000001,22,23.1,14.001499999999998,38.587570621468927,14.72,14.35,14,13.66,13.34,13.02,12.72]
[null,1.55,12.04,5.3,1.1200000000000001,23,23.5,14.7395,40.621468926553675,15.47,15.09,14.73,14.38,14.04,13.72,13.4]
[null,1.6,11.99,5.32,1.1499999999999999,23,23.9,15.477499999999999,42.655367231638422,16.23,15.84,15.46,15.1,14.75,14.41,14.08]
[null,1.65,11.95,5.34,1.18,23,23.7,16.205249999999999,44.66101694915254,16.98,16.57,16.190000000000001,15.81,15.45,15.1,14.77]
[null,1.7,11.9,5.36,1.2,24,24.1,16.933,46.666666666666664,17.73,17.309999999999999,16.91,16.52,16.149999999999999,15.8,15.45]
[null,1.75,11.86,5.38,1.23,24,24.6,17.66075,48.672316384180789,18.47,18.04,17.63,17.23,16.850000000000001,16.48,16.13]
[null,1.8,11.81,5.39,1.26,24,24.3,18.388500000000001,50.677966101694913,19.2,18.77,18.350000000000001,17.940000000000001,17.55,17.170000000000002,16.8]
[null,1.85,11.76,5.41,1.28,24,24.4,19.116249999999997,52.683615819209038,19.93,19.489999999999998,19.059999999999999,18.649999999999999,18.239999999999998,17.850000000000001,17.48]
[null,1.9,11.72,5.43,1.31,24,24.4,19.823499999999999,54.632768361581917,20.65,20.21,19.77,19.34,18.93,18.53,18.149999999999999]
[null,1.95,11.67,5.45,1.33,24,24.2,20.530749999999998,56.58192090395481,21.36,20.91,20.47,20.03,19.61,19.21,18.809999999999999]
[null,2,11.63,5.46,1.36,23,23.5,21.237999999999996,58.531073446327689,22.06,21.6,21.15,20.72,20.29,19.88,19.47]
[null,2.0499999999999998,11.59,5.48,1.38,23,23.2,21.92475,60.423728813559329,22.74,22.28,21.83,21.39,20.96,20.54,20.13]
[null,2.1,11.54,5.49,1.41,22,23,22.60125,62.288135593220339,23.41,22.95,22.5,22.05,21.62,21.19,20.77]
[null,2.15,11.5,5.51,1.43,21,21.7,23.267499999999998,64.124293785310741,24.06,23.6,23.15,22.7,22.26,21.83,21.41]
[null,2.2000000000000002,11.46,5.52,1.46,21,21.2,23.923499999999997,65.932203389830519,24.7,24.24,23.79,23.34,22.9,22.47,22.04]
[null,2.25,11.42,5.54,1.48,20,20.399999999999999,24.558999999999997,67.683615819209038,25.31,24.86,24.41,23.96,23.52,23.09,22.66]
[null,2.2999999999999998,11.38,5.55,1.5,19,19.3,25.184249999999999,69.406779661016955,25.91,25.46,25.02,24.57,24.13,23.69,23.26]
[null,2.35,11.34,5.57,1.53,18,18.399999999999999,25.788999999999998,71.073446327683627,26.49,26.05,25.61,25.16,24.73,24.29,23.86]
[null,2.4,11.3,5.58,1.55,17,17.3,26.383499999999994,72.711864406779654,27.05,26.61,26.18,25.74,25.3,24.87,24.44]
[null,2.4500000000000002,11.26,5.59,1.57,16,16.8,26.9575,{"$f":"M56/$M$98*100","v":74.293785310734478},27.59,27.16,26.73,26.3,25.87,25.43,25.01]
[null,2.5,11.23,5.61,1.59,15,15.2,27.510999999999999,75.819209039548028,28.1,27.69,27.27,26.84,26.42,25.99,25.56]
[null,2.5499999999999998,11.19,5.62,1.61,14,14.1,28.05425,77.316384180790962,28.6,28.2,27.78,27.37,26.95,26.52,26.1]
[null,2.6,11.16,5.63,1.63,13,13.4,28.566749999999999,78.728813559322049,29.07,28.68,28.28,27.87,27.46,27.04,26.63]
[null,2.65,11.13,5.64,1.65,12,11.9,29.068999999999996,80.112994350282491,29.53,29.15,28.76,28.36,27.96,27.55,27.14]
[null,2.7,11.09,5.66,1.67,11,10.9,29.550749999999997,81.440677966101688,29.97,29.59,29.22,28.83,28.44,28.04,27.63]
[null,2.75,11.06,5.67,1.69,10,9.8000000000000007,30.011999999999997,82.711864406779668,30.38,30.02,29.65,29.28,28.9,28.51,28.11]
[null,2.8,11.04,5.68,1.7,9,8.9,30.452749999999998,83.926553672316402,30.78,30.43,30.07,29.71,29.34,28.96,28.58]
[null,2.85,11.01,5.69,1.72,8,8,30.872999999999998,85.084745762711862,31.16,30.82,30.48,30.12,29.76,29.39,29.02]
[null,2.9,10.98,5.71,1.74,7,7.2,31.282999999999998,86.21468926553672,31.52,31.19,30.86,30.52,30.17,29.81,29.45]
[null,2.95,10.96,5.72,1.75,6,6.5,31.672499999999996,87.288135593220346,31.86,31.54,31.22,30.9,30.56,30.21,29.86]
[null,3,10.93,5.73,1.77,6,5.7,32.03125,88.276836158192097,32.18,31.88,31.57,31.25,30.93,30.59,30.25]
[null,3.05,10.91,5.74,1.78,5,5.0999999999999996,32.39,89.265536723163848,32.479999999999997,32.200000000000003,31.9,31.6,31.28,30.96,30.63]
[null,3.1,10.89,5.75,1.8,4,4.5,32.717999999999996,90.169491525423737,32.770000000000003,32.5,32.22,31.92,31.62,31.31,30.99]
[null,3.15,10.86,5.76,1.81,4,4,33.035749999999993,91.045197740112997,33.04,32.78,32.51,32.229999999999997,31.94,31.64,31.33]
[null,3.2,10.84,5.78,1.83,3,3.5,33.332999999999998,91.864406779661039,33.29,33.049999999999997,32.79,32.520000000000003,32.25,31.96,31.66]
[null,3.25,10.82,5.79,1.84,3,3.1,{"$f":"M72*$I$2","v":33.619999999999997},92.655367231638422,33.53,33.299999999999997,33.049999999999997,32.799999999999997,32.53,32.26,31.97]
[null,3.3,10.81,5.8,1.85,3,2.7,33.886499999999998,{"$f":"M73/$M$98*100","v":93.389830508474589},33.74,33.53,33.299999999999997,33.06,32.81,32.54,32.270000000000003]
[null,3.35,10.79,5.81,1.86,2,2.2999999999999998,34.132499999999993,94.067796610169481,33.950000000000003,33.74,33.53,33.299999999999997,33.06,32.81,32.549999999999997]
[null,3.4,10.77,5.81,1.87,2,2,34.368249999999996,94.717514124293785,34.130000000000003,33.94,33.74,33.53,33.299999999999997,33.06,32.82]
[null,3.45,10.76,5.82,1.89,2,1.7,34.583500000000001,95.310734463276845,34.299999999999997,34.130000000000003,33.94,33.74,33.53,33.299999999999997,33.07]
[null,3.5,10.74,5.83,1.9,1,1.5,34.788499999999992,95.875706214689259,34.450000000000003,34.29,34.119999999999997,33.94,33.74,33.53,33.299999999999997]
[null,3.55,10.73,5.84,1.9,1,1.2,34.972999999999992,96.384180790960443,34.6,34.450000000000003,34.29,34.119999999999997,33.93,33.729999999999997,33.520000000000003]
[null,3.6,10.72,5.85,1.91,1,1,35.137,96.836158192090409,34.72,34.590000000000003,34.44,34.28,34.11,33.93,33.729999999999997]
[null,3.65,10.71,5.85,1.92,1,0.9,35.290749999999996,97.25988700564973,34.83,34.71,34.58,34.43,34.28,34.1,33.92]
[null,3.7,10.7,5.86,1.93,1,0.7,35.434249999999999,97.655367231638422,34.93,34.83,34.71,34.57,34.43,34.270000000000003,34.1]
[null,3.75,10.69,5.87,1.94,1,0.6,35.567500000000003,98.022598870056513,35.020000000000003,34.93,34.82,34.700000000000003,34.56,34.42,34.26]
[null,3.8,10.68,5.87,1.94,0,0.5,35.680250000000001,98.333333333333343,35.1,35.01,34.92,34.81,34.69,34.56,34.409999999999997]
[null,3.85,10.67,5.88,1.95,0,0.4,35.782749999999993,98.615819209039543,35.159999999999997,35.090000000000003,35.01,34.909999999999997,34.799999999999997,34.68,34.549999999999997]
[null,3.9,10.66,5.88,1.95,0,0.3,35.875,98.870056497175142,35.22,35.159999999999997,35.08,35,34.9,34.79,34.67]
[null,3.95,10.66,5.88,1.96,0,0.2,35.956999999999994,99.096045197740111,35.26,35.21,35.15,35.08,34.99,34.89,34.78]
[null,4,10.65,5.89,1.96,0,0.2,36.018499999999996,99.265536723163848,35.299999999999997,35.26,35.200000000000003,35.14,35.07,34.979999999999997,34.880000000000003]
[null,4.05,10.65,5.89,1.97,0,0.1,36.08,99.435028248587585,35.33,35.299999999999997,35.25,35.200000000000003,35.130000000000003,35.06,34.97]
[null,4.0999999999999996,10.64,5.89,1.97,0,0.1,36.131249999999994,99.576271186440678,35.35,35.33,35.29,35.25,35.19,35.130000000000003,35.049999999999997]
[null,4.1500000000000004,10.64,5.9,1.97,0,0.1,36.172249999999998,99.68926553672317,35.369999999999997,35.35,35.32,35.29,35.24,35.19,35.119999999999997]
[null,4.2,10.64,5.9,1.97,0,0,36.202999999999996,99.774011299435031,35.380000000000003,35.369999999999997,35.35,35.32,35.28,35.229999999999997,35.18]
[null,4.25,10.63,5.9,1.97,0,0,36.223500000000001,99.830508474576291,35.39,35.380000000000003,35.36,35.340000000000003,35.31,35.28,35.229999999999997]
[null,4.3,10.63,5.9,1.98,0,0,36.244,99.887005649717523,35.39,35.39,35.380000000000003,35.36,35.340000000000003,35.31,35.270000000000003]
[null,4.3499999999999996,10.63,5.9,1.98,0,0,36.264499999999998,99.943502824858768,35.4,35.39,35.39,35.380000000000003,35.36,35.340000000000003,35.31]
[null,4.4000000000000004,10.63,5.9,1.98,0,0,36.274749999999997,99.971751412429384,35.4,35.39,35.39,35.39,35.369999999999997,35.36,35.33]
[null,4.45,10.63,5.9,1.98,0,0,36.274749999999997,99.971751412429384,35.4,35.4,35.39,35.39,35.380000000000003,35.369999999999997,35.35]
[null,4.5,10.63,5.9,1.98,0,0,36.274749999999997,99.971751412429384,35.4,35.4,35.4,35.39,35.39,35.380000000000003,35.369999999999997]
[null,4.55,10.63,5.9,1.98,0,0,36.284999999999997,100,35.4,35.4,35.4,35.4,35.39,35.39,35.380000000000003]
[]
[]
[]
[]
[]
[]
[]
[]
[]
[]
[]
[]
[]
[]
[]
[]
[]
[]
[]
[]
[]
[]
[]
[]
[]
[]
[]
[]
[]
[]
[]
[]
[null,"Sounded depth","Volume Trim=-1.000 m","Volume Trim=-0.500 m","Volume Trim=0.000 m","Volume Trim=0.500 m","Volume Trim=1.000 m","Volume Trim=1.500 m","Weight","LCG","TCG","VCG","Transv Inertia","FSM (transv)"]
[null," ",null,null,null,null,null,null," ","Fwd of AP","PS:+","Above BL"," "," "]
[null,"m","m³","m³","m³","m³","m³","m³","t","m","m","m","m4","t·m"]
[null,"0.00","0.01","0.01","0.01","0.01","0.01","0.01","0.01","13.58","3.87","0.12",0,"0.0"]
[null,"0.05","0.04","0.04","0.04","0.04","0.04","0.04","0.05","13.46","4.02","0.15",0,"0.1"]
[null,"0.10","0.11","0.10","0.10","0.09","0.09","0.09","0.12","13.37","4.15","0.19",0,"0.4"]
[null,"0.15","0.21","0.20","0.19","0.18","0.18","0.17","0.23","13.29","4.26","0.23",1,"0.9"]
[null,"0.20","0.35","0.33","0.32","0.30","0.29","0.28","0.37","13.21","4.36","0.27",1,"1.4"]
[null,"0.25","0.52","0.50","0.48","0.46","0.44","0.42","0.56","13.14","4.44","0.30",2,"2.1"]
[null,"0.30","0.72","0.69","0.67","0.64","0.62","0.60","0.78","13.08","4.51","0.34",3,"2.8"]
[null,"0.35","0.96","0.93","0.89","0.86","0.83","0.80","1.03","13.02","4.57","0.37",3,"3.5"]
[null,"0.40","1.24","1.19","1.15","1.11","1.07","1.03","1.32","12.96","4.62","0.41",4,"4.4"]
[null,"0.45","1.55","1.49","1.44","1.39","1.34","1.30","1.65","12.91","4.67","0.44",5,"5.3"]
[null,"0.50","1.89","1.82","1.76","1.70","1.64","1.59","2.01","12.85","4.72","0.48",6,"6.2"]
[null,"0.55","2.26","2.18","2.11","2.04","1.98","1.91","2.41","12.80","4.76","0.51",7,"7.2"]
[null,"0.60","2.67","2.58","2.50","2.41","2.34","2.27","2.83","12.75","4.80","0.55",8,"8.3"]
[null,"0.65","3.11","3.01","2.91","2.82","2.73","2.65","3.30","12.71","4.84","0.58",9,"9.4"]
[null,"0.70","3.58","3.47","3.36","3.25","3.16","3.07","3.79","12.66","4.87","0.61",10,"10.6"]
[null,"0.75","4.08","3.96","3.83","3.72","3.61","3.51","4.32","12.62","4.91","0.65",11,"11.7"]
[null,"0.80","4.62","4.48","4.34","4.21","4.09","3.98","4.89","12.57","4.94","0.68",13,"13.0"]
[null,"0.85","5.18","5.03","4.88","4.74","4.61","4.48","5.48","12.53","4.97","0.72",14,"14.2"]
[null,"0.90","5.78","5.61","5.45","5.29","5.15","5.01","6.11","12.49","4.99","0.75",15,"15.4"]
[null,"0.95","6.41","6.22","6.04","5.88","5.72","5.56","6.77","12.45","5.02","0.78",16,"16.6"]
[null,"1.00","7.06","6.86","6.67","6.49","6.31","6.15","7.46","12.41","5.05","0.82",17,"17.8"]
[null,"1.05","7.75","7.53","7.32","7.13","6.94","6.76","8.18","12.37","5.07","0.85",18,"19.0"]
[null,"1.10","8.46","8.22","8.00","7.79","7.59","7.39","8.92","12.33","5.09","0.89",19,"19.8"]
[null,"1.15","9.18","8.93","8.69","8.46","8.25","8.04","9.68","12.29","5.12","0.92",20,"20.6"]
[null,"1.20","9.91","9.64","9.39","9.15","8.92","8.69","10.44","12.24","5.14","0.95",21,"21.3"]
[null,"1.25","10.65","10.36","10.09","9.84","9.59","9.35","11.21","12.20","5.16","0.98",21,"21.9"]
[null,"1.30","11.38","11.09","10.80","10.53","10.27","10.02","11.99","12.15","5.19","1.01",22,"22.6"]
[null,"1.35","12.12","11.81","11.51","11.23","10.96","10.69","12.76","12.11","5.21","1.04",23,"23.1"]
[null,"1.40","12.87","12.54","12.23","11.93","11.64","11.37","13.54","12.06","5.23","1.08",23,"23.6"]
[null,"1.45","13.61","13.27","12.94","12.63","12.33","12.04","14.31","12.01","5.25","1.11",23,"23.9"]
[null,"1.50","14.35","14.00","13.66","13.34","13.02","12.72","15.09","11.96","5.27","1.13",24,"24.3"]
[null,"1.55","15.09","14.73","14.38","14.04","13.72","13.40","15.86","11.92","5.29","1.16",24,"24.7"]
[null,"1.60","15.84","15.46","15.10","14.75","14.41","14.08","16.63","11.87","5.32","1.19",24,"24.9"]
[null,"1.65","16.57","16.19","15.81","15.45","15.10","14.77","17.40","11.82","5.34","1.22",25,"25.1"]
[null,"1.70","17.31","16.91","16.52","16.15","15.80","15.45","18.17","11.77","5.35","1.25",25,"25.3"]
[null,"1.75","18.04","17.63","17.23","16.85","16.48","16.13","18.93","11.73","5.37","1.28",24,"25.1"]
[null,"1.80","18.77","18.35","17.94","17.55","17.17","16.80","19.68","11.68","5.39","1.30",24,"25.0"]
[null,"1.85","19.49","19.06","18.65","18.24","17.85","17.48","20.43","11.63","5.41","1.33",24,"24.8"]
[null,"1.90","20.21","19.77","19.34","18.93","18.53","18.15","21.17","11.59","5.43","1.36",24,"24.1"]
[null,"1.95","20.91","20.47","20.03","19.61","19.21","18.81","21.89","11.55","5.45","1.38",23,"23.8"]
[null,"2.00","21.60","21.15","20.72","20.29","19.88","19.47","22.61","11.50","5.47","1.41",23,"23.3"]
[null,"2.05","22.28","21.83","21.39","20.96","20.54","20.13","23.31","11.46","5.48","1.44",22,"22.2"]
[null,"2.10","22.95","22.50","22.05","21.62","21.19","20.77","23.99","11.42","5.50","1.46",21,"21.5"]
[null,"2.15","23.60","23.15","22.70","22.26","21.83","21.41","24.66","11.38","5.52","1.49",20,"20.9"]
[null,"2.20","24.24","23.79","23.34","22.90","22.47","22.04","25.31","11.34","5.53","1.51",19,"19.4"]
[null,"2.25","24.86","24.41","23.96","23.52","23.09","22.66","25.95","11.30","5.55","1.53",18,"18.3"]
[null,"2.30","25.46","25.02","24.57","24.13","23.69","23.26","26.56","11.26","5.57","1.56",17,"17.5"]
[null,"2.35","26.05","25.61","25.16","24.73","24.29","23.86","27.15","11.23","5.58","1.58",16,"15.9"]
[null,"2.40","26.61","26.18","25.74","25.30","24.87","24.44","27.72","11.19","5.60","1.60",14,"14.7"]
[null,"2.45","27.16","26.73","26.30","25.87","25.43","25.01","28.28","11.16","5.61","1.62",14,"14.0"]
[null,"2.50","27.69","27.27","26.84","26.42","25.99","25.56","28.81","11.13","5.63","1.64",12,"12.2"]
[null,"2.55","28.20","27.78","27.37","26.95","26.52","26.10","29.31","11.09","5.64","1.66",11,"11.0"]
[null,"2.60","28.68","28.28","27.87","27.46","27.04","26.63","29.80","11.06","5.65","1.68",10,"10.0"]
[null,"2.65","29.15","28.76","28.36","27.96","27.55","27.14","30.27","11.03","5.67","1.70",9,"9.0"]
[null,"2.70","29.59","29.22","28.83","28.44","28.04","27.63","30.72","11.01","5.68","1.72",8,"8.1"]
[null,"2.75","30.02","29.65","29.28","28.90","28.51","28.11","31.14","10.98","5.70","1.73",7,"7.2"]
[null,"2.80","30.43","30.07","29.71","29.34","28.96","28.58","31.55","10.95","5.71","1.75",6,"6.5"]
[null,"2.85","30.82","30.48","30.12","29.76","29.39","29.02","31.93","10.93","5.72","1.77",6,"5.8"]
[null,"2.90","31.19","30.86","30.52","30.17","29.81","29.45","32.30","10.91","5.74","1.78",5,"5.1"]
[null,"2.95","31.54","31.22","30.90","30.56","30.21","29.86","32.65","10.88","5.75","1.80",4,"4.5"]
[null,"3.00","31.88","31.57","31.25","30.93","30.59","30.25","32.98","10.86","5.76","1.81",4,"4.0"]
[null,"3.05","32.20","31.90","31.60","31.28","30.96","30.63","33.30","10.84","5.77","1.83",3,"3.5"]
[null,"3.10","32.50","32.22","31.92","31.62","31.31","30.99","33.59","10.82","5.78","1.84",3,"3.1"]
[null,"3.15","32.78","32.51","32.23","31.94","31.64","31.33","33.87","10.80","5.79","1.85",3,"2.7"]
[null,"3.20","33.05","32.79","32.52","32.25","31.96","31.66","34.12","10.79","5.80","1.86",2,"2.3"]
[null,"3.25","33.30","33.05","32.80","32.53","32.26","31.97","34.36","10.77","5.81","1.87",2,"2.0"]
[null,"3.30","33.53","33.30","33.06","32.81","32.54","32.27","34.59","10.76","5.82","1.89",2,"1.7"]
[null,"3.35","33.74","33.53","33.30","33.06","32.81","32.55","34.79","10.74","5.83","1.90",1,"1.4"]
[null,"3.40","33.94","33.74","33.53","33.30","33.06","32.82","34.98","10.73","5.84","1.91",1,"1.2"]
[null,"3.45","34.13","33.94","33.74","33.53","33.30","33.07","35.16","10.72","5.85","1.91",1,"1.0"]
[null,"3.50","34.29","34.12","33.94","33.74","33.53","33.30","35.32","10.70","5.85","1.92",1,"0.8"]
[null,"3.55","34.45","34.29","34.12","33.93","33.73","33.52","35.46","10.69","5.86","1.93",1,"0.7"]
[null,"3.60","34.59","34.44","34.28","34.11","33.93","33.73","35.59","10.68","5.87","1.94",1,"0.5"]
[null,"3.65","34.71","34.58","34.43","34.28","34.10","33.92","35.70","10.67","5.87","1.94",0,"0.4"]
[null,"3.70","34.83","34.71","34.57","34.43","34.27","34.10","35.81","10.67","5.88","1.95",0,"0.3"]
[null,"3.75","34.93","34.82","34.70","34.56","34.42","34.26","35.90","10.66","5.88","1.95",0,"0.2"]
[null,"3.80","35.01","34.92","34.81","34.69","34.56","34.41","35.98","10.65","5.89","1.96",0,"0.2"]
[null,"3.85","35.09","35.01","34.91","34.80","34.68","34.55","36.04","10.65","5.89","1.96",0,"0.1"]
[null,"3.90","35.16","35.08","35.00","34.90","34.79","34.67","36.10","10.64","5.89","1.97",0,"0.1"]
[null,"3.95","35.21","35.15","35.08","34.99","34.89","34.78","36.15","10.64","5.89","1.97",0,"0.1"]
[null,"4.00","35.26","35.20","35.14","35.07","34.98","34.88","36.18","10.64","5.90","1.97",0,"0.0"]
[null,"4.05","35.30","35.25","35.20","35.13","35.06","34.97","36.21","10.63","5.90","1.97",0,"0.0"]
[null,"4.10","35.33","35.29","35.25","35.19","35.13","35.05","36.24","10.63","5.90","1.98",0,"0.0"]
[null,"4.15","35.35","35.32","35.29","35.24","35.19","35.12","36.25","10.63","5.90","1.98",0,"0.0"]
[null,"4.20","35.37","35.35","35.32","35.28","35.23","35.18","36.27","10.63","5.90","1.98",0,"0.0"]
[null,"4.25","35.38","35.36","35.34","35.31","35.28","35.23","36.27","10.63","5.90","1.98",0,"0.0"]
[null,"4.30","35.39","35.38","35.36","35.34","35.31","35.27","36.28","10.63","5.90","1.98",0,"0.0"]
[null,"4.35","35.39","35.39","35.38","35.36","35.34","35.31","36.28","10.63","5.90","1.98",0,"0.0"]
[null,"4.40","35.39","35.39","35.39","35.37","35.36","35.33","36.28","10.63","5.90","1.98",0,"0.0"]
[null,"4.45","35.40","35.39","35.39","35.38","35.37","35.35","36.28","10.63","5.90","1.98",0,"0.1"]
[null,"4.50","35.40","35.40","35.39","35.39","35.38","35.37","36.28","10.63","5.90","1.98",0,"0.0"]
[null,"4.55","35.40","35.40","35.40","35.39","35.39","35.38","36.28","10.63","5.90","1.98",0,"0.0"]
[null,"4.60","35.40","35.40","35.40","35.40","35.39","35.39","36.28","10.63","5.90","1.98",0,"0.0"]
[null,"4.65","35.40","35.40","35.40","35.40","35.39","35.39","36.28","10.63","5.90","1.98",0,"0.1"]
[null,"4.70","35.40","35.40","35.40","35.40","35.40","35.39","36.28","10.63","5.90","1.98",0,"0.1"]
[null,"4.75","35.40","35.40","35.40","35.40","35.40","35.40","36.28","10.63","5.90","1.98",0,"0.0"]

{"sheet":"43","index":49,"n_rows":251,"n_cols":16,"rows_kept":251,"cut":false,"hidden":false,"merged":[]}
[]
[null,"W.B. 7 SB DB",null,null,null,null,null,"S.G.",1.0249999999999999,"[t/m3]"]
[]
[null,"GAUGE","LCG","TCG","VCG","FSM (transv)","FSM (long)","Weight","Fill (%)","Trim=-1,5","Trim=1,0","Trim=-0,5","Trim=0","Trim=0,5","Trim=1,0","Trim=1,5"]
[null,null,"Fwd of AP","PS:+","Above BL"," "," "]
[null,"m","m","m","m","t·m","t·m","t",null,"m3","m3","m3","m3","m3","m3","m3"]
[null,0,13.63,-3.88,0.11,0,0,{"$f":"M7*$I$2","v":1.0249999999999999E-2},{"$f":"M7/$M$98*100","v":2.8248587570621469E-2},0.01,0.01,0.01,0.01,0.01,0.01,0.01]
[null,0.05,13.53,-4.04,0.15,0,0.1,{"$f":"M8*$I$2","v":4.0999999999999995E-2},{"$f":"M8/$M$98*100","v":0.11299435028248588},0.05,0.04,0.04,0.04,0.04,0.04,0.04]
[null,0.1,13.44,-4.16,0.18,0,0.4,0.10249999999999999,{"$f":"M9/$M$98*100","v":0.28248587570621475},0.12,0.11,0.1,0.1,0.09,0.09,0.09]
[null,0.15,13.36,-4.2699999999999996,0.22,1,0.8,0.19474999999999998,0.53672316384180796,0.22,0.21,0.2,0.19,0.18,0.18,0.17]
[null,0.2,13.29,-4.3600000000000003,0.25,1,1.3,0.32799999999999996,0.903954802259887,0.36,0.35,0.33,0.32,0.3,0.28999999999999998,0.28000000000000003]
[null,0.25,13.23,-4.45,0.28999999999999998,2,1.8,0.49199999999999994,1.3559322033898304,0.54,0.52,0.5,0.48,0.46,0.44,0.42]
[null,0.3,13.17,-4.5199999999999996,0.32,2,2.5,0.68674999999999997,1.8926553672316386,0.76,0.72,0.69,0.67,0.64,0.62,0.6]
[null,0.35,13.11,-4.58,0.36,3,3.2,0.91224999999999989,2.514124293785311,1.01,0.96,0.93,0.89,0.86,0.83,0.8]
[null,0.4,13.05,-4.63,0.39,4,4,1.1787499999999997,3.2485875706214689,1.29,1.24,1.19,1.1499999999999999,1.1100000000000001,1.07,1.03]
[null,0.45,13,-4.68,0.42,5,4.8,1.4759999999999998,4.0677966101694913,1.61,1.55,1.49,1.44,1.39,1.34,1.3]
[null,0.5,12.95,-4.7300000000000004,0.46,6,5.7,1.8039999999999998,4.9717514124293789,1.96,1.89,1.82,1.76,1.7,1.64,1.59]
[null,0.55000000000000004,12.9,-4.7699999999999996,0.49,6,6.7,2.1627499999999995,5.9604519774011298,2.35,2.2599999999999998,2.1800000000000002,2.11,2.04,1.98,1.91]
[null,0.6,12.85,-4.8099999999999996,0.52,7,7.6,2.5625,7.0621468926553677,2.77,2.67,2.58,2.5,2.41,2.34,2.27]
[null,0.65,12.81,-4.8499999999999996,0.56000000000000005,8,8.6,2.9827499999999998,8.2203389830508478,3.22,3.11,3.01,2.91,2.82,2.73,2.65]
[null,0.7,12.76,-4.88,0.59,10,9.8000000000000007,3.4439999999999995,9.4915254237288131,3.7,3.58,3.47,3.36,3.25,3.16,3.07]
[null,0.75,12.72,-4.91,0.62,11,10.8,3.9257499999999999,10.819209039548024,4.22,4.08,3.96,3.83,3.72,3.61,3.51]
[null,0.8,12.68,-4.9400000000000004,0.66,12,12,4.4484999999999992,12.259887005649718,4.7699999999999996,4.62,4.4800000000000004,4.34,4.21,4.09,3.98]
[null,0.85,12.63,-4.97,0.69,13,13,5.0019999999999998,13.785310734463277,5.35,5.18,5.03,4.88,4.74,4.6100000000000003,4.4800000000000004]
[null,0.9,12.59,-5,0.72,14,14.3,5.5862499999999997,15.395480225988702,5.96,5.78,5.61,5.45,5.29,5.15,5.01]
[null,0.95,12.55,-5.03,0.75,15,15.4,6.1909999999999998,17.06214689265537,6.6,6.41,6.22,6.04,5.88,5.72,5.56]
[null,1,12.52,-5.05,0.79,16,16.600000000000001,6.8367499999999994,18.841807909604523,7.27,7.06,6.86,6.67,6.49,6.31,6.15]
[null,1.05,12.48,-5.08,0.82,17,17.600000000000001,7.5029999999999992,20.677966101694917,7.98,7.75,7.53,7.32,7.13,6.94,6.76]
[null,1.1000000000000001,12.44,-5.0999999999999996,0.85,18,18.399999999999999,8.1999999999999993,22.598870056497177,8.6999999999999993,8.4600000000000009,8.2200000000000006,8,7.79,7.59,7.39]
[null,1.1499999999999999,12.4,-5.12,0.88,19,19.2,8.9072499999999994,24.548022598870055,9.44,9.18,8.93,8.69,8.4600000000000009,8.25,8.0399999999999991]
[null,1.2,12.36,-5.15,0.92,19,19.899999999999999,9.6247500000000006,26.525423728813564,10.19,9.91,9.64,9.39,9.15,8.92,8.69]
[null,1.25,12.31,-5.17,0.95,20,20.8,10.342249999999998,28.502824858757066,10.94,10.65,10.36,10.09,9.84,9.59,9.35]
[null,1.3,12.27,-5.19,0.98,21,21,11.07,30.508474576271187,11.69,11.38,11.09,10.8,10.53,10.27,10.02]
[null,1.35,12.22,-5.21,1.01,21,21.6,11.797749999999999,32.514124293785315,12.45,12.12,11.81,11.51,11.23,10.96,10.69]
[null,1.4,12.18,-5.24,1.04,22,22.3,12.53575,34.548022598870062,13.21,12.87,12.54,12.23,11.93,11.64,11.37]
[null,1.45,12.13,-5.26,1.06,22,22.6,13.263499999999999,36.55367231638418,13.96,13.61,13.27,12.94,12.63,12.33,12.04]
[null,1.5,12.08,-5.28,1.0900000000000001,22,23.1,14.001499999999998,38.587570621468927,14.72,14.35,14,13.66,13.34,13.02,12.72]
[null,1.55,12.04,-5.3,1.1200000000000001,23,23.5,14.7395,40.621468926553675,15.47,15.09,14.73,14.38,14.04,13.72,13.4]
[null,1.6,11.99,-5.32,1.1499999999999999,23,23.9,15.477499999999999,42.655367231638422,16.23,15.84,15.46,15.1,14.75,14.41,14.08]
[null,1.65,11.95,-5.34,1.18,23,23.7,16.205249999999999,44.66101694915254,16.98,16.57,16.190000000000001,15.81,15.45,15.1,14.77]
[null,1.7,11.9,-5.36,1.2,24,24.1,16.933,46.666666666666664,17.73,17.309999999999999,16.91,16.52,16.149999999999999,15.8,15.45]
[null,1.75,11.86,-5.38,1.23,24,24.6,17.66075,48.672316384180789,18.47,18.04,17.63,17.23,16.850000000000001,16.48,16.13]
[null,1.8,11.81,-5.39,1.26,24,24.3,18.388500000000001,50.677966101694913,19.2,18.77,18.350000000000001,17.940000000000001,17.55,17.170000000000002,16.8]
[null,1.85,11.76,-5.41,1.28,24,24.4,19.116249999999997,52.683615819209038,19.93,19.489999999999998,19.059999999999999,18.649999999999999,18.239999999999998,17.850000000000001,17.48]
[null,1.9,11.72,-5.43,1.31,24,24.4,19.823499999999999,54.632768361581917,20.65,20.21,19.77,19.34,18.93,18.53,18.149999999999999]
[null,1.95,11.67,-5.45,1.33,24,24.2,20.530749999999998,56.58192090395481,21.36,20.91,20.47,20.03,19.61,19.21,18.809999999999999]
[null,2,11.63,-5.46,1.36,23,23.5,21.237999999999996,58.531073446327689,22.06,21.6,21.15,20.72,20.29,19.88,19.47]
[null,2.0499999999999998,11.59,-5.48,1.38,23,23.2,21.92475,60.423728813559329,22.74,22.28,21.83,21.39,20.96,20.54,20.13]
[null,2.1,11.54,-5.49,1.41,22,23,22.60125,62.288135593220339,23.41,22.95,22.5,22.05,21.62,21.19,20.77]
[null,2.15,11.5,-5.51,1.43,21,21.7,23.267499999999998,64.124293785310741,24.06,23.6,23.15,22.7,22.26,21.83,21.41]
[null,2.2000000000000002,11.46,-5.52,1.46,21,21.2,23.923499999999997,65.932203389830519,24.7,24.24,23.79,23.34,22.9,22.47,22.04]
[null,2.25,11.42,-5.54,1.48,20,20.399999999999999,24.558999999999997,67.683615819209038,25.31,24.86,24.41,23.96,23.52,23.09,22.66]
[null,2.2999999999999998,11.38,-5.55,1.5,19,19.3,25.184249999999999,69.406779661016955,25.91,25.46,25.02,24.57,24.13,23.69,23.26]
[null,2.35,11.34,-5.57,1.53,18,18.399999999999999,25.788999999999998,71.073446327683627,26.49,26.05,25.61,25.16,24.73,24.29,23.86]
[null,2.4,11.3,-5.58,1.55,17,17.3,26.383499999999994,72.711864406779654,27.05,26.61,26.18,25.74,25.3,24.87,24.44]
[null,2.4500000000000002,11.26,-5.59,1.57,16,16.8,26.9575,{"$f":"M56/$M$98*100","v":74.293785310734478},27.59,27.16,26.73,26.3,25.87,25.43,25.01]
[null,2.5,11.23,-5.61,1.59,15,15.2,27.510999999999999,75.819209039548028,28.1,27.69,27.27,26.84,26.42,25.99,25.56]
[null,2.5499999999999998,11.19,-5.62,1.61,14,14.1,28.05425,77.316384180790962,28.6,28.2,27.78,27.37,26.95,26.52,26.1]
[null,2.6,11.16,-5.63,1.63,13,13.4,28.566749999999999,78.728813559322049,29.07,28.68,28.28,27.87,27.46,27.04,26.63]
[null,2.65,11.13,-5.64,1.65,12,11.9,29.068999999999996,80.112994350282491,29.53,29.15,28.76,28.36,27.96,27.55,27.14]
[null,2.7,11.09,-5.66,1.67,11,10.9,29.550749999999997,81.440677966101688,29.97,29.59,29.22,28.83,28.44,28.04,27.63]
[null,2.75,11.06,-5.67,1.69,10,9.8000000000000007,30.011999999999997,82.711864406779668,30.38,30.02,29.65,29.28,28.9,28.51,28.11]
[null,2.8,11.04,-5.68,1.7,9,8.9,30.452749999999998,83.926553672316402,30.78,30.43,30.07,29.71,29.34,28.96,28.58]
[null,2.85,11.01,-5.69,1.72,8,8,30.872999999999998,85.084745762711862,31.16,30.82,30.48,30.12,29.76,29.39,29.02]
[null,2.9,10.98,-5.71,1.74,7,7.2,31.282999999999998,86.21468926553672,31.52,31.19,30.86,30.52,30.17,29.81,29.45]
[null,2.95,10.96,-5.72,1.75,6,6.5,31.672499999999996,87.288135593220346,31.86,31.54,31.22,30.9,30.56,30.21,29.86]
[null,3,10.93,-5.73,1.77,6,5.7,32.03125,88.276836158192097,32.18,31.88,31.57,31.25,30.93,30.59,30.25]
[null,3.05,10.91,-5.74,1.78,5,5.0999999999999996,32.39,89.265536723163848,32.479999999999997,32.200000000000003,31.9,31.6,31.28,30.96,30.63]
[null,3.1,10.89,-5.75,1.8,4,4.5,32.717999999999996,90.169491525423737,32.770000000000003,32.5,32.22,31.92,31.62,31.31,30.99]
[null,3.15,10.86,-5.76,1.81,4,4,33.035749999999993,91.045197740112997,33.04,32.78,32.51,32.229999999999997,31.94,31.64,31.33]
[null,3.2,10.84,-5.78,1.83,3,3.5,33.332999999999998,91.864406779661039,33.29,33.049999999999997,32.79,32.520000000000003,32.25,31.96,31.66]
[null,3.25,10.82,-5.79,1.84,3,3.1,{"$f":"M72*$I$2","v":33.619999999999997},92.655367231638422,33.53,33.299999999999997,33.049999999999997,32.799999999999997,32.53,32.26,31.97]
[null,3.3,10.81,-5.8,1.85,3,2.7,33.886499999999998,{"$f":"M73/$M$98*100","v":93.389830508474589},33.74,33.53,33.299999999999997,33.06,32.81,32.54,32.270000000000003]
[null,3.35,10.79,-5.81,1.86,2,2.2999999999999998,34.132499999999993,94.067796610169481,33.950000000000003,33.74,33.53,33.299999999999997,33.06,32.81,32.549999999999997]
[null,3.4,10.77,-5.81,1.87,2,2,34.368249999999996,94.717514124293785,34.130000000000003,33.94,33.74,33.53,33.299999999999997,33.06,32.82]
[null,3.45,10.76,-5.82,1.89,2,1.7,34.583500000000001,95.310734463276845,34.299999999999997,34.130000000000003,33.94,33.74,33.53,33.299999999999997,33.07]
[null,3.5,10.74,-5.83,1.9,1,1.5,34.788499999999992,95.875706214689259,34.450000000000003,34.29,34.119999999999997,33.94,33.74,33.53,33.299999999999997]
[null,3.55,10.73,-5.84,1.9,1,1.2,34.972999999999992,96.384180790960443,34.6,34.450000000000003,34.29,34.119999999999997,33.93,33.729999999999997,33.520000000000003]
[null,3.6,10.72,-5.85,1.91,1,1,35.137,96.836158192090409,34.72,34.590000000000003,34.44,34.28,34.11,33.93,33.729999999999997]
[null,3.65,10.71,-5.85,1.92,1,0.9,35.290749999999996,97.25988700564973,34.83,34.71,34.58,34.43,34.28,34.1,33.92]
[null,3.7,10.7,-5.86,1.93,1,0.7,35.434249999999999,97.655367231638422,34.93,34.83,34.71,34.57,34.43,34.270000000000003,34.1]
[null,3.75,10.69,-5.87,1.94,1,0.6,35.567500000000003,98.022598870056513,35.020000000000003,34.93,34.82,34.700000000000003,34.56,34.42,34.26]
[null,3.8,10.68,-5.87,1.94,0,0.5,35.680250000000001,98.333333333333343,35.1,35.01,34.92,34.81,34.69,34.56,34.409999999999997]
[null,3.85,10.67,-5.88,1.95,0,0.4,35.782749999999993,98.615819209039543,35.159999999999997,35.090000000000003,35.01,34.909999999999997,34.799999999999997,34.68,34.549999999999997]
[null,3.9,10.66,-5.88,1.95,0,0.3,35.875,98.870056497175142,35.22,35.159999999999997,35.08,35,34.9,34.79,34.67]
[null,3.95,10.66,-5.88,1.96,0,0.2,35.956999999999994,99.096045197740111,35.26,35.21,35.15,35.08,34.99,34.89,34.78]
[null,4,10.65,-5.89,1.96,0,0.2,36.018499999999996,99.265536723163848,35.299999999999997,35.26,35.200000000000003,35.14,35.07,34.979999999999997,34.880000000000003]
[null,4.05,10.65,-5.89,1.97,0,0.1,36.08,99.435028248587585,35.33,35.299999999999997,35.25,35.200000000000003,35.130000000000003,35.06,34.97]
[null,4.0999999999999996,10.64,-5.89,1.97,0,0.1,36.131249999999994,99.576271186440678,35.35,35.33,35.29,35.25,35.19,35.130000000000003,35.049999999999997]
[null,4.1500000000000004,10.64,-5.9,1.97,0,0.1,36.172249999999998,99.68926553672317,35.369999999999997,35.35,35.32,35.29,35.24,35.19,35.119999999999997]
[null,4.2,10.64,-5.9,1.97,0,0,36.202999999999996,99.774011299435031,35.380000000000003,35.369999999999997,35.35,35.32,35.28,35.229999999999997,35.18]
[null,4.25,10.63,-5.9,1.97,0,0,36.223500000000001,99.830508474576291,35.39,35.380000000000003,35.36,35.340000000000003,35.31,35.28,35.229999999999997]
[null,4.3,10.63,-5.9,1.98,0,0,36.244,99.887005649717523,35.39,35.39,35.380000000000003,35.36,35.340000000000003,35.31,35.270000000000003]
[null,4.3499999999999996,10.63,-5.9,1.98,0,0,36.264499999999998,99.943502824858768,35.4,35.39,35.39,35.380000000000003,35.36,35.340000000000003,35.31]
[null,4.4000000000000004,10.63,-5.9,1.98,0,0,36.274749999999997,99.971751412429384,35.4,35.39,35.39,35.39,35.369999999999997,35.36,35.33]
[null,4.45,10.63,-5.9,1.98,0,0,36.274749999999997,99.971751412429384,35.4,35.4,35.39,35.39,35.380000000000003,35.369999999999997,35.35]
[null,4.5,10.63,-5.9,1.98,0,0,36.274749999999997,99.971751412429384,35.4,35.4,35.4,35.39,35.39,35.380000000000003,35.369999999999997]
[null,4.55,10.63,-5.9,1.98,0,0,36.284999999999997,100,35.4,35.4,35.4,35.4,35.39,35.39,35.380000000000003]
[]
[]
[]
[]
[]
[]
[]
[]
[]
[]
[]
[]
[]
[]
[]
[]
[]
[]
[]
[]
[]
[]
[]
[]
[]
[]
[]
[]
[]
[]
[]
[]
[]
[]
[]
[]
[]
[]
[]
[]
[]
[]
[]
[]
[]
[]
[]
[]
[]
[]
[]
[]
[]
[]
[]
[]
[]
[]
[null,"Sounded depth","Volume Trim=-1.000 m","Volume Trim=-0.500 m","Volume Trim=0.000 m","Volume Trim=0.500 m","Volume Trim=1.000 m","Volume Trim=1.500 m","Weight","LCG","TCG","VCG","Transv Inertia","FSM (transv)"]
[null," ",null,null,null,null,null,null," ","Fwd of AP","PS:+","Above BL"," "," "]
[null,"m","m³","m³","m³","m³","m³","m³","t","m","m","m","m4","t·m"]
[null,"0.00","0.01","0.01","0.01","0.01","0.01","0.01","0.01","13.58","-3.87","0.12",0,"0.0"]
[null,"0.05","0.04","0.04","0.04","0.04","0.04","0.04","0.05","13.46","-4.02","0.15",0,"0.1"]
[null,"0.10","0.11","0.10","0.10","0.09","0.09","0.09","0.12","13.37","-4.15","0.19",0,"0.4"]
[null,"0.15","0.21","0.20","0.19","0.18","0.18","0.17","0.23","13.29","-4.26","0.23",1,"0.9"]
[null,"0.20","0.35","0.33","0.32","0.30","0.29","0.28","0.37","13.21","-4.36","0.27",1,"1.4"]
[null,"0.25","0.52","0.50","0.48","0.46","0.44","0.42","0.56","13.14","-4.44","0.30",2,"2.1"]
[null,"0.30","0.72","0.69","0.67","0.64","0.62","0.60","0.78","13.08","-4.51","0.34",3,"2.8"]
[null,"0.35","0.96","0.93","0.89","0.86","0.83","0.80","1.03","13.02","-4.57","0.37",3,"3.5"]
[null,"0.40","1.24","1.19","1.15","1.11","1.07","1.03","1.32","12.96","-4.62","0.41",4,"4.4"]
[null,"0.45","1.55","1.49","1.44","1.39","1.34","1.30","1.65","12.91","-4.67","0.44",5,"5.3"]
[null,"0.50","1.89","1.82","1.76","1.70","1.64","1.59","2.01","12.85","-4.72","0.48",6,"6.2"]
[null,"0.55","2.26","2.18","2.11","2.04","1.98","1.91","2.41","12.80","-4.76","0.51",7,"7.2"]
[null,"0.60","2.67","2.58","2.50","2.41","2.34","2.27","2.83","12.75","-4.80","0.55",8,"8.3"]
[null,"0.65","3.11","3.01","2.91","2.82","2.73","2.65","3.30","12.71","-4.84","0.58",9,"9.4"]
[null,"0.70","3.58","3.47","3.36","3.25","3.16","3.07","3.79","12.66","-4.87","0.61",10,"10.6"]
[null,"0.75","4.08","3.96","3.83","3.72","3.61","3.51","4.32","12.62","-4.91","0.65",11,"11.7"]
[null,"0.80","4.62","4.48","4.34","4.21","4.09","3.98","4.89","12.57","-4.94","0.68",13,"13.0"]
[null,"0.85","5.18","5.03","4.88","4.74","4.61","4.48","5.48","12.53","-4.97","0.72",14,"14.2"]
[null,"0.90","5.78","5.61","5.45","5.29","5.15","5.01","6.11","12.49","-4.99","0.75",15,"15.4"]
[null,"0.95","6.41","6.22","6.04","5.88","5.72","5.56","6.77","12.45","-5.02","0.78",16,"16.6"]
[null,"1.00","7.06","6.86","6.67","6.49","6.31","6.15","7.46","12.41","-5.05","0.82",17,"17.8"]
[null,"1.05","7.75","7.53","7.32","7.13","6.94","6.76","8.18","12.37","-5.07","0.85",18,"19.0"]
[null,"1.10","8.46","8.22","8.00","7.79","7.59","7.39","8.92","12.33","-5.09","0.89",19,"19.8"]
[null,"1.15","9.18","8.93","8.69","8.46","8.25","8.04","9.68","12.29","-5.12","0.92",20,"20.6"]
[null,"1.20","9.91","9.64","9.39","9.15","8.92","8.69","10.44","12.24","-5.14","0.95",21,"21.3"]
[null,"1.25","10.65","10.36","10.09","9.84","9.59","9.35","11.21","12.20","-5.16","0.98",21,"21.9"]
[null,"1.30","11.38","11.09","10.80","10.53","10.27","10.02","11.99","12.15","-5.19","1.01",22,"22.6"]
[null,"1.35","12.12","11.81","11.51","11.23","10.96","10.69","12.76","12.11","-5.21","1.04",23,"23.1"]
[null,"1.40","12.87","12.54","12.23","11.93","11.64","11.37","13.54","12.06","-5.23","1.08",23,"23.6"]
[null,"1.45","13.61","13.27","12.94","12.63","12.33","12.04","14.31","12.01","-5.25","1.11",23,"23.9"]
[null,"1.50","14.35","14.00","13.66","13.34","13.02","12.72","15.09","11.96","-5.27","1.13",24,"24.3"]
[null,"1.55","15.09","14.73","14.38","14.04","13.72","13.40","15.86","11.92","-5.29","1.16",24,"24.7"]
[null,"1.60","15.84","15.46","15.10","14.75","14.41","14.08","16.63","11.87","-5.32","1.19",24,"24.9"]
[null,"1.65","16.57","16.19","15.81","15.45","15.10","14.77","17.40","11.82","-5.34","1.22",25,"25.1"]
[null,"1.70","17.31","16.91","16.52","16.15","15.80","15.45","18.17","11.77","-5.35","1.25",25,"25.3"]
[null,"1.75","18.04","17.63","17.23","16.85","16.48","16.13","18.93","11.73","-5.37","1.28",24,"25.1"]
[null,"1.80","18.77","18.35","17.94","17.55","17.17","16.80","19.68","11.68","-5.39","1.30",24,"25.0"]
[null,"1.85","19.49","19.06","18.65","18.24","17.85","17.48","20.43","11.63","-5.41","1.33",24,"24.8"]
[null,"1.90","20.21","19.77","19.34","18.93","18.53","18.15","21.17","11.59","-5.43","1.36",24,"24.1"]
[null,"1.95","20.91","20.47","20.03","19.61","19.21","18.81","21.89","11.55","-5.45","1.38",23,"23.8"]
[null,"2.00","21.60","21.15","20.72","20.29","19.88","19.47","22.61","11.50","-5.47","1.41",23,"23.3"]
[null,"2.05","22.28","21.83","21.39","20.96","20.54","20.13","23.31","11.46","-5.48","1.44",22,"22.2"]
[null,"2.10","22.95","22.50","22.05","21.62","21.19","20.77","23.99","11.42","-5.50","1.46",21,"21.5"]
[null,"2.15","23.60","23.15","22.70","22.26","21.83","21.41","24.66","11.38","-5.52","1.49",20,"20.9"]
[null,"2.20","24.24","23.79","23.34","22.90","22.47","22.04","25.31","11.34","-5.53","1.51",19,"19.4"]
[null,"2.25","24.86","24.41","23.96","23.52","23.09","22.66","25.95","11.30","-5.55","1.53",18,"18.3"]
[null,"2.30","25.46","25.02","24.57","24.13","23.69","23.26","26.56","11.26","-5.57","1.56",17,"17.5"]
[null,"2.35","26.05","25.61","25.16","24.73","24.29","23.86","27.15","11.23","-5.58","1.58",16,"15.9"]
[null,"2.40","26.61","26.18","25.74","25.30","24.87","24.44","27.72","11.19","-5.60","1.60",14,"14.7"]
[null,"2.45","27.16","26.73","26.30","25.87","25.43","25.01","28.28","11.16","-5.61","1.62",14,"14.0"]
[null,"2.50","27.69","27.27","26.84","26.42","25.99","25.56","28.81","11.13","-5.63","1.64",12,"12.2"]
[null,"2.55","28.20","27.78","27.37","26.95","26.52","26.10","29.31","11.09","-5.64","1.66",11,"11.0"]
[null,"2.60","28.68","28.28","27.87","27.46","27.04","26.63","29.80","11.06","-5.65","1.68",10,"10.0"]
[null,"2.65","29.15","28.76","28.36","27.96","27.55","27.14","30.27","11.03","-5.67","1.70",9,"9.0"]
[null,"2.70","29.59","29.22","28.83","28.44","28.04","27.63","30.72","11.01","-5.68","1.72",8,"8.1"]
[null,"2.75","30.02","29.65","29.28","28.90","28.51","28.11","31.14","10.98","-5.70","1.73",7,"7.2"]
[null,"2.80","30.43","30.07","29.71","29.34","28.96","28.58","31.55","10.95","-5.71","1.75",6,"6.5"]
[null,"2.85","30.82","30.48","30.12","29.76","29.39","29.02","31.93","10.93","-5.72","1.77",6,"5.8"]
[null,"2.90","31.19","30.86","30.52","30.17","29.81","29.45","32.30","10.91","-5.74","1.78",5,"5.1"]
[null,"2.95","31.54","31.22","30.90","30.56","30.21","29.86","32.65","10.88","-5.75","1.80",4,"4.5"]
[null,"3.00","31.88","31.57","31.25","30.93","30.59","30.25","32.98","10.86","-5.76","1.81",4,"4.0"]
[null,"3.05","32.20","31.90","31.60","31.28","30.96","30.63","33.30","10.84","-5.77","1.83",3,"3.5"]
[null,"3.10","32.50","32.22","31.92","31.62","31.31","30.99","33.59","10.82","-5.78","1.84",3,"3.1"]
[null,"3.15","32.78","32.51","32.23","31.94","31.64","31.33","33.87","10.80","-5.79","1.85",3,"2.7"]
[null,"3.20","33.05","32.79","32.52","32.25","31.96","31.66","34.12","10.79","-5.80","1.86",2,"2.3"]
[null,"3.25","33.30","33.05","32.80","32.53","32.26","31.97","34.36","10.77","-5.81","1.87",2,"2.0"]
[null,"3.30","33.53","33.30","33.06","32.81","32.54","32.27","34.59","10.76","-5.82","1.89",2,"1.7"]
[null,"3.35","33.74","33.53","33.30","33.06","32.81","32.55","34.79","10.74","-5.83","1.90",1,"1.4"]
[null,"3.40","33.94","33.74","33.53","33.30","33.06","32.82","34.98","10.73","-5.84","1.91",1,"1.2"]
[null,"3.45","34.13","33.94","33.74","33.53","33.30","33.07","35.16","10.72","-5.85","1.91",1,"1.0"]
[null,"3.50","34.29","34.12","33.94","33.74","33.53","33.30","35.32","10.70","-5.85","1.92",1,"0.8"]
[null,"3.55","34.45","34.29","34.12","33.93","33.73","33.52","35.46","10.69","-5.86","1.93",1,"0.7"]
[null,"3.60","34.59","34.44","34.28","34.11","33.93","33.73","35.59","10.68","-5.87","1.94",1,"0.5"]
[null,"3.65","34.71","34.58","34.43","34.28","34.10","33.92","35.70","10.67","-5.87","1.94",0,"0.4"]
[null,"3.70","34.83","34.71","34.57","34.43","34.27","34.10","35.81","10.67","-5.88","1.95",0,"0.3"]
[null,"3.75","34.93","34.82","34.70","34.56","34.42","34.26","35.90","10.66","-5.88","1.95",0,"0.2"]
[null,"3.80","35.01","34.92","34.81","34.69","34.56","34.41","35.98","10.65","-5.89","1.96",0,"0.2"]
[null,"3.85","35.09","35.01","34.91","34.80","34.68","34.55","36.04","10.65","-5.89","1.96",0,"0.1"]
[null,"3.90","35.16","35.08","35.00","34.90","34.79","34.67","36.10","10.64","-5.89","1.97",0,"0.1"]
[null,"3.95","35.21","35.15","35.08","34.99","34.89","34.78","36.15","10.64","-5.89","1.97",0,"0.1"]
[null,"4.00","35.26","35.20","35.14","35.07","34.98","34.88","36.18","10.64","-5.90","1.97",0,"0.0"]
[null,"4.05","35.30","35.25","35.20","35.13","35.06","34.97","36.21","10.63","-5.90","1.97",0,"0.0"]
[null,"4.10","35.33","35.29","35.25","35.19","35.13","35.05","36.24","10.63","-5.90","1.98",0,"0.0"]
[null,"4.15","35.35","35.32","35.29","35.24","35.19","35.12","36.25","10.63","-5.90","1.98",0,"0.0"]
[null,"4.20","35.37","35.35","35.32","35.28","35.23","35.18","36.27","10.63","-5.90","1.98",0,"0.0"]
[null,"4.25","35.38","35.36","35.34","35.31","35.28","35.23","36.27","10.63","-5.90","1.98",0,"0.0"]
[null,"4.30","35.39","35.38","35.36","35.34","35.31","35.27","36.28","10.63","-5.90","1.98",0,"0.0"]
[null,"4.35","35.39","35.39","35.38","35.36","35.34","35.31","36.28","10.63","-5.90","1.98",0,"0.0"]
[null,"4.40","35.39","35.39","35.39","35.37","35.36","35.33","36.28","10.63","-5.90","1.98",0,"0.0"]
[null,"4.45","35.40","35.39","35.39","35.38","35.37","35.35","36.28","10.63","-5.90","1.98",0,"0.1"]
[null,"4.50","35.40","35.40","35.39","35.39","35.38","35.37","36.28","10.63","-5.90","1.98",0,"0.0"]
[null,"4.55","35.40","35.40","35.40","35.39","35.39","35.38","36.28","10.63","-5.90","1.98",0,"0.0"]

{"sheet":"44","index":50,"n_rows":61,"n_cols":16,"rows_kept":61,"cut":false,"hidden":false,"merged":[]}
[]
[null,"W.B. 8 PS DB",null,null,null,null,null,"S.G.",1.0249999999999999,"[t/m3]"]
[]
[null,"GAUGE","LCG","TCG","VCG","FSM (transv)","FSM (long)","Weight","Fill (%)","Trim=-1,5","Trim=1,0","Trim=-0,5","Trim=0","Trim=0,5","Trim=1,0","Trim=1,5"]
[null,null,"Fwd of AP","PS:+","Above BL"," "," "]
[null,"m","m","m","m","t·m","t·m","t",null,"m3","m3","m3","m3","m3","m3","m3"]
[null,0,13.55,0.86,0.02,0,0.4,{"$f":"M7*$I$2","v":2.0499999999999997E-2},{"$f":"M7/$M$61*100","v":6.7317401548300237E-2},0.01,0.02,0.02,0.02,0.02,0.03,0.03]
[null,0.05,13.35,1.1299999999999999,0.05,2,2.6,{"$f":"M8*$I$2","v":0.14349999999999999},{"$f":"M8/$M$61*100","v":0.47122181083810166},0.16,0.15,0.14000000000000001,0.14000000000000001,0.14000000000000001,0.13,0.13]
[null,0.1,13.17,1.32,0.09,5,5.0999999999999996,0.37924999999999998,1.2453719286435545,0.47,0.42,0.39,0.37,0.35,0.34,0.33]
[null,0.15,12.98,1.39,0.12,7,7.2,0.71749999999999992,2.3561090541905081,0.92,0.82,0.75,0.7,0.66,0.63,0.6]
[null,0.2,12.8,1.43,0.15,9,9,1.1479999999999999,3.7697744867048133,1.45,1.32,1.21,1.1200000000000001,1.05,0.99,0.94]
[null,0.25,12.64,1.45,0.18,11,10.9,1.6707499999999997,5.4863682261864684,2.06,1.89,1.75,1.63,1.52,1.43,1.36]
[null,0.3,12.5,1.46,0.22,12,12.3,2.2447499999999998,7.3712554695388759,2.72,2.5299999999999998,2.35,2.19,2.06,1.94,1.83]
[null,0.35,12.37,1.47,0.25,13,13.1,2.8904999999999994,9.4917536183103319,3.45,3.21,3.01,2.82,2.65,2.5,2.37]
[null,0.4,12.26,1.49,0.28000000000000003,14,14.2,3.5874999999999995,11.780545270952542,4.2300000000000004,3.95,3.71,3.5,3.3,3.12,2.96]
[null,0.45,12.17,1.5,0.31,14,14.8,4.3152499999999998,14.170313025917199,5.04,4.74,4.46,4.21,3.99,3.78,3.6]
[null,0.5,12.06,1.51,0.34,16,16.3,5.1044999999999998,16.762032985526758,5.89,5.57,5.26,4.9800000000000004,4.71,4.49,4.28]
[null,0.55000000000000004,11.98,1.51,0.37,17,17,5.9347499999999993,19.48838774823292,6.8,6.43,6.1,5.79,5.5,5.22,4.99]
[null,0.6,11.9,1.52,0.4,17,17.899999999999999,6.7957499999999991,22.315718613261527,7.73,7.33,6.96,6.63,6.32,6.02,5.74]
[null,0.65,11.82,1.53,0.43,18,18.399999999999999,7.6874999999999991,25.24402558061259,8.69,8.27,7.87,7.5,7.16,6.85,6.55]
[null,0.7,11.75,1.53,0.46,19,19.5,8.6304999999999996,28.340626051834398,9.68,9.24,8.82,8.42,8.0399999999999991,7.7,7.38]
[null,0.75,11.68,1.54,0.49,20,20.100000000000001,9.5939999999999994,31.504543924604505,10.69,10.23,9.7899999999999991,9.36,8.9600000000000009,8.59,8.24]
[null,0.8,11.61,1.55,0.52,20,20.6,10.5985,34.803096600471221,11.71,11.24,10.78,10.34,9.91,9.51,9.1300000000000008]
[null,0.85,11.56,1.55,0.55000000000000004,20,21,11.613249999999999,38.135307977112085,12.75,12.26,11.79,11.33,10.89,10.46,10.050000000000001]
[null,0.9,11.5,1.56,0.57999999999999996,21,21.4,12.658749999999998,41.568495456075397,13.8,13.3,12.82,12.35,11.89,11.44,11.01]
[null,0.95,11.45,1.57,0.61,21,21.7,13.714499999999999,45.035341635812856,14.86,14.36,13.86,13.38,12.9,12.44,11.99]
[null,1,11.41,1.57,0.64,22,22.1,14.780499999999998,48.535846516324469,15.92,15.41,14.91,14.42,13.93,13.46,12.99]
[null,1.05,11.37,1.58,0.66,22,22.3,15.85675,52.070010097610229,16.989999999999998,16.48,15.97,15.47,14.98,14.49,14.01]
[null,1.1000000000000001,11.33,1.58,0.69,21,22,16.943249999999999,55.637832379670151,18.07,17.55,17.04,16.53,16.02,15.53,15.04]
[null,1.1499999999999999,11.3,1.59,0.72,21,22,18.009249999999998,59.138337260181764,19.13,18.61,18.09,17.57,17.059999999999999,16.559999999999999,16.07]
[null,1.2,11.26,1.59,0.75,20,20.399999999999999,19.03425,62.504207337596775,20.079999999999998,19.61,19.09,18.57,18.05,17.54,17.04]
[null,1.25,11.22,1.6,0.77,19,19.8,20.028499999999998,65.76910131268933,20.89,20.47,20.04,19.54,19.02,18.510000000000002,18]
[null,1.3,11.18,1.59,0.79,9,8.6999999999999993,20.868999999999996,68.529114776169635,21.61,21.2,20.78,20.36,19.93,19.440000000000001,18.93]
[null,1.35,11.15,1.58,0.81,6,6.7,21.55575,70.784247728037698,22.27,21.86,21.44,21.03,20.61,20.2,19.760000000000002]
[null,1.4,11.11,1.57,0.83,6,6.2,22.211749999999999,72.938404577583299,22.9,22.49,22.08,21.67,21.26,20.85,20.440000000000001]
[null,1.45,11.07,1.56,0.85,6,6,22.857499999999998,75.058902726354759,23.51,23.11,22.71,22.3,21.89,21.48,21.07]
[null,1.5,11.04,1.55,0.86,5,5.5,23.451999999999998,77.011107371255463,24.08,23.68,23.28,22.88,22.48,22.08,21.68]
[null,1.55,11,1.54,0.88,5,5.2,24.036249999999995,78.929653315382026,24.63,24.23,23.84,23.45,23.05,22.65,22.25]
[null,1.6,10.97,1.53,0.9,5,5.2,24.589749999999995,80.747223157186127,25.14,24.77,24.39,23.99,23.6,23.21,22.82]
[null,1.65,10.94,1.52,0.91,5,4.7,25.12275,82.497475597441934,25.63,25.26,24.88,24.51,24.13,23.75,23.36]
[null,1.7,10.9,1.52,0.93,5,4.7,25.624999999999996,84.146751935375292,26.1,25.73,25.37,25,24.63,24.25,23.88]
[null,1.75,10.87,1.51,0.94,4,4.5,26.106749999999998,85.728710871760342,26.53,26.19,25.83,25.47,25.1,24.74,24.37]
[null,1.8,10.84,1.51,0.96,4,3.9,26.567999999999998,87.243352406597111,26.93,26.6,26.26,25.92,25.57,25.2,24.84]
[null,1.85,10.81,1.5,0.97,4,3.9,26.988249999999997,88.62335913833725,27.31,26.99,26.66,26.33,25.99,25.65,25.3]
[null,1.9,10.78,1.5,0.98,4,3.7,27.387999999999998,89.936048468529108,27.66,27.37,27.04,26.72,26.39,26.06,25.72]
[null,1.95,10.75,1.49,1,4,3.7,27.7775,91.215079097946813,27.98,27.69,27.4,27.1,26.78,26.45,26.13]
[null,2,10.73,1.49,1.01,3,3.1,28.125999999999998,92.359474924267928,28.27,28,27.72,27.44,27.15,26.83,26.51]
[null,2.0499999999999998,10.7,1.48,1.02,3,3.1,28.454000000000001,93.436553349040736,28.55,28.3,28.03,27.76,27.47,27.18,26.89]
[null,2.1,10.68,1.48,1.03,3,2.8,28.751249999999999,94.412655671491081,28.78,28.55,28.32,28.05,27.78,27.5,27.21]
[null,2.15,10.66,1.48,1.05,2,2.4,29.038249999999994,95.355099293167285,28.98,28.78,28.56,28.33,28.07,27.8,27.53]
[null,2.2000000000000002,10.64,1.48,1.05,2,2.2000000000000002,29.284249999999997,96.162908111746887,29.18,28.98,28.79,28.57,28.34,28.09,27.82]
[null,2.25,10.62,1.47,1.06,2,2,29.509749999999997,96.903399528778181,29.34,29.18,28.98,28.79,28.57,28.35,28.12]
[null,2.2999999999999998,10.6,1.47,1.07,2,1.8,29.704499999999999,97.54291484348704,29.46,29.34,29.17,28.98,28.79,28.58,28.36]
[null,2.35,10.58,1.47,1.08,2,1.8,29.899249999999999,98.182430158195899,29.56,29.45,29.33,29.17,28.98,28.79,28.58]
[null,2.4,10.57,1.47,1.0900000000000001,1,1.2,30.052999999999997,98.687310669808141,29.64,29.55,29.44,29.32,29.17,28.98,28.79]
[null,2.4500000000000002,10.56,1.47,1.0900000000000001,1,1,30.165749999999996,99.057556378323795,29.69,29.63,29.54,29.43,29.32,29.17,28.98]
[null,2.5,10.55,1.47,1.1000000000000001,1,0.8,30.278499999999998,99.427802086839449,29.71,29.68,29.62,29.54,29.42,29.31,29.17]
[null,2.5499999999999998,10.54,1.47,1.1000000000000001,1,0.7,30.360499999999998,99.69707169303264,29.71,29.7,29.68,29.62,29.53,29.42,29.3]
[null,2.6,10.53,1.47,1.1000000000000001,0,0.3,30.421999999999997,99.899023897677537,29.71,29.71,29.7,29.68,29.61,29.52,29.41]
[null,2.65,10.53,1.47,1.1100000000000001,0,0.1,30.442499999999995,99.966341299225846,29.71,29.71,29.71,29.7,29.67,29.6,29.51]
[null,2.7,10.53,1.47,1.1100000000000001,0,0,30.452749999999998,100,29.71,29.71,29.71,29.71,29.7,29.67,29.59]

{"sheet":"45","index":51,"n_rows":61,"n_cols":16,"rows_kept":61,"cut":false,"hidden":false,"merged":[]}
[]
[null,"W.B. 8 SB DB",null,null,null,null,null,"S.G.",1.0249999999999999,"[t/m3]"]
[]
[null,"GAUGE","LCG","TCG","VCG","FSM (transv)","FSM (long)","Weight","Fill (%)","Trim=-1,5","Trim=1,0","Trim=-0,5","Trim=0","Trim=0,5","Trim=1,0","Trim=1,5"]
[null,null,"Fwd of AP","PS:+","Above BL"," "," "]
[null,"m","m","m","m","t·m","t·m","t",null,"m3","m3","m3","m3","m3","m3","m3"]
[null,0,13.55,-0.86,0.02,0,0.4,{"$f":"M7*$I$2","v":2.0499999999999997E-2},{"$f":"M7/$M$61*100","v":6.7317401548300237E-2},0.01,0.02,0.02,0.02,0.02,0.03,0.03]
[null,0.05,13.35,-1.1299999999999999,0.05,2,2.6,{"$f":"M8*$I$2","v":0.14349999999999999},{"$f":"M8/$M$61*100","v":0.47122181083810166},0.16,0.15,0.14000000000000001,0.14000000000000001,0.14000000000000001,0.13,0.13]
[null,0.1,13.17,-1.32,0.09,5,5.0999999999999996,0.37924999999999998,1.2453719286435545,0.47,0.42,0.39,0.37,0.35,0.34,0.33]
[null,0.15,12.98,-1.39,0.12,7,7.2,0.71749999999999992,2.3561090541905081,0.92,0.82,0.75,0.7,0.66,0.63,0.6]
[null,0.2,12.8,-1.43,0.15,9,9,1.1479999999999999,3.7697744867048133,1.45,1.32,1.21,1.1200000000000001,1.05,0.99,0.94]
[null,0.25,12.64,-1.45,0.18,11,10.9,1.6707499999999997,5.4863682261864684,2.06,1.89,1.75,1.63,1.52,1.43,1.36]
[null,0.3,12.5,-1.46,0.22,12,12.3,2.2447499999999998,7.3712554695388759,2.72,2.5299999999999998,2.35,2.19,2.06,1.94,1.83]
[null,0.35,12.37,-1.47,0.25,13,13.1,2.8904999999999994,9.4917536183103319,3.45,3.21,3.01,2.82,2.65,2.5,2.37]
[null,0.4,12.26,-1.49,0.28000000000000003,14,14.2,3.5874999999999995,11.780545270952542,4.2300000000000004,3.95,3.71,3.5,3.3,3.12,2.96]
[null,0.45,12.17,-1.5,0.31,14,14.8,4.3152499999999998,14.170313025917199,5.04,4.74,4.46,4.21,3.99,3.78,3.6]
[null,0.5,12.06,-1.51,0.34,16,16.3,5.1044999999999998,16.762032985526758,5.89,5.57,5.26,4.9800000000000004,4.71,4.49,4.28]
[null,0.55000000000000004,11.98,-1.51,0.37,17,17,5.9347499999999993,19.48838774823292,6.8,6.43,6.1,5.79,5.5,5.22,4.99]
[null,0.6,11.9,-1.52,0.4,17,17.899999999999999,6.7957499999999991,22.315718613261527,7.73,7.33,6.96,6.63,6.32,6.02,5.74]
[null,0.65,11.82,-1.53,0.43,18,18.399999999999999,7.6874999999999991,25.24402558061259,8.69,8.27,7.87,7.5,7.16,6.85,6.55]
[null,0.7,11.75,-1.53,0.46,19,19.5,8.6304999999999996,28.340626051834398,9.68,9.24,8.82,8.42,8.0399999999999991,7.7,7.38]
[null,0.75,11.68,-1.54,0.49,20,20.100000000000001,9.5939999999999994,31.504543924604505,10.69,10.23,9.7899999999999991,9.36,8.9600000000000009,8.59,8.24]
[null,0.8,11.61,-1.55,0.52,20,20.6,10.5985,34.803096600471221,11.71,11.24,10.78,10.34,9.91,9.51,9.1300000000000008]
[null,0.85,11.56,-1.55,0.55000000000000004,20,21,11.613249999999999,38.135307977112085,12.75,12.26,11.79,11.33,10.89,10.46,10.050000000000001]
[null,0.9,11.5,-1.56,0.57999999999999996,21,21.4,12.658749999999998,41.568495456075397,13.8,13.3,12.82,12.35,11.89,11.44,11.01]
[null,0.95,11.45,-1.57,0.61,21,21.7,13.714499999999999,45.035341635812856,14.86,14.36,13.86,13.38,12.9,12.44,11.99]
[null,1,11.41,-1.57,0.64,22,22.1,14.780499999999998,48.535846516324469,15.92,15.41,14.91,14.42,13.93,13.46,12.99]
[null,1.05,11.37,-1.58,0.66,22,22.3,15.85675,52.070010097610229,16.989999999999998,16.48,15.97,15.47,14.98,14.49,14.01]
[null,1.1000000000000001,11.33,-1.58,0.69,21,22,16.943249999999999,55.637832379670151,18.07,17.55,17.04,16.53,16.02,15.53,15.04]
[null,1.1499999999999999,11.3,-1.59,0.72,21,22,18.009249999999998,59.138337260181764,19.13,18.61,18.09,17.57,17.059999999999999,16.559999999999999,16.07]
[null,1.2,11.26,-1.59,0.75,20,20.399999999999999,19.03425,62.504207337596775,20.079999999999998,19.61,19.09,18.57,18.05,17.54,17.04]
[null,1.25,11.22,-1.6,0.77,19,19.8,20.028499999999998,65.76910131268933,20.89,20.47,20.04,19.54,19.02,18.510000000000002,18]
[null,1.3,11.18,-1.59,0.79,9,8.6999999999999993,20.868999999999996,68.529114776169635,21.61,21.2,20.78,20.36,19.93,19.440000000000001,18.93]
[null,1.35,11.15,-1.58,0.81,6,6.7,21.55575,70.784247728037698,22.27,21.86,21.44,21.03,20.61,20.2,19.760000000000002]
[null,1.4,11.11,-1.57,0.83,6,6.2,22.211749999999999,72.938404577583299,22.9,22.49,22.08,21.67,21.26,20.85,20.440000000000001]
[null,1.45,11.07,-1.56,0.85,6,6,22.857499999999998,75.058902726354759,23.51,23.11,22.71,22.3,21.89,21.48,21.07]
[null,1.5,11.04,-1.55,0.86,5,5.5,23.451999999999998,77.011107371255463,24.08,23.68,23.28,22.88,22.48,22.08,21.68]
[null,1.55,11,-1.54,0.88,5,5.2,24.036249999999995,78.929653315382026,24.63,24.23,23.84,23.45,23.05,22.65,22.25]
[null,1.6,10.97,-1.53,0.9,5,5.2,24.589749999999995,80.747223157186127,25.14,24.77,24.39,23.99,23.6,23.21,22.82]
[null,1.65,10.94,-1.52,0.91,5,4.7,25.12275,82.497475597441934,25.63,25.26,24.88,24.51,24.13,23.75,23.36]
[null,1.7,10.9,-1.52,0.93,5,4.7,25.624999999999996,84.146751935375292,26.1,25.73,25.37,25,24.63,24.25,23.88]
[null,1.75,10.87,-1.51,0.94,4,4.5,26.106749999999998,85.728710871760342,26.53,26.19,25.83,25.47,25.1,24.74,24.37]
[null,1.8,10.84,-1.51,0.96,4,3.9,26.567999999999998,87.243352406597111,26.93,26.6,26.26,25.92,25.57,25.2,24.84]
[null,1.85,10.81,-1.5,0.97,4,3.9,26.988249999999997,88.62335913833725,27.31,26.99,26.66,26.33,25.99,25.65,25.3]
[null,1.9,10.78,-1.5,0.98,4,3.7,27.387999999999998,89.936048468529108,27.66,27.37,27.05,26.72,26.39,26.06,25.72]
[null,1.95,10.75,-1.49,1,4,3.7,27.7775,91.215079097946813,27.98,27.69,27.4,27.1,26.78,26.45,26.13]
[null,2,10.73,-1.49,1.01,3,3.1,28.125999999999998,92.359474924267928,28.27,28,27.72,27.44,27.15,26.83,26.51]
[null,2.0499999999999998,10.7,-1.48,1.02,3,3.1,28.454000000000001,93.436553349040736,28.55,28.3,28.03,27.76,27.47,27.18,26.89]
[null,2.1,10.68,-1.48,1.03,3,2.8,28.751249999999999,94.412655671491081,28.78,28.55,28.32,28.05,27.78,27.5,27.21]
[null,2.15,10.66,-1.48,1.05,2,2.4,29.038249999999994,95.355099293167285,28.98,28.78,28.56,28.33,28.07,27.8,27.53]
[null,2.2000000000000002,10.64,-1.48,1.05,2,2.2000000000000002,29.284249999999997,96.162908111746887,29.18,28.98,28.79,28.57,28.34,28.09,27.82]
[null,2.25,10.62,-1.47,1.06,2,2,29.509749999999997,96.903399528778181,29.34,29.18,28.98,28.79,28.57,28.35,28.12]
[null,2.2999999999999998,10.6,-1.47,1.07,2,1.8,29.704499999999999,97.54291484348704,29.46,29.34,29.17,28.98,28.79,28.58,28.36]
[null,2.35,10.58,-1.47,1.08,2,1.8,29.899249999999999,98.182430158195899,29.56,29.45,29.33,29.17,28.98,28.79,28.58]
[null,2.4,10.57,-1.47,1.0900000000000001,1,1.2,30.052999999999997,98.687310669808141,29.64,29.55,29.44,29.32,29.17,28.98,28.79]
[null,2.4500000000000002,10.56,-1.47,1.0900000000000001,1,1,30.165749999999996,99.057556378323795,29.69,29.63,29.54,29.43,29.32,29.17,28.98]
[null,2.5,10.55,-1.47,1.1000000000000001,1,0.8,30.278499999999998,99.427802086839449,29.71,29.68,29.62,29.54,29.42,29.31,29.17]
[null,2.5499999999999998,10.54,-1.47,1.1000000000000001,1,0.7,30.360499999999998,{"$f":"M58/$M$61*100","v":99.69707169303264},29.71,29.7,29.68,29.62,29.53,29.42,29.3]
[null,2.6,10.53,-1.47,1.1000000000000001,0,0.3,30.421999999999997,99.899023897677537,29.71,29.71,29.7,29.68,29.61,29.52,29.41]
[null,2.65,10.53,-1.47,1.1100000000000001,0,0.1,30.442499999999995,99.966341299225846,29.71,29.71,29.71,29.7,29.67,29.6,29.52]
[null,2.7,10.53,-1.47,1.1100000000000001,0,0,30.452749999999998,100,29.71,29.71,29.71,29.71,29.7,29.67,29.59]

{"sheet":"46","index":52,"n_rows":163,"n_cols":16,"rows_kept":163,"cut":false,"hidden":false,"merged":[]}
[]
[null,"F.W. 1 PS",null,null,null,null,null,"S.G.",1,"[t/m3]"]
[]
[null,"GAUGE","LCG","TCG","VCG","FSM (transv)","FSM (long)","Weight","Fill (%)","Trim=-1,5","Trim=1,0","Trim=-0,5","Trim=0","Trim=0,5","Trim=1,0","Trim=1,5"]
[null,null,"Fwd of AP","PS:+","Above BL"," "," "]
[null,"m","m","m","m","t·m","t·m","t",null,"m3","m3","m3","m3","m3","m3","m3"]
[null,0,45,2.2200000000000002,0.04,0,0,{"$f":"M7*$I$2","v":0},{"$f":"M7/$M$163*100","v":0},0,0,0,0,0,0.01,0.02]
[null,0.05,45.44,2.15,7.0000000000000007E-2,0,0.1,{"$f":"M8*$I$2","v":0.03},{"$f":"M8/$M$163*100","v":4.0899795501022497E-2},0.02,0.02,0.03,0.03,0.05,7.0000000000000007E-2,0.09]
[null,0.1,45.74,2.15,0.11,0,0.4,0.11,0.14996591683708249,7.0000000000000007E-2,0.08,0.09,0.11,0.14000000000000001,0.18,0.22]
[null,0.15,45.95,2.16,0.14000000000000001,1,0.8,0.24,0.32719836400817998,0.16,0.18,0.2,0.24,0.28000000000000003,0.33,0.38]
[null,0.2,46.13,2.17,0.17,1,1.2,0.4,0.54533060668030009,0.28000000000000003,0.31,0.35,0.4,0.45,0.51,0.56999999999999995]
[null,0.25,46.26,2.17,0.2,2,1.6,0.59,0.80436264485344244,0.43,0.48,0.53,0.59,0.65,0.72,0.79]
[null,0.3,46.37,2.1800000000000002,0.24,2,1.9,0.8,1.0906612133606002,0.62,0.67,0.74,0.8,0.87,0.95,1.03]
[null,0.35,46.46,2.19,0.27,2,2.1,1.04,1.4178595773687801,0.83,0.89,0.97,1.04,1.1200000000000001,1.21,1.29]
[null,0.4,46.52,2.19,0.28999999999999998,2,2.2999999999999998,1.3,1.772324471710975,1.06,1.1399999999999999,1.22,1.3,1.38,1.46,1.54]
[null,0.45,46.58,2.2000000000000002,0.32,2,2.4,1.53,2.0858895705521472,1.31,1.38,1.45,1.53,1.61,1.69,1.78]
[null,0.5,46.63,2.2000000000000002,0.35,3,2.5,1.77,2.4130879345603273,1.53,1.6,1.68,1.77,1.85,1.93,2.02]
[null,0.55000000000000004,46.68,2.21,0.37,3,2.5,1.99,2.7130197682344921,1.76,1.83,1.91,1.99,2.08,2.17,2.2599999999999998]
[null,0.6,46.72,2.2200000000000002,0.4,2,2.5,2.23,3.0402181322426722,1.98,2.06,2.14,2.23,2.3199999999999998,2.41,2.5099999999999998]
[null,0.65,46.77,2.2200000000000002,0.43,3,2.6,2.48,3.3810497614178598,2.21,2.2999999999999998,2.39,2.48,2.57,2.67,2.75]
[null,0.7,46.8,2.2200000000000002,0.45,3,2.7,2.72,3.70824812542604,2.46,2.54,2.63,2.72,2.8,2.89,2.98]
[null,0.75,46.84,2.2200000000000002,0.47,3,2.7,2.93,3.9945466939331973,2.67,2.76,2.84,2.93,3.01,3.1,3.2]
[null,0.8,46.87,2.23,0.5,3,2.8,3.14,4.280845262440355,2.88,2.97,3.05,3.14,3.23,3.33,3.42]
[null,0.85,46.91,2.23,0.52,3,2.9,3.37,4.5944103612815281,3.1,3.18,3.27,3.37,3.46,3.55,3.65]
[null,0.9,46.93,2.2400000000000002,0.55000000000000004,3,3,3.59,4.8943421949556924,3.32,3.41,3.5,3.59,3.69,3.79,3.89]
[null,0.95,46.96,2.2400000000000002,0.57999999999999996,3,3.1,3.83,5.2215405589638726,3.54,3.63,3.73,3.83,3.92,4.0199999999999996,4.12]
[null,1,46.98,2.25,0.6,3,3.1,4.0599999999999996,5.5351056578050439,3.77,3.87,3.96,4.0599999999999996,4.16,4.26,4.37]
[null,1.05,47.01,2.25,0.63,3,3.2,4.3,5.8623040218132241,4.01,4.0999999999999996,4.2,4.3,4.41,4.51,4.6100000000000003]
[null,1.1000000000000001,47.03,2.2599999999999998,0.66,3,3.2,4.55,6.2031356509884112,4.24,4.34,4.45,4.55,4.6500000000000004,4.75,4.8600000000000003]
[null,1.1499999999999999,47.04,2.2599999999999998,0.68,3,3.3,4.79,6.5303340149965914,4.49,4.59,4.6900000000000004,4.79,4.9000000000000004,5,5.1100000000000003]
[null,1.2,47.06,2.27,0.71,3,3.3,5.04,6.8711656441717794,4.7300000000000004,4.84,4.9400000000000004,5.04,5.15,5.26,5.36]
[null,1.25,47.08,2.27,0.74,3,3.4,5.3,7.2256305385139745,4.9800000000000004,5.09,5.19,5.3,5.4,5.51,5.62]
[null,1.3,47.09,2.2799999999999998,0.76,3,3.4,5.54,7.5528289025221547,5.23,5.33,5.44,5.54,5.65,5.76,5.87]
[null,1.35,47.11,2.2799999999999998,0.79,3,3.5,5.8,7.9072937968643497,5.48,5.58,5.69,5.8,5.91,6.02,6.13]
[null,1.4,47.12,2.29,0.82,4,3.5,6.06,8.2617586912065448,5.73,5.84,5.95,6.06,6.17,6.28,6.39]
[null,1.45,47.13,2.29,0.84,4,3.6,6.32,8.6162235855487399,5.99,6.1,6.21,6.32,6.43,6.54,6.65]
[null,1.5,47.14,2.29,0.87,4,3.6,6.58,8.970688479890935,6.25,6.36,6.47,6.58,6.69,6.8,6.92]
[null,1.55,47.15,2.2999999999999998,0.9,4,3.6,6.84,9.3251533742331283,6.51,6.62,6.73,6.84,6.96,7.07,7.18]
[null,1.6,47.16,2.2999999999999998,0.93,4,3.6,7.11,9.6932515337423322,6.77,6.89,7,7.11,7.22,7.33,7.45]
[null,1.65,47.17,2.2999999999999998,0.95,4,3.6,7.37,10.047716428084527,7.04,7.15,7.26,7.37,7.49,7.6,7.71]
[null,1.7,47.18,2.31,0.98,4,3.9,7.64,10.415814587593729,7.3,7.42,7.53,7.64,7.75,7.86,7.98]
[null,1.75,47.19,2.31,1.01,4,4.2,7.91,10.783912747102931,7.57,7.68,7.79,7.91,8.02,8.1300000000000008,8.24]
[null,1.8,47.19,2.3199999999999998,1.04,4,4.3,8.17,11.138377641445127,7.84,7.95,8.06,8.17,8.2899999999999991,8.4,8.51]
[null,1.85,47.2,2.33,1.07,4,4.3,8.44,11.506475800954329,8.1,8.2100000000000009,8.33,8.44,8.56,8.68,8.81]
[null,1.9,47.2,2.33,1.1000000000000001,5,4.5,8.76,11.942740286298568,8.39,8.51,8.6300000000000008,8.76,8.89,9.01,9.14]
[null,1.95,47.2,2.34,1.1299999999999999,5,4.7,9.09,12.392638036809817,8.7100000000000009,8.84,8.9600000000000009,9.09,9.2200000000000006,9.34,9.4700000000000006]
[null,2,47.2,2.34,1.1599999999999999,5,4.9000000000000004,9.42,12.842535787321063,9.0399999999999991,9.16,9.2899999999999991,9.42,9.5399999999999991,9.67,9.8000000000000007]
[null,2.0499999999999998,47.2,2.35,1.2,5,5.2,9.75,13.292433537832313,9.3699999999999992,9.49,9.6199999999999992,9.75,9.89,10.02,10.15]
[null,2.1,47.19,2.36,1.23,5,5.3,10.11,13.78323108384458,9.7100000000000009,9.84,9.98,10.11,10.24,10.38,10.51]
[null,2.15,47.19,2.36,1.27,5,5.3,10.49,14.301295160190866,10.07,10.199999999999999,10.34,10.49,10.64,10.79,10.94]
[null,2.2000000000000002,47.18,2.37,1.31,5,5.4,10.92,14.88752556237219,10.47,10.62,10.77,10.92,11.07,11.22,11.37]
[null,2.25,47.18,2.38,1.34,5,5.4,11.36,15.487389229720518,10.9,11.06,11.21,11.36,11.5,11.65,11.8]
[null,2.2999999999999998,47.17,2.38,1.38,5,5.3,11.79,16.073619631901838,11.34,11.49,11.64,11.79,11.93,12.08,12.23]
[null,2.35,47.17,2.38,1.41,5,5.3,12.21,16.646216768916158,11.77,11.92,12.07,12.21,12.36,12.51,12.65]
[null,2.4,47.16,2.39,1.45,5,5.3,12.64,17.23244717109748,12.2,12.35,12.49,12.64,12.78,12.93,13.07]
[null,2.4500000000000002,47.16,2.39,1.48,5,5.2,13.06,17.805044308111796,12.62,12.77,12.92,13.06,13.21,13.35,13.49]
[null,2.5,47.15,2.39,1.51,5,5.2,13.48,18.377641445126113,13.05,13.19,13.34,13.48,13.63,13.77,13.91]
[null,2.5499999999999998,47.15,2.4,1.54,5,5.2,13.9,18.950238582140425,13.47,13.61,13.76,13.9,14.04,14.18,14.32]
[null,2.6,47.14,2.4,1.57,5,5.0999999999999996,14.32,19.522835719154742,13.89,14.03,14.17,14.32,14.46,14.59,14.73]
[null,2.65,47.14,2.4,1.6,5,5.0999999999999996,14.73,20.081799591002046,14.31,14.45,14.59,14.73,14.87,15,15.14]
[null,2.7,47.13,2.4,1.63,5,5.0999999999999996,15.14,20.640763462849353,14.72,14.86,15,15.14,15.27,15.41,15.54]
[null,2.75,47.13,2.4,1.66,5,5.0999999999999996,15.54,21.186094069529656,15.13,15.27,15.41,15.54,15.68,15.81,15.94]
[null,2.8,47.13,2.41,1.69,5,5,15.95,21.74505794137696,15.54,15.68,15.81,15.95,16.079999999999998,16.21,16.34]
[null,2.85,47.12,2.41,1.72,5,5,16.350000000000001,22.290388548057262,15.94,16.079999999999998,16.21,16.350000000000001,16.48,16.61,16.739999999999998]
[null,2.9,47.12,2.41,1.75,5,5,16.739999999999998,22.822085889570552,16.350000000000001,16.48,16.61,16.739999999999998,16.87,17,17.13]
[null,2.95,47.11,2.41,1.78,5,5,17.14,23.367416496250854,16.739999999999998,16.88,17.010000000000002,17.14,17.260000000000002,17.39,17.510000000000002]
[null,3,47.11,2.41,1.8,5,5,17.53,23.899113837764148,17.14,17.27,17.399999999999999,17.53,17.649999999999999,17.78,17.899999999999999]
[null,3.05,47.11,2.41,1.83,5,5,17.91,24.417177914110432,17.53,17.66,17.79,17.91,18.04,18.16,18.28]
[null,3.1,47.1,2.41,1.86,5,5,18.3,24.948875255623726,17.920000000000002,18.05,18.170000000000002,18.3,18.420000000000002,18.54,18.66]
[null,3.15,47.1,2.42,1.88,5,5,18.68,25.466939331970007,18.309999999999999,18.43,18.559999999999999,18.68,18.8,18.920000000000002,19.04]
[null,3.2,47.09,2.42,1.91,5,5,19.059999999999999,25.985003408316292,18.690000000000001,18.82,18.940000000000001,19.059999999999999,19.18,19.29,19.41]
[null,3.25,47.09,2.42,1.94,5,5,{"$f":"M72*$I$2","v":19.43},{"$f":"M72/$M$163*100","v":26.489434219495571},19.079999999999998,19.2,19.309999999999999,19.43,19.55,19.670000000000002,19.78]
[null,3.3,47.08,2.42,1.96,5,5,19.809999999999999,27.007498295841852,19.45,19.57,19.690000000000001,19.809999999999999,19.920000000000002,20.03,20.149999999999999]
[null,3.35,47.08,2.42,1.99,5,5,20.18,27.511929107021132,19.829999999999998,19.95,20.059999999999999,20.18,20.29,20.399999999999999,20.51]
[null,3.4,47.07,2.42,2.02,5,5.0999999999999996,20.55,28.016359918200411,20.2,20.32,20.43,20.55,20.66,20.77,20.88]
[null,3.45,47.07,2.42,2.04,5,5.0999999999999996,20.91,28.507157464212678,20.57,20.69,20.8,20.91,21.02,21.13,21.24]
[null,3.5,47.06,2.42,2.0699999999999998,5,5.0999999999999996,21.28,29.011588275391958,20.94,21.06,21.17,21.28,21.38,21.49,21.6]
[null,3.55,47.06,2.4300000000000002,2.09,5,5.0999999999999996,21.64,29.502385821404232,21.31,21.42,21.53,21.64,21.75,21.85,21.96]
[null,3.6,47.05,2.4300000000000002,2.12,5,5.2,22,29.993183367416499,21.68,21.78,21.89,22,22.11,22.21,22.31]
[null,3.65,47.05,2.4300000000000002,2.14,5,5.2,22.36,30.483980913428766,22.04,22.15,22.25,22.36,22.46,22.57,22.67]
[null,3.7,47.04,2.4300000000000002,2.17,5,5.2,22.72,30.974778459441037,22.4,22.51,22.61,22.72,22.82,22.92,23.03]
[null,3.75,47.04,2.4300000000000002,2.19,5,5.3,23.08,31.465576005453304,22.76,22.87,22.97,23.08,23.18,23.28,23.38]
[null,3.8,47.04,2.4300000000000002,2.2200000000000002,5,5.3,23.43,31.942740286298569,23.12,23.23,23.33,23.43,23.53,23.64,23.74]
[null,3.85,47.03,2.4300000000000002,2.2400000000000002,5,5.4,23.79,32.43353783231084,23.48,23.58,23.69,23.79,23.89,23.99,24.09]
[null,3.9,47.03,2.44,2.27,5,5.4,24.15,32.924335378323107,23.84,23.94,24.05,24.15,24.25,24.35,24.45]
[null,3.95,47.02,2.44,2.29,5,5.5,24.5,33.401499659168373,24.2,24.3,24.4,24.5,24.61,24.71,24.81]
[null,4,47.02,2.44,2.3199999999999998,6,5.5,24.86,33.892297205180647,24.56,24.66,24.76,24.86,24.96,25.07,25.17]
[null,4.05,47.01,2.44,2.34,6,5.6,25.22,34.383094751192914,24.92,25.02,25.12,25.22,25.32,25.43,25.53]
[null,4.0999999999999996,47.01,2.44,2.37,6,5.7,25.58,34.873892297205181,25.28,25.38,25.48,25.58,25.68,25.79,25.89]
[null,4.1500000000000004,47,2.4500000000000002,2.4,6,5.8,25.94,35.364689843217455,25.64,25.74,25.84,25.94,26.05,26.15,26.25]
[null,4.2,47,2.4500000000000002,2.42,6,5.9,26.31,35.869120654396731,26,26.1,26.21,26.31,26.41,26.52,26.62]
[null,4.25,46.99,2.4500000000000002,2.4500000000000002,6,6,26.68,36.373551465576007,26.37,26.47,26.57,26.68,26.78,26.88,26.99]
[null,4.3,46.99,2.4500000000000002,2.4700000000000002,6,6.2,27.04,36.864349011588274,26.73,26.84,26.94,27.04,27.15,27.25,27.36]
[null,4.3499999999999996,46.98,2.4500000000000002,2.5,6,6.3,27.42,37.382413087934566,27.1,27.21,27.31,27.42,27.52,27.63,27.74]
[null,4.4000000000000004,46.98,2.46,2.5299999999999998,6,6.4,27.79,37.886843899113835,27.47,27.58,27.68,27.79,27.9,28.01,28.11]
[null,4.45,46.98,2.46,2.5499999999999998,7,6.6,28.17,38.404907975460127,27.85,27.95,28.06,28.17,28.28,28.39,28.5]
[null,4.5,46.97,2.46,2.58,7,6.8,28.55,38.922972051806411,28.23,28.33,28.44,28.55,28.66,28.77,28.88]
[null,4.55,46.97,2.46,2.61,7,6.9,28.94,39.454669393319705,28.61,28.72,28.83,28.94,29.05,29.16,29.27]
[null,4.5999999999999996,46.96,2.4700000000000002,2.64,7,7.1,29.33,39.986366734832998,28.99,29.1,29.21,29.33,29.44,29.55,29.67]
[null,4.6500000000000004,46.96,2.4700000000000002,2.66,7,7.3,29.72,40.518064076346292,29.38,29.49,29.61,29.72,29.84,29.95,30.07]
[null,4.7,46.96,2.4700000000000002,2.69,8,7.5,30.12,41.063394683026587,29.78,29.89,30,30.12,30.24,30.35,30.47]
[null,4.75,46.95,2.48,2.72,8,7.8,30.52,41.608725289706889,30.17,30.29,30.41,30.52,30.64,30.76,30.88]
[null,4.8,46.95,2.48,2.75,8,8,30.93,42.167689161554193,30.58,30.69,30.81,30.93,31.05,31.18,31.3]
[null,4.8499999999999996,46.95,2.48,2.78,8,8.3000000000000007,31.35,42.740286298568513,30.99,31.1,31.23,31.35,31.47,31.6,31.72]
[null,4.9000000000000004,46.95,2.4900000000000002,2.81,9,8.5,31.77,43.312883435582826,31.4,31.52,31.64,31.77,31.89,32.020000000000003,32.15]
[null,4.95,46.94,2.4900000000000002,2.84,9,8.8000000000000007,32.19,43.885480572597132,31.82,31.94,32.07,32.19,32.32,32.450000000000003,32.58]
[null,5,46.94,2.4900000000000002,2.87,9,9.1,32.630000000000003,44.485344239945476,32.24,32.369999999999997,32.5,32.630000000000003,32.76,32.89,33.03]
[null,5.05,46.94,2.5,2.9,9,9.4,33.07,45.0852079072938,32.68,32.799999999999997,32.94,33.07,33.200000000000003,33.340000000000003,33.479999999999997]
[null,5.0999999999999996,46.94,2.5,2.93,10,9.8000000000000007,33.520000000000003,45.698704839809139,33.11,33.25,33.380000000000003,33.520000000000003,33.65,33.79,33.93]
[null,5.15,46.93,2.5,2.96,10,10.1,33.97,46.312201772324471,33.56,33.69,33.83,33.97,34.11,34.25,34.4]
[null,5.2,46.93,2.5099999999999998,2.99,10,10.5,34.43,46.939331970006819,34.01,34.15,34.29,34.43,34.58,34.72,34.869999999999997]
[null,5.25,46.93,2.5099999999999998,3.03,11,10.9,34.9,47.580095432856176,34.47,34.619999999999997,34.76,34.9,35.049999999999997,35.200000000000003,35.36]
[null,5.3,46.93,2.52,3.06,11,11.3,35.380000000000003,48.234492160872541,34.94,35.090000000000003,35.229999999999997,35.380000000000003,35.54,35.69,35.85]
[null,5.35,46.93,2.52,3.09,12,11.7,35.869999999999997,48.902522154055895,35.42,35.57,35.72,35.869999999999997,36.03,36.19,36.35]
[null,5.4,46.93,2.5299999999999998,3.13,12,12.2,36.369999999999997,49.584185412406271,35.909999999999997,36.06,36.21,36.369999999999997,36.53,36.69,36.86]
[null,5.45,46.92,2.5299999999999998,3.16,13,12.6,36.880000000000003,50.279481935923663,36.4,36.56,36.72,36.880000000000003,37.04,37.21,37.380000000000003]
[null,5.5,46.92,2.54,3.2,13,13.1,37.4,50.988411724608042,36.909999999999997,37.07,37.229999999999997,37.4,37.57,37.74,37.909999999999997]
[null,5.55,46.92,2.54,3.23,14,13.6,37.92,51.697341513292436,37.42,37.590000000000003,37.75,37.92,38.1,38.28,38.46]
[null,5.6,46.92,2.5499999999999998,3.27,14,14.2,38.46,52.43353783231084,37.94,38.11,38.29,38.46,38.64,38.82,39.01]
[null,5.65,46.92,2.56,3.3,15,14.7,39.01,53.183367416496253,38.479999999999997,38.65,38.83,39.01,39.200000000000003,39.380000000000003,39.57]
[null,5.7,46.92,2.56,3.34,15,15.3,39.57,53.946830265848675,39.03,39.21,39.39,39.57,39.76,39.96,40.15]
[null,5.75,46.92,2.57,3.38,16,15.9,40.15,54.737559645535107,39.58,39.770000000000003,39.96,40.15,40.340000000000003,40.54,40.74]
[null,5.8,46.92,2.58,3.42,16,16.5,40.729999999999997,55.528289025221547,40.15,40.340000000000003,40.53,40.729999999999997,40.93,41.13,41.34]
[null,5.85,46.92,2.58,3.45,17,17.100000000000001,41.33,56.346284935241997,40.729999999999997,40.93,41.13,41.33,41.53,41.74,41.95]
[null,5.9,46.93,2.59,3.49,18,17.8,41.94,57.177914110429448,41.32,41.52,41.73,41.94,42.15,42.36,42.58]
[null,5.95,46.93,2.6,3.53,18,18.5,42.56,58.023176550783916,41.93,42.13,42.34,42.56,42.77,43,43.22]
[null,6,46.93,2.61,3.57,19,19.2,43.19,58.882072256305385,42.54,42.76,42.97,43.19,43.41,43.64,43.87]
[null,6.05,46.93,2.62,3.61,20,19.899999999999999,43.84,59.768234492160879,43.17,43.39,43.61,43.84,44.07,44.3,44.54]
[null,6.1,46.93,2.63,3.65,21,20.6,44.5,60.668029993183367,43.81,44.04,44.26,44.5,44.73,44.97,45.21]
[null,6.15,46.93,2.63,3.69,21,21.4,45.17,61.581458759372879,44.47,44.7,44.93,45.17,45.41,45.65,45.9]
[null,6.2,46.94,2.64,3.73,22,22.1,45.85,62.508520790729385,45.13,45.37,45.61,45.85,46.1,46.35,46.61]
[null,6.25,46.94,2.65,3.77,23,22.9,46.55,63.462849352419902,45.81,46.05,46.3,46.55,46.8,47.06,47.32]
[null,6.3,46.94,2.66,3.82,24,23.7,47.26,64.430811179277441,46.5,46.75,47,47.26,47.52,47.78,48.05]
[null,6.35,46.94,2.67,3.86,25,24.6,47.98,65.412406271301975,47.21,47.46,47.72,47.98,48.25,48.52,48.79]
[null,6.4,46.95,2.68,3.9,25,25.4,48.72,66.421267893660541,47.93,48.19,48.45,48.72,48.99,49.27,49.55]
[null,6.45,46.95,2.69,3.94,26,26.3,{"$f":"M136*$I$2","v":49.47},{"$f":"M136/$M$163*100","v":67.443762781186095},48.66,48.92,49.2,49.47,49.75,50.03,50.31]
[null,6.5,46.95,2.71,3.99,27,27.1,50.23,68.479890933878664,49.4,49.67,49.95,50.23,50.52,50.8,51.09]
[null,6.55,46.96,2.72,4.03,28,28,51.01,69.543285616905251,50.16,50.44,50.72,51.01,51.3,51.59,51.89]
[null,6.6,46.96,2.73,4.07,29,28.9,51.79,70.606680299931838,50.93,51.21,51.5,51.79,52.09,52.39,52.69]
[null,6.65,46.96,2.74,4.1100000000000003,30,29.8,52.59,71.697341513292443,51.71,52,52.29,52.59,52.89,53.2,53.51]
[null,6.7,46.97,2.75,4.16,31,30.7,53.4,72.801635991820049,52.5,52.8,53.1,53.4,53.71,54.02,54.34]
[null,6.75,46.97,2.76,4.2,32,31.6,54.23,73.933197000681659,53.31,53.61,53.92,54.23,54.54,54.86,55.18]
[null,6.8,46.97,2.78,4.24,33,32.6,55.06,75.064758009543297,54.13,54.44,54.75,55.06,55.38,55.7,56.03]
[null,6.85,46.98,2.79,4.29,34,33.5,55.91,76.223585548738924,54.96,55.27,55.59,55.91,56.23,56.56,56.89]
[null,6.9,46.98,2.8,4.33,34,34.5,56.77,77.396046353101582,55.8,56.12,56.44,56.77,57.1,57.43,57.76]
[null,6.95,46.98,2.81,4.37,35,35.4,57.64,78.582140422631227,56.66,56.98,57.31,57.64,57.97,58.31,58.65]
[null,7,46.99,2.82,4.41,36,36.4,58.52,79.781867757327902,57.52,57.85,58.18,58.52,58.86,59.2,59.55]
[null,7.05,46.99,2.84,4.46,37,37.4,59.41,80.99522835719155,58.4,58.73,59.07,59.41,59.76,60.1,60.45]
[null,7.1,46.99,2.85,4.5,38,38.4,60.31,82.222222222222229,59.29,59.63,59.97,60.31,60.66,61.01,61.37]
[null,7.15,47,2.86,4.54,39,39.299999999999997,61.23,83.47648261758691,60.18,60.53,60.88,61.23,61.58,61.94,62.3]
[null,7.2,47,2.88,4.59,40,40.299999999999997,62.15,84.730743012951606,61.09,61.44,61.8,62.15,62.51,62.87,63.23]
[null,7.25,47.01,2.89,4.63,41,41.3,63.08,85.998636673483304,62.01,62.37,62.72,63.08,63.45,63.81,64.180000000000007]
[null,7.3,47.01,2.9,4.67,42,42.3,64.03,87.293796864349019,62.94,63.3,63.66,64.03,64.39,64.760000000000005,65.14]
[null,7.35,47.01,2.91,4.71,42,41.9,64.98,88.588957055214735,63.88,64.25,64.61,64.98,65.349999999999994,65.73,66.099999999999994]
[null,7.4,47.02,2.93,4.75,36,35.700000000000003,65.94,89.897750511247438,64.83,65.2,65.569999999999993,65.94,66.319999999999993,66.7,67.08]
[null,7.45,47.02,2.93,4.79,27,27.5,66.91,91.22017723244717,65.790000000000006,66.16,66.540000000000006,66.91,67.290000000000006,67.680000000000007,68.06]
[null,7.5,47.03,2.94,4.83,19,19.3,67.900000000000006,92.569870483980935,66.760000000000005,67.14,67.52,67.900000000000006,68.28,68.67,69.06]
[null,7.55,47.03,2.94,4.8600000000000003,12,12,68.89,93.919563735514672,67.739999999999995,68.12,68.5,68.89,69.28,69.67,70.06]
[null,7.6,47.04,2.94,4.88,7,6.7,69.89,95.28289025221541,68.73,69.11,69.5,69.89,70.28,70.67,71.069999999999993]
[null,7.65,47.04,2.94,4.9000000000000004,3,3.3,70.900000000000006,96.659850034083178,69.72,70.11,70.5,70.900000000000006,71.290000000000006,71.69,72.08]
[null,7.7,47.04,2.93,4.92,1,1.3,71.91,98.036809815950917,70.73,71.12,71.52,71.91,72.31,72.69,72.88]
[null,7.75,47.04,2.93,4.93,0,0.3,72.94,99.441036128152689,71.739999999999995,72.14,72.540000000000006,72.94,73.23,73.28,73.3]
[null,7.77,47.04,2.93,4.93,0,0.2,73.349999999999994,100,72.150000000000006,72.55,72.95,73.349999999999994,73.349999999999994,73.349999999999994,73.349999999999994]

{"sheet":"47","index":53,"n_rows":163,"n_cols":16,"rows_kept":163,"cut":false,"hidden":false,"merged":[]}
[]
[null,"F.W. 1 SB",null,null,null,null,null,"S.G.",1,"[t/m3]"]
[]
[null,"GAUGE","LCG","TCG","VCG","FSM (transv)","FSM (long)","Weight","Fill (%)","Trim=-1,5","Trim=1,0","Trim=-0,5","Trim=0","Trim=0,5","Trim=1,0","Trim=1,5"]
[null,null,"Fwd of AP","PS:+","Above BL"," "," "]
[null,"m","m","m","m","t·m","t·m","t",null,"m3","m3","m3","m3","m3","m3","m3"]
[null,0,45.36,-1.81,0.03,0,0,{"$f":"M7*$I$2","v":0},{"$f":"M7/$M$163*100","v":0},0,0,0,0,0,0.01,0.02]
[null,0.05,45.87,-1.86,0.06,0,0.1,{"$f":"M8*$I$2","v":0.03},{"$f":"M8/$M$163*100","v":4.0899795501022497E-2},0.02,0.02,0.03,0.03,0.05,7.0000000000000007E-2,0.09]
[null,0.1,46.15,-1.89,0.09,0,0.3,0.11,0.14996591683708249,7.0000000000000007E-2,0.08,0.09,0.11,0.14000000000000001,0.18,0.22]
[null,0.15,46.34,-1.92,0.13,1,0.6,0.24,0.32719836400817998,0.16,0.18,0.2,0.24,0.28000000000000003,0.33,0.38]
[null,0.2,46.47,-1.95,0.16,1,0.8,0.4,0.54533060668030009,0.28000000000000003,0.31,0.35,0.4,0.45,0.51,0.56999999999999995]
[null,0.25,46.55,-1.98,0.19,1,1.1000000000000001,0.59,0.80436264485344244,0.43,0.48,0.53,0.59,0.65,0.72,0.79]
[null,0.3,46.62,-2.0099999999999998,0.22,1,1.4,0.8,1.0906612133606002,0.62,0.67,0.74,0.8,0.87,0.95,1.03]
[null,0.35,46.67,-2.0299999999999998,0.25,2,1.6,1.04,1.4178595773687801,0.83,0.89,0.97,1.04,1.1200000000000001,1.21,1.29]
[null,0.4,46.71,-2.06,0.28000000000000003,2,1.9,1.3,1.772324471710975,1.06,1.1399999999999999,1.22,1.3,1.38,1.46,1.54]
[null,0.45,46.75,-2.08,0.31,2,1.9,1.53,2.0858895705521472,1.31,1.38,1.45,1.53,1.61,1.69,1.78]
[null,0.5,46.79,-2.09,0.33,2,2.1,1.77,2.4130879345603273,1.53,1.6,1.68,1.77,1.85,1.93,2.02]
[null,0.55000000000000004,46.82,-2.1,0.36,2,2.2000000000000002,1.99,2.7130197682344921,1.76,1.83,1.91,1.99,2.08,2.17,2.2599999999999998]
[null,0.6,46.85,-2.12,0.39,2,2.2999999999999998,2.23,3.0402181322426722,1.98,2.06,2.14,2.23,2.3199999999999998,2.41,2.5099999999999998]
[null,0.65,46.88,-2.13,0.41,2,2.5,2.48,3.3810497614178598,2.21,2.2999999999999998,2.39,2.48,2.57,2.67,2.75]
[null,0.7,46.91,-2.14,0.44,2,2.2000000000000002,2.72,3.70824812542604,2.46,2.54,2.63,2.72,2.8,2.89,2.98]
[null,0.75,46.94,-2.15,0.46,2,2.2999999999999998,2.93,3.9945466939331973,2.67,2.76,2.84,2.93,3.01,3.1,3.2]
[null,0.8,46.97,-2.15,0.48,2,2.4,3.14,4.280845262440355,2.88,2.97,3.05,3.14,3.23,3.33,3.42]
[null,0.85,46.99,-2.16,0.51,3,2.5,3.37,4.5944103612815281,3.1,3.18,3.27,3.37,3.46,3.55,3.65]
[null,0.9,47.02,-2.17,0.53,3,2.6,3.59,4.8943421949556924,3.32,3.41,3.5,3.59,3.69,3.79,3.89]
[null,0.95,47.04,-2.1800000000000002,0.56000000000000005,3,2.7,3.83,5.2215405589638726,3.54,3.63,3.73,3.83,3.92,4.0199999999999996,4.12]
[null,1,47.06,-2.1800000000000002,0.59,3,2.8,4.0599999999999996,5.5351056578050439,3.77,3.87,3.96,4.0599999999999996,4.16,4.26,4.37]
[null,1.05,47.08,-2.19,0.61,3,2.9,4.3,5.8623040218132241,4.01,4.0999999999999996,4.2,4.3,4.41,4.51,4.6100000000000003]
[null,1.1000000000000001,47.1,-2.2000000000000002,0.64,3,3,4.55,6.2031356509884112,4.24,4.34,4.45,4.55,4.6500000000000004,4.75,4.8600000000000003]
[null,1.1499999999999999,47.11,-2.2000000000000002,0.67,3,3,4.79,6.5303340149965914,4.49,4.59,4.6900000000000004,4.79,4.9000000000000004,5,5.1100000000000003]
[null,1.2,47.13,-2.21,0.69,3,3.1,5.04,6.8711656441717794,4.7300000000000004,4.84,4.9400000000000004,5.04,5.15,5.26,5.36]
[null,1.25,47.14,-2.2200000000000002,0.72,3,3.2,5.3,7.2256305385139745,4.9800000000000004,5.09,5.19,5.3,5.4,5.51,5.62]
[null,1.3,47.16,-2.2200000000000002,0.74,3,3.2,5.54,7.5528289025221547,5.23,5.33,5.44,5.54,5.65,5.76,5.87]
[null,1.35,47.17,-2.23,0.77,3,3.3,5.8,7.9072937968643497,5.48,5.58,5.69,5.8,5.91,6.02,6.13]
[null,1.4,47.18,-2.23,0.8,3,3.3,6.06,8.2617586912065448,5.73,5.84,5.95,6.06,6.17,6.28,6.39]
[null,1.45,47.19,-2.2400000000000002,0.83,3,3.4,6.32,8.6162235855487399,5.99,6.1,6.21,6.32,6.43,6.54,6.65]
[null,1.5,47.2,-2.25,0.85,3,3.4,6.58,8.970688479890935,6.25,6.36,6.47,6.58,6.69,6.8,6.92]
[null,1.55,47.21,-2.25,0.88,3,3.4,6.84,9.3251533742331283,6.51,6.62,6.73,6.84,6.96,7.07,7.18]
[null,1.6,47.22,-2.2599999999999998,0.91,3,3.5,7.11,9.6932515337423322,6.77,6.89,7,7.11,7.22,7.33,7.45]
[null,1.65,47.22,-2.2599999999999998,0.93,4,3.5,7.37,10.047716428084527,7.04,7.15,7.26,7.37,7.49,7.6,7.71]
[null,1.7,47.23,-2.27,0.96,4,3.5,7.64,10.415814587593729,7.3,7.42,7.53,7.64,7.75,7.86,7.98]
[null,1.75,47.24,-2.27,0.99,4,3.6,7.91,10.783912747102931,7.57,7.68,7.79,7.91,8.02,8.1300000000000008,8.24]
[null,1.8,47.24,-2.27,1.01,4,3.6,8.17,11.138377641445127,7.84,7.95,8.06,8.17,8.2899999999999991,8.4,8.51]
[null,1.85,47.25,-2.2799999999999998,1.04,4,3.6,8.44,11.506475800954329,8.1,8.2100000000000009,8.33,8.44,8.56,8.68,8.81]
[null,1.9,47.25,-2.2799999999999998,1.07,4,4.4000000000000004,8.76,11.942740286298568,8.39,8.51,8.6300000000000008,8.76,8.89,9.01,9.14]
[null,1.95,47.25,-2.29,1.1000000000000001,4,4.4000000000000004,9.09,12.392638036809817,8.7100000000000009,8.84,8.9600000000000009,9.09,9.2200000000000006,9.34,9.4700000000000006]
[null,2,47.25,-2.2999999999999998,1.1399999999999999,4,4.4000000000000004,9.42,12.842535787321063,9.0399999999999991,9.16,9.2899999999999991,9.42,9.5399999999999991,9.67,9.8000000000000007]
[null,2.0499999999999998,47.25,-2.2999999999999998,1.17,5,4.7,9.75,13.292433537832313,9.3699999999999992,9.49,9.6199999999999992,9.75,9.89,10.02,10.15]
[null,2.1,47.24,-2.31,1.2,5,4.7,10.11,13.78323108384458,9.7100000000000009,9.84,9.98,10.11,10.24,10.38,10.51]
[null,2.15,47.24,-2.31,1.24,5,5.3,10.49,14.301295160190866,10.07,10.199999999999999,10.34,10.49,10.64,10.79,10.94]
[null,2.2000000000000002,47.23,-2.3199999999999998,1.27,5,5.4,10.92,14.88752556237219,10.47,10.62,10.77,10.92,11.07,11.22,11.37]
[null,2.25,47.22,-2.33,1.31,5,5.4,11.36,15.487389229720518,10.9,11.06,11.21,11.36,11.5,11.65,11.8]
[null,2.2999999999999998,47.22,-2.34,1.35,5,5.4,11.79,16.073619631901838,11.34,11.49,11.64,11.79,11.93,12.08,12.23]
[null,2.35,47.21,-2.34,1.38,5,5.3,12.21,16.646216768916158,11.77,11.92,12.07,12.21,12.36,12.51,12.65]
[null,2.4,47.2,-2.35,1.42,5,5.3,12.64,17.23244717109748,12.2,12.35,12.49,12.64,12.78,12.93,13.07]
[null,2.4500000000000002,47.2,-2.35,1.45,5,5.3,13.06,17.805044308111796,12.62,12.77,12.92,13.06,13.21,13.35,13.49]
[null,2.5,47.19,-2.36,1.48,5,5.2,13.48,18.377641445126113,13.05,13.19,13.34,13.48,13.63,13.77,13.91]
[null,2.5499999999999998,47.19,-2.36,1.52,5,5.2,13.9,18.950238582140425,13.47,13.61,13.76,13.9,14.04,14.18,14.32]
[null,2.6,47.18,-2.37,1.55,5,5.2,14.32,19.522835719154742,13.89,14.03,14.17,14.32,14.46,14.59,14.73]
[null,2.65,47.17,-2.37,1.58,5,5.0999999999999996,14.73,20.081799591002046,14.31,14.45,14.59,14.73,14.87,15,15.14]
[null,2.7,47.17,-2.37,1.61,5,5.0999999999999996,15.14,20.640763462849353,14.72,14.86,15,15.14,15.27,15.41,15.54]
[null,2.75,47.16,-2.38,1.64,5,5.0999999999999996,15.54,21.186094069529656,15.13,15.27,15.41,15.54,15.68,15.81,15.94]
[null,2.8,47.16,-2.38,1.67,5,5,15.95,21.74505794137696,15.54,15.68,15.81,15.95,16.079999999999998,16.21,16.34]
[null,2.85,47.15,-2.38,1.7,5,5,16.350000000000001,22.290388548057262,15.94,16.079999999999998,16.21,16.350000000000001,16.48,16.61,16.739999999999998]
[null,2.9,47.15,-2.38,1.73,5,5,16.739999999999998,22.822085889570552,16.350000000000001,16.48,16.61,16.739999999999998,16.87,17,17.13]
[null,2.95,47.14,-2.38,1.75,5,5,17.14,23.367416496250854,16.739999999999998,16.88,17.010000000000002,17.14,17.260000000000002,17.39,17.510000000000002]
[null,3,47.14,-2.39,1.78,5,4.9000000000000004,17.53,23.899113837764148,17.14,17.27,17.399999999999999,17.53,17.649999999999999,17.78,17.899999999999999]
[null,3.05,47.13,-2.39,1.81,5,4.9000000000000004,17.91,24.417177914110432,17.53,17.66,17.79,17.91,18.04,18.16,18.28]
[null,3.1,47.13,-2.39,1.84,5,4.9000000000000004,18.3,24.948875255623726,17.920000000000002,18.05,18.170000000000002,18.3,18.420000000000002,18.54,18.66]
[null,3.15,47.12,-2.39,1.86,5,4.9000000000000004,18.68,25.466939331970007,18.309999999999999,18.43,18.559999999999999,18.68,18.8,18.920000000000002,19.04]
[null,3.2,47.12,-2.39,1.89,5,4.9000000000000004,19.059999999999999,25.985003408316292,18.690000000000001,18.82,18.940000000000001,19.059999999999999,19.18,19.29,19.41]
[null,3.25,47.12,-2.39,1.92,5,4.9000000000000004,{"$f":"M72*$I$2","v":19.43},{"$f":"M72/$M$163*100","v":26.489434219495571},19.079999999999998,19.2,19.309999999999999,19.43,19.55,19.670000000000002,19.78]
[null,3.3,47.11,-2.4,1.94,5,4.9000000000000004,19.809999999999999,27.007498295841852,19.45,19.57,19.690000000000001,19.809999999999999,19.920000000000002,20.03,20.149999999999999]
[null,3.35,47.1,-2.4,1.97,5,4.9000000000000004,20.18,27.511929107021132,19.829999999999998,19.95,20.059999999999999,20.18,20.29,20.399999999999999,20.51]
[null,3.4,47.1,-2.4,1.99,5,4.9000000000000004,20.55,28.016359918200411,20.2,20.32,20.43,20.55,20.66,20.77,20.88]
[null,3.45,47.09,-2.4,2.02,5,4.9000000000000004,20.91,28.507157464212678,20.57,20.69,20.8,20.91,21.02,21.13,21.24]
[null,3.5,47.09,-2.4,2.0499999999999998,5,4.9000000000000004,21.28,29.011588275391958,20.94,21.06,21.17,21.28,21.38,21.49,21.6]
[null,3.55,47.08,-2.4,2.0699999999999998,5,4.9000000000000004,21.64,29.502385821404232,21.31,21.42,21.53,21.64,21.75,21.85,21.96]
[null,3.6,47.08,-2.41,2.1,5,4.9000000000000004,22,29.993183367416499,21.68,21.78,21.89,22,22.11,22.21,22.31]
[null,3.65,47.07,-2.41,2.12,5,4.9000000000000004,22.36,30.483980913428766,22.04,22.15,22.25,22.36,22.46,22.57,22.67]
[null,3.7,47.07,-2.41,2.15,5,5,22.72,30.974778459441037,22.4,22.51,22.61,22.72,22.82,22.92,23.03]
[null,3.75,47.06,-2.41,2.17,5,5,23.08,31.465576005453304,22.76,22.87,22.97,23.08,23.18,23.28,23.38]
[null,3.8,47.06,-2.41,2.2000000000000002,5,5,23.43,31.942740286298569,23.12,23.23,23.33,23.43,23.53,23.64,23.74]
[null,3.85,47.05,-2.41,2.2200000000000002,5,5.0999999999999996,23.79,32.43353783231084,23.48,23.58,23.69,23.79,23.89,23.99,24.09]
[null,3.9,47.05,-2.42,2.25,5,5.0999999999999996,24.15,32.924335378323107,23.84,23.94,24.05,24.15,24.25,24.35,24.45]
[null,3.95,47.04,-2.42,2.27,5,5.0999999999999996,24.5,33.401499659168373,24.2,24.3,24.4,24.5,24.61,24.71,24.81]
[null,4,47.04,-2.42,2.2999999999999998,5,5.2,24.86,33.892297205180647,24.56,24.66,24.76,24.86,24.96,25.07,25.17]
[null,4.05,47.03,-2.42,2.3199999999999998,5,5.2,25.22,34.383094751192914,24.92,25.02,25.12,25.22,25.32,25.43,25.53]
[null,4.0999999999999996,47.03,-2.42,2.35,5,5.3,25.58,34.873892297205181,25.28,25.38,25.48,25.58,25.68,25.79,25.89]
[null,4.1500000000000004,47.02,-2.42,2.37,5,5.4,25.94,35.364689843217455,25.64,25.74,25.84,25.94,26.05,26.15,26.25]
[null,4.2,47.02,-2.4300000000000002,2.4,5,5.5,26.31,35.869120654396731,26,26.1,26.21,26.31,26.41,26.52,26.62]
[null,4.25,47.01,-2.4300000000000002,2.42,6,5.6,26.68,36.373551465576007,26.37,26.47,26.57,26.68,26.78,26.88,26.99]
[null,4.3,47.01,-2.4300000000000002,2.4500000000000002,6,5.6,27.04,36.864349011588274,26.73,26.84,26.94,27.04,27.15,27.25,27.36]
[null,4.3499999999999996,47,-2.4300000000000002,2.4700000000000002,6,5.7,27.42,37.382413087934566,27.1,27.21,27.31,27.42,27.52,27.63,27.74]
[null,4.4000000000000004,47,-2.44,2.5,6,5.9,27.79,37.886843899113835,27.47,27.58,27.68,27.79,27.9,28.01,28.11]
[null,4.45,47,-2.44,2.5299999999999998,6,6,28.17,38.404907975460127,27.85,27.95,28.06,28.17,28.28,28.39,28.5]
[null,4.5,46.99,-2.44,2.5499999999999998,6,6.1,28.55,38.922972051806411,28.23,28.33,28.44,28.55,28.66,28.77,28.88]
[null,4.55,46.99,-2.44,2.58,6,6.2,28.94,39.454669393319705,28.61,28.72,28.83,28.94,29.05,29.16,29.27]
[null,4.5999999999999996,46.99,-2.44,2.61,6,6.4,29.33,39.986366734832998,28.99,29.1,29.21,29.33,29.44,29.55,29.67]
[null,4.6500000000000004,46.98,-2.4500000000000002,2.63,7,6.5,29.72,40.518064076346292,29.38,29.49,29.61,29.72,29.84,29.95,30.07]
[null,4.7,46.98,-2.4500000000000002,2.66,7,6.7,30.12,41.063394683026587,29.78,29.89,30,30.12,30.24,30.35,30.47]
[null,4.75,46.98,-2.4500000000000002,2.69,7,6.9,30.52,41.608725289706889,30.17,30.29,30.41,30.52,30.64,30.76,30.88]
[null,4.8,46.97,-2.4500000000000002,2.72,7,7,30.93,42.167689161554193,30.58,30.69,30.81,30.93,31.05,31.18,31.3]
[null,4.8499999999999996,46.97,-2.46,2.74,7,7.2,31.35,42.740286298568513,30.99,31.1,31.23,31.35,31.47,31.6,31.72]
[null,4.9000000000000004,46.97,-2.46,2.77,7,7.4,31.77,43.312883435582826,31.4,31.52,31.64,31.77,31.89,32.020000000000003,32.15]
[null,4.95,46.96,-2.46,2.8,8,7.6,32.19,43.885480572597132,31.82,31.94,32.07,32.19,32.32,32.450000000000003,32.58]
[null,5,46.96,-2.4700000000000002,2.83,8,7.9,32.630000000000003,44.485344239945476,32.24,32.369999999999997,32.5,32.630000000000003,32.76,32.89,33.03]
[null,5.05,46.96,-2.4700000000000002,2.86,8,8.1,33.07,45.0852079072938,32.68,32.799999999999997,32.94,33.07,33.200000000000003,33.340000000000003,33.479999999999997]
[null,5.0999999999999996,46.96,-2.4700000000000002,2.89,8,8.4,33.520000000000003,45.698704839809139,33.11,33.25,33.380000000000003,33.520000000000003,33.65,33.79,33.93]
[null,5.15,46.95,-2.48,2.92,9,8.6,33.97,46.312201772324471,33.56,33.69,33.83,33.97,34.11,34.25,34.4]
[null,5.2,46.95,-2.48,2.95,9,8.9,34.43,46.939331970006819,34.01,34.15,34.29,34.43,34.58,34.72,34.869999999999997]
[null,5.25,46.95,-2.48,2.98,9,9.1999999999999993,34.9,47.580095432856176,34.47,34.619999999999997,34.76,34.9,35.049999999999997,35.200000000000003,35.36]
[null,5.3,46.95,-2.4900000000000002,3.01,9,9.5,35.380000000000003,48.234492160872541,34.94,35.090000000000003,35.229999999999997,35.380000000000003,35.54,35.69,35.85]
[null,5.35,46.95,-2.4900000000000002,3.05,10,9.8000000000000007,35.869999999999997,48.902522154055895,35.42,35.57,35.72,35.869999999999997,36.03,36.19,36.35]
[null,5.4,46.95,-2.4900000000000002,3.08,10,10.1,36.369999999999997,49.584185412406271,35.909999999999997,36.06,36.21,36.369999999999997,36.53,36.69,36.86]
[null,5.45,46.95,-2.5,3.11,10,10.5,36.880000000000003,50.279481935923663,36.4,36.56,36.72,36.880000000000003,37.04,37.21,37.380000000000003]
[null,5.5,46.94,-2.5,3.14,11,10.9,37.4,50.988411724608042,36.909999999999997,37.07,37.229999999999997,37.4,37.57,37.74,37.909999999999997]
[null,5.55,46.94,-2.5099999999999998,3.18,11,11.2,37.92,51.697341513292436,37.42,37.590000000000003,37.75,37.92,38.1,38.28,38.46]
[null,5.6,46.94,-2.5099999999999998,3.21,12,11.6,38.46,52.43353783231084,37.94,38.11,38.29,38.46,38.64,38.82,39.01]
[null,5.65,46.94,-2.52,3.25,12,12.1,39.01,53.183367416496253,38.479999999999997,38.65,38.83,39.01,39.200000000000003,39.380000000000003,39.57]
[null,5.7,46.94,-2.52,3.28,12,12.5,39.57,53.946830265848675,39.03,39.21,39.39,39.57,39.76,39.96,40.15]
[null,5.75,46.94,-2.5299999999999998,3.32,13,12.9,40.15,54.737559645535107,39.58,39.770000000000003,39.96,40.15,40.340000000000003,40.54,40.74]
[null,5.8,46.94,-2.5299999999999998,3.35,13,13.4,40.729999999999997,55.528289025221547,40.15,40.340000000000003,40.53,40.729999999999997,40.93,41.13,41.34]
[null,5.85,46.94,-2.54,3.39,14,13.9,41.33,56.346284935241997,40.729999999999997,40.93,41.13,41.33,41.53,41.74,41.95]
[null,5.9,46.95,-2.5499999999999998,3.42,14,14.4,41.94,57.177914110429448,41.32,41.52,41.73,41.94,42.15,42.36,42.58]
[null,5.95,46.95,-2.5499999999999998,3.46,15,14.9,42.56,58.023176550783916,41.93,42.13,42.34,42.56,42.77,43,43.22]
[null,6,46.95,-2.56,3.5,15,15.4,43.19,58.882072256305385,42.54,42.76,42.97,43.19,43.41,43.64,43.87]
[null,6.05,46.95,-2.57,3.54,16,16,43.84,59.768234492160879,43.17,43.39,43.61,43.84,44.07,44.3,44.54]
[null,6.1,46.95,-2.57,3.57,17,16.600000000000001,44.5,60.668029993183367,43.81,44.04,44.26,44.5,44.73,44.97,45.21]
[null,6.15,46.95,-2.58,3.61,17,17.2,45.17,61.581458759372879,44.47,44.7,44.93,45.17,45.41,45.65,45.9]
[null,6.2,46.95,-2.59,3.65,18,17.8,45.85,62.508520790729385,45.13,45.37,45.61,45.85,46.1,46.35,46.61]
[null,6.25,46.96,-2.6,3.69,18,18.399999999999999,46.55,63.462849352419902,45.81,46.05,46.3,46.55,46.8,47.06,47.32]
[null,6.3,46.96,-2.61,3.73,19,19,47.26,64.430811179277441,46.5,46.75,47,47.26,47.52,47.78,48.05]
[null,6.35,46.96,-2.61,3.77,20,19.7,47.98,65.412406271301975,47.21,47.46,47.72,47.98,48.25,48.52,48.79]
[null,6.4,46.96,-2.62,3.81,20,20.399999999999999,48.72,66.421267893660541,47.93,48.19,48.45,48.72,48.99,49.27,49.55]
[null,6.45,46.96,-2.63,3.85,21,21.1,{"$f":"M136*$I$2","v":49.47},{"$f":"M136/$M$163*100","v":67.443762781186095},48.66,48.92,49.2,49.47,49.75,50.03,50.31]
[null,6.5,46.97,-2.64,3.89,22,21.8,50.23,68.479890933878664,49.4,49.67,49.95,50.23,50.52,50.8,51.09]
[null,6.55,46.97,-2.65,3.93,23,22.6,51.01,69.543285616905251,50.16,50.44,50.72,51.01,51.3,51.59,51.89]
[null,6.6,46.97,-2.66,3.97,23,23.3,51.79,70.606680299931838,50.93,51.21,51.5,51.79,52.09,52.39,52.69]
[null,6.65,46.97,-2.67,4.01,24,24.1,52.59,71.697341513292443,51.71,52,52.29,52.59,52.89,53.2,53.51]
[null,6.7,46.98,-2.68,4.05,25,24.8,53.4,72.801635991820049,52.5,52.8,53.1,53.4,53.71,54.02,54.34]
[null,6.75,46.98,-2.69,4.09,26,25.6,54.23,73.933197000681659,53.31,53.61,53.92,54.23,54.54,54.86,55.18]
[null,6.8,46.98,-2.7,4.1399999999999997,26,26.4,55.06,75.064758009543297,54.13,54.44,54.75,55.06,55.38,55.7,56.03]
[null,6.85,46.99,-2.71,4.18,27,27.2,55.91,76.223585548738924,54.96,55.27,55.59,55.91,56.23,56.56,56.89]
[null,6.9,46.99,-2.72,4.22,28,28.1,56.77,77.396046353101582,55.8,56.12,56.44,56.77,57.1,57.43,57.76]
[null,6.95,46.99,-2.73,4.26,29,28.9,57.64,78.582140422631227,56.66,56.98,57.31,57.64,57.97,58.31,58.65]
[null,7,47,-2.75,4.3,30,29.7,58.52,79.781867757327902,57.52,57.85,58.18,58.52,58.86,59.2,59.55]
[null,7.05,47,-2.76,4.34,31,30.6,59.41,80.99522835719155,58.4,58.73,59.07,59.41,59.76,60.1,60.45]
[null,7.1,47,-2.77,4.38,31,31.4,60.31,82.222222222222229,59.29,59.63,59.97,60.31,60.66,61.01,61.37]
[null,7.15,47.01,-2.78,4.42,32,32.299999999999997,61.23,83.47648261758691,60.18,60.53,60.88,61.23,61.58,61.94,62.3]
[null,7.2,47.01,-2.79,4.47,33,33.200000000000003,62.15,84.730743012951606,61.09,61.44,61.8,62.15,62.51,62.87,63.23]
[null,7.25,47.01,-2.8,4.51,34,34.1,63.08,85.998636673483304,62.01,62.37,62.72,63.08,63.45,63.81,64.180000000000007]
[null,7.3,47.02,-2.81,4.55,35,34.9,64.03,87.293796864349019,62.94,63.3,63.66,64.03,64.39,64.760000000000005,65.14]
[null,7.35,47.02,-2.83,4.59,36,35.799999999999997,64.98,88.588957055214735,63.88,64.25,64.61,64.98,65.349999999999994,65.73,66.099999999999994]
[null,7.4,47.02,-2.84,4.63,37,36.700000000000003,65.94,89.897750511247438,64.83,65.2,65.569999999999993,65.94,66.319999999999993,66.7,67.08]
[null,7.45,47.03,-2.85,4.67,38,37.6,66.91,91.22017723244717,65.790000000000006,66.16,66.540000000000006,66.91,67.290000000000006,67.680000000000007,68.06]
[null,7.5,47.03,-2.86,4.71,39,38.5,67.900000000000006,92.569870483980935,66.760000000000005,67.14,67.52,67.900000000000006,68.28,68.67,69.06]
[null,7.55,47.03,-2.87,4.75,39,39.5,68.89,93.919563735514672,67.739999999999995,68.12,68.5,68.89,69.28,69.67,70.06]
[null,7.6,47.04,-2.89,4.79,40,40.4,69.89,95.28289025221541,68.73,69.11,69.5,69.89,70.28,70.67,71.069999999999993]
[null,7.65,47.04,-2.9,4.83,41,41.3,70.900000000000006,96.659850034083178,69.72,70.11,70.5,70.900000000000006,71.290000000000006,71.69,72.08]
[null,7.7,47.04,-2.91,4.88,42,42.2,71.91,98.036809815950917,70.73,71.12,71.52,71.91,72.31,72.69,72.88]
[null,7.75,47.04,-2.92,4.92,43,43.2,72.94,99.441036128152689,71.739999999999995,72.14,72.540000000000006,72.94,73.23,73.28,73.3]
[null,7.77,47.05,-2.93,4.93,0,0,73.349999999999994,100,72.150000000000006,72.55,72.95,73.349999999999994,73.349999999999994,73.349999999999994,73.349999999999994]

{"sheet":"48","index":54,"n_rows":123,"n_cols":16,"rows_kept":123,"cut":false,"hidden":false,"merged":[]}
[]
[null,"F.W. 1 C",null,null,null,null,null,"S.G.",1,"[t/m3]"]
[]
[null,"GAUGE","LCG","TCG","VCG","FSM (transv)","FSM (long)","Weight","Fill (%)","Trim=-1,5","Trim=1,0","Trim=-0,5","Trim=0","Trim=0,5","Trim=1,0","Trim=1,5"]
[null,null,"Fwd of AP","PS:+","Above BL"," "," "]
[null,"m","m","m","m","t·m","t·m","t",null,"m3","m3","m3","m3","m3","m3","m3"]
[null,0,15.94,0,1.02,0,23.5,{"$f":"M7*$I$2","v":0.45},{"$f":"M7/$M$123*100","v":0.4341952913932845},1.3,1,0.72,0.45,0.21,0.1,7.0000000000000007E-2]
[null,0.05,15.89,0,1.04,25,24.6,{"$f":"M8*$I$2","v":1.24},{"$f":"M8/$M$123*100","v":1.1964492473948283},2.17,1.84,1.53,1.24,0.96,0.71,0.49]
[null,0.1,15.85,0,1.07,25,25,2.06,1.9876495561559244,3.06,2.71,2.38,2.06,1.76,1.48,1.22]
[null,0.15,15.8,0,1.0900000000000001,26,25.8,2.92,2.8174450019297566,3.95,3.6,3.25,2.92,2.59,2.29,2]
[null,0.2,15.77,0,1.1200000000000001,26,25.9,3.79,3.6568892319567734,4.8499999999999996,4.5,4.1500000000000004,3.79,3.46,3.13,2.82]
[null,0.25,15.73,0,1.1399999999999999,26,25.9,4.6900000000000004,4.5252798147433433,5.74,5.39,5.04,4.6900000000000004,4.34,4,3.67]
[null,0.3,15.71,0,1.17,26,25.9,5.59,5.3936703975299105,6.64,6.29,5.94,5.59,5.24,4.88,4.54]
[null,0.35,15.7,0,1.2,26,25.9,6.48,6.2524121960632968,7.54,7.19,6.83,6.48,6.13,5.78,5.43]
[null,0.4,15.69,0,1.22,26,25.9,7.38,7.1208027788498649,8.43,8.08,7.73,7.38,7.03,6.68,6.33]
[null,0.45,15.68,0,1.25,26,25.9,8.2799999999999994,7.989193361636433,9.33,8.98,8.6300000000000008,8.2799999999999994,7.92,7.57,7.22]
[null,0.5,15.67,0,1.27,26,25.9,9.17,8.8479351601698184,10.23,9.8699999999999992,9.52,9.17,8.82,8.4700000000000006,8.1199999999999992]
[null,0.55000000000000004,15.66,0,1.3,26,25.9,10.07,9.7163257429563874,11.12,10.77,10.42,10.07,9.7200000000000006,9.3699999999999992,9.01]
[null,0.6,15.66,0,1.32,26,25.9,10.96,10.575067541489773,12.02,11.67,11.32,10.96,10.61,10.26,9.91]
[null,0.65,15.65,0,1.35,26,25.9,11.86,11.44345812427634,12.91,12.56,12.21,11.86,11.51,11.16,10.81]
[null,0.7,15.65,0,1.37,26,25.9,12.76,12.311848707062909,13.81,13.46,13.11,12.76,12.41,12.05,11.7]
[null,0.75,15.65,0,1.4,26,25.9,13.65,13.170590505596294,14.71,14.36,14,13.65,13.3,12.95,12.6]
[null,0.8,15.64,0,1.42,26,25.9,14.55,14.038981088382865,15.6,15.25,14.9,14.55,14.2,13.85,13.5]
[null,0.85,15.64,0,1.45,26,25.9,15.45,14.907371671169431,16.5,16.149999999999999,15.8,15.45,15.09,14.74,14.39]
[null,0.9,15.64,0,1.47,26,25.9,16.34,15.766113469702816,17.399999999999999,17.04,16.690000000000001,16.34,15.99,15.64,15.29]
[null,0.95,15.64,0,1.5,26,25.9,17.239999999999998,16.634504052489383,18.29,17.940000000000001,17.59,17.239999999999998,16.89,16.54,16.18]
[null,1,15.63,0,1.52,26,25.9,18.13,17.49324585102277,19.190000000000001,18.84,18.489999999999998,18.13,17.78,17.43,17.079999999999998]
[null,1.05,15.63,0,1.55,26,25.9,19.03,18.361636433809341,20.079999999999998,19.73,19.38,19.03,18.68,18.329999999999998,17.98]
[null,1.1000000000000001,15.63,0,1.57,26,25.9,19.93,19.230027016595908,20.98,20.63,20.28,19.93,19.579999999999998,19.22,18.87]
[null,1.1499999999999999,15.63,0,1.6,26,25.9,20.82,20.088768815129292,21.88,21.53,21.17,20.82,20.47,20.12,19.77]
[null,1.2,15.63,0,1.62,26,25.9,21.72,20.957159397915863,22.77,22.42,22.07,21.72,21.37,21.02,20.67]
[null,1.25,15.63,0,1.65,26,25.9,22.62,21.825549980702434,23.67,23.32,22.97,22.62,22.26,21.91,21.56]
[null,1.3,15.63,0,1.67,26,25.9,23.51,22.684291779235817,24.57,24.21,23.86,23.51,23.16,22.81,22.46]
[null,1.35,15.63,0,1.7,26,25.9,24.41,23.552682362022384,25.46,25.11,24.76,24.41,24.06,23.71,23.35]
[null,1.4,15.62,0,1.72,26,25.9,25.3,24.411424160555768,26.36,26.01,25.66,25.3,24.95,24.6,24.25]
[null,1.45,15.62,0,1.75,26,25.9,26.2,25.279814743342339,27.25,26.9,26.55,26.2,25.85,25.5,25.15]
[null,1.5,15.62,0,1.77,26,25.9,27.1,26.14820532612891,28.15,27.8,27.45,27.1,26.75,26.39,26.04]
[null,1.55,15.62,0,1.8,26,25.9,27.99,27.00694712466229,29.05,28.7,28.34,27.99,27.64,27.29,26.94]
[null,1.6,15.62,0,1.82,26,25.9,28.89,27.87533770744886,29.94,29.59,29.24,28.89,28.54,28.19,27.84]
[null,1.65,15.62,0,1.85,26,25.9,29.79,28.743728290235431,30.84,30.49,30.14,29.79,29.43,29.08,28.73]
[null,1.7,15.62,0,1.87,26,25.9,30.68,29.602470088768818,31.74,31.38,31.03,30.68,30.33,29.98,29.63]
[null,1.75,15.62,0,1.9,26,25.9,31.58,30.470860671555382,32.630000000000003,32.28,31.93,31.58,31.23,30.88,30.52]
[null,1.8,15.62,0,1.92,26,25.9,32.47,31.329602470088769,33.53,33.18,32.83,32.47,32.119999999999997,31.77,31.42]
[null,1.85,15.62,0,1.95,26,25.9,33.369999999999997,32.197993052875333,34.42,34.07,33.72,33.369999999999997,33.020000000000003,32.67,32.32]
[null,1.9,15.62,0,1.97,26,25.9,34.270000000000003,33.066383635661914,35.32,34.97,34.619999999999997,34.270000000000003,33.92,33.56,33.21]
[null,1.95,15.62,0,2,26,25.9,35.159999999999997,33.925125434195287,36.22,35.869999999999997,35.51,35.159999999999997,34.81,34.46,34.11]
[null,2,15.62,0,2.02,26,25.9,36.06,34.793516016981862,37.11,36.76,36.409999999999997,36.06,35.71,35.36,35.01]
[null,2.0499999999999998,15.62,0,2.0499999999999998,26,25.9,36.96,35.661906599768429,38.01,37.659999999999997,37.31,36.96,36.6,36.25,35.9]
[null,2.1,15.62,0,2.0699999999999998,26,25.9,37.85,36.520648398301816,38.909999999999997,38.549999999999997,38.200000000000003,37.85,37.5,37.15,36.799999999999997]
[null,2.15,15.62,0,2.1,26,25.9,38.75,37.389038981088383,39.799999999999997,39.450000000000003,39.1,38.75,38.4,38.049999999999997,37.69]
[null,2.2000000000000002,15.62,0,2.12,26,25.9,39.64,38.24778077962177,40.700000000000003,40.35,40,39.64,39.29,38.94,38.590000000000003]
[null,2.25,15.62,0,2.15,26,25.9,40.54,39.116171362408338,41.59,41.24,40.89,40.54,40.19,39.840000000000003,39.49]
[null,2.2999999999999998,15.62,0,2.17,26,25.9,41.44,39.984561945194905,42.49,42.14,41.79,41.44,41.09,40.729999999999997,40.380000000000003]
[null,2.35,15.61,0,2.2000000000000002,26,25.9,42.33,40.843303743728285,43.39,43.04,42.68,42.33,41.98,41.63,41.28]
[null,2.4,15.61,0,2.2200000000000002,26,25.9,43.23,41.711694326514852,44.28,43.93,43.58,43.23,42.88,42.53,42.18]
[null,2.4500000000000002,15.61,0,2.25,26,25.9,44.13,42.580084909301434,45.18,44.83,44.48,44.13,43.77,43.42,43.07]
[null,2.5,15.61,0,2.27,26,25.9,45.02,43.438826707834814,46.08,45.72,45.37,45.02,44.67,44.32,43.97]
[null,2.5499999999999998,15.61,0,2.2999999999999998,26,25.9,45.92,44.307217290621381,46.97,46.62,46.27,45.92,45.57,45.22,44.86]
[null,2.6,15.61,0,2.3199999999999998,26,25.9,46.81,45.165959089154768,47.87,47.52,47.17,46.81,46.46,46.11,45.76]
[null,2.65,15.61,0,2.35,26,25.9,47.71,46.034349671941335,48.76,48.41,48.06,47.71,47.36,47.01,46.66]
[null,2.7,15.61,0,2.37,26,25.9,48.61,46.902740254727902,49.66,49.31,48.96,48.61,48.26,47.9,47.55]
[null,2.75,15.61,0,2.4,26,25.9,49.5,47.76148205326129,50.56,50.21,49.85,49.5,49.15,48.8,48.45]
[null,2.8,15.61,0,2.42,26,25.9,50.4,48.629872636047857,51.45,51.1,50.75,50.4,50.05,49.7,49.35]
[null,2.85,15.61,0,2.4500000000000002,26,25.9,51.3,49.498263218834424,52.35,52,51.65,51.3,50.94,50.59,50.24]
[null,2.9,15.61,0,2.4700000000000002,26,25.9,52.19,50.357005017367804,53.25,52.89,52.54,52.19,51.84,51.49,51.14]
[null,2.95,15.61,0,2.5,26,25.9,53.09,51.225395600154386,54.14,53.79,53.44,53.09,52.74,52.39,52.03]
[null,3,15.61,0,2.52,26,25.9,53.98,52.084137398687758,55.04,54.69,54.34,53.98,53.63,53.28,52.93]
[null,3.05,15.61,0,2.5499999999999998,26,25.9,54.88,52.95252798147434,55.93,55.58,55.23,54.88,54.53,54.18,53.83]
[null,3.1,15.61,0,2.57,26,25.9,55.78,53.8209185642609,56.83,56.48,56.13,55.78,55.43,55.07,54.72]
[null,3.15,15.61,0,2.6,26,25.9,56.67,54.679660362794294,57.73,57.38,57.02,56.67,56.32,55.97,55.62]
[null,3.2,15.61,0,2.62,26,25.9,57.57,55.548050945580854,58.62,58.27,57.92,57.57,57.22,56.87,56.52]
[null,3.25,15.61,0,2.65,26,25.9,{"$f":"M72*$I$2","v":58.47},{"$f":"M72/$M$123*100","v":56.416441528367422},59.52,59.17,58.82,58.47,58.11,57.76,57.41]
[null,3.3,15.61,0,2.67,26,25.9,59.36,57.275183326900816,60.42,60.06,59.71,59.36,59.01,58.66,58.31]
[null,3.35,15.61,0,2.7,26,25.9,60.26,58.143573909687376,61.31,60.96,60.61,60.26,59.91,59.56,59.2]
[null,3.4,15.61,0,2.72,26,25.9,61.15,59.002315708220763,62.21,61.86,61.51,61.15,60.8,60.45,60.1]
[null,3.45,15.61,0,2.75,26,25.9,62.05,59.870706291007323,63.1,62.75,62.4,62.05,61.7,61.35,61]
[null,3.5,15.61,0,2.77,26,25.9,62.95,60.739096873793905,64,63.65,63.3,62.95,62.6,62.24,61.89]
[null,3.55,15.61,0,2.8,26,25.9,63.84,61.597838672327285,64.900000000000006,64.55,64.19,63.84,63.49,63.14,62.79]
[null,3.6,15.61,0,2.82,26,25.9,64.739999999999995,62.466229255113845,65.790000000000006,65.44,65.09,64.739999999999995,64.39,64.040000000000006,63.69]
[null,3.65,15.61,0,2.85,26,25.9,65.64,63.334619837900433,66.69,66.34,65.989999999999995,65.64,65.28,64.930000000000007,64.58]
[null,3.7,15.61,0,2.87,26,25.9,66.53,64.193361636433806,67.59,67.23,66.88,66.53,66.180000000000007,65.83,65.48]
[null,3.75,15.61,0,2.9,26,25.9,67.430000000000007,65.061752219220381,68.48,68.13,67.78,67.430000000000007,67.08,66.73,66.37]
[null,3.8,15.61,0,2.92,26,25.9,68.319999999999993,65.920494017753768,69.38,69.03,68.680000000000007,68.319999999999993,67.97,67.62,67.27]
[null,3.85,15.61,0,2.95,26,25.9,69.22,66.788884600540328,70.27,69.92,69.569999999999993,69.22,68.87,68.52,68.17]
[null,3.9,15.61,0,2.97,26,25.9,70.12,67.657275183326902,71.17,70.819999999999993,70.47,70.12,69.77,69.41,69.06]
[null,3.95,15.61,0,3,26,25.9,71.010000000000005,68.51601698186029,72.069999999999993,71.72,71.36,71.010000000000005,70.66,70.31,69.959999999999994]
[null,4,15.61,0,3.02,26,25.9,71.91,69.38440756464685,72.959999999999994,72.61,72.260000000000005,71.91,71.56,71.209999999999994,70.86]
[null,4.05,15.61,0,3.05,26,25.9,72.81,70.252798147433424,73.86,73.510000000000005,73.16,72.81,72.45,72.099999999999994,71.75]
[null,4.0999999999999996,15.61,0,3.07,26,25.9,73.7,71.111539945966811,74.760000000000005,74.400000000000006,74.05,73.7,73.349999999999994,73,72.650000000000006]
[null,4.1500000000000004,15.61,0,3.1,26,25.9,74.599999999999994,71.979930528753371,75.650000000000006,75.3,74.95,74.599999999999994,74.25,73.900000000000006,73.540000000000006]
[null,4.2,15.61,0,3.12,26,25.9,75.489999999999995,72.838672327286758,76.55,76.2,75.849999999999994,75.489999999999995,75.14,74.790000000000006,74.44]
[null,4.25,15.61,0,3.15,26,25.9,76.39,73.707062910073333,77.44,77.09,76.739999999999995,76.39,76.040000000000006,75.69,75.34]
[null,4.3,15.61,0,3.17,26,25.9,77.290000000000006,74.575453492859907,78.34,77.989999999999995,77.64,77.290000000000006,76.94,76.58,76.23]
[null,4.3499999999999996,15.61,0,3.2,26,25.9,78.180000000000007,75.434195291393294,79.239999999999995,78.89,78.53,78.180000000000007,77.83,77.48,77.13]
[null,4.4000000000000004,15.61,0,3.22,26,25.9,79.08,76.302585874179854,80.13,79.78,79.430000000000007,79.08,78.73,78.38,78.03]
[null,4.45,15.61,0,3.25,26,25.9,79.98,77.170976456966429,81.03,80.680000000000007,80.33,79.98,79.62,79.27,78.92]
[null,4.5,15.61,0,3.27,26,25.9,80.87,78.029718255499816,81.93,81.569999999999993,81.22,80.87,80.52,80.17,79.819999999999993]
[null,4.55,15.61,0,3.3,26,25.9,81.77,78.898108838286376,82.82,82.47,82.12,81.77,81.42,81.069999999999993,80.709999999999994]
[null,4.5999999999999996,15.61,0,3.32,26,25.9,82.66,79.756850636819749,83.72,83.37,83.02,82.66,82.31,81.96,81.61]
[null,4.6500000000000004,15.61,0,3.35,26,25.9,83.56,80.625241219606337,84.61,84.26,83.91,83.56,83.21,82.86,82.51]
[null,4.7,15.61,0,3.37,26,25.9,84.46,81.493631802392898,85.51,85.16,84.81,84.46,84.11,83.75,83.4]
[null,4.75,15.61,0,3.4,26,25.9,85.35,82.352373600926271,86.41,86.06,85.7,85.35,85,84.65,84.3]
[null,4.8,15.61,0,3.42,26,25.9,86.25,83.220764183712845,87.3,86.95,86.6,86.25,85.9,85.55,85.2]
[null,4.8499999999999996,15.61,0,3.45,26,25.9,87.15,84.089154766499433,88.2,87.85,87.5,87.15,86.79,86.44,86.09]
[null,4.9000000000000004,15.61,0,3.47,26,25.9,88.04,84.947896565032806,89.1,88.74,88.39,88.04,87.69,87.34,86.99]
[null,4.95,15.61,0,3.5,26,25.9,88.94,85.816287147819367,89.99,89.64,89.29,88.94,88.59,88.24,87.88]
[null,5,15.61,0,3.52,26,25.9,89.83,86.675028946352768,90.89,90.54,90.19,89.83,89.48,89.13,88.78]
[null,5.05,15.61,0,3.55,26,25.9,90.73,87.543419529139328,91.78,91.43,91.08,90.73,90.38,90.03,89.68]
[null,5.0999999999999996,15.61,0,3.57,26,25.9,91.63,88.411810111925888,92.68,92.33,91.98,91.63,91.28,90.92,90.57]
[null,5.15,15.61,0,3.6,26,25.9,92.52,89.270551910459275,93.58,93.23,92.87,92.52,92.17,91.82,91.47]
[null,5.2,15.61,0,3.62,26,25.9,93.42,90.13894249324585,94.47,94.12,93.77,93.42,93.07,92.72,92.37]
[null,5.25,15.61,0,3.65,26,25.9,94.32,91.00733307603241,95.37,95.02,94.67,94.32,93.96,93.61,93.26]
[null,5.3,15.61,0,3.67,26,25.9,95.21,91.866074874565797,96.27,95.91,95.56,95.21,94.86,94.51,94.16]
[null,5.35,15.61,0,3.7,26,25.9,96.11,92.734465457352371,97.16,96.81,96.46,96.11,95.76,95.41,95.05]
[null,5.4,15.61,0,3.72,26,25.9,97,93.593207255885758,98.06,97.71,97.36,97,96.65,96.3,95.95]
[null,5.45,15.61,0,3.75,26,25.9,97.9,94.461597838672333,98.95,98.6,98.25,97.9,97.55,97.2,96.85]
[null,5.5,15.61,0,3.77,26,25.9,98.8,95.329988421458893,99.85,99.5,99.15,98.8,98.45,98.09,97.74]
[null,5.55,15.61,0,3.8,26,25.9,99.69,96.18873021999228,100.75,100.4,100.04,99.69,99.34,98.99,98.64]
[null,5.6,15.61,0,3.82,26,25.9,100.59,97.057120802778854,101.64,101.29,100.94,100.59,100.24,99.89,99.54]
[null,5.65,15.61,0,3.85,26,25.9,101.49,97.925511385565414,102.54,102.19,101.84,101.49,101.13,100.78,100.43]
[null,5.7,15.61,0,3.87,26,25.9,102.38,98.784253184098802,103.27,103.07,102.73,102.38,102.03,101.68,101.33]
[null,5.75,15.61,0,3.9,26,25.9,103.28,99.652643766885376,103.6,103.59,103.55,103.28,102.93,102.58,102.22]
[null,5.77,15.61,0,3.91,0,0,103.64,100,103.63,103.64,103.64,103.64,103.28,102.93,102.58]

{"sheet":"49","index":55,"n_rows":123,"n_cols":16,"rows_kept":123,"cut":false,"hidden":false,"merged":[]}
[]
[null,"F.W. 2 PS",null,null,null,null,null,"S.G.",1,"[t/m3]"]
[]
[null,"GAUGE","LCG","TCG","VCG","FSM (transv)","FSM (long)","Weight","Fill (%)","Trim=-1,5","Trim=1,0","Trim=-0,5","Trim=0","Trim=0,5","Trim=1,0","Trim=1,5"]
[null,null,"Fwd of AP","PS:+","Above BL"," "," "]
[null,"m","m","m","m","t·m","t·m","t",null,"m3","m3","m3","m3","m3","m3","m3"]
[null,"0.00",7.01,1.21,0.94,0,0,{"$f":"M7*$I$2","v":0.01},{"$f":"M7/$M$123*100","v":8.5770649283815076E-3},0.01,0.01,0.01,0.01,0.01,0.01,0.01]
[null,0.05,6.96,1.23,0.98,0,0,{"$f":"M8*$I$2","v":0.02},{"$f":"M8/$M$123*100","v":1.7154129856763015E-2},0.02,0.02,0.02,0.02,0.02,0.02,0.02]
[null,0.1,6.93,1.25,1.01,0,0,0.04,3.4308259713526031E-2,0.04,0.04,0.04,0.04,0.04,0.04,0.04]
[null,0.15,6.89,1.27,1.05,0,0,0.06,5.1462389570289042E-2,0.06,0.06,0.06,0.06,0.05,0.05,0.05]
[null,0.2,6.85,1.29,1.0900000000000001,0,0,0.08,6.8616519427052061E-2,0.08,0.08,0.08,0.08,0.08,0.08,0.08]
[null,0.25,6.81,1.31,1.1299999999999999,0,0,0.11,9.4347714212196579E-2,0.12,0.11,0.11,0.11,0.11,0.1,0.1]
[null,0.3,6.78,1.34,1.1599999999999999,0,0,0.14000000000000001,0.12007890899734111,0.15,0.15,0.15,0.14000000000000001,0.14000000000000001,0.14000000000000001,0.14000000000000001]
[null,0.35,6.74,1.36,1.2,0,0.1,0.19,0.16296423363924864,0.2,0.2,0.19,0.19,0.18,0.18,0.18]
[null,0.4,6.71,1.38,1.24,0,0.1,0.24,0.20584955828115617,0.25,0.25,0.24,0.24,0.23,0.23,0.22]
[null,0.45,6.67,1.4,1.27,0,0.1,0.3,0.25731194785144518,0.32,0.31,0.3,0.3,0.28999999999999998,0.28000000000000003,0.28000000000000003]
[null,0.5,6.64,1.43,1.31,0,0.2,0.36,0.30877433742173427,0.39,0.38,0.37,0.36,0.36,0.35,0.34]
[null,0.55000000000000004,6.61,1.45,1.35,0,0.2,0.44,0.37739085684878632,0.47,0.46,0.45,0.44,0.43,0.42,0.41]
[null,0.6,6.57,1.48,1.39,0,0.3,0.53,0.45458444120421992,0.56999999999999995,0.55000000000000004,0.54,0.53,0.52,0.51,0.5]
[null,0.65,6.54,1.5,1.42,0,0.4,0.63,0.54035509048803498,0.67,0.66,0.64,0.63,0.61,0.6,0.59]
[null,0.7,6.51,1.53,1.46,0,0.5,0.74,0.63470280470023155,0.79,0.77,0.76,0.74,0.72,0.71,0.69]
[null,0.75,6.48,1.55,1.5,1,0.6,0.86,0.73762758384080962,0.92,0.9,0.88,0.86,0.84,0.82,0.81]
[null,0.8,6.45,1.58,1.54,1,0.7,1,0.85770649283815081,1.07,1.04,1.02,1,0.97,0.95,0.93]
[null,0.85,6.42,1.6,1.57,1,0.9,1.1399999999999999,0.97778540183549167,1.23,1.2,1.17,1.1399999999999999,1.1200000000000001,1.1000000000000001,1.07]
[null,0.9,6.39,1.63,1.61,1,1,1.31,1.1235955056179776,1.4,1.37,1.34,1.31,1.28,1.25,1.23]
[null,0.95,6.35,1.66,1.65,1,1.3,1.48,1.2694056094004631,1.59,1.55,1.52,1.48,1.45,1.42,1.39]
[null,1,6.32,1.68,1.69,2,1.5,1.68,1.4409469079680932,1.8,1.75,1.72,1.68,1.64,1.61,1.57]
[null,1.05,6.29,1.71,1.72,2,1.8,1.89,1.621065271464105,2.02,1.97,1.93,1.89,1.84,1.81,1.77]
[null,1.1000000000000001,6.26,1.73,1.76,2,2.1,2.11,1.8097606998884981,2.2599999999999998,2.21,2.16,2.11,2.06,2.02,1.98]
[null,1.1499999999999999,6.24,1.76,1.8,2,2.4,2.35,2.0156102581696542,2.52,2.46,2.4,2.35,2.2999999999999998,2.25,2.21]
[null,1.2,6.21,1.79,1.84,3,2.8,2.61,2.2386139463075732,2.79,2.73,2.67,2.61,2.5499999999999998,2.5,2.4500000000000002]
[null,1.25,6.18,1.82,1.87,3,3.3,2.89,2.4787717643022558,3.08,3.01,2.95,2.89,2.82,2.77,2.71]
[null,1.3,6.15,1.84,1.91,4,3.7,3.18,2.7275066472253195,3.39,3.32,3.25,3.18,3.11,3.05,2.99]
[null,1.35,6.13,1.87,1.95,4,4.3,3.49,2.9933956600051466,3.72,3.64,3.56,3.49,3.42,3.35,3.28]
[null,1.4,6.11,1.9,1.98,5,4.8,3.82,3.2764388026417359,4.0599999999999996,3.98,3.9,3.82,3.74,3.67,3.6]
[null,1.45,6.08,1.93,2.02,5,5.5,4.17,3.576636075135089,4.43,4.34,4.25,4.17,4.09,4.01,3.93]
[null,1.5,6.06,1.96,2.06,6,6.2,4.54,3.8939874774852044,4.82,4.72,4.63,4.54,4.45,4.3600000000000003,4.28]
[null,1.55,6.04,1.99,2.09,7,7,4.92,4.2199159447637014,5.22,5.12,5.0199999999999996,4.92,4.83,4.74,4.6500000000000004]
[null,1.6,6.02,2.02,2.13,8,7.9,5.33,4.5715756068273441,5.65,5.54,5.44,5.33,5.23,5.14,5.04]
[null,1.65,6,2.0499999999999998,2.17,9,8.9,5.76,4.9403893987477483,6.1,5.98,5.87,5.76,5.66,5.55,5.45]
[null,1.7,5.98,2.08,2.21,10,9.9,6.21,5.3263573205249157,6.57,6.45,6.33,6.21,6.1,5.99,5.88]
[null,1.75,5.96,2.12,2.2400000000000002,11,11.1,6.69,5.7380564370872289,7.07,6.94,6.81,6.69,6.57,6.45,6.34]
[null,1.8,5.95,2.15,2.2799999999999998,12,12.4,7.18,6.1583326185779219,7.59,7.45,7.31,7.18,7.06,6.93,6.81]
[null,1.85,5.93,2.1800000000000002,2.3199999999999998,14,13.7,7.7,6.6043399948537616,8.1300000000000008,7.98,7.84,7.7,7.57,7.44,7.31]
[null,1.9,5.91,2.2200000000000002,2.35,15,15.2,8.25,7.0760785659147434,8.6999999999999993,8.5399999999999991,8.39,8.25,8.1,7.96,7.83]
[null,1.95,5.9,2.25,2.39,17,16.8,8.81,7.5563942019041086,9.2899999999999991,9.1300000000000008,8.9700000000000006,8.81,8.66,8.52,8.3699999999999992]
[null,2,5.88,2.29,2.4300000000000002,18,18.5,9.41,8.0710180976069985,9.91,9.74,9.57,9.41,9.25,9.09,8.94]
[null,2.0499999999999998,5.87,2.33,2.46,20,20.3,10.02,8.59421905823827,10.55,10.37,10.199999999999999,10.02,9.86,9.69,9.5299999999999994]
[null,2.1,5.85,2.36,2.5,22,22.1,10.67,9.151728278583068,11.23,11.04,10.85,10.67,10.49,10.32,10.15]
[null,2.15,5.84,2.4,2.54,24,24.2,11.34,9.7263916287846293,11.93,11.73,11.53,11.34,11.15,10.97,10.79]
[null,2.2000000000000002,5.82,2.44,2.57,26,26.3,12.04,10.326786173771334,12.66,12.44,12.24,12.04,11.84,11.65,11.46]
[null,2.25,5.81,2.4700000000000002,2.61,29,28.6,12.76,10.944334848614803,13.41,13.19,12.97,12.76,12.56,12.36,12.16]
[null,2.2999999999999998,5.79,2.5099999999999998,2.65,31,31,13.52,11.596191783171799,14.2,13.97,13.74,13.52,13.3,13.09,12.89]
[null,2.35,5.78,2.5499999999999998,2.69,34,33.6,14.3,12.265202847585556,15.02,14.77,14.53,14.3,14.08,13.85,13.64]
[null,2.4,5.77,2.59,2.72,36,36.4,15.12,12.96852217171284,15.87,15.61,15.36,15.12,14.88,14.65,14.42]
[null,2.4500000000000002,5.75,2.63,2.76,39,39.299999999999997,15.96,13.688995625696887,16.75,16.48,16.22,15.96,15.71,15.47,15.23]
[null,2.5,5.74,2.67,2.8,42,42.4,16.829999999999998,14.435200274466077,17.66,17.38,17.100000000000001,16.829999999999998,16.57,16.32,16.07]
[null,2.5499999999999998,5.73,2.71,2.83,46,45.6,17.739999999999998,15.215713182948793,18.600000000000001,18.309999999999999,18.02,17.739999999999998,17.47,17.2,16.940000000000001]
[null,2.6,5.71,2.76,2.87,49,49,18.68,16.021957286216658,19.579999999999998,19.27,18.97,18.68,18.39,18.11,17.84]
[null,2.65,5.7,2.8,2.91,52,52.5,19.649999999999999,16.853932584269664,20.59,20.27,19.96,19.649999999999999,19.350000000000001,19.059999999999999,18.77]
[null,2.7,5.69,2.84,2.95,56,56.1,20.65,17.711639077107812,21.63,21.3,20.97,20.65,20.34,20.04,19.739999999999998]
[null,2.75,5.67,2.88,2.98,60,59.7,21.69,18.603653829659493,22.71,22.36,22.02,21.69,21.36,21.04,20.73]
[null,2.8,5.66,2.93,3.02,63,63.5,22.76,19.521399776996311,23.82,23.46,23.1,22.76,22.42,22.08,21.76]
[null,2.85,5.65,2.97,3.06,67,67.3,23.85,20.456299854189897,24.96,24.58,24.21,23.85,23.5,23.16,22.82]
[null,2.9,5.63,3.01,3.09,71,71.2,24.98,21.425508191097006,26.13,25.74,25.36,24.98,24.62,24.26,23.91]
[null,2.95,5.62,3.06,3.13,75,75.099999999999994,26.15,22.429024787717641,27.34,26.93,26.54,26.15,25.77,25.39,25.03]
[null,3,5.61,3.1,3.17,79,79.099999999999994,27.34,23.449695514195039,28.57,28.15,27.74,27.34,26.94,26.56,26.18]
[null,3.05,5.59,3.14,3.2,83,83.2,28.56,24.496097435457585,29.84,29.41,28.98,28.56,28.15,27.75,27.36]
[null,3.1,5.58,3.19,3.24,87,87.3,29.82,25.576807616433655,31.13,30.69,30.25,29.82,29.39,28.98,28.57]
[null,3.15,5.57,3.23,3.28,91,91.5,31.1,26.674671927266491,32.46,32,31.54,31.1,30.66,30.23,29.81]
[null,3.2,5.55,3.27,3.31,96,95.6,32.409999999999997,27.798267432884465,33.81,33.340000000000003,32.869999999999997,32.409999999999997,31.96,31.51,31.08]
[null,3.25,5.54,3.32,3.35,100,99.8,{"$f":"M72*$I$2","v":33.75},{"$f":"M72/$M$123*100","v":28.947594133287591},35.19,34.700000000000003,34.22,33.75,33.28,32.82,32.369999999999997]
[null,3.3,5.53,3.36,3.39,104,103.9,35.11,30.11407496354747,36.590000000000003,36.090000000000003,35.6,35.11,34.630000000000003,34.159999999999997,33.700000000000003]
[null,3.35,5.51,3.4,3.42,108,107.9,36.5,31.306286988592504,38.020000000000003,37.51,37,36.5,36.01,35.520000000000003,35.04]
[null,3.4,5.5,3.44,3.46,112,111.8,37.909999999999997,32.515653143494291,39.46,38.94,38.42,37.909999999999997,37.4,36.909999999999997,36.42]
[null,3.45,5.49,3.48,3.49,115,115.2,39.340000000000003,33.742173428252855,40.92,40.39,39.86,39.340000000000003,38.82,38.31,37.81]
[null,3.5,5.48,3.52,3.53,118,117.9,40.78,34.977270777939786,42.38,41.84,41.31,40.78,40.26,39.74,39.229999999999997]
[null,3.55,5.46,3.56,3.56,120,120,42.24,36.229522257483488,43.85,43.31,42.77,42.24,41.71,41.18,40.659999999999997]
[null,3.6,5.45,3.59,3.6,122,121.7,43.71,37.490350801955572,45.32,44.78,44.24,43.71,43.17,42.64,42.11]
[null,3.65,5.44,3.62,3.63,123,123,45.18,38.751179346427648,46.8,46.26,45.72,45.18,44.64,44.1,43.57]
[null,3.7,5.43,3.66,3.66,124,124.1,46.65,40.012007890899731,48.29,47.74,47.2,46.65,46.11,45.57,45.03]
[null,3.75,5.42,3.69,3.69,125,125,48.13,41.281413500300197,49.78,49.23,48.68,48.13,47.59,47.05,46.51]
[null,3.8,5.41,3.72,3.73,126,125.7,49.62,42.559396174629036,51.26,50.71,50.17,49.62,49.07,48.53,47.98]
[null,3.85,5.4,3.74,3.76,126,126.2,51.11,43.837378848957883,52.75,52.2,51.65,51.11,50.56,50.01,49.46]
[null,3.9,5.4,3.77,3.79,127,126.5,52.59,45.106784458358348,54.24,53.69,53.14,52.59,52.04,51.5,50.95]
[null,3.95,5.39,3.8,3.82,127,126.8,54.08,46.384767132687195,55.73,55.18,54.63,54.08,53.53,52.98,52.44]
[null,4,5.38,3.82,3.85,127,126.9,55.57,47.662749807016034,57.22,56.67,56.12,55.57,55.02,54.47,53.92]
[null,4.05,5.37,3.84,3.88,127,127,57.06,48.940732481344881,58.72,58.17,57.61,57.06,56.51,55.96,55.41]
[null,4.0999999999999996,5.37,3.86,3.91,127,127,58.55,50.218715155673721,60.21,59.66,59.11,58.55,58,57.45,56.9]
[null,4.1500000000000004,5.36,3.88,3.94,127,127,60.05,51.505274894930949,61.78,61.17,60.6,60.05,59.5,58.94,58.39]
[null,4.2,5.35,3.9,3.97,127,127,61.54,52.783257569259803,63.44,62.81,62.17,61.54,60.99,60.44,59.89]
[null,4.25,5.35,3.91,4.01,195,195.2,63.26,54.258512736941412,65.16,64.53,63.89,63.26,62.62,62.01,61.43]
[null,4.3,5.34,3.91,4.04,195,195.2,64.98,55.733767904623043,66.88,66.25,65.61,64.98,64.34,63.71,63.08]
[null,4.3499999999999996,5.33,3.92,4.07,195,195.2,66.7,57.209023072304653,68.599999999999994,67.97,67.33,66.7,66.06,65.430000000000007,64.790000000000006]
[null,4.4000000000000004,5.33,3.92,4.1100000000000003,195,195.2,68.42,58.684278239986277,70.319999999999993,69.69,69.05,68.42,67.78,67.150000000000006,66.510000000000005]
[null,4.45,5.32,3.93,4.1399999999999997,195,195.2,70.14,60.159533407667901,72.040000000000006,71.41,70.77,70.14,69.5,68.87,68.23]
[null,4.5,5.32,3.93,4.17,195,195.2,71.86,61.634788575349511,73.77,73.13,72.489999999999995,71.86,71.22,70.59,69.95]
[null,4.55,5.31,3.94,4.2,195,195.2,73.58,63.110043743031127,75.489999999999995,74.849999999999994,74.209999999999994,73.58,72.94,72.31,71.67]
[null,4.5999999999999996,5.31,3.94,4.2300000000000004,195,195.2,75.3,64.585298910712751,77.209999999999994,76.569999999999993,75.94,75.3,74.66,74.03,73.39]
[null,4.6500000000000004,5.3,3.95,4.2699999999999996,195,195.2,77.02,66.060554078394375,78.930000000000007,78.290000000000006,77.66,77.02,76.38,75.75,75.11]
[null,4.7,5.3,3.95,4.3,195,195.2,78.739999999999995,67.535809246075985,80.650000000000006,80.010000000000005,79.38,78.739999999999995,78.11,77.47,76.83]
[null,4.75,5.29,3.95,4.33,195,195.2,80.459999999999994,69.011064413757609,82.37,81.73,81.099999999999994,80.459999999999994,79.83,79.19,78.55]
[null,4.8,5.29,3.96,4.3600000000000003,195,195.2,82.18,70.486319581439233,84.09,83.45,82.82,82.18,81.55,80.91,80.28]
[null,4.8499999999999996,5.29,3.96,4.3899999999999997,195,195.2,83.9,71.961574749120842,85.81,85.17,84.54,83.9,83.27,82.63,82]
[null,4.9000000000000004,5.28,3.96,4.42,195,195.2,85.62,73.436829916802466,87.53,86.89,86.26,85.62,84.99,84.35,83.72]
[null,4.95,5.28,3.97,4.45,195,195.2,87.34,74.91208508448409,89.25,88.61,87.98,87.34,86.71,86.07,85.44]
[null,5,5.27,3.97,4.4800000000000004,195,195.2,89.06,76.387340252165714,90.97,90.33,89.7,89.06,88.43,87.79,87.16]
[null,5.05,5.27,3.97,4.51,195,195.2,90.78,77.862595419847324,92.69,92.05,91.42,90.78,90.15,89.51,88.88]
[null,5.0999999999999996,5.27,3.98,4.53,195,195.2,92.5,79.337850587528948,94.41,93.77,93.14,92.5,91.87,91.23,90.6]
[null,5.15,5.26,3.98,4.5599999999999996,195,195.2,94.22,80.813105755210572,96.13,95.49,94.86,94.22,93.59,92.95,92.32]
[null,5.2,5.26,3.98,4.59,195,195.2,95.94,82.288360922892181,97.85,97.21,96.58,95.94,95.31,94.67,94.04]
[null,5.25,5.26,3.98,4.62,195,195.2,97.66,83.763616090573805,99.57,98.94,98.3,97.66,97.03,96.39,95.76]
[null,5.3,5.26,3.99,4.6500000000000004,195,195.2,99.38,85.238871258255415,101.29,100.66,100.02,99.38,98.75,98.11,97.48]
[null,5.35,5.25,3.99,4.68,195,195.2,101.11,86.722703490865428,103.01,102.38,101.74,101.11,100.47,99.83,99.2]
[null,5.4,5.25,3.99,4.71,195,195.2,102.83,88.197958658547037,104.73,104.1,103.46,102.83,102.19,101.55,100.92]
[null,5.45,5.25,3.99,4.74,195,195.2,104.55,89.673213826228661,106.45,105.82,105.18,104.55,103.91,103.28,102.64]
[null,5.5,5.25,4,4.76,195,195.2,106.27,91.148468993910285,108.17,107.54,106.9,106.27,105.63,105,104.36]
[null,5.55,5.24,4,4.79,195,195.2,107.99,92.623724161591895,109.89,109.26,108.62,107.99,107.35,106.72,106.08]
[null,5.6,5.24,4,4.82,195,195.2,{"$f":"M119*$I$2","v":109.71},94.098979329273519,111.61,110.98,110.34,109.71,109.07,108.44,107.8]
[null,5.65,5.24,4,4.8499999999999996,195,195.2,111.43,95.574234496955143,113.33,112.7,112.06,111.43,110.79,110.16,109.52]
[null,5.7,5.24,4,4.88,195,195.2,113.15,97.049489664636766,115.02,114.42,113.78,113.15,112.51,111.88,111.24]
[null,5.75,5.24,4.01,4.9000000000000004,195,195.2,114.87,98.524744832318376,116.17,115.98,115.5,114.87,114.23,113.6,112.96]
[null,5.8,5.23,4.01,4.93,0,0,116.59,100,116.59,116.59,116.59,116.59,115.95,115.32,114.68]

{"sheet":"50","index":56,"n_rows":123,"n_cols":16,"rows_kept":123,"cut":false,"hidden":false,"merged":[]}
[]
[null,"F.W. 2 SB",null,null,null,null,null,"S,G,",1,"[t/m3]"]
[]
[null,"GAUGE","LCG","TCG","VCG","FSM (transv)","FSM (long)","Weight","Fill (%)","Trim=-1,5","Trim=1,0","Trim=-0,5","Trim=0","Trim=0,5","Trim=1,0","Trim=1,5"]
[null,null,"Fwd of AP","PS:+","Above BL"," "," "]
[null,"m","m","m","m","t·m","t·m","t",null,"m3","m3","m3","m3","m3","m3","m3"]
[null,0,7.01,-1.21,0.94,0,0,{"$f":"M7*$I$2","v":0.01},{"$f":"M7/$M$123*100","v":8.5770649283815076E-3},0.01,0.01,0.01,0.01,0.01,0.01,0.01]
[null,0.05,6.96,-1.23,0.98,0,0,{"$f":"M8*$I$2","v":0.02},{"$f":"M8/$M$123*100","v":1.7154129856763015E-2},0.02,0.02,0.02,0.02,0.02,0.02,0.02]
[null,0.1,6.93,-1.25,1.01,0,0,0.04,3.4308259713526031E-2,0.04,0.04,0.04,0.04,0.04,0.04,0.04]
[null,0.15,6.89,-1.27,1.05,0,0,0.06,5.1462389570289042E-2,0.06,0.06,0.06,0.06,0.05,0.05,0.05]
[null,0.2,6.85,-1.29,1.0900000000000001,0,0,0.08,6.8616519427052061E-2,0.08,0.08,0.08,0.08,0.08,0.08,0.08]
[null,0.25,6.81,-1.31,1.1299999999999999,0,0,0.11,9.4347714212196579E-2,0.12,0.11,0.11,0.11,0.11,0.1,0.1]
[null,0.3,6.78,-1.34,1.1599999999999999,0,0,0.14000000000000001,0.12007890899734111,0.15,0.15,0.15,0.14000000000000001,0.14000000000000001,0.14000000000000001,0.14000000000000001]
[null,0.35,6.74,-1.36,1.2,0,0.1,0.19,0.16296423363924864,0.2,0.2,0.19,0.19,0.18,0.18,0.18]
[null,0.4,6.71,-1.38,1.24,0,0.1,0.24,0.20584955828115617,0.25,0.25,0.24,0.24,0.23,0.23,0.22]
[null,0.45,6.67,-1.4,1.27,0,0.1,0.3,0.25731194785144518,0.32,0.31,0.3,0.3,0.28999999999999998,0.28000000000000003,0.28000000000000003]
[null,0.5,6.64,-1.43,1.31,0,0.2,0.36,0.30877433742173427,0.39,0.38,0.37,0.36,0.36,0.35,0.34]
[null,0.55000000000000004,6.61,-1.45,1.35,0,0.2,0.44,0.37739085684878632,0.47,0.46,0.45,0.44,0.43,0.42,0.41]
[null,0.6,6.57,-1.48,1.39,0,0.3,0.53,0.45458444120421992,0.56999999999999995,0.55000000000000004,0.54,0.53,0.52,0.51,0.5]
[null,0.65,6.54,-1.5,1.42,0,0.4,0.63,0.54035509048803498,0.67,0.66,0.64,0.63,0.61,0.6,0.59]
[null,0.7,6.51,-1.53,1.46,0,0.5,0.74,0.63470280470023155,0.79,0.77,0.76,0.74,0.72,0.71,0.69]
[null,0.75,6.48,-1.55,1.5,1,0.6,0.86,0.73762758384080962,0.92,0.9,0.88,0.86,0.84,0.82,0.81]
[null,0.8,6.45,-1.58,1.54,1,0.7,1,0.85770649283815081,1.07,1.04,1.02,1,0.97,0.95,0.93]
[null,0.85,6.42,-1.6,1.57,1,0.9,1.1399999999999999,0.97778540183549167,1.23,1.2,1.17,1.1399999999999999,1.1200000000000001,1.1000000000000001,1.07]
[null,0.9,6.39,-1.63,1.61,1,1,1.31,1.1235955056179776,1.4,1.37,1.34,1.31,1.28,1.25,1.23]
[null,0.95,6.35,-1.66,1.65,1,1.3,1.48,1.2694056094004631,1.59,1.55,1.52,1.48,1.45,1.42,1.39]
[null,1,6.32,-1.68,1.69,2,1.5,1.68,1.4409469079680932,1.8,1.75,1.72,1.68,1.64,1.61,1.57]
[null,1.05,6.29,-1.71,1.72,2,1.8,1.89,1.621065271464105,2.02,1.97,1.93,1.89,1.84,1.81,1.77]
[null,1.1000000000000001,6.26,-1.73,1.76,2,2.1,2.11,1.8097606998884981,2.2599999999999998,2.21,2.16,2.11,2.06,2.02,1.98]
[null,1.1499999999999999,6.24,-1.76,1.8,2,2.4,2.35,2.0156102581696542,2.52,2.46,2.4,2.35,2.2999999999999998,2.25,2.21]
[null,1.2,6.21,-1.79,1.84,3,2.8,2.61,2.2386139463075732,2.79,2.73,2.67,2.61,2.5499999999999998,2.5,2.4500000000000002]
[null,1.25,6.18,-1.82,1.87,3,3.3,2.89,2.4787717643022558,3.08,3.01,2.95,2.89,2.82,2.77,2.71]
[null,1.3,6.15,-1.84,1.91,4,3.7,3.18,2.7275066472253195,3.39,3.32,3.25,3.18,3.11,3.05,2.99]
[null,1.35,6.13,-1.87,1.95,4,4.3,3.49,2.9933956600051466,3.72,3.64,3.56,3.49,3.42,3.35,3.28]
[null,1.4,6.11,-1.9,1.98,5,4.8,3.82,3.2764388026417359,4.0599999999999996,3.98,3.9,3.82,3.74,3.67,3.6]
[null,1.45,6.08,-1.93,2.02,5,5.5,4.17,3.576636075135089,4.43,4.34,4.25,4.17,4.09,4.01,3.93]
[null,1.5,6.06,-1.96,2.06,6,6.2,4.54,3.8939874774852044,4.82,4.72,4.63,4.54,4.45,4.3600000000000003,4.28]
[null,1.55,6.04,-1.99,2.09,7,7,4.92,4.2199159447637014,5.22,5.12,5.0199999999999996,4.92,4.83,4.74,4.6500000000000004]
[null,1.6,6.02,-2.02,2.13,8,7.9,5.33,4.5715756068273441,5.65,5.54,5.44,5.33,5.23,5.14,5.04]
[null,1.65,6,-2.0499999999999998,2.17,9,8.9,5.76,4.9403893987477483,6.1,5.98,5.87,5.76,5.66,5.55,5.45]
[null,1.7,5.98,-2.08,2.21,10,9.9,6.21,5.3263573205249157,6.57,6.45,6.33,6.21,6.1,5.99,5.88]
[null,1.75,5.96,-2.12,2.2400000000000002,11,11.1,6.69,5.7380564370872289,7.07,6.94,6.81,6.69,6.57,6.45,6.34]
[null,1.8,5.95,-2.15,2.2799999999999998,12,12.4,7.18,6.1583326185779219,7.59,7.45,7.31,7.18,7.06,6.93,6.81]
[null,1.85,5.93,-2.1800000000000002,2.3199999999999998,14,13.7,7.7,6.6043399948537616,8.1300000000000008,7.98,7.84,7.7,7.57,7.44,7.31]
[null,1.9,5.91,-2.2200000000000002,2.35,15,15.2,8.25,7.0760785659147434,8.6999999999999993,8.5399999999999991,8.39,8.25,8.1,7.96,7.83]
[null,1.95,5.9,-2.25,2.39,17,16.8,8.81,7.5563942019041086,9.2899999999999991,9.1300000000000008,8.9700000000000006,8.81,8.66,8.52,8.3699999999999992]
[null,2,5.88,-2.29,2.4300000000000002,18,18.5,9.41,8.0710180976069985,9.91,9.74,9.57,9.41,9.25,9.09,8.94]
[null,2.0499999999999998,5.87,-2.33,2.46,20,20.3,10.02,8.59421905823827,10.55,10.37,10.199999999999999,10.02,9.86,9.69,9.5299999999999994]
[null,2.1,5.85,-2.36,2.5,22,22.1,10.67,9.151728278583068,11.23,11.04,10.85,10.67,10.49,10.32,10.15]
[null,2.15,5.84,-2.4,2.54,24,24.2,11.34,9.7263916287846293,11.93,11.73,11.53,11.34,11.15,10.97,10.79]
[null,2.2000000000000002,5.82,-2.44,2.57,26,26.3,12.04,10.326786173771334,12.66,12.44,12.24,12.04,11.84,11.65,11.46]
[null,2.25,5.81,-2.4700000000000002,2.61,29,28.6,12.76,10.944334848614803,13.41,13.19,12.97,12.76,12.56,12.36,12.16]
[null,2.2999999999999998,5.79,-2.5099999999999998,2.65,31,31,13.52,11.596191783171799,14.2,13.97,13.74,13.52,13.3,13.09,12.89]
[null,2.35,5.78,-2.5499999999999998,2.69,34,33.6,14.3,12.265202847585556,15.02,14.77,14.53,14.3,14.08,13.85,13.64]
[null,2.4,5.77,-2.59,2.72,36,36.4,15.12,12.96852217171284,15.87,15.61,15.36,15.12,14.88,14.65,14.42]
[null,2.4500000000000002,5.75,-2.63,2.76,39,39.299999999999997,15.96,13.688995625696887,16.75,16.48,16.22,15.96,15.71,15.47,15.23]
[null,2.5,5.74,-2.67,2.8,42,42.4,16.829999999999998,14.435200274466077,17.66,17.38,17.100000000000001,16.829999999999998,16.57,16.32,16.07]
[null,2.5499999999999998,5.73,-2.71,2.83,46,45.6,17.739999999999998,15.215713182948793,18.600000000000001,18.309999999999999,18.02,17.739999999999998,17.47,17.2,16.940000000000001]
[null,2.6,5.71,-2.76,2.87,49,49,18.68,16.021957286216658,19.579999999999998,19.27,18.97,18.68,18.39,18.11,17.84]
[null,2.65,5.7,-2.8,2.91,52,52.5,19.649999999999999,16.853932584269664,20.59,20.27,19.96,19.649999999999999,19.350000000000001,19.059999999999999,18.77]
[null,2.7,5.69,-2.84,2.95,56,56.1,20.65,17.711639077107812,21.63,21.3,20.97,20.65,20.34,20.04,19.739999999999998]
[null,2.75,5.67,-2.88,2.98,60,59.7,21.69,18.603653829659493,22.71,22.36,22.02,21.69,21.36,21.04,20.73]
[null,2.8,5.66,-2.93,3.02,63,63.5,22.76,19.521399776996311,23.82,23.46,23.1,22.76,22.42,22.08,21.76]
[null,2.85,5.65,-2.97,3.06,67,67.3,23.85,20.456299854189897,24.96,24.58,24.21,23.85,23.5,23.16,22.82]
[null,2.9,5.63,-3.01,3.09,71,71.2,24.98,21.425508191097006,26.13,25.74,25.36,24.98,24.62,24.26,23.91]
[null,2.95,5.62,-3.06,3.13,75,75.099999999999994,26.15,22.429024787717641,27.34,26.93,26.54,26.15,25.77,25.39,25.03]
[null,3,5.61,-3.1,3.17,79,79.099999999999994,27.34,23.449695514195039,28.57,28.15,27.74,27.34,26.94,26.56,26.18]
[null,3.05,5.59,-3.14,3.2,83,83.2,28.56,24.496097435457585,29.84,29.41,28.98,28.56,28.15,27.75,27.36]
[null,3.1,5.58,-3.19,3.24,87,87.3,29.82,25.576807616433655,31.13,30.69,30.25,29.82,29.39,28.98,28.57]
[null,3.15,5.57,-3.23,3.28,91,91.5,31.1,26.674671927266491,32.46,32,31.54,31.1,30.66,30.23,29.81]
[null,3.2,5.55,-3.27,3.31,96,95.6,32.409999999999997,27.798267432884465,33.81,33.340000000000003,32.869999999999997,32.409999999999997,31.96,31.51,31.08]
[null,3.25,5.54,-3.32,3.35,100,99.8,{"$f":"M72*$I$2","v":33.75},{"$f":"M72/$M$123*100","v":28.947594133287591},35.19,34.700000000000003,34.22,33.75,33.28,32.82,32.369999999999997]
[null,3.3,5.53,-3.36,3.39,104,103.9,35.11,30.11407496354747,36.590000000000003,36.090000000000003,35.6,35.11,34.630000000000003,34.159999999999997,33.700000000000003]
[null,3.35,5.51,-3.4,3.42,108,107.9,36.5,31.306286988592504,38.020000000000003,37.51,37,36.5,36.01,35.520000000000003,35.04]
[null,3.4,5.5,-3.44,3.46,112,111.8,37.909999999999997,32.515653143494291,39.46,38.94,38.42,37.909999999999997,37.4,36.909999999999997,36.42]
[null,3.45,5.49,-3.48,3.49,115,115.2,39.340000000000003,33.742173428252855,40.92,40.39,39.86,39.340000000000003,38.82,38.31,37.81]
[null,3.5,5.48,-3.52,3.53,118,117.9,40.78,34.977270777939786,42.38,41.84,41.31,40.78,40.26,39.74,39.229999999999997]
[null,3.55,5.46,-3.56,3.56,120,120,42.24,36.229522257483488,43.85,43.31,42.77,42.24,41.71,41.18,40.659999999999997]
[null,3.6,5.45,-3.59,3.6,122,121.7,43.71,37.490350801955572,45.32,44.78,44.24,43.71,43.17,42.64,42.11]
[null,3.65,5.44,-3.62,3.63,123,123,45.18,38.751179346427648,46.8,46.26,45.72,45.18,44.64,44.1,43.57]
[null,3.7,5.43,-3.66,3.66,124,124.1,46.65,40.012007890899731,48.29,47.74,47.2,46.65,46.11,45.57,45.03]
[null,3.75,5.42,-3.69,3.69,125,125,48.13,41.281413500300197,49.78,49.23,48.68,48.13,47.59,47.05,46.51]
[null,3.8,5.41,-3.72,3.73,126,125.7,49.62,42.559396174629036,51.26,50.71,50.17,49.62,49.07,48.53,47.98]
[null,3.85,5.4,-3.74,3.76,126,126.2,51.11,43.837378848957883,52.75,52.2,51.65,51.11,50.56,50.01,49.46]
[null,3.9,5.4,-3.77,3.79,127,126.5,52.59,45.106784458358348,54.24,53.69,53.14,52.59,52.04,51.5,50.95]
[null,3.95,5.39,-3.8,3.82,127,126.8,54.08,46.384767132687195,55.73,55.18,54.63,54.08,53.53,52.98,52.44]
[null,4,5.38,-3.82,3.85,127,126.9,55.57,47.662749807016034,57.22,56.67,56.12,55.57,55.02,54.47,53.92]
[null,4.05,5.37,-3.84,3.88,127,127,57.06,48.940732481344881,58.72,58.17,57.61,57.06,56.51,55.96,55.41]
[null,4.0999999999999996,5.37,-3.86,3.91,127,127,58.55,50.218715155673721,60.21,59.66,59.11,58.55,58,57.45,56.9]
[null,4.1500000000000004,5.36,-3.88,3.94,127,127,60.05,51.505274894930949,61.78,61.17,60.6,60.05,59.5,58.94,58.39]
[null,4.2,5.35,-3.9,3.97,127,127,61.54,52.783257569259803,63.44,62.81,62.17,61.54,60.99,60.44,59.89]
[null,4.25,5.35,-3.91,4.01,195,195.2,63.26,54.258512736941412,65.16,64.53,63.89,63.26,62.62,62.01,61.43]
[null,4.3,5.34,-3.91,4.04,195,195.2,64.98,55.733767904623043,66.88,66.25,65.61,64.98,64.34,63.71,63.08]
[null,4.3499999999999996,5.33,-3.92,4.07,195,195.2,66.7,57.209023072304653,68.599999999999994,67.97,67.33,66.7,66.06,65.430000000000007,64.790000000000006]
[null,4.4000000000000004,5.33,-3.92,4.1100000000000003,195,195.2,68.42,58.684278239986277,70.319999999999993,69.69,69.05,68.42,67.78,67.150000000000006,66.510000000000005]
[null,4.45,5.32,-3.93,4.1399999999999997,195,195.2,70.14,60.159533407667901,72.040000000000006,71.41,70.77,70.14,69.5,68.87,68.23]
[null,4.5,5.32,-3.93,4.17,195,195.2,71.86,61.634788575349511,73.77,73.13,72.489999999999995,71.86,71.22,70.59,69.95]
[null,4.55,5.31,-3.94,4.2,195,195.2,73.58,63.110043743031127,75.489999999999995,74.849999999999994,74.209999999999994,73.58,72.94,72.31,71.67]
[null,4.5999999999999996,5.31,-3.94,4.2300000000000004,195,195.2,75.3,64.585298910712751,77.209999999999994,76.569999999999993,75.94,75.3,74.66,74.03,73.39]
[null,4.6500000000000004,5.3,-3.95,4.2699999999999996,195,195.2,77.02,66.060554078394375,78.930000000000007,78.290000000000006,77.66,77.02,76.38,75.75,75.11]
[null,4.7,5.3,-3.95,4.3,195,195.2,78.739999999999995,67.535809246075985,80.650000000000006,80.010000000000005,79.38,78.739999999999995,78.11,77.47,76.83]
[null,4.75,5.29,-3.95,4.33,195,195.2,80.459999999999994,69.011064413757609,82.37,81.73,81.099999999999994,80.459999999999994,79.83,79.19,78.55]
[null,4.8,5.29,-3.96,4.3600000000000003,195,195.2,82.18,70.486319581439233,84.09,83.45,82.82,82.18,81.55,80.91,80.28]
[null,4.8499999999999996,5.29,-3.96,4.3899999999999997,195,195.2,83.9,71.961574749120842,85.81,85.17,84.54,83.9,83.27,82.63,82]
[null,4.9000000000000004,5.28,-3.96,4.42,195,195.2,85.62,73.436829916802466,87.53,86.89,86.26,85.62,84.99,84.35,83.72]
[null,4.95,5.28,-3.97,4.45,195,195.2,87.34,74.91208508448409,89.25,88.61,87.98,87.34,86.71,86.07,85.44]
[null,5,5.27,-3.97,4.4800000000000004,195,195.2,89.06,76.387340252165714,90.97,90.33,89.7,89.06,88.43,87.79,87.16]
[null,5.05,5.27,-3.97,4.51,195,195.2,90.78,77.862595419847324,92.69,92.05,91.42,90.78,90.15,89.51,88.88]
[null,5.0999999999999996,5.27,-3.98,4.53,195,195.2,92.5,79.337850587528948,94.41,93.77,93.14,92.5,91.87,91.23,90.6]
[null,5.15,5.26,-3.98,4.5599999999999996,195,195.2,94.22,80.813105755210572,96.13,95.49,94.86,94.22,93.59,92.95,92.32]
[null,5.2,5.26,-3.98,4.59,195,195.2,95.94,82.288360922892181,97.85,97.21,96.58,95.94,95.31,94.67,94.04]
[null,5.25,5.26,-3.98,4.62,195,195.2,97.66,83.763616090573805,99.57,98.94,98.3,97.66,97.03,96.39,95.76]
[null,5.3,5.26,-3.99,4.6500000000000004,195,195.2,99.38,85.238871258255415,101.29,100.66,100.02,99.38,98.75,98.11,97.48]
[null,5.35,5.25,-3.99,4.68,195,195.2,101.11,86.722703490865428,103.01,102.38,101.74,101.11,100.47,99.83,99.2]
[null,5.4,5.25,-3.99,4.71,195,195.2,102.83,88.197958658547037,104.73,104.1,103.46,102.83,102.19,101.56,100.92]
[null,5.45,5.25,-3.99,4.74,195,195.2,104.55,89.673213826228661,106.45,105.82,105.18,104.55,103.91,103.28,102.64]
[null,5.5,5.25,-4,4.76,195,195.2,106.27,91.148468993910285,108.17,107.54,106.9,106.27,105.63,105,104.36]
[null,5.55,5.24,-4,4.79,195,195.2,107.99,92.623724161591895,109.89,109.26,108.62,107.99,107.35,106.72,106.08]
[null,5.6,5.24,-4,4.82,195,195.2,{"$f":"M119*$I$2","v":109.71},{"$f":"M119/$M$123*100","v":94.098979329273519},111.61,110.98,110.34,109.71,109.07,108.44,107.8]
[null,5.65,5.24,-4,4.8499999999999996,195,195.2,{"$f":"M120*$I$2","v":111.43},{"$f":"M120/$M$123*100","v":95.574234496955143},113.33,112.7,112.06,111.43,110.79,110.16,109.52]
[null,5.7,5.24,-4,4.88,195,195.2,113.15,97.049489664636766,115.02,114.42,113.78,113.15,112.51,111.88,111.24]
[null,5.75,5.24,-4.01,4.9000000000000004,195,195.2,114.87,98.524744832318376,116.17,115.98,115.5,114.87,114.23,113.6,112.96]
[null,5.8,5.23,-4.01,4.93,0,0,116.59,100,116.59,116.59,116.59,116.59,115.95,115.32,114.68]

{"sheet":"51","index":57,"n_rows":27,"n_cols":16,"rows_kept":27,"cut":false,"hidden":false,"merged":[]}
[]
[null,"DIRTY OIL",null,null,null,null,null,"S.G.",0.98,"[t/m3]"]
[]
[null,"GAUGE","LCG","TCG","VCG","FSM (transv)","FSM (long)","Weight","Fill (%)","Trim=-1,5","Trim=1,0","Trim=-0,5","Trim=0","Trim=0,5","Trim=1,0","Trim=1,5"]
[null,null,"Fwd of AP","PS:+","Above BL"," "," "]
[null,"m","m","m","m","t·m","t·m","t",null,"m3","m3","m3","m3","m3","m3","m3"]
[null,0,36.92,0,0.02,0,0,{"$f":"M7*$I$2","v":0.39200000000000002},{"$f":"M7/$M$27*100","v":2.9784065524944157},0.1,0.14000000000000001,0.24,0.4,0.56000000000000005,0.73,0.89]
[null,0.05,36.93,0,0.04,23,23,{"$f":"M8*$I$2","v":1.0486},{"$f":"M8/$M$27*100","v":7.9672375279225616},0.59,0.75,0.91,1.07,1.23,1.4,1.56]
[null,0.1,36.93,0,7.0000000000000007E-2,23,23,1.7052,12.956068503350707,1.26,1.42,1.58,1.74,1.91,2.0699999999999998,2.23]
[null,0.15,36.93,0,0.09,23,23,2.3618000000000001,17.944899478778854,1.93,2.09,2.25,2.41,2.58,2.74,2.9]
[null,0.2,36.93,0,0.12,23,23,3.0282,23.008190618019359,2.6,2.76,2.92,3.09,3.25,3.41,3.57]
[null,0.25,36.93,0,0.14000000000000001,23,23,3.6847999999999996,27.997021593447503,3.27,3.43,3.6,3.76,3.92,4.08,4.24]
[null,0.3,36.93,0,0.17,23,23,4.3413999999999993,32.98585256887565,3.94,4.0999999999999996,4.2699999999999996,4.43,4.59,4.75,4.92]
[null,0.35,36.93,0,0.19,23,23,4.9979999999999993,37.974683544303794,4.6100000000000003,4.78,4.9400000000000004,5.0999999999999996,5.26,5.42,5.59]
[null,0.4,36.93,0,0.22,23,23,5.6545999999999994,42.963514519731945,5.28,5.45,5.61,5.77,5.93,6.1,6.26]
[null,0.45,36.93,0,0.24,23,23,6.3112000000000004,47.952345495160095,5.96,6.12,6.28,6.44,6.61,6.77,6.93]
[null,0.5,36.93,0,0.27,23,23,6.9678000000000004,52.941176470588239,6.63,6.79,6.95,7.11,7.28,7.44,7.6]
[null,0.55000000000000004,36.93,0,0.28999999999999998,23,23,7.6341999999999999,58.004467609828744,7.3,7.46,7.62,7.79,7.95,8.11,8.27]
[null,0.6,36.93,0,0.32,23,23,8.2908000000000008,62.993298585256895,7.97,8.1300000000000008,8.3000000000000007,8.4600000000000009,8.6199999999999992,8.7799999999999994,8.94]
[null,0.65,36.93,0,0.34,23,23,8.9474,67.982129560685038,8.64,8.8000000000000007,8.9700000000000006,9.1300000000000008,9.2899999999999991,9.4499999999999993,9.6199999999999992]
[null,0.7,36.93,0,0.37,23,23,9.604000000000001,72.970960536113182,9.31,9.48,9.64,9.8000000000000007,9.9600000000000009,10.119999999999999,10.29]
[null,0.75,36.93,0,0.39,23,23,10.2606,77.959791511541326,9.98,10.15,10.31,10.47,10.63,10.8,10.96]
[null,0.8,36.93,0,0.42,23,23,10.917200000000001,82.948622486969484,10.66,10.82,10.98,11.14,11.31,11.47,11.63]
[null,0.85,36.93,0,0.44,23,23,11.5738,87.937453462397613,11.33,11.49,11.65,11.81,11.98,12.14,12.3]
[null,0.9,36.93,0,0.47,23,23,12.2402,93.000744601638132,12,12.16,12.32,12.49,12.65,12.81,12.97]
[null,0.95,36.93,0,0.49,23,23,12.896800000000001,97.989575577066262,12.67,12.83,13,13.16,13.31,13.36,13.37]
[null,1,36.93,0,0.5,0,0,13.161399999999999,100,13.24,13.37,13.43,13.43,13.43,13.43,13.43]

{"sheet":"52","index":58,"n_rows":31,"n_cols":16,"rows_kept":31,"cut":false,"hidden":false,"merged":[]}
[]
[null,"OILY WATER",null,null,null,null,null,"S.G.",0.98,"[t/m3]"]
[]
[null,"GAUGE","LCG","TCG","VCG","FSM (transv)","FSM (long)","Weight","Fill (%)","Trim=-1,5","Trim=1,0","Trim=-0,5","Trim=0","Trim=0,5","Trim=1,0","Trim=1,5"]
[null,null,"Fwd of AP","PS:+","Above BL"," "," "]
[null,"m","m","m","m","t·m","t·m","t",null,"m3","m3","m3","m3","m3","m3","m3"]
[null,0,37.04,-3.43,0.02,0,0,{"$f":"M7*$I$2","v":0.41159999999999997},{"$f":"M7/$M$31*100","v":1.3907284768211921},7.0000000000000007E-2,0.09,0.15,0.42,0.95,1.61,2.35]
[null,0.05,37.29,-3.61,0.04,18,17.8,{"$f":"M8*$I$2","v":1.3426},{"$f":"M8/$M$31*100","v":4.5364238410596034},0.41,0.55000000000000004,0.84,1.37,2.0299999999999998,2.77,3.57]
[null,0.1,37.409999999999997,-3.72,7.0000000000000007E-2,24,23.4,2.4304000000000001,8.2119205298013238,1.01,1.32,1.83,2.48,3.22,4.03,4.8899999999999997]
[null,0.15,37.49,-3.81,0.1,29,28.4,3.6259999999999999,12.251655629139075,1.84,2.3199999999999998,2.97,3.7,4.51,5.38,6.28]
[null,0.2,37.549999999999997,-3.88,0.13,33,32.4,4.9097999999999997,16.589403973509935,2.85,3.48,4.21,5.01,5.88,6.79,7.74]
[null,0.25,37.590000000000003,-3.94,0.15,36,35.299999999999997,6.2622,21.158940397350992,4,4.7300000000000004,5.53,6.39,7.3,8.25,9.23]
[null,0.3,37.630000000000003,-3.99,0.18,38,37.6,7.6537999999999995,25.860927152317881,5.26,6.05,6.91,7.81,8.76,9.74,10.76]
[null,0.35,37.67,-4.03,0.21,40,39.4,9.0943999999999985,30.728476821192054,6.58,7.43,8.33,9.2799999999999994,10.26,11.27,12.29]
[null,0.4,37.700000000000003,-4.07,0.24,41,40.6,10.554599999999999,35.662251655629142,7.96,8.86,9.8000000000000007,10.77,11.78,12.8,13.82]
[null,0.45,37.729999999999997,-4.0999999999999996,0.26,42,41.1,12.044199999999998,40.69536423841059,9.39,10.32,11.29,12.29,13.31,14.33,15.36]
[null,0.5,37.76,-4.12,0.28999999999999998,42,41.3,13.5436,45.76158940397351,10.84,11.81,12.8,13.82,14.84,15.86,16.89]
[null,0.55000000000000004,37.78,-4.1399999999999997,0.32,42,41.4,15.042999999999999,50.827814569536422,12.33,13.32,14.33,15.35,16.37,17.399999999999999,18.420000000000002]
[null,0.6,37.799999999999997,-4.16,0.34,42,41.4,16.542399999999997,55.894039735099334,13.83,14.84,15.86,16.88,17.91,18.93,19.96]
[null,0.65,37.81,-4.17,0.37,42,41.4,18.051600000000001,60.993377483443709,15.35,16.37,17.39,18.420000000000002,19.440000000000001,20.47,21.49]
[null,0.7,37.82,-4.18,0.39,42,41.4,19.550999999999998,66.059602649006621,16.88,17.899999999999999,18.93,19.95,20.98,22,23.02]
[null,0.75,37.83,-4.1900000000000004,0.42,42,41.4,21.0504,71.125827814569547,18.41,19.440000000000001,20.46,21.48,22.51,23.53,24.56]
[null,0.8,37.840000000000003,-4.2,0.45,42,41.4,22.5596,76.225165562913915,19.95,20.97,21.99,23.02,24.04,25.07,26.01]
[null,0.85,37.85,-4.21,0.47,42,41.4,24.059000000000001,81.291390728476813,21.48,22.5,23.53,24.55,25.58,26.57,27.31]
[null,0.9,37.86,-4.21,0.5,42,41.4,25.568200000000001,86.390728476821195,23.01,24.04,25.06,26.09,27.11,27.89,28.39]
[null,0.95,37.869999999999997,-4.22,0.52,42,41.4,27.067599999999999,91.456953642384107,24.55,25.57,26.6,27.62,28.44,28.91,29.19]
[null,1,37.869999999999997,-4.24,0.54,10,9.4,28.253399999999999,95.463576158940384,26.04,27.05,28.05,28.83,29.29,29.55,29.7]
[null,1.05,37.869999999999997,-4.26,0.56000000000000005,3,3.2,28.9786,97.913907284768214,27.37,28.31,29.1,29.57,29.82,29.94,30]
[null,1.1000000000000001,37.86,-4.29,0.56000000000000005,1,0.6,29.409800000000001,99.370860927152322,28.5,29.27,29.76,30.01,30.1,30.13,30.15]
[null,1.1499999999999999,37.85,-4.3,0.56999999999999995,0,0,29.5764,99.933774834437088,29.36,29.87,30.12,30.18,30.2,30.2,30.2]
[null,1.2,37.85,-4.3,0.56999999999999995,0,0,29.596,100,29.9,30.16,30.2,30.2,30.2,30.2,30.2]

{"sheet":"53","index":59,"n_rows":27,"n_cols":17,"rows_kept":27,"cut":false,"hidden":false,"merged":[]}
[]
[null,"GREY WATER",null,null,null,null,null,"S.G.",0.98,"[t/m3]"]
[]
[null,"GAUGE","LCG","TCG","VCG","FSM (transv)","FSM (long)","Weight","Fill (%)","Trim=-1,5","Trim=1,0","Trim=-0,5","Trim=0","Trim=0,5","Trim=1,0","Trim=1,5"]
[null,null,"Fwd of AP","PS:+","Above BL"," "," "]
[null,"m","m","m","m","t·m","t·m","t",null,"m3","m3","m3","m3","m3","m3","m3"]
[null,0,41.53,0,0.02,0,0,{"$f":"M7*$I$2","v":0.90160000000000007},{"$f":"M7/$M$27*100","v":2.9581993569131835},1.34,1.1200000000000001,0.96,0.92,0.88,0.97,1.1499999999999999]
[null,0.05,41.55,0,0.04,61,60.2,{"$f":"M8*$I$2","v":2.4206000000000003},{"$f":"M8/$M$27*100","v":7.9421221864951779},2.61,2.56,2.52,2.4700000000000002,2.4300000000000002,2.39,2.37]
[null,0.1,41.55,0,7.0000000000000007E-2,61,60.2,3.9494000000000002,12.958199356913184,4.1500000000000004,4.1100000000000003,4.07,4.03,3.99,3.95,3.91]
[null,0.15,41.55,0,0.09,61,60.2,5.4782000000000002,17.974276527331188,5.71,5.67,5.63,5.59,5.54,5.5,5.46]
[null,0.2,41.56,0,0.12,61,60.2,6.9971999999999994,22.95819935691318,7.27,7.22,7.18,7.14,7.1,7.06,7.02]
[null,0.25,41.56,0,0.14000000000000001,61,60.2,8.5259999999999998,27.974276527331188,8.82,8.7799999999999994,8.74,8.6999999999999993,8.66,8.61,8.57,{"$f":"LinInterpolate(0,I7:I27,B7:B27,TRUE)","v":-2.9677419354838707E-2}]
[null,0.3,41.56,0,0.17,61,60.2,10.045,32.958199356913184,10.38,10.34,10.29,10.25,10.210000000000001,10.17,10.130000000000001]
[null,0.35,41.56,0,0.19,61,60.2,11.5738,37.974276527331192,11.93,11.89,11.85,11.81,11.77,11.73,11.69]
[null,0.4,41.56,0,0.22,61,60.2,13.092799999999999,42.958199356913177,13.49,13.45,13.41,13.36,13.32,13.28,13.24]
[null,0.45,41.56,0,0.24,61,60.2,14.621599999999999,47.974276527331192,15.04,15,14.96,14.92,14.88,14.84,14.8]
[null,0.5,41.56,0,0.27,61,60.2,16.150400000000001,52.990353697749192,16.600000000000001,16.559999999999999,16.52,16.48,16.440000000000001,16.39,16.350000000000001]
[null,0.55000000000000004,41.56,0,0.28999999999999998,61,60.2,17.6694,57.974276527331192,18.16,18.11,18.07,18.03,17.989999999999998,17.95,17.91]
[null,0.6,41.56,0,0.32,61,60.2,19.1982,62.990353697749192,19.71,19.670000000000002,19.63,19.59,19.55,19.510000000000002,19.46]
[null,0.65,41.56,0,0.34,61,60.2,20.717200000000002,67.974276527331185,21.27,21.23,21.19,21.14,21.1,21.06,21.02]
[null,0.7,41.56,0,0.37,61,60.2,22.245999999999999,72.990353697749185,22.82,22.78,22.74,22.7,22.66,22.62,22.58]
[null,0.75,41.56,0,0.39,61,60.2,23.774800000000003,78.006430868167214,24.38,24.34,24.3,24.26,24.21,24.17,24.13]
[null,0.8,41.56,0,0.42,61,60.2,25.293799999999997,82.990353697749185,25.94,25.89,25.85,25.81,25.77,25.73,25.69]
[null,0.85,41.56,0,0.44,61,60.2,26.822600000000001,88.0064308681672,27.49,27.45,27.41,27.37,27.33,27.29,27.24]
[null,0.9,41.56,0,0.47,61,60.2,28.3416,92.9903536977492,29,29.01,28.96,28.92,28.88,28.84,28.76]
[null,0.95,41.56,0,0.49,61,60.2,29.8704,98.0064308681672,30.13,30.32,30.49,30.48,30.41,30.21,29.97]
[null,1,41.56,0,0.5,0,0,30.478000000000002,100,30.82,30.99,31.1,31.1,31.1,30.96,30.74]

{"sheet":"54","index":60,"n_rows":31,"n_cols":16,"rows_kept":31,"cut":false,"hidden":false,"merged":[]}
[]
[null,"SEWAGE ",null,null,null,null,null,"S.G.",0.98,"[t/m3]"]
[]
[null,"GAUGE","LCG","TCG","VCG","FSM (transv)","FSM (long)","Weight","Fill (%)","Trim=-1,5","Trim=1,0","Trim=-0,5","Trim=0","Trim=0,5","Trim=1,0","Trim=1,5"]
[null,null,"Fwd of AP","PS:+","Above BL"," "," "]
[null,"m","m","m","m","t·m","t·m","t",null,"m3","m3","m3","m3","m3","m3","m3"]
[null,0,37.04,3.43,0.02,0,0,{"$f":"M7*$I$2","v":0.41159999999999997},{"$f":"M7/$M$31*100","v":1.3907284768211921},7.0000000000000007E-2,0.09,0.15,0.42,0.95,1.61,2.35]
[null,0.05,37.29,3.61,0.04,18,17.8,{"$f":"M8*$I$2","v":1.3426},{"$f":"M8/$M$31*100","v":4.5364238410596034},0.41,0.55000000000000004,0.84,1.37,2.0299999999999998,2.77,3.57]
[null,0.1,37.409999999999997,3.72,7.0000000000000007E-2,24,23.4,2.4304000000000001,8.2119205298013238,1.01,1.32,1.83,2.48,3.22,4.03,4.8899999999999997]
[null,0.15,37.49,3.81,0.1,29,28.4,3.6259999999999999,12.251655629139075,1.84,2.3199999999999998,2.97,3.7,4.51,5.38,6.28]
[null,0.2,37.549999999999997,3.88,0.13,33,32.4,4.9097999999999997,16.589403973509935,2.85,3.48,4.21,5.01,5.88,6.79,7.74]
[null,0.25,37.590000000000003,3.94,0.15,36,35.299999999999997,6.2622,21.158940397350992,4,4.7300000000000004,5.53,6.39,7.3,8.25,9.23]
[null,0.3,37.630000000000003,3.99,0.18,38,37.6,7.6537999999999995,25.860927152317881,5.26,6.05,6.91,7.81,8.76,9.74,10.76]
[null,0.35,37.67,4.03,0.21,40,39.4,9.0943999999999985,30.728476821192054,6.58,7.43,8.33,9.2799999999999994,10.26,11.27,12.29]
[null,0.4,37.700000000000003,4.07,0.24,41,40.6,10.554599999999999,35.662251655629142,7.96,8.86,9.8000000000000007,10.77,11.78,12.8,13.82]
[null,0.45,37.729999999999997,4.0999999999999996,0.26,42,41.1,12.044199999999998,40.69536423841059,9.39,10.32,11.29,12.29,13.31,14.33,15.36]
[null,0.5,37.76,4.12,0.28999999999999998,42,41.3,13.5436,45.76158940397351,10.84,11.81,12.8,13.82,14.84,15.86,16.89]
[null,0.55000000000000004,37.78,4.1399999999999997,0.32,42,41.4,15.042999999999999,50.827814569536422,12.33,13.32,14.33,15.35,16.37,17.399999999999999,18.420000000000002]
[null,0.6,37.799999999999997,4.16,0.34,42,41.4,16.542399999999997,55.894039735099334,13.83,14.84,15.86,16.88,17.91,18.93,19.96]
[null,0.65,37.81,4.17,0.37,42,41.4,18.051600000000001,60.993377483443709,15.35,16.37,17.39,18.420000000000002,19.440000000000001,20.47,21.49]
[null,0.7,37.82,4.18,0.39,42,41.4,19.550999999999998,66.059602649006621,16.88,17.899999999999999,18.93,19.95,20.98,22,23.02]
[null,0.75,37.83,4.1900000000000004,0.42,42,41.4,21.0504,71.125827814569547,18.41,19.440000000000001,20.46,21.48,22.51,23.53,24.56]
[null,0.8,37.840000000000003,4.2,0.45,42,41.4,22.5596,76.225165562913915,19.95,20.97,21.99,23.02,24.04,25.07,26.01]
[null,0.85,37.85,4.21,0.47,42,41.4,24.059000000000001,81.291390728476813,21.48,22.5,23.53,24.55,25.58,26.57,27.31]
[null,0.9,37.86,4.21,0.5,42,41.4,25.568200000000001,86.390728476821195,23.01,24.04,25.06,26.09,27.11,27.89,28.39]
[null,0.95,37.869999999999997,4.22,0.52,42,41.4,27.067599999999999,91.456953642384107,24.55,25.57,26.6,27.62,28.44,28.91,29.19]
[null,1,37.869999999999997,4.24,0.54,10,9.4,28.253399999999999,95.463576158940384,26.04,27.05,28.05,28.83,29.29,29.55,29.7]
[null,1.05,37.869999999999997,4.26,0.56000000000000005,3,3.2,28.9786,97.913907284768214,27.37,28.31,29.1,29.57,29.82,29.94,30]
[null,1.1000000000000001,37.86,4.29,0.56000000000000005,1,0.6,29.409800000000001,99.370860927152322,28.5,29.27,29.76,30.01,30.1,30.13,30.15]
[null,1.1499999999999999,37.85,4.3,0.56999999999999995,0,0,29.5764,99.933774834437088,29.36,29.87,30.12,30.18,30.2,30.2,30.2]
[null,1.2,37.85,4.3,0.56999999999999995,0,0,29.596,100,29.9,30.16,30.2,30.2,30.2,30.2,30.2]

{"sheet":"55","index":61,"n_rows":27,"n_cols":16,"rows_kept":27,"cut":false,"hidden":false,"merged":[]}
[]
[null,"SLUDGE ",null,null,null,null,null,"S.G.",0.98,"[t/m3]"]
[]
[null,"GAUGE","LCG","TCG","VCG","FSM (transv)","FSM (long)","Weight","Fill (%)","Trim=-1,5","Trim=1,0","Trim=-0,5","Trim=0","Trim=0,5","Trim=1,0","Trim=1,5"]
[null,null,"Fwd of AP","PS:+","Above BL"," "," "]
[null,"m","m","m","m","t·m","t·m","t",null,"m3","m3","m3","m3","m3","m3","m3"]
[null,0,31.5,-1.8,0.02,0,0,{"$f":"M7*$I$2","v":0.55859999999999999},{"$f":"M7/$M$27*100","v":2.9921259842519681},0.08,0.11,0.19,0.56999999999999995,1.02,1.47,1.92]
[null,0.05,31.5,-1.8,0.04,21,20.2,{"$f":"M8*$I$2","v":1.4896},{"$f":"M8/$M$27*100","v":7.9790026246719155},0.46,0.65,1.07,1.52,1.97,2.4300000000000002,2.88]
[null,0.1,31.5,-1.8,7.0000000000000007E-2,21,20.2,2.4304000000000001,13.018372703412073,1.1399999999999999,1.57,2.0299999999999998,2.48,2.93,3.38,3.83]
[null,0.15,31.5,-1.8,0.09,21,20.2,3.3614000000000002,18.005249343832023,2.08,2.5299999999999998,2.98,3.43,3.88,4.33,4.78]
[null,0.2,31.5,-1.8,0.12,21,20.2,4.2923999999999998,22.992125984251967,3.03,3.48,3.93,4.38,4.83,5.28,5.73]
[null,0.25,31.5,-1.8,0.14000000000000001,21,20.2,5.2233999999999998,27.979002624671917,3.98,4.43,4.88,5.33,5.79,6.24,6.69]
[null,0.3,31.5,-1.8,0.17,21,20.2,6.1642000000000001,33.018372703412076,4.93,5.38,5.84,6.29,6.74,7.19,7.64]
[null,0.35,31.5,-1.8,0.19,21,20.2,7.0952000000000002,38.00524934383202,5.89,6.34,6.79,7.24,7.69,8.14,8.59]
[null,0.4,31.5,-1.8,0.22,21,20.2,8.0261999999999993,42.992125984251963,6.84,7.29,7.74,8.19,8.64,9.09,9.5399999999999991]
[null,0.45,31.5,-1.8,0.24,21,20.2,8.9572000000000003,47.979002624671921,7.79,8.24,8.69,9.14,9.6,10.050000000000001,10.5]
[null,0.5,31.5,-1.8,0.27,21,20.2,9.8979999999999997,53.018372703412062,8.74,9.19,9.65,10.1,10.55,11,11.45]
[null,0.55000000000000004,31.5,-1.8,0.28999999999999998,21,20.2,10.829000000000001,58.00524934383202,9.6999999999999993,10.15,10.6,11.05,11.5,11.95,12.4]
[null,0.6,31.5,-1.8,0.32,21,20.2,11.76,62.99212598425197,10.65,11.1,11.55,12,12.45,12.9,13.36]
[null,0.65,31.5,-1.8,0.34,21,20.2,12.690999999999999,67.979002624671921,11.6,12.05,12.5,12.95,13.41,13.86,14.31]
[null,0.7,31.5,-1.8,0.37,21,20.2,13.6318,73.018372703412069,12.55,13.01,13.46,13.91,14.36,14.81,15.26]
[null,0.75,31.5,-1.8,0.39,21,20.2,14.562799999999999,78.00524934383202,13.51,13.96,14.41,14.86,15.31,15.76,16.21]
[null,0.8,31.5,-1.8,0.42,21,20.2,15.4938,82.99212598425197,14.46,14.91,15.36,15.81,16.260000000000002,16.71,17.170000000000002]
[null,0.85,31.5,-1.8,0.44,21,20.2,16.424800000000001,87.979002624671921,15.41,15.86,16.309999999999999,16.760000000000002,17.22,17.670000000000002,18.07]
[null,0.9,31.5,-1.8,0.47,21,20.2,17.365599999999997,93.018372703412069,16.36,16.82,17.27,17.72,18.170000000000002,18.54,18.7]
[null,0.95,31.5,-1.8,0.49,21,20.2,18.296600000000002,98.00524934383202,17.32,17.77,18.22,18.670000000000002,18.96,19,19.010000000000002]
[null,1,31.5,-1.8,0.5,0,0,18.669,100,18.190000000000001,18.61,18.98,19.05,19.05,19.05,19.05]

{"sheet":"56","index":62,"n_rows":47,"n_cols":16,"rows_kept":47,"cut":false,"hidden":false,"merged":[]}
[]
[null,"LUBRICATION OIL PS",null,null,null,null,null,"S.G.",0.9,"[t/m3]"]
[]
[null,"GAUGE","LCG","TCG","VCG","FSM (transv)","FSM (long)","Weight","Fill (%)","Trim=-1,5","Trim=1,0","Trim=-0,5","Trim=0","Trim=0,5","Trim=1,0","Trim=1,5"]
[null,null,"Fwd of AP","PS:+","Above BL"," "," "]
[null,"m","m","m","m","t·m","t·m","t",null,"m3","m3","m3","m3","m3","m3","m3"]
[null,0,30.3,-0.9,4.8099999999999996,0,0,{"$f":"M7*$I$2","v":0.14400000000000002},{"$f":"M7/$M$47*100","v":1.5122873345935728},0.36,0.28999999999999998,0.23,0.16,0.09,0.05,0.04]
[null,0.05,30.3,-0.9,4.84,1,1.3,{"$f":"M8*$I$2","v":0.378},{"$f":"M8/$M$47*100","v":3.9697542533081283},0.63,0.56000000000000005,0.49,0.42,0.36,0.28999999999999998,0.22]
[null,0.1,30.3,-0.9,4.87,1,1.3,0.621,6.5217391304347823,0.89,0.82,0.76,0.69,0.62,0.55000000000000004,0.48]
[null,0.15,30.3,-0.9,4.8899999999999997,1,1.3,0.85499999999999998,8.9792060491493384,1.1599999999999999,1.0900000000000001,1.02,0.95,0.88,0.82,0.75]
[null,0.2,30.3,-0.9,4.91,1,1.3,1.0980000000000001,11.531190926275992,1.42,1.35,1.28,1.22,1.1499999999999999,1.08,1.01]
[null,0.25,30.3,-0.9,4.9400000000000004,1,1.3,1.3320000000000001,13.988657844990549,1.68,1.62,1.55,1.48,1.41,1.35,1.28]
[null,0.3,30.3,-0.9,4.96,1,1.3,1.575,16.540642722117202,1.95,1.88,1.81,1.75,1.68,1.61,1.54]
[null,0.35,30.3,-0.9,4.99,1,1.3,1.8089999999999999,18.998109640831757,2.21,2.15,2.08,2.0099999999999998,1.94,1.88,1.81]
[null,0.4,30.3,-0.9,5.01,1,1.3,2.052,21.55009451795841,2.48,2.41,2.34,2.2799999999999998,2.21,2.14,2.0699999999999998]
[null,0.45,30.3,-0.9,5.04,1,1.3,2.286,24.007561436672965,2.74,2.68,2.61,2.54,2.4700000000000002,2.4,2.34]
[null,0.5,30.3,-0.9,5.07,1,1.3,2.52,26.465028355387521,3.01,2.94,2.87,2.8,2.74,2.67,2.6]
[null,0.55000000000000004,30.3,-0.9,5.09,1,1.3,2.7629999999999999,29.017013232514177,3.27,3.2,3.14,3.07,3,2.93,2.87]
[null,0.6,30.3,-0.9,5.1100000000000003,1,1.3,2.9970000000000003,31.474480151228732,3.54,3.47,3.4,3.33,3.27,3.2,3.13]
[null,0.65,30.3,-0.9,5.14,1,1.3,3.24,34.026465028355389,3.8,3.73,3.67,3.6,3.53,3.46,3.4]
[null,0.7,30.3,-0.9,5.16,1,1.3,3.4739999999999998,36.483931947069941,4.07,4,3.93,3.86,3.8,3.73,3.66]
[null,0.75,30.3,-0.9,5.19,1,1.3,3.7170000000000001,39.035916824196597,4.33,4.26,4.2,4.13,4.0599999999999996,3.99,3.92]
[null,0.8,30.3,-0.9,5.22,1,1.3,3.9509999999999996,41.493383742911149,4.5999999999999996,4.53,4.46,4.3899999999999997,4.32,4.26,4.1900000000000004]
[null,0.85,30.3,-0.9,5.24,1,1.3,4.194,44.045368620037806,4.8600000000000003,4.79,4.72,4.66,4.59,4.5199999999999996,4.45]
[null,0.9,30.3,-0.9,5.26,1,1.3,4.4279999999999999,46.502835538752365,5.12,5.0599999999999996,4.99,4.92,4.8499999999999996,4.79,4.72]
[null,0.95,30.3,-0.9,5.29,1,1.3,4.6710000000000003,49.054820415879021,5.39,5.32,5.25,5.19,5.12,5.05,4.9800000000000004]
[null,1,30.3,-0.9,5.32,1,1.3,4.9050000000000002,51.512287334593573,5.65,5.59,5.52,5.45,5.38,5.32,5.25]
[null,1.05,30.3,-0.9,5.34,1,1.3,5.1479999999999997,54.064272211720223,5.92,5.85,5.78,5.72,5.65,5.58,5.51]
[null,1.1000000000000001,30.3,-0.9,5.37,1,1.3,5.3820000000000006,56.521739130434788,6.18,6.12,6.05,5.98,5.91,5.84,5.78]
[null,1.1499999999999999,30.3,-0.9,5.39,1,1.3,5.6160000000000005,58.979206049149333,6.45,6.38,6.31,6.24,6.18,6.11,6.04]
[null,1.2,30.3,-0.9,5.42,1,1.3,5.859,61.53119092627599,6.71,6.64,6.58,6.51,6.44,6.37,6.31]
[null,1.25,30.3,-0.9,5.44,1,1.3,6.093,63.988657844990549,6.98,6.91,6.84,6.77,6.71,6.64,6.57]
[null,1.3,30.3,-0.9,5.46,1,1.3,6.3360000000000003,66.540642722117198,7.24,7.17,7.11,7.04,6.97,6.9,6.84]
[null,1.35,30.3,-0.9,5.49,1,1.3,6.57,68.998109640831757,7.51,7.44,7.37,7.3,7.24,7.17,7.1]
[null,1.4,30.3,-0.9,5.52,1,1.3,6.8130000000000006,71.550094517958414,7.77,7.7,7.64,7.57,7.5,7.43,7.36]
[null,1.45,30.3,-0.9,5.54,1,1.3,7.0470000000000006,74.007561436672958,8.0399999999999991,7.97,7.9,7.83,7.76,7.7,7.63]
[null,1.5,30.3,-0.9,5.56,1,1.3,7.29,76.559546313799615,8.3000000000000007,8.23,8.16,8.1,8.0299999999999994,7.96,7.89]
[null,1.55,30.3,-0.9,5.59,1,1.3,7.524,79.017013232514174,8.56,8.5,8.43,8.36,8.2899999999999991,8.23,8.16]
[null,1.6,30.3,-0.9,5.62,1,1.3,7.7670000000000012,81.56899810964083,8.83,8.76,8.69,8.6300000000000008,8.56,8.49,8.42]
[null,1.65,30.3,-0.9,5.64,1,1.3,8.0010000000000012,84.026465028355389,9.09,9.0299999999999994,8.9600000000000009,8.89,8.82,8.76,8.69]
[null,1.7,30.3,-0.9,5.67,1,1.3,8.2439999999999998,86.578449905482046,9.36,9.2899999999999991,9.2200000000000006,9.16,9.09,9.02,8.9499999999999993]
[null,1.75,30.3,-0.9,5.69,1,1.3,8.4779999999999998,89.03591682419659,9.6199999999999992,9.56,9.49,9.42,9.35,9.2799999999999994,9.2200000000000006]
[null,1.8,30.3,-0.9,5.72,1,1.3,8.7119999999999997,91.493383742911149,9.89,9.82,9.75,9.68,9.6199999999999992,9.5500000000000007,9.48]
[null,1.85,30.3,-0.9,5.74,1,1.3,8.9550000000000001,94.045368620037792,10.15,10.08,10.02,9.9499999999999993,9.8800000000000008,9.81,9.75]
[null,1.9,30.3,-0.9,5.77,1,1.3,9.1890000000000018,96.502835538752379,10.41,10.35,10.28,10.210000000000001,10.15,10.08,10.01]
[null,1.95,30.3,-0.9,5.79,1,1.3,9.4320000000000004,99.054820415879021,10.57,10.56,10.54,10.48,10.41,10.34,10.28]
[null,1.97,30.3,-0.9,5.8,0,0,9.5220000000000002,100,10.58,10.58,10.58,10.58,10.52,10.45,10.38]

{"sheet":"57","index":63,"n_rows":47,"n_cols":16,"rows_kept":47,"cut":false,"hidden":false,"merged":[]}
[]
[null,"LUBRICATION OIL SB",null,null,null,null,null,"S.G.",0.9,"[t/m3]"]
[]
[null,"GAUGE","LCG","TCG","VCG","FSM (transv)","FSM (long)","Weight","Fill (%)","Trim=-1,5","Trim=1,0","Trim=-0,5","Trim=0","Trim=0,5","Trim=1,0","Trim=1,5"]
[null,null,"Fwd of AP","PS:+","Above BL"," "," "]
[null,"m","m","m","m","t·m","t·m","t",null,"m3","m3","m3","m3","m3","m3","m3"]
[null,0,30.3,-2.7,4.8099999999999996,0,0,{"$f":"M7*$I$2","v":0.14400000000000002},{"$f":"M7/$M$47*100","v":1.5122873345935728},0.36,0.28999999999999998,0.23,0.16,0.09,0.05,0.04]
[null,0.05,30.3,-2.7,4.84,1,1.3,{"$f":"M8*$I$2","v":0.378},{"$f":"M8/$M$47*100","v":3.9697542533081283},0.63,0.56000000000000005,0.49,0.42,0.36,0.28999999999999998,0.22]
[null,0.1,30.3,-2.7,4.8600000000000003,1,1.3,0.621,6.5217391304347823,0.89,0.82,0.76,0.69,0.62,0.55000000000000004,0.48]
[null,0.15,30.3,-2.7,4.8899999999999997,1,1.3,0.85499999999999998,8.9792060491493384,1.1599999999999999,1.0900000000000001,1.02,0.95,0.88,0.82,0.75]
[null,0.2,30.3,-2.7,4.91,1,1.3,1.0980000000000001,11.531190926275992,1.42,1.35,1.28,1.22,1.1499999999999999,1.08,1.01]
[null,0.25,30.3,-2.7,4.9400000000000004,1,1.3,1.3320000000000001,13.988657844990549,1.68,1.62,1.55,1.48,1.41,1.35,1.28]
[null,0.3,30.3,-2.7,4.97,1,1.3,1.575,16.540642722117202,1.95,1.88,1.81,1.75,1.68,1.61,1.54]
[null,0.35,30.3,-2.7,4.99,1,1.3,1.8089999999999999,18.998109640831757,2.21,2.15,2.08,2.0099999999999998,1.94,1.88,1.81]
[null,0.4,30.3,-2.7,5.0199999999999996,1,1.3,2.052,21.55009451795841,2.48,2.41,2.34,2.2799999999999998,2.21,2.14,2.0699999999999998]
[null,0.45,30.3,-2.7,5.04,1,1.3,2.286,24.007561436672965,2.74,2.68,2.61,2.54,2.4700000000000002,2.4,2.34]
[null,0.5,30.3,-2.7,5.0599999999999996,1,1.3,2.52,26.465028355387521,3.01,2.94,2.87,2.8,2.74,2.67,2.6]
[null,0.55000000000000004,30.3,-2.7,5.09,1,1.3,2.7629999999999999,29.017013232514177,3.27,3.2,3.14,3.07,3,2.93,2.87]
[null,0.6,30.3,-2.7,5.1100000000000003,1,1.3,2.9970000000000003,31.474480151228732,3.54,3.47,3.4,3.33,3.27,3.2,3.13]
[null,0.65,30.3,-2.7,5.14,1,1.3,3.24,34.026465028355389,3.8,3.73,3.67,3.6,3.53,3.46,3.4]
[null,0.7,30.3,-2.7,5.17,1,1.3,3.4739999999999998,36.483931947069941,4.07,4,3.93,3.86,3.8,3.73,3.66]
[null,0.75,30.3,-2.7,5.19,1,1.3,3.7170000000000001,39.035916824196597,4.33,4.26,4.2,4.13,4.0599999999999996,3.99,3.92]
[null,0.8,30.3,-2.7,5.22,1,1.3,3.9509999999999996,41.493383742911149,4.5999999999999996,4.53,4.46,4.3899999999999997,4.32,4.26,4.1900000000000004]
[null,0.85,30.3,-2.7,5.24,1,1.3,4.194,44.045368620037806,4.8600000000000003,4.79,4.72,4.66,4.59,4.5199999999999996,4.45]
[null,0.9,30.3,-2.7,5.26,1,1.3,4.4279999999999999,46.502835538752365,5.12,5.0599999999999996,4.99,4.92,4.8499999999999996,4.79,4.72]
[null,0.95,30.3,-2.7,5.29,1,1.3,4.6710000000000003,49.054820415879021,5.39,5.32,5.25,5.19,5.12,5.05,4.9800000000000004]
[null,1,30.3,-2.7,5.31,1,1.3,4.9050000000000002,51.512287334593573,5.65,5.59,5.52,5.45,5.38,5.32,5.25]
[null,1.05,30.3,-2.7,5.34,1,1.3,5.1479999999999997,54.064272211720223,5.92,5.85,5.78,5.72,5.65,5.58,5.51]
[null,1.1000000000000001,30.3,-2.7,5.37,1,1.3,5.3820000000000006,56.521739130434788,6.18,6.12,6.05,5.98,5.91,5.84,5.78]
[null,1.1499999999999999,30.3,-2.7,5.39,1,1.3,5.6160000000000005,58.979206049149333,6.45,6.38,6.31,6.24,6.18,6.11,6.04]
[null,1.2,30.3,-2.7,5.42,1,1.3,5.859,61.53119092627599,6.71,6.64,6.58,6.51,6.44,6.37,6.31]
[null,1.25,30.3,-2.7,5.44,1,1.3,6.093,63.988657844990549,6.98,6.91,6.84,6.77,6.71,6.64,6.57]
[null,1.3,30.3,-2.7,5.46,1,1.3,6.3360000000000003,66.540642722117198,7.24,7.17,7.11,7.04,6.97,6.9,6.84]
[null,1.35,30.3,-2.7,5.49,1,1.3,6.57,68.998109640831757,7.51,7.44,7.37,7.3,7.24,7.17,7.1]
[null,1.4,30.3,-2.7,5.52,1,1.3,6.8130000000000006,71.550094517958414,7.77,7.7,7.64,7.57,7.5,7.43,7.36]
[null,1.45,30.3,-2.7,5.54,1,1.3,7.0470000000000006,74.007561436672958,8.0399999999999991,7.97,7.9,7.83,7.76,7.7,7.63]
[null,1.5,30.3,-2.7,5.56,1,1.3,7.29,76.559546313799615,8.3000000000000007,8.23,8.16,8.1,8.0299999999999994,7.96,7.89]
[null,1.55,30.3,-2.7,5.59,1,1.3,7.524,79.017013232514174,8.56,8.5,8.43,8.36,8.2899999999999991,8.23,8.16]
[null,1.6,30.3,-2.7,5.61,1,1.3,7.7670000000000012,81.56899810964083,8.83,8.76,8.69,8.6300000000000008,8.56,8.49,8.42]
[null,1.65,30.3,-2.7,5.64,1,1.3,8.0010000000000012,84.026465028355389,9.09,9.0299999999999994,8.9600000000000009,8.89,8.82,8.76,8.69]
[null,1.7,30.3,-2.7,5.67,1,1.3,8.2439999999999998,86.578449905482046,9.36,9.2899999999999991,9.2200000000000006,9.16,9.09,9.02,8.9499999999999993]
[null,1.75,30.3,-2.7,5.69,1,1.3,8.4779999999999998,89.03591682419659,9.6199999999999992,9.56,9.49,9.42,9.35,9.2799999999999994,9.2200000000000006]
[null,1.8,30.3,-2.7,5.71,1,1.3,8.7119999999999997,91.493383742911149,9.89,9.82,9.75,9.68,9.6199999999999992,9.5500000000000007,9.48]
[null,1.85,30.3,-2.7,5.74,1,1.3,8.9550000000000001,94.045368620037792,10.15,10.08,10.02,9.9499999999999993,9.8800000000000008,9.81,9.75]
[null,1.9,30.3,-2.7,5.77,1,1.3,9.1890000000000018,96.502835538752379,10.41,10.35,10.28,10.210000000000001,10.15,10.08,10.01]
[null,1.95,30.3,-2.7,5.79,1,1.3,9.4320000000000004,99.054820415879021,10.57,10.56,10.54,10.48,10.41,10.34,10.28]
[null,1.97,30.3,-2.7,5.8,0,0,9.5220000000000002,100,10.58,10.58,10.58,10.58,10.52,10.45,10.38]

{"sheet":"58","index":64,"n_rows":213,"n_cols":16,"rows_kept":213,"cut":false,"hidden":false,"merged":[]}
[]
[null,"THERMAL OIL ",null,null,null,null,null,"S.G.",0.98,"[t/m3]"]
[]
[null,"GAUGE","LCG","TCG","VCG","FSM (transv)","FSM (long)","Weight","Fill (%)","Trim=-1,5","Trim=1,0","Trim=-0,5","Trim=0","Trim=0,5","Trim=1,0","Trim=1,5"]
[null,null,"Fwd of AP","PS:+","Above BL"," "," "]
[null,"m","m","m","m","t·m","t·m","t",null,"m3","m3","m3","m3","m3","m3","m3"]
[null,0,30.3,0.9,4.8,0,0,{"$f":"M7*$I$2","v":0},{"$f":"M7/$M$47*100","v":0},0,0,0,0,0,0,0]
[null,4.9999999999999822E-2,30.3,0.9,4.83,1.4,3.9,{"$f":"M8*$I$2","v":0.2646},{"$f":"M8/$M$47*100","v":2.551984877126654},0.27,0.27,0.27,0.27,0.27,0.27,0.27]
[null,0.10000000000000053,30.3,0.9,4.8499999999999996,1.4,3.9,0.51939999999999997,5.0094517958412101,0.53,0.53,0.53,0.53,0.53,0.53,0.53]
[null,0.15000000000000036,30.3,0.9,4.88,1.4,3.9,0.7742,7.4669187145557663,0.79,0.79,0.79,0.79,0.79,0.79,0.79]
[null,0.20000000000000018,30.3,0.9,4.9000000000000004,1.4,3.9,1.0387999999999999,10.01890359168242,1.06,1.06,1.06,1.06,1.06,1.06,1.06]
[null,0.25,30.3,0.9,4.93,1.4,3.9,1.2936000000000001,12.476370510396977,1.32,1.32,1.32,1.32,1.32,1.32,1.32]
[null,0.29999999999999982,30.3,0.9,4.95,1.4,3.9,1.5582,15.028355387523632,1.59,1.59,1.59,1.59,1.59,1.59,1.59]
[null,0.35000000000000053,30.3,0.9,4.9800000000000004,1.4,3.9,1.8129999999999999,17.485822306238184,1.85,1.85,1.85,1.85,1.85,1.85,1.85]
[null,0.40000000000000036,30.3,0.9,5,1.4,3.9,2.0775999999999999,20.037807183364841,2.12,2.12,2.12,2.12,2.12,2.12,2.12]
[null,0.45000000000000018,30.3,0.9,5.03,1.4,3.9,2.3323999999999998,22.495274102079392,2.38,2.38,2.38,2.38,2.38,2.38,2.38]
[null,0.5,30.3,0.9,5.05,1.4,3.9,2.597,25.047258979206049,2.65,2.65,2.65,2.65,2.65,2.65,2.65]
[null,0.54999999999999982,30.3,0.9,5.08,1.4,3.9,2.8517999999999999,27.504725897920608,2.91,2.91,2.91,2.91,2.91,2.91,2.91]
[null,0.60000000000000053,30.3,0.9,5.0999999999999996,1.4,3.9,3.1164000000000001,30.056710775047264,3.18,3.18,3.18,3.18,3.18,3.18,3.18]
[null,0.65000000000000036,30.3,0.9,5.13,1.4,3.9,3.3712,32.514177693761816,3.44,3.44,3.44,3.44,3.44,3.44,3.44]
[null,0.70000000000000018,30.3,0.9,5.15,1.4,3.9,3.6357999999999997,35.066162570888473,3.71,3.71,3.71,3.71,3.71,3.71,3.71]
[null,0.75,30.3,0.9,5.18,1.4,3.9,3.8906000000000001,37.523629489603024,3.97,3.97,3.97,3.97,3.97,3.97,3.97]
[null,0.79999999999999982,30.3,0.9,5.2,1.4,3.9,4.1454000000000004,39.981096408317583,4.2300000000000004,4.2300000000000004,4.2300000000000004,4.2300000000000004,4.2300000000000004,4.2300000000000004,4.2300000000000004]
[null,0.85000000000000053,30.3,0.9,5.23,1.4,3.9,4.41,42.533081285444233,4.5,4.5,4.5,4.5,4.5,4.5,4.5]
[null,0.90000000000000036,30.3,0.9,5.25,1.4,3.9,4.6647999999999996,44.990548204158785,4.76,4.76,4.76,4.76,4.76,4.76,4.76]
[null,0.95000000000000018,30.3,0.9,5.28,1.4,3.9,4.9294000000000002,47.542533081285448,5.03,5.03,5.03,5.03,5.03,5.03,5.03]
[null,1,30.3,0.9,5.3,1.4,3.9,5.1841999999999997,50,5.29,5.29,5.29,5.29,5.29,5.29,5.29]
[null,1.0499999999999998,30.3,0.9,5.33,1.4,3.9,5.4487999999999994,52.551984877126642,5.56,5.56,5.56,5.56,5.56,5.56,5.56]
[null,1.1000000000000005,30.3,0.9,5.35,1.4,3.9,5.7035999999999998,55.009451795841215,5.82,5.82,5.82,5.82,5.82,5.82,5.82]
[null,1.1500000000000004,30.3,0.9,5.38,1.4,3.9,5.9681999999999995,57.561436672967858,6.09,6.09,6.09,6.09,6.09,6.09,6.09]
[null,1.2000000000000002,30.3,0.9,5.4,1.4,3.9,6.2229999999999999,60.018903591682417,6.35,6.35,6.35,6.35,6.35,6.35,6.35]
[null,1.25,30.3,0.9,5.43,1.4,3.9,6.4875999999999996,62.570888468809073,6.62,6.62,6.62,6.62,6.62,6.62,6.62]
[null,1.2999999999999998,30.3,0.9,5.45,1.4,3.9,6.7423999999999999,65.028355387523632,6.88,6.88,6.88,6.88,6.88,6.88,6.88]
[null,1.3500000000000005,30.3,0.9,5.48,1.4,3.9,7.0070000000000006,67.580340264650289,7.15,7.15,7.15,7.15,7.15,7.15,7.15]
[null,1.4000000000000004,30.3,0.9,5.5,1.4,3.9,7.2618,70.037807183364848,7.41,7.41,7.41,7.41,7.41,7.41,7.41]
[null,1.4500000000000002,30.3,0.9,5.53,1.4,3.9,7.5165999999999995,72.495274102079392,7.67,7.67,7.67,7.67,7.67,7.67,7.67]
[null,1.5,30.3,0.9,5.55,1.4,3.9,7.7812000000000001,75.047258979206049,7.94,7.94,7.94,7.94,7.94,7.94,7.94]
[null,1.5499999999999998,30.3,0.9,5.58,1.4,3.9,8.0359999999999996,77.504725897920608,8.1999999999999993,8.1999999999999993,8.1999999999999993,8.1999999999999993,8.1999999999999993,8.1999999999999993,8.1999999999999993]
[null,1.6000000000000005,30.3,0.9,5.6,1.4,3.9,8.3006000000000011,80.056710775047264,8.4700000000000006,8.4700000000000006,8.4700000000000006,8.4700000000000006,8.4700000000000006,8.4700000000000006,8.4700000000000006]
[null,1.6500000000000004,30.3,0.9,5.63,1.4,3.9,8.5554000000000006,82.514177693761809,8.73,8.73,8.73,8.73,8.73,8.73,8.73]
[null,1.7000000000000002,30.3,0.9,5.65,1.4,3.9,8.82,85.066162570888466,9,9,9,9,9,9,9]
[null,1.75,30.3,0.9,5.68,1.4,3.9,9.0747999999999998,87.52362948960301,9.26,9.26,9.26,9.26,9.26,9.26,9.26]
[null,1.7999999999999998,30.3,0.9,5.7,1.4,3.9,9.3393999999999995,90.075614366729667,9.5299999999999994,9.5299999999999994,9.5299999999999994,9.5299999999999994,9.5299999999999994,9.5299999999999994,9.5299999999999994]
[null,1.8500000000000005,30.3,0.9,5.73,1.4,3.9,9.594199999999999,92.533081285444226,9.7899999999999991,9.7899999999999991,9.7899999999999991,9.7899999999999991,9.7899999999999991,9.7899999999999991,9.7899999999999991]
[null,1.9000000000000004,30.3,0.9,5.75,1.4,3.9,9.8588000000000005,95.085066162570897,10.06,10.06,10.06,10.06,10.06,10.06,10.06]
[null,1.9500000000000002,30.3,0.9,5.78,1.4,3.9,10.1136,97.542533081285441,10.32,10.32,10.32,10.32,10.32,10.32,10.32]
[null,2,30.3,0.9,5.78,0,0,10.368399999999999,100,10.58,10.58,10.58,10.58,10.58,10.58,10.58]
[]
[]
[]
[]
[]
[null,1000000,1000000,1000000,1000000,1000000,1000000,1000000,1000000,100]
[null,1000000,1000000,1000000,1000000,1000000,1000000,1000000,1000000,100]
[null,1000000,1000000,1000000,1000000,1000000,1000000,1000000,1000000,100]
[null,1000000,1000000,1000000,1000000,1000000,1000000,1000000,1000000,100]
[null,1000000,1000000,1000000,1000000,1000000,1000000,1000000,1000000,100]
[null,1000000,1000000,1000000,1000000,1000000,1000000,1000000,1000000,100]
[null,1000000,1000000,1000000,1000000,1000000,1000000,1000000,1000000,100]
[null,1000000,1000000,1000000,1000000,1000000,1000000,1000000,1000000,100]
[null,1000000,1000000,1000000,1000000,1000000,1000000,1000000,1000000,100]
[null,1000000,1000000,1000000,1000000,1000000,1000000,1000000,1000000,100]
[null,1000000,1000000,1000000,1000000,1000000,1000000,1000000,1000000,100]
[null,1000000,1000000,1000000,1000000,1000000,1000000,1000000,1000000,100]
[null,1000000,1000000,1000000,1000000,1000000,1000000,1000000,1000000,100]
[null,1000000,1000000,1000000,1000000,1000000,1000000,1000000,1000000,100]
[null,1000000,1000000,1000000,1000000,1000000,1000000,1000000,1000000,100]
[null,1000000,1000000,1000000,1000000,1000000,1000000,1000000,1000000,100]
[null,1000000,1000000,1000000,1000000,1000000,1000000,1000000,1000000,100]
[null,1000000,1000000,1000000,1000000,1000000,1000000,1000000,1000000,100]
[null,1000000,1000000,1000000,1000000,1000000,1000000,1000000,1000000,100]
[null,1000000,1000000,1000000,1000000,1000000,1000000,1000000,1000000,100]
[null,1000000,1000000,1000000,1000000,1000000,1000000,1000000,1000000,100]
[null,1000000,1000000,1000000,1000000,1000000,1000000,1000000,1000000,100]
[null,1000000,1000000,1000000,1000000,1000000,1000000,1000000,1000000,100]
[null,1000000,1000000,1000000,1000000,1000000,1000000,1000000,1000000,100]
[null,1000000,1000000,1000000,1000000,1000000,1000000,1000000,1000000,100]
[null,1000000,1000000,1000000,1000000,1000000,1000000,1000000,1000000,100]
[null,1000000,1000000,1000000,1000000,1000000,1000000,1000000,1000000,100]
[null,1000000,1000000,1000000,1000000,1000000,1000000,1000000,1000000,100]
[null,1000000,1000000,1000000,1000000,1000000,1000000,1000000,1000000,100]
[null,1000000,1000000,1000000,1000000,1000000,1000000,1000000,1000000,100]
[null,1000000,1000000,1000000,1000000,1000000,1000000,1000000,1000000,100]
[null,1000000,1000000,1000000,1000000,1000000,1000000,1000000,1000000,100]
[null,1000000,1000000,1000000,1000000,1000000,1000000,1000000,1000000,100]
[null,1000000,1000000,1000000,1000000,1000000,1000000,1000000,1000000,100]
[null,1000000,1000000,1000000,1000000,1000000,1000000,1000000,1000000,100]
[null,1000000,1000000,1000000,1000000,1000000,1000000,1000000,1000000,100]
[null,1000000,1000000,1000000,1000000,1000000,1000000,1000000,1000000,100]
[null,1000000,1000000,1000000,1000000,1000000,1000000,1000000,1000000,100]
[null,1000000,1000000,1000000,1000000,1000000,1000000,1000000,1000000,100]
[null,1000000,1000000,1000000,1000000,1000000,1000000,1000000,1000000,100]
[null,1000000,1000000,1000000,1000000,1000000,1000000,1000000,1000000,100]
[null,1000000,1000000,1000000,1000000,1000000,1000000,1000000,1000000,100]
[null,1000000,1000000,1000000,1000000,1000000,1000000,1000000,1000000,100]
[null,1000000,1000000,1000000,1000000,1000000,1000000,1000000,1000000,100]
[null,1000000,1000000,1000000,1000000,1000000,1000000,1000000,1000000,100]
[null,1000000,1000000,1000000,1000000,1000000,1000000,1000000,1000000,100]
[null,1000000,1000000,1000000,1000000,1000000,1000000,1000000,1000000,100]
[null,1000000,1000000,1000000,1000000,1000000,1000000,1000000,1000000,100]
[null,1000000,1000000,1000000,1000000,1000000,1000000,1000000,1000000,100]
[null,1000000,1000000,1000000,1000000,1000000,1000000,1000000,1000000,100]
[null,1000000,1000000,1000000,1000000,1000000,1000000,1000000,1000000,100]
[null,1000000,1000000,1000000,1000000,1000000,1000000,1000000,1000000,100]
[null,1000000,1000000,1000000,1000000,1000000,1000000,1000000,1000000,100]
[null,1000000,1000000,1000000,1000000,1000000,1000000,1000000,1000000,100]
[null,1000000,1000000,1000000,1000000,1000000,1000000,1000000,1000000,100]
[null,1000000,1000000,1000000,1000000,1000000,1000000,1000000,1000000,100]
[null,1000000,1000000,1000000,1000000,1000000,1000000,1000000,1000000,100]
[null,1000000,1000000,1000000,1000000,1000000,1000000,1000000,1000000,100]
[null,1000000,1000000,1000000,1000000,1000000,1000000,1000000,1000000,100]
[null,1000000,1000000,1000000,1000000,1000000,1000000,1000000,1000000,100]
[null,1000000,1000000,1000000,1000000,1000000,1000000,1000000,1000000,100]
[null,1000000,1000000,1000000,1000000,1000000,1000000,1000000,1000000,100]
[null,1000000,1000000,1000000,1000000,1000000,1000000,1000000,1000000,100]
[null,1000000,1000000,1000000,1000000,1000000,1000000,1000000,1000000,100]
[null,1000000,1000000,1000000,1000000,1000000,1000000,1000000,1000000,100]
[null,1000000,1000000,1000000,1000000,1000000,1000000,1000000,1000000,100]
[null,1000000,1000000,1000000,1000000,1000000,1000000,1000000,1000000,100]
[null,1000000,1000000,1000000,1000000,1000000,1000000,1000000,1000000,100]
[null,1000000,1000000,1000000,1000000,1000000,1000000,1000000,1000000,100]
[null,1000000,1000000,1000000,1000000,1000000,1000000,1000000,1000000,100]
[null,1000000,1000000,1000000,1000000,1000000,1000000,1000000,1000000,100]
[null,1000000,1000000,1000000,1000000,1000000,1000000,1000000,1000000,100]
[null,1000000,1000000,1000000,1000000,1000000,1000000,1000000,1000000,100]
[null,1000000,1000000,1000000,1000000,1000000,1000000,1000000,1000000,100]
[null,1000000,1000000,1000000,1000000,1000000,1000000,1000000,1000000,100]
[null,1000000,1000000,1000000,1000000,1000000,1000000,1000000,1000000,100]
[null,1000000,1000000,1000000,1000000,1000000,1000000,1000000,1000000,100]
[null,1000000,1000000,1000000,1000000,1000000,1000000,1000000,1000000,100]
[null,1000000,1000000,1000000,1000000,1000000,1000000,1000000,1000000,100]
[null,1000000,1000000,1000000,1000000,1000000,1000000,1000000,1000000,100]
[null,1000000,1000000,1000000,1000000,1000000,1000000,1000000,1000000,100]
[null,1000000,1000000,1000000,1000000,1000000,1000000,1000000,1000000,100]
[null,1000000,1000000,1000000,1000000,1000000,1000000,1000000,1000000,100]
[null,1000000,1000000,1000000,1000000,1000000,1000000,1000000,1000000,100]
[null,1000000,1000000,1000000,1000000,1000000,1000000,1000000,1000000,100]
[null,1000000,1000000,1000000,1000000,1000000,1000000,1000000,1000000,100]
[null,1000000,1000000,1000000,1000000,1000000,1000000,1000000,1000000,100]
[null,1000000,1000000,1000000,1000000,1000000,1000000,1000000,1000000,100]
[null,1000000,1000000,1000000,1000000,1000000,1000000,1000000,1000000,100]
[null,1000000,1000000,1000000,1000000,1000000,1000000,1000000,1000000,100]
[null,1000000,1000000,1000000,1000000,1000000,1000000,1000000,1000000,100]
[null,1000000,1000000,1000000,1000000,1000000,1000000,1000000,1000000,100]
[null,1000000,1000000,1000000,1000000,1000000,1000000,1000000,1000000,100]
[null,1000000,1000000,1000000,1000000,1000000,1000000,1000000,1000000,100]
[null,1000000,1000000,1000000,1000000,1000000,1000000,1000000,1000000,100]
[null,1000000,1000000,1000000,1000000,1000000,1000000,1000000,1000000,100]
[null,1000000,1000000,1000000,1000000,1000000,1000000,1000000,1000000,100]
[null,1000000,1000000,1000000,1000000,1000000,1000000,1000000,1000000,100]
[null,1000000,1000000,1000000,1000000,1000000,1000000,1000000,1000000,100]
[null,1000000,1000000,1000000,1000000,1000000,1000000,1000000,1000000,100]
[null,1000000,1000000,1000000,1000000,1000000,1000000,1000000,1000000,100]
[null,1000000,1000000,1000000,1000000,1000000,1000000,1000000,1000000,100]
[null,1000000,1000000,1000000,1000000,1000000,1000000,1000000,1000000,100]
[null,1000000,1000000,1000000,1000000,1000000,1000000,1000000,1000000,100]
[null,1000000,1000000,1000000,1000000,1000000,1000000,1000000,1000000,100]
[null,1000000,1000000,1000000,1000000,1000000,1000000,1000000,1000000,100]
[null,1000000,1000000,1000000,1000000,1000000,1000000,1000000,1000000,100]
[null,1000000,1000000,1000000,1000000,1000000,1000000,1000000,1000000,100]
[null,1000000,1000000,1000000,1000000,1000000,1000000,1000000,1000000,100]
[null,1000000,1000000,1000000,1000000,1000000,1000000,1000000,1000000,100]
[null,1000000,1000000,1000000,1000000,1000000,1000000,1000000,1000000,100]
[null,1000000,1000000,1000000,1000000,1000000,1000000,1000000,1000000,100]
[null,1000000,1000000,1000000,1000000,1000000,1000000,1000000,1000000,100]
[null,1000000,1000000,1000000,1000000,1000000,1000000,1000000,1000000,100]
[null,1000000,1000000,1000000,1000000,1000000,1000000,1000000,1000000,100]
[null,1000000,1000000,1000000,1000000,1000000,1000000,1000000,1000000,100]
[null,1000000,1000000,1000000,1000000,1000000,1000000,1000000,1000000,100]
[null,1000000,1000000,1000000,1000000,1000000,1000000,1000000,1000000,100]
[null,1000000,1000000,1000000,1000000,1000000,1000000,1000000,1000000,100]
[null,1000000,1000000,1000000,1000000,1000000,1000000,1000000,1000000,100]
[null,1000000,1000000,1000000,1000000,1000000,1000000,1000000,1000000,100]
[null,1000000,1000000,1000000,1000000,1000000,1000000,1000000,1000000,100]
[null,1000000,1000000,1000000,1000000,1000000,1000000,1000000,1000000,100]
[null,1000000,1000000,1000000,1000000,1000000,1000000,1000000,1000000,100]
[null,1000000,1000000,1000000,1000000,1000000,1000000,1000000,1000000,100]
[null,1000000,1000000,1000000,1000000,1000000,1000000,1000000,1000000,100]
[null,1000000,1000000,1000000,1000000,1000000,1000000,1000000,1000000,100]
[null,1000000,1000000,1000000,1000000,1000000,1000000,1000000,1000000,100]
[null,1000000,1000000,1000000,1000000,1000000,1000000,1000000,1000000,100]
[null,1000000,1000000,1000000,1000000,1000000,1000000,1000000,1000000,100]
[null,1000000,1000000,1000000,1000000,1000000,1000000,1000000,1000000,100]
[null,1000000,1000000,1000000,1000000,1000000,1000000,1000000,1000000,100]
[null,1000000,1000000,1000000,1000000,1000000,1000000,1000000,1000000,100]
[null,1000000,1000000,1000000,1000000,1000000,1000000,1000000,1000000,100]
[null,1000000,1000000,1000000,1000000,1000000,1000000,1000000,1000000,100]
[null,1000000,1000000,1000000,1000000,1000000,1000000,1000000,1000000,100]
[null,1000000,1000000,1000000,1000000,1000000,1000000,1000000,1000000,100]
[null,1000000,1000000,1000000,1000000,1000000,1000000,1000000,1000000,100]
[null,1000000,1000000,1000000,1000000,1000000,1000000,1000000,1000000,100]
[null,1000000,1000000,1000000,1000000,1000000,1000000,1000000,1000000,100]
[null,1000000,1000000,1000000,1000000,1000000,1000000,1000000,1000000,100]
[null,1000000,1000000,1000000,1000000,1000000,1000000,1000000,1000000,100]
[null,1000000,1000000,1000000,1000000,1000000,1000000,1000000,1000000,100]
[null,1000000,1000000,1000000,1000000,1000000,1000000,1000000,1000000,100]
[null,1000000,1000000,1000000,1000000,1000000,1000000,1000000,1000000,100]
[null,1000000,1000000,1000000,1000000,1000000,1000000,1000000,1000000,100]
[null,1000000,1000000,1000000,1000000,1000000,1000000,1000000,1000000,100]
[null,1000000,1000000,1000000,1000000,1000000,1000000,1000000,1000000,100]
[null,1000000,1000000,1000000,1000000,1000000,1000000,1000000,1000000,100]
[null,1000000,1000000,1000000,1000000,1000000,1000000,1000000,1000000,100]
[null,1000000,1000000,1000000,1000000,1000000,1000000,1000000,1000000,100]
[null,1000000,1000000,1000000,1000000,1000000,1000000,1000000,1000000,100]
[null,1000000,1000000,1000000,1000000,1000000,1000000,1000000,1000000,100]
[null,1000000,1000000,1000000,1000000,1000000,1000000,1000000,1000000,100]
[null,1000000,1000000,1000000,1000000,1000000,1000000,1000000,1000000,100]
[null,1000000,1000000,1000000,1000000,1000000,1000000,1000000,1000000,100]
[null,1000000,1000000,1000000,1000000,1000000,1000000,1000000,1000000,100]
[null,1000000,1000000,1000000,1000000,1000000,1000000,1000000,1000000,100]
[null,1000000,1000000,1000000,1000000,1000000,1000000,1000000,1000000,100]
[null,1000000,1000000,1000000,1000000,1000000,1000000,1000000,1000000,100]
[null,1000000,1000000,1000000,1000000,1000000,1000000,1000000,1000000,100]